BEGIN:VCALENDAR
VERSION:2.0
PRODID:-//csun.edu/cod//NONSGML kigkonsult.se iCalcreator 2.18//
METHOD:PUBLISH
X-WR-TIMEZONE:America/Los_Angeles
BEGIN:VTIMEZONE
TZID:America/Los_Angeles
BEGIN:STANDARD
DTSTART:16011104T020000
TZOFFSETFROM:-0700
TZOFFSETTO:-0800
RRULE:FREQ=YEARLY;BYDAY=1SU;BYMONTH=11
END:STANDARD
BEGIN:DAYLIGHT
DTSTART:16010311T020000
TZOFFSETFROM:-0800
TZOFFSETTO:-0700
RRULE:FREQ=YEARLY;BYDAY=2SU;BYMONTH=3
END:DAYLIGHT
END:VTIMEZONE
BEGIN:VEVENT
UID:20260420T002534PDT-6212G4LB7G@csun.edu/cod
DTSTAMP:20260420T072534Z
DESCRIPTION:Please note that scheduled time may be subject to change. Check
  CSUN Conference website for up-to-date schedule.\n\nThis presentation is 
 essential for the creation of educational materials\, offering crucial kno
 wledge on maintaining compliance with the latest standards and adopting be
 st practices to ensure that educational documents are accessible and inclu
 sive for all students and staff.
DTSTART;TZID=America/Los_Angeles:20240322T092000
DURATION:PT0H40M0S
LOCATION:Platinum 3 (ALLYANT) - 1st Floor
SUMMARY:Navigating the Evolution from PDF/UA-1 to PDF/UA-2 for Education
END:VEVENT
END:VCALENDAR
