BEGIN:VCALENDAR
VERSION:2.0
PRODID:-//csun.edu/cod//NONSGML kigkonsult.se iCalcreator 2.18//
METHOD:PUBLISH
X-WR-TIMEZONE:America/Los_Angeles
BEGIN:VTIMEZONE
TZID:America/Los_Angeles
BEGIN:STANDARD
DTSTART:16011104T020000
TZOFFSETFROM:-0700
TZOFFSETTO:-0800
RRULE:FREQ=YEARLY;BYDAY=1SU;BYMONTH=11
END:STANDARD
BEGIN:DAYLIGHT
DTSTART:16010311T020000
TZOFFSETFROM:-0800
TZOFFSETTO:-0700
RRULE:FREQ=YEARLY;BYDAY=2SU;BYMONTH=3
END:DAYLIGHT
END:VTIMEZONE
BEGIN:VEVENT
UID:20260420T002443PDT-7203N31lV3@csun.edu/cod
DTSTAMP:20260420T072443Z
DESCRIPTION:Please note that scheduled time may be subject to change. Check
  CSUN Conference website for up-to-date schedule.\n\nDiscover the best DSC
  website practices based on a comprehensive content analysis of a universi
 ty system’s DSC websites\, shedding light on patterns\, variations and key
  recommendations relative to content and its presentation.
DTSTART;TZID=America/Los_Angeles:20240320T112000
DURATION:PT0H40M0S
LOCATION:Platinum 1 - 1st Floor
SUMMARY:Analysis of Campus Disability Support Center Websites
END:VEVENT
END:VCALENDAR
