BEGIN:VCALENDAR
VERSION:2.0
PRODID:-//csun.edu/cod//NONSGML kigkonsult.se iCalcreator 2.18//
METHOD:PUBLISH
X-WR-TIMEZONE:America/Los_Angeles
BEGIN:VTIMEZONE
TZID:America/Los_Angeles
BEGIN:STANDARD
DTSTART:16011104T020000
TZOFFSETFROM:-0700
TZOFFSETTO:-0800
RRULE:FREQ=YEARLY;BYDAY=1SU;BYMONTH=11
END:STANDARD
BEGIN:DAYLIGHT
DTSTART:16010311T020000
TZOFFSETFROM:-0800
TZOFFSETTO:-0700
RRULE:FREQ=YEARLY;BYDAY=2SU;BYMONTH=3
END:DAYLIGHT
END:VTIMEZONE
BEGIN:VEVENT
UID:20260421T172250PDT-4338bjI20e@csun.edu/cod
DTSTAMP:20260422T002250Z
DESCRIPTION:Please note that scheduled time may be subject to change. Check
  CSUN Conference website for up-to-date schedule.\n\nLearn about the Atkin
 son Hyperlegible font's inclusive design and innovative approach focusing 
 on readability and legibility for those with low-vision. Learn how other o
 rganizations are using the font to show inclusion and accessibility.
DTSTART;TZID=America/Los_Angeles:20240319T102000
DURATION:PT0H40M0S
LOCATION:Grand CD - 1st Floor
SUMMARY:Atkinson Hyperlegible: A Uniquely Accessible Font
END:VEVENT
END:VCALENDAR
