BEGIN:VCALENDAR
VERSION:2.0
PRODID:-//csun.edu/cod//NONSGML kigkonsult.se iCalcreator 2.18//
METHOD:PUBLISH
X-WR-TIMEZONE:America/Los_Angeles
BEGIN:VTIMEZONE
TZID:America/Los_Angeles
BEGIN:STANDARD
DTSTART:16011104T020000
TZOFFSETFROM:-0700
TZOFFSETTO:-0800
RRULE:FREQ=YEARLY;BYDAY=1SU;BYMONTH=11
END:STANDARD
BEGIN:DAYLIGHT
DTSTART:16010311T020000
TZOFFSETFROM:-0800
TZOFFSETTO:-0700
RRULE:FREQ=YEARLY;BYDAY=2SU;BYMONTH=3
END:DAYLIGHT
END:VTIMEZONE
BEGIN:VEVENT
UID:20260420T111152PDT-56444vl0gj@csun.edu/cod
DTSTAMP:20260420T181152Z
DESCRIPTION:Please note that scheduled time may be subject to change. Check
  CSUN Conference website for up-to-date schedule.\n\nReview the “network m
 odel” of user engagement for user experience (UX) research for accessibili
 ty and usability of consumer technology and other consumer projects with a
  focus on the Accessibility User Research Collective at Shepherd Center.
DTSTART;TZID=America/Los_Angeles:20240322T112000
DURATION:PT0H40M0S
LOCATION:Platinum 1 - 1st Floor
SUMMARY:Inclusive User Experience Research in Accessibility
END:VEVENT
END:VCALENDAR
