BEGIN:VCALENDAR
VERSION:2.0
PRODID:-//csun.edu/cod//NONSGML kigkonsult.se iCalcreator 2.18//
METHOD:PUBLISH
X-WR-TIMEZONE:America/Los_Angeles
BEGIN:VTIMEZONE
TZID:America/Los_Angeles
BEGIN:STANDARD
DTSTART:16011104T020000
TZOFFSETFROM:-0700
TZOFFSETTO:-0800
RRULE:FREQ=YEARLY;BYDAY=1SU;BYMONTH=11
END:STANDARD
BEGIN:DAYLIGHT
DTSTART:16010311T020000
TZOFFSETFROM:-0800
TZOFFSETTO:-0700
RRULE:FREQ=YEARLY;BYDAY=2SU;BYMONTH=3
END:DAYLIGHT
END:VTIMEZONE
BEGIN:VEVENT
UID:20260421T180506PDT-3162nj1Uso@csun.edu/cod
DTSTAMP:20260422T010506Z
DESCRIPTION:Please note that scheduled time may be subject to change. Check
  CSUN Conference website for up-to-date schedule.\n\nThe days of watching 
 AI from the windows\, hoping that your favorite company doesn’t install a 
 ChatBot\, are over! Come learn a little about Artificial Intelligence\, ho
 w it is trained\, the biases and accessibility issues it has\, and ways to
  fix them!
DTSTART;TZID=America/Los_Angeles:20240322T152000
DURATION:PT0H40M0S
LOCATION:Elite 1-3 - 1st Floor
SUMMARY:What does it Mean for AI to be I?
END:VEVENT
END:VCALENDAR
