BEGIN:VCALENDAR
VERSION:2.0
PRODID:-//csun.edu/cod//NONSGML kigkonsult.se iCalcreator 2.18//
METHOD:PUBLISH
X-WR-TIMEZONE:America/Los_Angeles
BEGIN:VTIMEZONE
TZID:America/Los_Angeles
BEGIN:STANDARD
DTSTART:16011104T020000
TZOFFSETFROM:-0700
TZOFFSETTO:-0800
RRULE:FREQ=YEARLY;BYDAY=1SU;BYMONTH=11
END:STANDARD
BEGIN:DAYLIGHT
DTSTART:16010311T020000
TZOFFSETFROM:-0800
TZOFFSETTO:-0700
RRULE:FREQ=YEARLY;BYDAY=2SU;BYMONTH=3
END:DAYLIGHT
END:VTIMEZONE
BEGIN:VEVENT
UID:20260423T231415PDT-1478asCFzL@csun.edu/cod
DTSTAMP:20260424T061415Z
DESCRIPTION:Please note that scheduled time may be subject to change. Check
  CSUN Conference website for up-to-date schedule.\n\nLearn how to integrat
 e accessibility throughout your software development process\, and gain in
 sights to overcome common challenges. Walk away equipped to maintain compl
 iance and serve customers well across all digital projects from this point
  onward.
DTSTART;TZID=America/Los_Angeles:20240320T112000
DURATION:PT0H40M0S
LOCATION:Orange County 3-4 - 1st Floor
SUMMARY:Challenges in Injecting Accessibility into an SDLC
END:VEVENT
END:VCALENDAR
