BEGIN:VCALENDAR
VERSION:2.0
PRODID:-//csun.edu/cod//NONSGML kigkonsult.se iCalcreator 2.18//
METHOD:PUBLISH
X-WR-TIMEZONE:America/Los_Angeles
BEGIN:VTIMEZONE
TZID:America/Los_Angeles
BEGIN:STANDARD
DTSTART:16011104T020000
TZOFFSETFROM:-0700
TZOFFSETTO:-0800
RRULE:FREQ=YEARLY;BYDAY=1SU;BYMONTH=11
END:STANDARD
BEGIN:DAYLIGHT
DTSTART:16010311T020000
TZOFFSETFROM:-0800
TZOFFSETTO:-0700
RRULE:FREQ=YEARLY;BYDAY=2SU;BYMONTH=3
END:DAYLIGHT
END:VTIMEZONE
BEGIN:VEVENT
UID:20260420T002444PDT-2210hCgSo7@csun.edu/cod
DTSTAMP:20260420T072444Z
DESCRIPTION:Please note that scheduled time may be subject to change. Check
  CSUN Conference website for up-to-date schedule.\n\nThis session will pre
 sent an overview of the cognitive processes for reading and how text prese
 ntation\, typography\, and font choices impact legibility\, reading\, and 
 accessibility.
DTSTART;TZID=America/Los_Angeles:20240321T152000
DURATION:PT0H40M0S
LOCATION:Grand GH - 1st Floor
SUMMARY:Accessible Typography\, Fonts\, Text\, and More
END:VEVENT
END:VCALENDAR
