BEGIN:VCALENDAR
VERSION:2.0
PRODID:-//csun.edu/cod//NONSGML kigkonsult.se iCalcreator 2.18//
METHOD:PUBLISH
X-WR-TIMEZONE:America/Los_Angeles
BEGIN:VTIMEZONE
TZID:America/Los_Angeles
BEGIN:STANDARD
DTSTART:16011104T020000
TZOFFSETFROM:-0700
TZOFFSETTO:-0800
RRULE:FREQ=YEARLY;BYDAY=1SU;BYMONTH=11
END:STANDARD
BEGIN:DAYLIGHT
DTSTART:16010311T020000
TZOFFSETFROM:-0800
TZOFFSETTO:-0700
RRULE:FREQ=YEARLY;BYDAY=2SU;BYMONTH=3
END:DAYLIGHT
END:VTIMEZONE
BEGIN:VEVENT
UID:20260420T002442PDT-4122wxNWuP@csun.edu/cod
DTSTAMP:20260420T072442Z
DESCRIPTION:Please note that scheduled time may be subject to change. Check
  CSUN Conference website for up-to-date schedule.\n\nIn this session\, att
 endees will gain an understanding of numerous iPhone tools that use comput
 er vision to provide an enhanced VoiceOver and low-vision user experience.
  Learn about features like Magnifier\, Image Explorer\, and VoiceOver in C
 amera.
DTSTART;TZID=America/Los_Angeles:20240319T142000
DURATION:PT0H40M0S
LOCATION:Grand CD - 1st Floor
SUMMARY:A Tour of Smart Vision Tools in iOS
END:VEVENT
END:VCALENDAR
