BEGIN:VCALENDAR
VERSION:2.0
PRODID:-//csun.edu/cod//NONSGML kigkonsult.se iCalcreator 2.18//
METHOD:PUBLISH
X-WR-TIMEZONE:America/Los_Angeles
BEGIN:VTIMEZONE
TZID:America/Los_Angeles
BEGIN:STANDARD
DTSTART:16011104T020000
TZOFFSETFROM:-0700
TZOFFSETTO:-0800
RRULE:FREQ=YEARLY;BYDAY=1SU;BYMONTH=11
END:STANDARD
BEGIN:DAYLIGHT
DTSTART:16010311T020000
TZOFFSETFROM:-0800
TZOFFSETTO:-0700
RRULE:FREQ=YEARLY;BYDAY=2SU;BYMONTH=3
END:DAYLIGHT
END:VTIMEZONE
BEGIN:VEVENT
UID:20260421T054255PDT-9190iAXVZN@csun.edu/cod
DTSTAMP:20260421T124255Z
DESCRIPTION:Please note that scheduled time may be subject to change. Check
  CSUN Conference website for up-to-date schedule.\n\nAre you stressed out 
 by digital accessibility? You're not alone! This session will show you how
  focusing on the Four Core Skills can help reduce your feelings of being o
 verwhelmed. You'll also get resources and techniques you can start to use 
 today.
DTSTART;TZID=America/Los_Angeles:20240322T152000
DURATION:PT0H40M0S
LOCATION:Orange County 3-4 - 1st Floor
SUMMARY:Four Core Skills to Simplify Your Digital A11y
END:VEVENT
END:VCALENDAR
