BEGIN:VCALENDAR
VERSION:2.0
PRODID:-//csun.edu/cod//NONSGML kigkonsult.se iCalcreator 2.18//
METHOD:PUBLISH
X-WR-TIMEZONE:America/Los_Angeles
BEGIN:VTIMEZONE
TZID:America/Los_Angeles
BEGIN:STANDARD
DTSTART:16011104T020000
TZOFFSETFROM:-0700
TZOFFSETTO:-0800
RRULE:FREQ=YEARLY;BYDAY=1SU;BYMONTH=11
END:STANDARD
BEGIN:DAYLIGHT
DTSTART:16010311T020000
TZOFFSETFROM:-0800
TZOFFSETTO:-0700
RRULE:FREQ=YEARLY;BYDAY=2SU;BYMONTH=3
END:DAYLIGHT
END:VTIMEZONE
BEGIN:VEVENT
UID:20260420T002442PDT-7186VDIVvX@csun.edu/cod
DTSTAMP:20260420T072442Z
DESCRIPTION:Please note that scheduled time may be subject to change. Check
  CSUN Conference website for up-to-date schedule.\n\n7 California institut
 ions created the tool for student-focused tracking of assistive technology
  solutions\, aiding specialists\, supporting students and informing campus
  decisions with data. Learn from their experience and apply it at your ins
 titution.
DTSTART;TZID=America/Los_Angeles:20240320T102000
DURATION:PT0H40M0S
LOCATION:Platinum 7 - 1st Floor
SUMMARY:Project AT-AT - Assistive Technology Assessment Tool
END:VEVENT
END:VCALENDAR
