BEGIN:VCALENDAR
VERSION:2.0
PRODID:-//csun.edu/cod//NONSGML kigkonsult.se iCalcreator 2.18//
METHOD:PUBLISH
X-WR-TIMEZONE:America/Los_Angeles
BEGIN:VTIMEZONE
TZID:America/Los_Angeles
BEGIN:STANDARD
DTSTART:16011104T020000
TZOFFSETFROM:-0700
TZOFFSETTO:-0800
RRULE:FREQ=YEARLY;BYDAY=1SU;BYMONTH=11
END:STANDARD
BEGIN:DAYLIGHT
DTSTART:16010311T020000
TZOFFSETFROM:-0800
TZOFFSETTO:-0700
RRULE:FREQ=YEARLY;BYDAY=2SU;BYMONTH=3
END:DAYLIGHT
END:VTIMEZONE
BEGIN:VEVENT
UID:20260422T183826PDT-3993vbpHst@csun.edu/cod
DTSTAMP:20260423T013826Z
DESCRIPTION:Please note that scheduled time may be subject to change. Check
  CSUN Conference website for up-to-date schedule.\n\nAI has placed the dis
 ability community at a pivotal point where we can become increasingly rele
 vant to the development of future tech or become more marginalized. We'll 
 explore the specific opportunities that this emerging field brings us.
DTSTART;TZID=America/Los_Angeles:20240321T162000
DURATION:PT0H40M0S
LOCATION:Elite 1-3 - 1st Floor
SUMMARY:AI and A11y: Threats\, Opportunities\, and the Road Ahead
END:VEVENT
END:VCALENDAR
