BEGIN:VCALENDAR
VERSION:2.0
PRODID:-//csun.edu/cod//NONSGML kigkonsult.se iCalcreator 2.18//
METHOD:PUBLISH
X-WR-TIMEZONE:America/Los_Angeles
BEGIN:VTIMEZONE
TZID:America/Los_Angeles
BEGIN:STANDARD
DTSTART:16011104T020000
TZOFFSETFROM:-0700
TZOFFSETTO:-0800
RRULE:FREQ=YEARLY;BYDAY=1SU;BYMONTH=11
END:STANDARD
BEGIN:DAYLIGHT
DTSTART:16010311T020000
TZOFFSETFROM:-0800
TZOFFSETTO:-0700
RRULE:FREQ=YEARLY;BYDAY=2SU;BYMONTH=3
END:DAYLIGHT
END:VTIMEZONE
BEGIN:VEVENT
UID:20260420T002535PDT-4385bRuvea@csun.edu/cod
DTSTAMP:20260420T072535Z
DESCRIPTION:Please note that scheduled time may be subject to change. Check
  CSUN Conference website for up-to-date schedule.\n\nCome see the new BARD
  website and what it has to offer NLS patrons. More features\, more flexib
 ility\, more books. This session will demonstrate how the BARD website giv
 es NLS patrons a better web experience\, and a glimpse into future NLS ser
 vices.
DTSTART;TZID=America/Los_Angeles:20240320T142000
DURATION:PT0H40M0S
LOCATION:Platinum 2 - 1st Floor
SUMMARY:BARD 2.0: A Website Modernization
END:VEVENT
END:VCALENDAR
