BEGIN:VCALENDAR
VERSION:2.0
PRODID:-//csun.edu/cod//NONSGML kigkonsult.se iCalcreator 2.18//
METHOD:PUBLISH
X-WR-TIMEZONE:America/Los_Angeles
BEGIN:VTIMEZONE
TZID:America/Los_Angeles
BEGIN:STANDARD
DTSTART:16011104T020000
TZOFFSETFROM:-0700
TZOFFSETTO:-0800
RRULE:FREQ=YEARLY;BYDAY=1SU;BYMONTH=11
END:STANDARD
BEGIN:DAYLIGHT
DTSTART:16010311T020000
TZOFFSETFROM:-0800
TZOFFSETTO:-0700
RRULE:FREQ=YEARLY;BYDAY=2SU;BYMONTH=3
END:DAYLIGHT
END:VTIMEZONE
BEGIN:VEVENT
UID:20260421T054255PDT-6970vSXI4o@csun.edu/cod
DTSTAMP:20260421T124255Z
DESCRIPTION:Please note that scheduled time may be subject to change. Check
  CSUN Conference website for up-to-date schedule.\n\nThis presentation pro
 vides a description of CSUN's\nMaster of Science in Assistive Technology S
 tudies & Human Services\, including admission requirements\, support servi
 ces\, and professional opportunities.
DTSTART;TZID=America/Los_Angeles:20240321T142000
DURATION:PT0H40M0S
LOCATION:Platinum 7 - 1st Floor
SUMMARY:CSUN's MS in Assistive Technology Studies & Human Services
END:VEVENT
END:VCALENDAR
