BEGIN:VCALENDAR
VERSION:2.0
PRODID:-//csun.edu/cod//NONSGML kigkonsult.se iCalcreator 2.18//
METHOD:PUBLISH
X-WR-TIMEZONE:America/Los_Angeles
BEGIN:VTIMEZONE
TZID:America/Los_Angeles
BEGIN:STANDARD
DTSTART:16011104T020000
TZOFFSETFROM:-0700
TZOFFSETTO:-0800
RRULE:FREQ=YEARLY;BYDAY=1SU;BYMONTH=11
END:STANDARD
BEGIN:DAYLIGHT
DTSTART:16010311T020000
TZOFFSETFROM:-0800
TZOFFSETTO:-0700
RRULE:FREQ=YEARLY;BYDAY=2SU;BYMONTH=3
END:DAYLIGHT
END:VTIMEZONE
BEGIN:VEVENT
UID:20260419T060357PDT-0989kl6dv3@csun.edu/cod
DTSTAMP:20260419T130357Z
DESCRIPTION:Please note that scheduled time may be subject to change. Check
  CSUN Conference website for up-to-date schedule.\n\nThis talk will give a
 n overview of the unique barriers to technology faced by people with mild 
 to moderate dexterity limitations and present foundational research on som
 e of the perspectives  people with low dexterity have toward technology.
DTSTART;TZID=America/Los_Angeles:20240321T152000
DURATION:PT0H40M0S
LOCATION:Platinum 1 - 1st Floor
SUMMARY:Perspectives on Phone Use from People with Limited Dexterity
END:VEVENT
END:VCALENDAR
