BEGIN:VCALENDAR
VERSION:2.0
PRODID:-//csun.edu/cod//NONSGML kigkonsult.se iCalcreator 2.18//
METHOD:PUBLISH
X-WR-TIMEZONE:America/Los_Angeles
BEGIN:VTIMEZONE
TZID:America/Los_Angeles
BEGIN:STANDARD
DTSTART:16011104T020000
TZOFFSETFROM:-0700
TZOFFSETTO:-0800
RRULE:FREQ=YEARLY;BYDAY=1SU;BYMONTH=11
END:STANDARD
BEGIN:DAYLIGHT
DTSTART:16010311T020000
TZOFFSETFROM:-0800
TZOFFSETTO:-0700
RRULE:FREQ=YEARLY;BYDAY=2SU;BYMONTH=3
END:DAYLIGHT
END:VTIMEZONE
BEGIN:VEVENT
UID:20260419T060320PDT-7043sLVSus@csun.edu/cod
DTSTAMP:20260419T130320Z
DESCRIPTION:Please note that scheduled time may be subject to change. Check
  CSUN Conference website for up-to-date schedule.\n\nAssistive robotic arm
  technology is life changing\, but obtaining coverage for this equipment a
 nd other CRT can be challenging. The session includes examples and tips fr
 om attorneys who assist individuals in accessing such equipment through Me
 di-Cal.
DTSTART;TZID=America/Los_Angeles:20240320T132000
DURATION:PT0H40M0S
LOCATION:Elite 1-3 - 1st Floor
SUMMARY:Improving Access to CRT: Assistive Robotic Arms
END:VEVENT
END:VCALENDAR
