{"text_format":"1","workbook":"xlsx","n_sheets":13,"sheets":["Instructions","Summary","A","b","x","Excel b","DP","DNP","SP","SNP","GJ","Excel Inverse","VBA Inverse"],"not_rendered":{"charts":0,"images":0,"macros":1,"external_links":0,"defined_names":3,"comments":0,"pivot_tables":0},"unopened":[],"bounds":{"document_bytes":16777216,"sheet_cells":100000,"rows_first":2000,"rows_last":500,"rows_between":2000,"halvings":0,"cell_chars":16384,"cell_head_chars":4096},"cells_cut":0,"cells_raw":0,"read":"whole","date_system":"1900"}

{"sheet":"Instructions","index":0,"n_rows":0,"n_cols":0,"rows_kept":0,"cut":false,"hidden":false,"merged":[]}

{"sheet":"Summary","index":1,"n_rows":24,"n_cols":6,"rows_kept":24,"cut":false,"hidden":false,"merged":[[0,1,0,6],[21,4,21,5],[22,4,22,5],[23,7,23,8],[2,2,2,3],[2,4,2,5],[1,2,1,5],[1,1,3,1],[20,4,20,5]]}
[null,"RMS Errors in Solutons of Ax = b"]
[null,"Excel minverse routine","VBA Gaussian Elimination Routines"]
[null,null,"Type Double",null,"Type Single"]
[null,null,"Pivoting","No Pivoting","Pivoting","No Pivoting"]
[null,{"$f":"TRANSPOSE('Excel b'!N104:AB104)","v":6.976984271095477E-12},{"$f":"TRANSPOSE(DP!N104:Y104)","v":2.5085415984759062E-12},{"$f":"TRANSPOSE(DNP!N104:Y104)","v":3.0699211664236014E-11},{"$f":"TRANSPOSE(SP!N104:Y104)","v":2.4499128584829374E-3},{"$f":"TRANSPOSE(SNP!P104:AA104)","v":1.2179628607716124E-2}]
[null,5.8046467975863719E-12,2.2503651122546665E-12,2.4963258182355973E-11,1.2807081963423163E-3,1.4483592406613392E-2]
[null,6.1833424865226336E-12,2.6142138697858749E-12,2.4729702634202E-11,2.4698428490314141E-3,8.6695445969114781E-3]
[null,6.7655118809336591E-12,5.4951660223469394E-12,1.8606539154204703E-11,2.097970443622285E-3,1.7679012174452047E-2]
[null,5.7546432303529043E-12,4.7665618435062276E-12,9.7831073397370179E-12,1.5562297270157227E-3,1.0952562328656967E-2]
[null,6.7754592952237694E-12,2.6283113383973772E-12,1.4736995595679813E-11,1.1880051267804527E-3,1.28483081227454E-2]
[null,5.8822238317948236E-12,2.9132523531356067E-12,3.839924310332589E-11,1.2213869627656635E-3,7.3864682295379288E-3]
[null,6.3867957894128146E-12,7.1165709071452871E-12,2.7689158924516844E-11,1.7486660887022127E-3,1.6934911145449635E-2]
[null,6.6110812414695417E-12,4.7864583851497344E-12,3.0939010676851912E-11,2.7022366428700148E-3,1.4013587794012074E-2]
[null,7.3193110901603103E-12,2.4310914314730949E-12,3.3484315307181178E-11,3.4116223452262226E-3,1.303222591807505E-2]
[]
["Maximum",{"$f":"MAX(B5:B14)","v":7.3193110901603103E-12},{"$f":"MAX(C5:C14)","v":7.1165709071452871E-12},3.839924310332589E-11,3.4116223452262226E-3,1.7679012174452047E-2]
["Minimum",{"$f":"MIN(B5:B14)","v":5.7546432303529043E-12},{"$f":"MIN(C5:C14)","v":2.2503651122546665E-12},9.7831073397370179E-12,1.1880051267804527E-3,7.3864682295379288E-3]
["RMS RMS",{"$f":"SQRT(SUMPRODUCT(B5:B14,B5:B14)/10)","v":6.4658433659443451E-12},{"$f":"SQRT(SUMPRODUCT(C5:C14,C5:C14)/10)","v":4.0739296794350884E-12},2.6750455551399484E-11,2.1323218900338218E-3,1.3184971004274779E-2]
[]
[null,null,"Determinant Results"]
[null,null,null,"MATLAB result",7.5885460978415003E+249]
[null,null,null,"Excel mdeterm",{"$f":"MDETERM(A)","v":7.5885460978413938E+249}]
[null,null,null,"VBA Code",{"$f":"detrmnt(A)","v":7.5885460978412141E+249}]
[null,null,"The difference is in the 14th significant figure"]

{"sheet":"A","index":2,"n_rows":100,"n_cols":100,"rows_kept":100,"cut":false,"hidden":false,"merged":[]}
[60.9,-63.2,-86.4,86.2,17.100000000000001,36.6,98.6,15.2,28.4,82.7,67.900000000000006,93.9,85.8,47.2,92,55.6,8.3000000000000007,48.2,31.4,2.6,-3.8,27.4,-69.2,99.5,16.899999999999999,52.6,-51.8,99.5,28.8,30.7,31.7,80.8,-27.7,-46,79.099999999999994,-51.4,56.6,35.799999999999997,75.099999999999994,-30.5,65.7,8.6999999999999993,27.3,92,7.9,-69.2,-30.5,94.3,97.6,-33.1,32.4,-38.5,-73.599999999999994,1.1000000000000001,-78.599999999999994,25.1,95,65.8,18.600000000000001,12.8,75.3,46.7,-63.6,18.7,35.9,-35.1,-70.5,78.3,59.3,55,97.5,11.1,47.2,38.799999999999997,81.2,54,42.3,60.8,12.4,81.5,26.1,97.3,58,-57.8,-5.8,91.5,30.7,-5.8,58.3,54.5,-19.399999999999999,-11.3,26,85.6,21.3,-73.5,85.9,-23.7,68.7,-65.3]
[16.8,98.5,-79.900000000000006,56.6,57.2,99.3,37,-56.4,-17.399999999999999,68.8,35,90.6,29,58.5,79.099999999999994,29.5,14.8,10.5,78.7,93,7.9,-67.3,68.7,-92.7,50.1,17.8,13.2,62.7,-33.1,68.400000000000006,42.6,-4,97.3,77.7,68.7,0.5,-49.9,67.5,47.5,49.6,89.9,-72.900000000000006,70.2,13.9,70.3,59,-67.2,69.900000000000006,97.1,54.5,39.299999999999997,27.9,33.9,-24.6,-27.6,-37.1,73.7,20.8,-18.3,-40.9,-60.6,-37.1,92.1,98.5,10.9,93.2,48.5,44.3,36.9,85.8,13.2,-44,62.8,64.900000000000006,28.2,36.4,-94.7,27.5,41.2,80.900000000000006,47.1,-49.9,34.6,-60.2,86.2,50.3,2.5,98.1,84.3,-55.7,-7.4,81.3,55.3,92.9,85.7,37.9,-51.8,-9,68.599999999999994,-96.7]
[27,74.8,84.3,32.700000000000003,5.6,38,0.5,-80.400000000000006,10.4,-63.6,2.6,96,27.5,40.700000000000003,94,70.2,46.8,20.100000000000001,36.4,82.7,18.899999999999999,44.3,-77.5,28.9,6.9,18,77.2,60.9,-48,39.200000000000003,1.2,-45.9,99.9,54.3,31.9,58,66.099999999999994,56.2,47.1,-8.1,67.7,89.8,43.5,13.8,3.3,-9.4,94.3,90.9,44.2,47.3,50.3,58,86.5,80.3,38.299999999999997,19.8,57.2,64.599999999999994,98.9,20.5,34.299999999999997,35.700000000000003,47.1,70.400000000000006,-32.1,-55.4,67.599999999999994,14.6,91,1.7,97.3,-25.7,-6,-49.9,62.8,-32.5,55.2,25.1,24.2,99.4,74,38.799999999999997,19.7,3.2,51,23.9,-42.9,90.3,73.7,-9.4,39.700000000000003,10.4,99.2,-43.9,10,72.2,-98.8,22.9,-70.5,14.7]
[8.3000000000000007,17.7,92,12.7,50,66.099999999999994,-20.7,92.2,-76.599999999999994,-83.4,32.4,30.8,15.2,34.700000000000003,95,-48,-20.6,34.799999999999997,80.900000000000006,-29.6,33.200000000000003,82.3,98.6,24.8,64.599999999999994,59,-78.5,72.2,35.200000000000003,-81,68.599999999999994,72.099999999999994,-37.5,70.099999999999994,90.5,47.8,77.2,91.3,29.4,61,-43,37.700000000000003,-60.6,-52.7,28.8,22.5,-90.7,84.3,-51.8,-77.900000000000006,99.9,-60.6,72.7,61.5,38.700000000000003,92.9,19.7,73.400000000000006,71.2,-56.4,58.9,48.7,-39.1,65.400000000000006,66.7,50,67.8,-43,25.5,-21.6,22.9,54.3,4.5,41.5,13.4,-23.6,12.2,-58.8,98.5,50.9,64.400000000000006,-33.5,-3.8,53.2,34.6,-80.099999999999994,-31.1,95.2,97.9,81.8,55.1,5.7,22.9,-20.6,36.9,56.6,27.3,79.8,41.6,38.200000000000003]
[55,57,-53.8,-82.4,97.1,-47,92.5,49.7,11,-81.400000000000006,79.7,6.5,-37.1,-63.6,90.5,12.4,34.4,70.8,82.9,68.400000000000006,-72.5,-75.599999999999994,33.6,-63.2,40.299999999999997,86.7,72,60.9,-75.900000000000006,73.8,22.1,93.6,41.8,-56.4,-35.5,-25.6,40.4,53.6,84.6,-17.399999999999999,21.4,36.9,-36.1,-77.599999999999994,92.5,51.5,41.6,-37.5,-59.7,16.600000000000001,62.8,75.7,91.5,24.3,-90.8,-58.7,-87.1,68.900000000000006,68.400000000000006,49.2,-64.3,19.2,65,82.9,10.9,96,90.9,88.2,17.5,45.5,34,15.1,-27.6,53.3,17.600000000000001,6.5,-71.900000000000006,49.2,-8.8000000000000007,-85.4,-74.5,67,-85,48.2,27.9,91.1,72,74.099999999999994,40.4,-91.8,-59.4,57.6,10.9,38.700000000000003,17,18.100000000000001,42.1,48.5,86.9,45.6]
[-15.3,42.5,10.6,70.8,-42,42.1,-78.900000000000006,40.5,11.2,-73.599999999999994,-69.3,-11.3,14.4,47.6,21.8,74,88.5,48.4,16.7,86.7,18.899999999999999,36.4,4.5999999999999996,54.5,-85.4,11.1,-87.1,-56.4,28,-93.7,-5.0999999999999996,-3.8,-81,73.3,57.6,80.900000000000006,16.2,63.7,83.6,37.700000000000003,36.700000000000003,46.6,88.3,93.4,61.4,-48,47.7,62.1,76,42.7,-81.400000000000006,67.599999999999994,24.1,48.7,7.7,-48,-0.8,38.200000000000003,26.5,95.3,17.899999999999999,18.8,40.4,31,25.9,17.100000000000001,-51.8,10,-73.599999999999994,71.8,68.400000000000006,98.5,66.7,-39.5,15.2,77.8,-77.599999999999994,9.1999999999999993,85.2,98.9,55.6,-5.4,46.7,57.2,57.2,-22.6,34.700000000000003,-10.3,72.2,49.1,-83.4,13.4,53.1,-36.1,45.8,-4.8,88.6,50.6,75.400000000000006,95.5]
[-76.900000000000006,42.2,-2.4,10.4,16.8,91.9,-83,45.8,64,37.9,97.1,-16.399999999999999,14.5,-72.900000000000006,30,50.9,24.1,93,94.4,34.200000000000003,12,11.1,54.9,54.6,-71.5,9.3000000000000007,2.5,24,-55.4,69.099999999999994,52.2,-75.5,30.6,-2.4,-30.1,-2,67.7,86.6,-58.8,47.7,79.8,29.8,29.4,75.3,-82,79.400000000000006,69.8,10.8,62.4,9.5,-90.8,49.8,25.1,59.5,30.9,62.4,17.5,41.4,32.700000000000003,57.9,76.099999999999994,76,9.5,93,36.799999999999997,28.3,-95.7,51.9,74,38,47.2,78.2,85.2,9.5,12.4,-83.4,32.9,-90.8,-35.1,81.7,43.2,-72.5,53.9,-82.4,76.099999999999994,-34.1,35.9,36.200000000000003,95.4,66.5,44.3,51.3,-23.7,71.8,69.599999999999994,21.4,97.1,73.3,50.2,-7.1]
[-63.2,3.2,84.2,33.200000000000003,-9.8000000000000007,54.1,-28.7,14.5,53.6,-78.599999999999994,27.5,89.9,-84.4,63.4,-31.5,35,81.7,32.9,85.9,-33.1,22,27.5,99.6,25.9,12.6,25.1,12.9,-84,77.7,-50.8,21.5,-23.6,58.1,42.4,14.1,-59.7,-20.6,-71.599999999999994,8.3000000000000007,-15.3,31.6,33.200000000000003,31.6,44.4,-71.5,-78.5,97.2,41.5,51.2,81.2,32,59,-4.0999999999999996,98.9,-4.4000000000000004,28.9,-22.6,52.5,65.900000000000006,55.3,29,81.900000000000006,40.200000000000003,86.2,-1.4,18.899999999999999,89.3,-62.6,37.9,53.3,23.4,46.2,-1,56.2,14.5,39,82.7,7.3,-65.3,11.9,-58.4,21.4,15.6,90.2,46.6,32.799999999999997,63.5,7.9,85.8,9.6999999999999993,36.799999999999997,13.1,77.2,-61.3,72.099999999999994,3.5,-78.5,94.4,-5.0999999999999996,32]
[-87.4,45.1,-58.7,23.4,99.4,59.6,47.6,-67.3,43.2,70,50.6,45.4,65.7,73.2,44.8,65.7,26.8,70.400000000000006,22.1,97.2,16.100000000000001,88.5,54.5,55.6,3.5,-17.3,-60.6,22.2,81.7,31.7,70.7,-19.3,53,9.9,78.7,59.1,76.8,33.4,58.5,64.400000000000006,77.8,69.400000000000006,4.5,88.2,96.1,19,62.5,5.7,10,68.900000000000006,27.8,59.5,-40.9,54,38.799999999999997,9.1999999999999993,-70.900000000000006,33.9,1.6,70.2,27.1,-47.9,93.1,-7.8,-72.5,88.3,-75.900000000000006,-73.900000000000006,11.1,-19.399999999999999,66.7,64.8,-1,-32.1,71,-4.8,19.5,-64.3,12,99.2,-1.8,68.5,83.9,-78.5,28.8,83.2,64.599999999999994,-86.4,19,59.2,98.9,-42,23.3,7.5,73.8,7.3,26.8,94.9,50.2,-41]
[61.4,-34.5,59.1,36.299999999999997,50.9,-77.900000000000006,10.199999999999999,-31.2,56.2,75.8,19.5,84.7,-32.1,44.5,-58.8,96.5,56,84.8,70.7,93.6,12.9,-75.900000000000006,10.7,17.2,17.8,-79.599999999999994,33,19.7,39.6,42.8,-83.4,-1.8,95.6,61.8,-78.599999999999994,-5.8,-59.4,76.3,40.200000000000003,20.100000000000001,44.6,-22.7,10,79.2,84.9,28.1,55.1,80.8,-86.1,-87,8.3000000000000007,-84,92.9,76.400000000000006,38.799999999999997,83.6,1.3,15.5,56.6,56.6,62.1,29.1,66,11.5,-57.4,83.3,81.599999999999994,-71.900000000000006,16.600000000000001,45.2,88.6,93.3,43.3,37.9,87.2,28.5,5.5,64.900000000000006,-67.2,-98.7,55.3,81.8,-56.8,17.7,66.900000000000006,10.7,66.900000000000006,-79.599999999999994,99.6,87.3,50.1,37.700000000000003,29.8,-30.2,80.5,72.2,14.4,70.099999999999994,7.7,-6.8]
[-30.2,-52.7,51.3,-32.5,57.6,-53.8,72.400000000000006,-42,96.6,31.4,34.299999999999997,82.3,42.5,14.4,38,80.900000000000006,13.5,96.1,9.3000000000000007,93.1,9.9,13.8,-7.8,92.2,-75.599999999999994,-30.2,13,34.799999999999997,69.7,62,68.599999999999994,73.7,33.299999999999997,4.7,63.1,-86.1,62.4,36.4,-60.2,65.400000000000006,46.2,-97.7,21.5,1.9,12.9,-69.2,92.4,0.5,26.1,47.2,0.6,87.7,67.7,96.3,56.9,-47.9,13.2,25.9,15.7,55.9,-71.5,-4.0999999999999996,53.3,81.900000000000006,43.5,71.8,87.3,38.6,47.6,80.3,45.5,87.2,46.4,46.2,-55.4,56.1,89.8,16.5,86.6,89.5,26.3,61.9,-86.1,51.3,91.4,-65.3,35.6,81.5,52.9,76.3,26.9,-17.3,22.1,9.5,59.5,76.7,27.4,-47.9,-1,4.2]
[64.8,-69.2,54.2,94,-38.5,28.4,53.1,23.8,13.4,92.4,21.1,12.2,21.8,37.9,66.599999999999994,64.7,40.5,86.3,57.9,-6,-38.1,73.3,-44,12.4,84.7,86.3,48.8,53.5,34.299999999999997,37.9,91.3,35.4,15.5,78.8,-39.5,48.8,40.700000000000003,-28.6,55.3,-54.7,11.8,50.1,-32.5,57.5,21.3,34.200000000000003,72.099999999999994,90.2,36.700000000000003,5.9,52.1,6.9,22.2,-9.4,24.3,23.2,55.3,62.1,-5,35,-30.1,38.299999999999997,-34.5,99,89.7,71.3,46.4,1.1000000000000001,86.7,-79.599999999999994,26.1,80.3,33.6,75,57.1,-83.1,42.2,44.1,52.6,59.1,-89,-41,48.2,47.6,17.8,9.9,44.3,82.2,77.400000000000006,81.5,48.2,51.2,14.7,13.8,10.4,-14.3,19,17.100000000000001,-78.599999999999994,44.6]
[-81.099999999999994,32.700000000000003,47.1,21.9,70.099999999999994,37.700000000000003,29.9,71.099999999999994,44.3,79,47.8,63.9,10.4,-32.5,15.5,-9.8000000000000007,36.4,19.8,89.5,36.700000000000003,4.5999999999999996,9.6,67.5,55.5,87.5,20.2,28.8,51.5,99.6,80.900000000000006,92.5,47.5,64.599999999999994,12.7,-71.900000000000006,-50.8,90,67,98.3,1.3,67.900000000000006,-75.5,56.1,-38.5,71.2,95,-76.5,51.5,76.3,-54.4,25,10.9,2.2000000000000002,84.8,86.7,57,-71.599999999999994,63.7,27.3,-59.7,-71.5,-31.1,94.2,48.5,46.6,34.299999999999997,-7.1,66.8,40.6,-29.7,-33.5,11.2,30.7,-69.2,5.2,64.400000000000006,40.799999999999997,-3.4,0.1,3.5,34.9,45.4,-6.1,74,-3.8,0.5,-14.3,81.5,-72.599999999999994,86.6,27,92.1,-73.5,57.3,18.5,25,18.5,62.9,88.6,-35.1]
[95.1,65.900000000000006,-88.4,-27.7,99.2,24.4,93.5,62.4,30.6,92.9,5.2,-8.4,29,80.3,32.4,4.9000000000000004,-74.599999999999994,76.8,32.299999999999997,77.7,88.3,-32.5,-6.8,66.7,-54.7,83.8,90.4,-7.8,53,96.5,32.700000000000003,42.8,-52.8,-30.2,27.3,74.8,-9.8000000000000007,86.8,28,26.1,6.2,18.5,31.9,54,-2.8,90.4,59.9,77.3,71.8,85.3,76.400000000000006,-61.2,64.5,35.200000000000003,-53.8,51.6,35.6,47.8,3.5,65.599999999999994,61.1,95.1,31,78.400000000000006,56.1,21.5,11.9,32.6,81.8,39.700000000000003,0.7,33.299999999999997,9.6,-86.1,64.599999999999994,63.5,32.9,34.9,83.9,34.299999999999997,14.8,-86.1,-85.1,26.2,21.9,-60.6,4.7,21,41.1,-49,14.8,90.4,10.9,47.4,29.5,-80.400000000000006,-95.7,48.1,63.1,34.6]
[-85.4,40.4,-97.8,34.200000000000003,3.1,74.400000000000006,59.3,65.8,67.599999999999994,-58.4,69.599999999999994,94,38.299999999999997,46.7,12.2,49.6,23.8,98.4,-0.4,64.400000000000006,96.5,90.5,17.7,83.8,68.7,-79.900000000000006,60.1,35.700000000000003,2.1,-63.3,13.1,64.7,71.8,10.199999999999999,94.5,10.199999999999999,30,7.7,34.200000000000003,37.299999999999997,-48.9,91,23,82.6,63.7,91.6,11.4,-50.4,-41.9,76.3,-86.4,71.400000000000006,74.099999999999994,40.4,69,-34.1,98.5,59.1,59.3,50.2,2.5,42.4,79.8,61.8,93.6,72.7,-80,84.3,63.4,25.4,10.199999999999999,51.9,19.899999999999999,53.3,45.8,-34.5,-6.1,-85.1,95.1,69.599999999999994,20.5,67.7,14.5,63.4,69.7,24.3,36.799999999999997,34.6,-35.1,48.6,41.8,98.4,24.1,36.299999999999997,-15.3,93,78.2,22.9,67.8,-23.7]
[67.7,6.7,-52.4,0.9,-89,6.2,25.4,5.3,48.2,43.1,25.3,69.8,86.8,57.1,55.6,35.6,28.4,-99.7,52,9.6999999999999993,5.7,-93.8,72.2,57.2,88.6,79.7,49.8,-55.4,-80,38.299999999999997,94.9,96.6,59.2,53.5,73.099999999999994,-94.8,81.2,34.799999999999997,81.5,64.400000000000006,-79.5,-65.2,83.3,31.3,15.6,-91.8,70,95.9,99.4,-37.1,49.4,38.200000000000003,48.2,-8.8000000000000007,92.5,-8.1,26.4,71.7,42.4,70.3,-62.2,12.5,56.5,24.9,-4,83.3,41.5,-79.5,-53.8,29.4,97.6,77.3,10.8,84.6,36.200000000000003,-58.7,97.9,51.3,62.9,-14.3,80.8,90.6,48.6,82.3,34.200000000000003,19.7,18.8,7.7,12.7,-31.2,91.5,0.1,25.3,40.299999999999997,-25.7,10.7,-23.6,30.8,87.3,38.200000000000003]
[64.599999999999994,48.7,16.5,-31.1,12.2,8.6,11.9,0.6,40.700000000000003,72,11.2,13.1,64.599999999999994,66.8,94.2,-56.7,90.5,88.6,47.8,58.1,-53.7,37.4,15.6,-61.3,-70.5,93.1,17.600000000000001,-87.4,91.4,82.7,95.1,27.3,74.099999999999994,5.9,50.3,88.6,-6.1,23,46.8,77.7,59.6,-85.4,-79.900000000000006,-83.4,16.899999999999999,58,95.6,31.6,5.5,-50.8,6.3,19,88.8,7.2,90.2,77.2,-37.1,96.5,-79.5,92.5,77.8,92.6,19.8,-71.900000000000006,-82.4,74.099999999999994,-20.7,19.899999999999999,27.5,10.7,74.099999999999994,86.5,-54.7,30,94.3,66.8,35.200000000000003,-6.8,54,52.3,9.6,34.299999999999997,-65.3,-78.900000000000006,87.6,23.5,80.3,56,13,37.200000000000003,-19.399999999999999,98.1,-78.900000000000006,6.6,8.6,67,85.5,-56.4,93.6,-8]
[15.5,87.6,4.9000000000000004,77.099999999999994,65.900000000000006,81.2,-82,96,16.100000000000001,-47,39.200000000000003,79.3,-7,25,84.5,46.7,-6.1,85.7,38.4,95.5,55,56.6,37.299999999999997,-53.4,2.2000000000000002,5.7,8.1999999999999993,21.1,18,-80.400000000000006,-51.8,99.9,64.5,-77.599999999999994,93.6,4.5999999999999996,-56.4,-67.3,41.6,65.7,38.6,86.2,-25.7,13.4,33.700000000000003,95.6,97.4,44.8,31.4,62.1,31.6,-4,60.8,64.7,-87.4,30.7,9.3000000000000007,10.8,39.6,99.1,17.5,31.7,61.9,14.7,-1,55.2,65.5,93.9,35.4,83.3,75.8,-0.4,43.8,50.6,92.5,61.9,53.3,13.4,39.200000000000003,60.9,11.2,19.600000000000001,25.8,-71.599999999999994,-57.7,54.5,55.5,1.1000000000000001,87.2,82.2,-65.3,-74.599999999999994,90.4,82.9,8.1999999999999993,42.2,86.5,97,-81.400000000000006,14.4]
[97.2,79.400000000000006,88.5,82.3,53.3,79.7,-87,37.299999999999997,70.8,6.9,79.7,79.099999999999994,18.8,-0.4,-38.5,23.3,41.4,65.099999999999994,-64.3,95.3,81.5,83.2,-44,-67.3,62,55.3,33.200000000000003,-91.7,20,2.2000000000000002,99.6,-16.399999999999999,78.2,41.5,52.9,78.3,96.5,74.2,-80.099999999999994,70.2,-38.5,26.4,24.4,63.9,76.8,61.5,34.799999999999997,11.6,42.6,1.6,-57.8,74.400000000000006,14.7,-7,58.1,92.2,70,-44.9,3.7,2.2999999999999998,61.5,89.9,54.2,63.7,88.2,30.4,62.8,92,-76.599999999999994,-71.900000000000006,-77.5,97,0.3,81.3,-87.4,-2.4,95.2,87.7,93.9,87.3,94,-85.1,51.5,78.7,99.6,73,63.8,9.1999999999999993,70.7,16.7,-34.1,30.9,0.7,65.599999999999994,40.799999999999997,53.5,24.2,80.8,-22.7,-30.1]
[31.3,25.1,59.6,23.9,1.3,81.900000000000006,49.2,2.2000000000000002,-15.3,23.8,40.700000000000003,27.8,57.3,-56.4,58.6,86.8,-30.5,77.2,72.3,28.2,36.299999999999997,67.099999999999994,-60.2,24.8,15.6,92.2,25.5,46.7,13.5,83.5,-72.599999999999994,41.8,32.200000000000003,-88.1,62.4,39.799999999999997,9.6999999999999993,90,5.7,-25.7,0.1,-76.5,-9.4,40.1,72,92.2,-72.5,17.8,20.3,31.3,59.5,-99.8,-85.1,84.6,56.5,-44,-29.6,-45,-48.9,69.7,53.9,-3.8,67.900000000000006,24.8,-5.0999999999999996,11.6,-27.6,11.4,38,48.7,39.200000000000003,41.7,90.6,91.2,58.6,28,64.8,68.5,37.6,39.799999999999997,3.5,9.3000000000000007,-79.900000000000006,8.9,63.7,86.9,30,-75.5,-43.9,97.4,-3.8,30.3,-35.1,37,-57.4,91.6,61.1,44.5,8.5,-64.2]
[85.7,85.6,25.4,-67.3,69.400000000000006,51.2,33.799999999999997,43.1,6.5,96.1,-36.5,-78.5,27.8,51.3,95.4,2.2999999999999998,-60.6,47.8,91.9,94.3,12.1,77.8,90.6,-24.6,43.1,45.5,48.6,-86.4,-39.5,-87.4,67.8,55.5,8.3000000000000007,98.3,37.700000000000003,-90.7,50,59.3,52.5,0.3,96.3,18.5,83.7,59,-76.5,-4,49.5,65.599999999999994,-52.8,80.599999999999994,33.799999999999997,70.099999999999994,92.6,40.799999999999997,89.3,82.6,48.5,79.3,28.2,93.3,-42,-19.3,-84.4,26.4,67.7,-57.7,-36.1,46.2,78.3,-49.9,87.9,21.2,22.5,65.8,49.8,6.7,-78.599999999999994,20.3,-50.4,49.6,-44,4.9000000000000004,31,88.6,34.6,49.5,17.8,11.5,27.3,29.8,-87.1,83.8,14.4,80.900000000000006,66,-38.5,43.5,67.900000000000006,32.6,45.7]
[27.9,-15.3,-8.4,-33.5,19.600000000000001,-62.2,92.5,-75.599999999999994,2.9,19,-37.1,23.4,-72.900000000000006,88.5,83.9,94.9,36.6,32.700000000000003,90.5,17.5,10.8,60.8,-71.900000000000006,1.5,81.3,92,68.5,93.6,-51.8,64.7,-84.4,43.8,22.8,-70.900000000000006,-17.399999999999999,59.1,38.799999999999997,41.5,8.6999999999999993,68.5,-69.2,-9,-30.5,-1,20.3,17.8,-61.2,68.099999999999994,40.5,77.7,28.2,1.3,86.9,17.2,32.6,94.3,14.2,90.4,45.2,-62.6,37.4,-40.9,89.3,7.5,-66.2,83.8,1.3,98.6,93.5,24.4,19.600000000000001,78.7,93.1,3.2,58.2,82.6,41.1,2.5,-41.9,-71.900000000000006,85.2,-98.8,94.9,59,50.6,21.2,76.400000000000006,27.5,62.8,-73.599999999999994,6.5,46.6,61.5,31.9,84.7,-31.2,-75.5,3.3,20.2,97.4]
[-56.7,25,60.9,10.199999999999999,33.299999999999997,41.6,32.299999999999997,62,-91.8,68.599999999999994,-1.8,30.7,72.2,29.5,20.3,-88.4,16.8,-25.7,30.7,96.3,57.2,82.7,70.099999999999994,58.3,66.7,13,36.6,46.1,-73.900000000000006,71.400000000000006,96.1,92.9,-91.8,-55.4,-2.4,-61.2,13.9,13.5,1.7,0,19.8,30.8,95,13,92,8.5,-58.8,29.2,23.5,54.3,19,55.2,38.6,39.9,93,79.3,69.8,-86.4,45.5,30,30.7,-11.3,54.9,-33.5,35.700000000000003,-85.4,79.7,81.7,97.2,8.9,-67.3,30.4,-97.8,-87.1,16.600000000000001,34.700000000000003,27.3,92.5,25.3,-82.1,-25.6,13.1,21.2,54.6,5.5,91.6,47.2,88.6,43.3,-50.8,3.5,13.6,27.5,-62.3,16,3.1,93.6,34.4,48.1,-7.1]
[90.2,97.4,33.799999999999997,0.1,16.600000000000001,16.899999999999999,88.7,78.400000000000006,8.5,12,96.6,-88.4,-22.7,-69.3,34.6,84.8,12.5,22.1,-41,43.8,11.6,61.9,-70.900000000000006,76.099999999999994,41.7,-24.7,-76.599999999999994,72.400000000000006,87.5,32.9,37.299999999999997,60.9,87.7,24.3,34.9,3.5,51.3,-14.3,30,99.4,86.2,52.1,-27.7,81.7,-96.8,-31.1,69.8,67.8,8.3000000000000007,68.5,74.2,74.400000000000006,26.4,-6,67.900000000000006,79.099999999999994,85.8,-60.6,92.3,99.4,-5.0999999999999996,1.9,65.5,22.3,-53.4,1.2,52.5,48.4,70.099999999999994,95.9,67.400000000000006,14.9,84.8,39.9,44.7,30.6,-4.4000000000000004,19.7,56.3,9.9,28.9,82.8,-86.4,-0.8,-5.4,72.099999999999994,-72.599999999999994,54,-71.599999999999994,74,29,10.8,36.799999999999997,75.400000000000006,8.6999999999999993,78.3,60.7,-9.4,-28.7,73.3]
[71.099999999999994,65,-70.5,-19.399999999999999,90,96.2,4.9000000000000004,46.4,64.5,91.3,-83,-87.1,67,47.8,-58.7,-0.4,3.5,75.400000000000006,95.4,99.9,-95.7,54.5,2.6,14.9,-48,46.8,60.1,94.3,83.6,21.3,-73.900000000000006,69.599999999999994,-90.7,92.5,68.8,19,28.8,-93.7,33.799999999999997,-71.900000000000006,59.6,77.400000000000006,53.3,70.8,11.6,56,-26.6,-91.7,19.100000000000001,98.2,60.5,9.6999999999999993,40.299999999999997,1.3,3.7,85.6,-71.900000000000006,-42,59.5,56.6,12.8,51.5,20.399999999999999,-27.7,48.2,40.4,8.3000000000000007,50.3,94,31.4,84.9,73.3,-18.3,-96.7,-73.5,93.9,92.5,2.2999999999999998,90.6,22.4,77.099999999999994,-41,42.2,-41.9,55.9,3.9,11.6,-21.7,79.8,-99.7,-86.1,53.1,40.1,-29.6,22.5,-8.8000000000000007,-52.4,96.2,62.8,93.2]
[-55.4,92.5,-36.5,31.3,20.9,58.3,13.5,51,65.099999999999994,64.099999999999994,35.700000000000003,-65.2,28,39.6,97.5,6.7,54.3,16.600000000000001,65.099999999999994,84.2,26.9,28.3,-37.1,90.6,20.8,82.5,-44.9,-36.5,67.900000000000006,61.4,38.6,52.5,28.3,-53.7,10.7,43.7,60.5,86.5,36.299999999999997,-27.6,-91.8,59.9,95,-42.9,-0.4,22.5,-42,97.1,48.2,31.8,91.9,21.5,2.2999999999999998,96.3,-23.7,1.9,22.5,22.2,76,9.6,55.9,-5,96.1,26.3,-67.3,69.5,99.6,36.799999999999997,32.200000000000003,86.3,15.1,89.8,-97.8,46.5,65,13.4,58.1,-19.399999999999999,54.1,38.799999999999997,19,47.4,50.3,66.900000000000006,59.3,93,93.1,54.9,33.4,62.7,54,-76.900000000000006,66.7,2.2000000000000002,91.2,51.3,-56.4,97.9,14.8,-7.1]
[48.1,90.2,46.6,48.5,-30.1,53.6,98.2,-79.900000000000006,81.2,-19.399999999999999,88.2,36.700000000000003,91.5,93.3,11.4,76.099999999999994,95.1,-31.1,-18.3,80.900000000000006,40.5,91.6,30.6,65.8,-68.3,95.6,87.6,24.5,-91.7,38.799999999999997,76.099999999999994,5.6,41.1,31.7,-84.4,93,13.7,29.5,83.8,89.8,87.2,-3.8,50,77.400000000000006,62.5,50.3,30,87.8,37.700000000000003,16.5,-88,28.3,51.5,-66.2,27.2,57.2,32.9,98,35.200000000000003,84.8,-6.1,-74.5,-70.900000000000006,20.3,-28.6,79.099999999999994,38,78.400000000000006,13.9,6.7,-46.9,53.6,23.3,9.6999999999999993,-99.7,-25.7,84.9,70.2,-7.8,65.099999999999994,92.3,99,5.5,34.700000000000003,2.7,95.2,-88.4,-11.3,38.6,96.2,-4,24.9,32.299999999999997,31,27.3,6.5,68.7,81.5,29.5,80.8]
[-63.6,26.4,83.7,17.600000000000001,90.3,-73.900000000000006,-75.900000000000006,63.1,71.400000000000006,57.5,30.3,27.8,86.8,-9.8000000000000007,3.2,47.2,86.6,-31.2,42.6,21.9,-82,26.4,34,-59.4,37.9,-55.8,-68.2,37.9,72.400000000000006,-9.1,-18.399999999999999,37.700000000000003,99.4,32.700000000000003,94.4,14.6,25.2,-48,34,87.2,15.5,10.9,28,60.9,1.6,14,2.7,-52.7,36.799999999999997,0.2,98,61.4,32.6,26.2,60.8,19.899999999999999,5.2,-53.4,-73.900000000000006,78.2,64.8,69.5,58.9,-7,-97.8,-27.7,0.5,-93.7,98.1,-61.3,50.6,31,-59.7,72,-19.399999999999999,-74.5,15.5,57.1,18.100000000000001,89.2,55.6,49.1,74,36.6,27.4,24.5,32.6,4.7,36.799999999999997,15.9,52.2,50.3,72.2,2.1,19.2,94,84.8,58.2,-57.8,41.6]
[72.3,-68.2,63.4,-4.0999999999999996,-61.3,19.8,75.400000000000006,72.3,-30.1,8.5,65.400000000000006,95.5,-72.5,45.8,39.299999999999997,27.8,93.4,69,13.9,66.900000000000006,-32.1,23.8,57.3,18.5,87.5,73.3,59.9,30.9,33.4,6.5,85.2,86.8,-65.2,-54.7,99.3,59,71,50,49.8,-71.599999999999994,-16.399999999999999,-57.8,26.4,34.799999999999997,-4.0999999999999996,-91.8,88.2,-22.7,78,60.7,84.5,74.3,64.8,-72.5,-53.7,9.6999999999999993,-77.5,-59.7,49.2,72.2,2.7,85.2,43.7,-97.8,-61.2,77.099999999999994,26.9,-38.5,78.2,56.2,23.2,40.4,71.099999999999994,80.900000000000006,61.7,-76.599999999999994,-23.7,27,-97.7,74.8,-40,44.3,32.799999999999997,9.6,-58.4,21.2,36.700000000000003,-70.5,-75.900000000000006,3.6,49.8,52.5,-98.8,98.4,-61.2,18.7,-69.2,61.1,92.9,53.3]
[74.8,-38.1,55.3,24,-78.5,3.1,67.7,18,84.5,63.7,-25.6,73.3,-85,-67.3,75,80.5,-3.8,24.1,-98.7,17.5,71.7,16.600000000000001,-24.6,-78.900000000000006,-17.399999999999999,94.2,25.3,97.4,30,40.799999999999997,81.7,53.9,0.7,30,-67.3,91.6,84.5,80.7,-47.9,30.7,61.4,46.7,-31.5,34.700000000000003,-59.8,47.5,50.6,43.5,54.5,47.4,38,45.7,58.6,-83.1,-81.099999999999994,-30.1,-77.5,13.7,45.1,26.3,47.7,80.2,17.5,8.3000000000000007,-31.1,-47,43.5,15,69.400000000000006,-71.5,18.899999999999999,83.2,10.1,-83.1,76,74.400000000000006,91.2,-2.4,68.8,58.6,8.6999999999999993,72,53.6,43.1,9.9,85.6,-87,27.3,97,88.9,29.3,56.6,-63.2,-59.4,18.2,88.8,68.099999999999994,24.9,85.5,48.6]
[-7,91.3,-27.7,-15.3,73.2,-85.1,-2.8,97.5,43.6,63.5,-23.7,64.8,43.4,78.7,41.5,69.599999999999994,-81.099999999999994,5.3,66.599999999999994,46.1,-29.6,20.3,6.3,76.2,92.2,19.5,80.5,-59.4,67,67.400000000000006,37.9,22,78.3,-75.599999999999994,16.8,59.6,83.3,-92.7,-89,61.8,67.8,-78.599999999999994,84.7,34.9,46.2,23.2,22.3,13,63.7,11.6,17.5,-37.1,91.6,81.8,29.1,75.2,98.6,-10.3,85.2,75.3,53.5,23.4,48.6,66,-18.399999999999999,26,-31.2,-5.8,80.900000000000006,98,59.6,2.9,8.1999999999999993,22.8,33.200000000000003,78.099999999999994,82.8,28.3,-40,27.5,35.799999999999997,8.3000000000000007,14.6,-38.1,-99.8,-7.4,-86.1,49.1,75.2,-8.1,41.2,92.5,16,33.200000000000003,0.9,25.5,52.6,66.7,-52.4,61.4]
[29,42.2,21.2,65.5,16.899999999999999,1.2,52,9.6999999999999993,68.900000000000006,-96.7,79.2,-28.7,83.8,59.1,31.7,43.3,49.2,47.5,-42,96.4,96.2,82.7,-8.1,-4,75.7,-4.8,89.3,75.7,91.3,56.5,-77.599999999999994,24.9,-88,92.4,-66.3,32.6,20.3,-28.6,-81,81.3,22.9,2.2000000000000002,80.7,79.400000000000006,30.4,76.400000000000006,56.9,-7.1,-49,-41.9,34,69.900000000000006,62.9,58.3,72.2,52.6,23.9,31.9,56.6,55.5,51.6,76.3,4.5999999999999996,31.7,-91.8,64.7,64.599999999999994,47.7,65,20.2,85.7,62.4,-31.2,16.5,91.3,61.1,98,-89.1,-8,0.7,-3.4,-91.7,30.6,-80,58.1,38.299999999999997,84.5,-54.8,2.2000000000000002,69.599999999999994,87.6,21.2,10,62.1,68.400000000000006,-3.4,97,69,20.399999999999999,-70.599999999999994]
[85.6,20.8,-55.8,67,-58.4,0.5,47.2,87.2,41.1,37.6,36.6,23.2,-39.5,87.8,38.9,82.6,64.900000000000006,77.8,18.7,39.799999999999997,-74.900000000000006,42.7,-53.7,48.5,44.3,5.2,51.2,94.9,-1.8,51.6,72.400000000000006,33.6,15.4,12.8,26.2,24.9,30.3,8.6999999999999993,-92.7,78.2,98.2,-62.2,-71.599999999999994,20.9,52.1,-56.7,70,10.6,97.5,2.7,-75.900000000000006,-28.7,39.4,-68.3,36.6,44.5,19.2,97.4,29.2,7.5,15.7,0.9,84.6,4.2,58.1,99.2,42.6,19.5,57.3,-64.2,72.7,29.3,-71.5,-59.7,78,-8.8000000000000007,-68.3,-55.7,-23.6,-86.1,48.3,-68.2,73.3,50.5,39.4,99.5,65.900000000000006,68.5,57.6,-91.7,53.2,66.400000000000006,71.099999999999994,-80.400000000000006,64.599999999999994,-88,46.1,8.3000000000000007,-5.0999999999999996,40.1]
[86.3,41.7,9.1999999999999993,19.100000000000001,-3,45.3,57.1,40.4,90,88.8,16.600000000000001,34.799999999999997,27,56.1,-59.8,40.799999999999997,42.3,-87.1,5.6,13.4,-99.8,24.9,88.7,37.299999999999997,41.6,-95.8,54.9,39,-79.900000000000006,-53.7,94.1,-27.7,92.5,-44.9,18.2,23.1,-31.5,40.799999999999997,56.9,60,74.7,14.7,86.8,69,-78.900000000000006,70.7,10.9,45.6,38.6,2.7,32.6,67.599999999999994,6.9,65,76,-49,90.6,-76.5,20.3,42.6,28,64.599999999999994,26.1,65.099999999999994,37.299999999999997,-68.3,-25.6,98.3,45.7,59,-31.5,83.2,-65.3,9.1999999999999993,74.099999999999994,-85.4,81.5,73.099999999999994,85.7,9.3000000000000007,-47,66.5,89.5,-80,91.1,20.3,-26.6,69,77.8,60,95.2,-93.7,-67.2,35.299999999999997,64.5,-72.900000000000006,38.6,-78.900000000000006,24,48.1]
[-66.2,98.9,49.2,85.2,58.2,89.2,20.100000000000001,41.2,62,18.7,-84.4,45.8,98.6,85.6,-71.900000000000006,98.5,-54.4,67.599999999999994,58.3,45.7,21.8,36.299999999999997,11.7,82.7,74.400000000000006,-55.8,25.2,87.2,28.5,80.2,71.400000000000006,2.2999999999999998,77.2,-99.7,67.900000000000006,15.6,79.8,-96.8,48.4,31.3,82.7,58.3,-84.4,65.900000000000006,88.9,-24.6,0.6,-2,54.1,86.5,93.1,91.2,65.8,72,86.2,36.799999999999997,-46.9,7.9,43.5,-0.8,-63.3,64.8,-41,60.8,73,36.6,-83,59.2,-80.400000000000006,-84.1,25.3,20.399999999999999,78.099999999999994,97.1,98.4,-83.4,34.799999999999997,60.7,-82.4,3.1,45.7,58.6,73,20,14,98,-63.3,74.3,82.7,84.9,46.4,39.799999999999997,-93.8,46.1,65.599999999999994,22.1,73.099999999999994,23.8,18.600000000000001,81.8]
[29.9,96.3,52.6,39.299999999999997,-38.1,-85,-95.8,40.799999999999997,55.3,74.400000000000006,57.5,86.6,-37.5,71.8,10.8,-7.1,63.1,52.3,73,70,91.5,68,-16.399999999999999,4.3,69.900000000000006,90.2,-1.4,22.2,19.100000000000001,2.9,3.1,24.4,0.1,50.1,-48.9,-34.1,-96.7,-5.0999999999999996,64.7,41.2,-44.9,32.200000000000003,80.7,58,12.6,-9,12.7,90.2,-50.7,62.8,52.2,88.2,94.9,89.2,10.199999999999999,-12.3,37.9,12.6,10,24.3,-98.8,31.4,95.6,14.6,51.9,17,12,39.799999999999997,37.799999999999997,93.3,5.7,69.099999999999994,8.6,90.3,35.700000000000003,5.7,21.5,73,0.1,-85,49.8,57.3,-71.5,99,79.8,50.6,11.5,-6,2.2000000000000002,79.2,79.099999999999994,52.5,47.2,-5.8,18,55.3,-79.599999999999994,2.1,-94.8,-60.3]
[69.5,-8,72.8,48.4,28.1,-75.5,49.2,91,42.3,-55.4,15.5,96.3,80.599999999999994,51.6,38.799999999999997,53.2,58.2,76.7,96.1,56.5,31.4,29.8,-75.599999999999994,41.1,41.7,34.299999999999997,40.6,50.2,86.2,63.9,12.2,7.5,97.1,91.9,9.9,62.8,68.599999999999994,-6.8,42.7,35.6,26,-32.5,68.400000000000006,27.4,-8.8000000000000007,63,33,16.2,78,96.2,-82,-35.1,11.8,75.099999999999994,23.3,-91.8,54.5,-67.3,48.5,70.099999999999994,36.200000000000003,-89.1,24.8,31.7,-7,96.1,45.6,21.1,-91.7,89.8,-19.399999999999999,70.2,-69.3,-53.7,-93.8,15.9,81.3,55.5,-65.2,7.7,65,24.3,7.9,76.400000000000006,16.899999999999999,-89.1,47.7,-28.7,68.7,-88.4,-24.7,-25.7,79.400000000000006,-80.400000000000006,3.9,77.7,-82.4,-57.8,-67.2,53.3]
[-91.7,59.5,43.1,-78.599999999999994,2.1,13.9,50.2,-75.599999999999994,27.9,-33.5,67.5,71.2,4.5,27.4,42.8,15.6,-38.5,47.5,-30.1,7.6,41.8,12.8,50.2,9.1999999999999993,38.700000000000003,50.1,27.4,-80,-74.5,75.8,-84.1,13,-38.1,34.9,23,15.7,38.200000000000003,-24.6,-68.3,-17.399999999999999,-25.6,-21.6,-8,94.2,58.1,51.1,-7.1,40.5,43.7,-41.9,50.5,3.3,0,67.099999999999994,68.400000000000006,15.7,58.2,97.2,-25.7,6.7,-47.9,-96.7,98.6,72.8,-64.3,51,50.3,-47,-63.6,97.1,46.8,62.4,16.100000000000001,26.8,68.400000000000006,59.6,-52.8,86.9,36.799999999999997,-64.2,93.3,63.1,95,13.4,-24.6,5.5,-38.1,94.4,92.5,94.4,47.1,-5,40.6,-60.3,64.5,30.6,30.4,74.400000000000006,17.5,32.200000000000003]
[53.3,29.2,-81.099999999999994,-79.900000000000006,72.3,-23.6,-81.099999999999994,-34.1,-71.599999999999994,62,36.299999999999997,38.799999999999997,-28.7,51.1,32.6,-85.4,-56.7,78.400000000000006,42.5,25.4,85.9,72.2,71.8,31.6,71.400000000000006,22,35,45.6,23,27.4,82.9,17.5,42.1,51.3,18.8,-81.400000000000006,39.4,13.2,-24.7,14.2,38.9,-26.6,8.6999999999999993,67.900000000000006,56.5,51.2,77.400000000000006,17.899999999999999,49.7,80.8,-86,22.1,-52.7,75.2,-66.3,70.3,65.7,21.9,82.3,79.8,-32.5,42.8,91.9,95.5,5.3,-94.8,45.1,48.4,28.2,51.9,-66.2,47.3,45.1,40.1,-32.5,76.7,-19.3,19.8,51,-79.5,56.1,33,66,53.5,47.4,15.1,33.4,-74.599999999999994,-98.7,20.8,66.400000000000006,99.1,17.8,97,42.8,23.9,38.299999999999997,-35.1,47.7,23]
[92.2,9.6,60,-49.9,35.299999999999997,82.8,47.3,-26.7,61.7,-31.1,-67.3,99.4,81.5,15.9,-77.599999999999994,78.8,70.400000000000006,40.6,22.4,9.6,-26.7,97.2,69,88.5,78.8,31.7,65.400000000000006,32.200000000000003,93.9,-7.1,-75.900000000000006,11.4,24.8,30.4,44.4,79.8,9.6,86.6,-37.5,57.3,65.7,-27.6,16.8,88.6,7.2,50.1,98.9,22.1,98.3,11.5,34.799999999999997,-86.1,-2.8,96.6,76.7,4.7,82.7,12.9,18.2,69,24.2,-54.7,10.8,-77.900000000000006,29.1,90.1,41.6,63.8,65.400000000000006,98.1,-92.7,-36.1,68,45.6,26.8,62.4,55.3,67.400000000000006,-10.3,7.7,-83,38.200000000000003,41.3,-60.2,-48,89.9,-64.2,73,82.9,85.7,66.599999999999994,-7.4,4.3,87.7,1.6,52.1,-8.8000000000000007,-79.599999999999994,-10.3,-51.4]
[79.2,45.3,-83.4,13.7,33.299999999999997,8.1999999999999993,-98.7,15.4,53.6,57.3,-65.3,51.6,33.6,50.6,84.9,86.3,-4.8,23.4,93.2,-56.4,45.5,41.8,-52.7,95,1.7,4.3,95.6,91.9,-35.1,92.6,33.799999999999997,86.5,60.4,6.6,92.3,77.099999999999994,6.6,-66.3,40.1,-8,34.6,74.3,90.4,-54.4,-13.3,-86,16.100000000000001,28.1,18.100000000000001,48.2,-77.599999999999994,51.9,-19.399999999999999,45.4,-34.5,-75.900000000000006,-45.9,-43.9,91.9,-93.8,-6.4,16.899999999999999,-42,25.9,-80.099999999999994,23.3,-62.6,0.9,72.3,21.5,97.4,14.5,-5.0999999999999996,89.3,14.6,80.599999999999994,46.5,44.7,99,25.1,10.5,29,48.7,94.4,-51.8,50.9,-6.4,8.9,85.7,96.3,-32.5,90.2,64.900000000000006,15,14.6,-3,34.200000000000003,14.6,23,41.4]
[71.400000000000006,-53.7,18.8,42.4,70.3,23.1,32.799999999999997,-64.2,80.8,46.5,-9.1,-17.3,84.8,79.2,83.3,1.1000000000000001,48.3,48.5,72.2,42.8,6.5,50,0.9,70,79,-60.2,53.3,3.3,48.8,9.6,79.8,71.7,77.2,-51.4,37.200000000000003,-45,5.5,66.8,80.900000000000006,65.8,21.5,68.8,93.4,35.200000000000003,84.6,6.6,32.9,97.1,24.8,29.8,-89.1,17.100000000000001,-11.3,43.1,4.7,32.6,97.5,25.4,12.9,1.1000000000000001,89.3,22,-78.900000000000006,91.6,78.2,-8.4,89.5,17.600000000000001,13.2,34.299999999999997,51.1,-62.6,25.8,-89.1,-93.7,11.2,94.3,-11.3,85.2,82.2,35.6,19.7,66.7,-37.1,-23.6,35.200000000000003,33.9,64.099999999999994,-60.3,51.9,69.099999999999994,-71.599999999999994,64.8,-82.1,46.2,27.2,48.4,5.3,97.2,82.2]
[80.5,36.4,18.7,81.599999999999994,83.3,22.3,18.100000000000001,-3.8,67,2.9,98,21.1,12.2,67.900000000000006,62.9,-25.6,29.8,-26.7,-69.3,86.2,29.2,-89.1,33.200000000000003,-52.7,96,18,47.8,59.6,48.4,-52.4,95.1,81.900000000000006,-33.1,38.799999999999997,15.5,19.2,33.4,44.5,84.7,-94.7,73.3,18.600000000000001,8.3000000000000007,11.4,62.7,35.299999999999997,4.5999999999999996,26.4,-10.3,8.1999999999999993,66.400000000000006,95,89.9,-86.4,3.3,41.5,52.1,-89,17.600000000000001,61.4,16.600000000000001,96.6,19.2,85.9,65,-50.4,67.8,47.3,24.2,-36.5,90.9,10.5,87.8,51.5,89.6,-6.4,38,-99.7,-34.1,96.6,52.1,96,-66.3,3.9,89.2,-78.599999999999994,67.099999999999994,18,17.7,-68.2,-51.8,86.2,97.9,-82.4,-1.8,27.4,47.8,96.9,41.5,45.2]
[2.1,31.3,95.4,60,99.9,4.7,76.400000000000006,69.8,-82.4,-85.1,21.8,49.4,3.5,53.3,90.5,53.2,-64.2,8.3000000000000007,29.4,45.5,-72.5,16.7,27.9,-42,80.3,35.6,-65.3,33.200000000000003,-55.7,65,60.1,98.2,95.2,70.099999999999994,-58.4,74.8,95.6,-89.1,80.5,-7.4,97.2,58,97.9,12.1,51.6,25.4,12.7,64.099999999999994,-86,13.2,36.299999999999997,68.7,78.2,15,-98.7,50.5,-26.6,16.5,-46.9,96.9,17.2,81.7,64.400000000000006,23.2,7.9,60.4,80.5,-74.900000000000006,82.8,-3.4,15.6,51.5,-74.900000000000006,91.9,-2.8,68.099999999999994,48.4,26.1,93.5,84.2,77.8,58.1,17.2,19.899999999999999,49.2,79.099999999999994,17,52.6,-8.8000000000000007,74.400000000000006,-15.3,-57.4,90.5,-4,27,49.7,23.5,94,60,14]
[43.7,90.9,-59.8,8.6,71.3,-52.7,66.599999999999994,-85,31.6,27.1,-91.8,15.7,-21.6,59.5,57.1,96.4,-61.3,34.299999999999997,80.5,63.8,-78.5,65.400000000000006,95.9,-55.4,84.3,14.5,28.5,48.6,13,16.8,23.3,35.9,-22.6,45.4,54.9,80.8,17.100000000000001,74,-98.7,68.8,-22.6,98.2,34.200000000000003,58.3,36.299999999999997,-35.5,97.4,25.4,16.600000000000001,92.5,-2.8,10.199999999999999,59.1,20,16.8,-40,95.5,-58.4,42.4,74,-25.6,33.799999999999997,43.5,42.2,53.2,31.4,-39.1,-6,29.3,95.9,-19.3,34.4,86.3,99.9,32,52.2,-58.4,68.099999999999994,48.1,26.8,85.5,67.400000000000006,-55.4,88.2,-69.3,69.099999999999994,47.2,89.6,35.700000000000003,97,58.6,54.5,-26.6,-53.4,94.4,13.5,20.100000000000001,1.9,50.2,57.6]
[13,-82.1,-16.399999999999999,77,57.1,65.900000000000006,97.3,11.9,14,31.3,67.099999999999994,86.7,28.4,18.2,60.7,16.899999999999999,42.5,33,1.3,-69.2,17.2,69.099999999999994,34.299999999999997,-0.8,40.700000000000003,74.8,-32.1,-69.2,-93.8,55.1,45.5,-74.599999999999994,26.8,-89.4,64.900000000000006,34,9.9,58.6,16.899999999999999,91.1,85.2,-18.399999999999999,-21.6,16.2,62.8,-15.3,43.5,81.5,42.5,26.4,40.700000000000003,89.5,-70.599999999999994,23.1,98.5,97.4,35.9,57.6,79,65.599999999999994,-20.7,-83.1,27.5,18.5,-34.5,19.600000000000001,85.7,28.1,49.7,81.7,-68.3,28.9,66,-54.8,28.2,19.2,27.5,28.9,13.1,1.7,-72.5,21.3,-72.5,-62.2,23.8,61.9,39.6,51.1,16.100000000000001,-85.1,58.6,-20.6,7.9,44.6,-9.8000000000000007,35.6,28.2,40.1,35.700000000000003,-51.4]
[-63.2,87.5,-17.3,40.299999999999997,97.1,28.8,89.9,31.9,74.400000000000006,-28.6,54.6,90.5,50.6,29.8,68.099999999999994,9.5,3.3,67.7,84.9,75.8,31.8,-60.2,-5.8,19.7,32.9,79.8,98.4,4.9000000000000004,-30.1,-37.1,55,69.8,16.600000000000001,22.8,32.6,35.9,-49,32.200000000000003,-73.900000000000006,85.6,-0.4,20.2,65.099999999999994,52,76.3,-23.7,37.700000000000003,75.400000000000006,45.6,29.4,90.1,41.7,95,8.1999999999999993,-6.8,-52.7,29.8,14.9,-3,-77.599999999999994,28.5,-21.6,36.6,81.5,-80,83.6,80.8,33.799999999999997,25.4,-79.599999999999994,35.4,54.1,-80.400000000000006,55.6,37,-26.6,-97.8,-82,18.100000000000001,-79.5,34,-9.1,-1,66.8,32.799999999999997,83.8,-60.6,-31.1,-9.4,86.9,14.1,-42,13.9,0.7,58.5,-82.1,82.5,-49,85.9,49.1]
[88.5,38,69.099999999999994,28.2,72.7,21.4,37.299999999999997,18.2,41.2,41.4,10.6,-9,13.7,17.8,-54.7,24.2,34,-70.599999999999994,64.099999999999994,-79.900000000000006,-37.1,-28.7,66.5,40.299999999999997,87.7,-72.900000000000006,-77.5,-58.8,22,11.6,-1.4,-72.900000000000006,34.6,37.9,76.400000000000006,-37.1,75.099999999999994,5.9,92,36,-79.5,-9.8000000000000007,-30.5,-97.7,61,25.5,95,57.1,-7.1,46.1,-78.599999999999994,28.1,-22.7,46.3,34.4,-87,94.3,-7.1,28.9,76.3,54.9,-9.1,66,93.9,18.5,22.9,73.7,-52.8,-49.9,88.5,87.2,25.1,-42.9,62.9,29.9,13.7,53.5,32.700000000000003,-36.1,-7.8,18,58.5,93.4,-77.599999999999994,96,-35.5,27.5,-2,4.5,5.6,87.6,21,22.3,39.799999999999997,-64.2,63.9,51.6,66.5,-97.8,13.7]
[9.6999999999999993,64.900000000000006,94.3,-23.6,-48.9,-18.3,96.9,90,27.5,-7.8,19.100000000000001,96.2,60.8,-62.3,41.6,93.2,70.099999999999994,64.900000000000006,-95.7,68.900000000000006,24.4,50.2,65.7,75.2,-57.8,43.2,44.7,71.2,70.400000000000006,71,91.1,-72.599999999999994,9.3000000000000007,86.7,59.5,17.899999999999999,87.2,-52.7,32.700000000000003,-99.8,-27.6,62.4,43.3,46.3,11.6,27.1,35.4,81.5,20.5,71.400000000000006,19.899999999999999,21.2,95,0,-28.6,2.2999999999999998,19.600000000000001,83.5,-30.2,5.9,83.5,-9.1,95.2,40.6,15.7,-75.599999999999994,-61.2,12.2,-6,58.3,16.899999999999999,13.7,99.9,22.4,-59.7,31.4,-31.2,5.3,38.799999999999997,67,33.299999999999997,16.8,-24.7,39.700000000000003,6.3,34.200000000000003,5.5,41.4,-12.3,90.1,41.3,76.3,-85,-99.8,-79.5,-57.4,14.4,21.9,97,43.1]
[23.1,26.4,-51.4,-91.8,-55.8,95.2,23.8,22.2,0.3,40.799999999999997,-1.8,16,93.2,34.6,15.5,49.4,49.4,52.1,95,27.5,40.1,27.8,68.400000000000006,-74.900000000000006,93.1,15.1,90.9,66.7,-56.8,-36.5,50,50.2,88.6,58.3,64.099999999999994,50.6,6.7,54.1,-69.3,31.9,-2.4,69.8,-27.7,70.8,0.6,96.3,91.6,57.1,-60.2,85.2,76.3,84.3,23.8,26.5,14.2,-5,50.9,-76.599999999999994,99.2,97.4,14.5,84.9,84.7,73,18.5,47.2,28.8,37,17.899999999999999,12.1,51.3,5.5,20.399999999999999,0.1,-74.599999999999994,15.5,-20.7,87.3,15.8,-17.3,81.599999999999994,88.8,-88.1,-71.900000000000006,4.7,-50.4,99.9,78.400000000000006,66.8,-54.4,21.9,74.3,62.7,-25.6,33.9,37.700000000000003,36.299999999999997,56.5,95.4,90.9]
[0.7,77.2,-4.4000000000000004,37,40.200000000000003,7.6,2.1,12.9,7.2,28.8,3.9,40.200000000000003,23.2,-63.3,65.5,11.5,-74.599999999999994,52,71.400000000000006,-8.4,74.3,97.5,33.6,-68.3,21.4,20.3,-81.099999999999994,61.8,59.5,17.7,-1,71.400000000000006,2.7,85.5,14.1,95.4,2.6,43.1,99.4,13.8,99,36,49.8,91.9,40.4,-30.1,22.5,54.2,-71.5,87.3,44.3,5.3,17.8,37.700000000000003,86.7,85.7,18.8,0.1,81.3,18,6.7,63.8,-23.6,-54.7,-54.7,58.9,60,70.099999999999994,65.099999999999994,-15.3,25.5,30.4,-83.1,5.6,76.400000000000006,-40.9,93.2,2.2000000000000002,60.4,-6,99.5,16.899999999999999,32.700000000000003,70.099999999999994,-76.900000000000006,-73.599999999999994,60.1,34.299999999999997,-86,-10.3,49.7,1.9,48.4,95.4,32.200000000000003,96.3,41.3,39.6,-57.4,-20.6]
[-46.9,90.9,64.400000000000006,-76.5,7.6,6.3,-6.1,65.099999999999994,25.1,-79.599999999999994,22,-56.4,-91.7,36.6,35.4,67.900000000000006,15.1,43.1,-47,20.3,-5.8,18.7,66.8,0.5,8.6,35.200000000000003,-63.2,95,2.2999999999999998,2.2000000000000002,42.4,25.3,68.400000000000006,13.5,-53.8,49.8,40.4,28.2,14,58.9,37.200000000000003,-71.599999999999994,-96.7,30,-86.1,96.4,63.7,-44.9,95.5,57.6,41.2,65.900000000000006,90.5,93.5,13.1,32.799999999999997,56.3,12.9,13.4,74.099999999999994,-12.3,95.2,96.4,14.7,81.2,19.600000000000001,62,28.4,-65.3,19,44.5,69.5,49.4,49.7,-23.6,-39.5,76.7,26.9,-44,91.2,57.9,-8.1,39,-21.6,-76.599999999999994,54.3,55.2,8.1999999999999993,-21.6,68.099999999999994,82.6,57.1,94.9,-80.099999999999994,64,-22.6,-14.3,-7,47.1,-70.5]
[43.2,44.1,17.2,-16.399999999999999,97.6,78.400000000000006,8.6,-59.4,6.5,99.4,31.9,-78.599999999999994,13.5,22.1,16.7,2.2000000000000002,20.3,83.5,77,51.2,-51.8,93.4,25,21.9,89.7,91.2,6.5,22.8,19.100000000000001,-17.399999999999999,34.299999999999997,58.6,-47.9,88.2,91.4,29.1,93.5,58.9,25.5,14.5,39.299999999999997,68.099999999999994,-50.8,51.3,18.2,-92.7,33.4,-13.3,23.8,-4,12.8,45.3,46.8,89.3,60.7,73.3,64.900000000000006,-66.3,2.1,37.799999999999997,71.8,44.8,96.2,66,73.3,37.299999999999997,15.4,66.8,27,13.6,13,2.1,99.9,30.9,32.9,-38.1,31.3,41.6,58.1,3.1,54.3,82.2,23.2,-25.7,3.6,39.6,-25.7,63,60.1,-8.8000000000000007,71.099999999999994,65.900000000000006,11.2,-89.4,26.8,-5.8,97.6,-2.4,3.3,58.5]
[-90.7,-40.9,50.6,96.3,2.2999999999999998,-92.7,-52.8,50.5,2.2000000000000002,86.7,-16.3,-77.5,-13.3,68.5,76.2,-28.7,-6.1,47.4,52.9,37.700000000000003,-88.4,76.099999999999994,97.3,73.3,-32.1,45.2,68.8,87.8,-98.8,-21.7,91.3,-95.8,13.8,-32.5,11.7,88.2,21.1,53.3,49.1,25.9,27.4,11.4,-83.1,21.8,41.7,72.3,85.7,92.1,50.1,44.8,18.899999999999999,5.3,-11.3,33.6,15.7,64.099999999999994,35.799999999999997,21.2,69.5,58.1,57.6,82.6,25.1,46.1,37.799999999999997,83.7,14.2,-46.9,58.3,-44.9,-55.8,40.6,-13.3,14.9,-88,54.5,15,44.2,57.3,-24.6,-62.2,69.900000000000006,-59.8,12.2,22.4,5.5,35.4,67.099999999999994,1.3,-18.3,99.6,81.599999999999994,53.6,17.2,-61.6,17.600000000000001,-4,65.599999999999994,80.599999999999994,14.2]
[23.1,-57.7,79.400000000000006,86.7,-65.2,64.599999999999994,99.4,1.3,99.1,94.1,93.9,-97.7,44.7,-7.8,90.9,27.4,-98.7,30.9,-32.5,-78.5,85.9,76.8,29.4,92.6,91.5,59.1,3.6,0.1,28.5,66.5,45.3,98.3,39.799999999999997,-89,-80.400000000000006,67.8,-8.4,22.9,-74.599999999999994,0.2,-77.599999999999994,68.8,91.1,18,12.7,71.2,-19.399999999999999,65.400000000000006,15.8,40.200000000000003,-59.8,-57.4,-96.8,94.5,74.400000000000006,35.299999999999997,44.4,-31.5,70.8,2.2000000000000002,56.6,28.8,84.2,19.8,20.399999999999999,25.1,64.400000000000006,51.3,21.5,41.5,72.099999999999994,45.3,-1.4,73,-54.8,69.900000000000006,12.8,-31.1,62.4,95,-57.4,-68.2,79,-82,92.3,93.4,60.7,97.4,-5,-76.900000000000006,-64.3,-9,28.9,35.700000000000003,84.3,69.8,50.1,46.2,-74.900000000000006,25.4]
[7.9,25.5,-90.7,98.1,67.599999999999994,11.1,78.2,-61.3,81.900000000000006,77.8,54.9,62.5,12.4,48.4,84.2,88.3,81.5,5.7,64.5,81.7,21.3,77.400000000000006,67,82.9,13.8,11.2,0.3,56.1,47.7,66.900000000000006,74.3,31.7,-22.7,31.3,30.6,-47,33.4,99.5,37.9,23.4,19.7,29.4,22.8,86.9,80.3,22.9,89.3,0.9,-3.4,24.2,2.5,-83.4,25.4,7.3,66.8,-23.7,18.8,68.099999999999994,73.2,15.2,-91.7,78,-57.7,42.3,78.8,-9.8000000000000007,78.3,71.400000000000006,76,31.3,52.6,-34.5,81.900000000000006,-67.2,-95.8,92,61.7,12,3.5,98,79,34.299999999999997,48.2,-62.3,41.3,-11.3,-85.4,34.4,39.200000000000003,69.599999999999994,-79.5,31.8,53.6,21.5,-82.1,12.2,51,-66.3,-58.4,11]
[-69.2,31,50.6,10.1,-4.4000000000000004,1.3,53.1,62.7,65.599999999999994,96,-7.4,96.5,17.100000000000001,74,11.5,16.8,-5,-9,78,-21.7,43.3,10.1,90,27.2,48.3,49.7,99.2,-83,3.7,44.8,21.5,81.3,-51.4,81.599999999999994,32,-6,48.1,-80.099999999999994,76,46.1,48.8,6.7,99.1,31.3,50.5,-35.1,97.2,-1.4,-71.5,94.2,10.5,-8.4,-87.4,86.2,-90.8,-26.7,66.8,16.100000000000001,37.9,58.6,-87,13.4,64.900000000000006,-1.4,-70.599999999999994,79,74,-4.8,-83,11.5,8.5,64.099999999999994,98.9,11.1,-54.8,19.7,67,93.6,-8.8000000000000007,-31.5,57.2,42.7,40.299999999999997,51.6,47.8,-9,32.700000000000003,9.9,-80.400000000000006,-49,38.4,-58.7,75,52.1,14.5,-80.400000000000006,12.4,36.799999999999997,21.1,26.4]
[-44,18,-2.8,68.400000000000006,55.5,-98.8,89.6,47.4,93.2,81.3,8.5,27.4,-49.9,96.1,23.3,25.8,85.5,87.6,85.3,54,55.5,29.5,25.1,89.3,98.5,47.2,90.2,17.7,42.5,74,41.2,78,45.5,98.1,42.6,15.6,12.4,-81,44.3,41.6,79.7,60.1,21.4,34.4,16.600000000000001,52.1,19.8,90.3,-82.1,48.6,1.3,61.1,36,16,72.3,88.9,-91.8,63.1,77,11.1,17.2,3.1,27,26.4,-85.4,45.6,81.2,51,40.700000000000003,56.6,85.2,71.3,45.1,45.6,-85.4,70.8,-52.8,94.3,-51.8,-55.4,23.3,82.8,76.2,53.5,-17.399999999999999,5.5,8.9,51.2,66.8,25.2,26.1,55,-92.8,46.7,99.5,25.1,66.400000000000006,-80.400000000000006,41.3,-33.5]
[-81.400000000000006,-42,74.3,47.4,-90.8,19.2,31.8,91.9,-24.7,19.2,-25.6,43.7,-30.1,40.4,45.7,15.7,35.4,81.2,86.3,88.9,59.6,-29.7,46.2,40.299999999999997,10.7,-81.400000000000006,44.1,4.5,46.5,63.5,72.3,46.5,56.5,-88,-80.400000000000006,4.7,39.9,47.4,78.3,-42,71.8,-6.8,73.8,6.3,90.5,13.1,93.4,38.4,11.2,-76.599999999999994,25.5,59.5,72.2,-16.399999999999999,93.5,43.6,-99.7,39.700000000000003,80.7,-74.900000000000006,-57.4,0.1,23.4,25,57.1,92.6,-0.8,64.7,84.9,89.2,-73.599999999999994,-62.6,84.7,60,43.8,37.6,8.5,-57.8,-84.4,65.099999999999994,-2.4,-98.7,86.3,93.4,35.9,82.3,41.7,84.8,74.400000000000006,-29.7,61.5,99.4,38.700000000000003,-70.5,-74.900000000000006,53,98,20.2,18.5,26.9]
[10.4,17.5,8.3000000000000007,25.8,47.4,27.3,-4,53.3,58.5,-82.1,12.1,43.5,-57.4,45.5,-66.3,41.4,18.8,-29.6,75.2,16.7,51.1,79.400000000000006,65.7,-84.1,86.7,59.9,3.7,42.7,58.2,88.7,-82.4,34.700000000000003,99,76.099999999999994,89.6,55.1,30.4,29.4,-96.8,-7,-91.8,-66.2,25.3,67.599999999999994,85.7,-9,37.200000000000003,3.2,82.9,-9.8000000000000007,-57.8,1.6,66.900000000000006,27.4,64.599999999999994,70.3,-86,98.6,23.5,60,36.6,-73.5,-0.4,-79.5,94.3,53.1,-74.5,19.2,77.2,51.3,58.5,89.7,65.099999999999994,-4,21.4,-7,21.9,66,-26.7,45.5,67.900000000000006,20.399999999999999,18,8.6,83.7,-0.8,-43.9,6.6,80.8,-7.8,-80,-87.4,54.1,-78.900000000000006,84.8,-20.6,92.9,-27.7,4.3,98.2]
[-19.3,64.599999999999994,65.900000000000006,2.2999999999999998,-63.3,90.1,-1.4,55.9,-2.8,59.9,64.400000000000006,62.8,77.3,92.1,-52.8,83.2,54.9,-53.4,23.5,98.2,15.7,12.6,40.4,22.4,21.3,24.1,-85.4,22.4,-40.9,59.1,29.1,8.5,-22.6,1.1000000000000001,-75.599999999999994,10.199999999999999,87.6,23.2,-93.7,47.1,79,-49.9,48.6,94,-87.4,17.600000000000001,7.2,-74.5,64.599999999999994,5.3,58.6,42.8,-15.3,-55.8,44.1,9.3000000000000007,97,94.5,-58.4,-86.4,64.7,6.5,-0.8,28,85.5,-59.4,3.3,67.099999999999994,11.4,95.2,94.6,25,79.3,-86,-70.900000000000006,-41,73.2,25.5,-79.599999999999994,94.6,8.5,37,53.9,-65.2,33.799999999999997,81.5,58.1,44.8,79.400000000000006,48.5,26.5,9.1999999999999993,-62.3,54.2,-61.2,78.2,54.3,34.700000000000003,80.2,25.5]
[97.6,-26.7,-7.1,91,52.1,27.8,-5.8,75,28.4,80.7,22.4,-8,-1.4,-1.8,82.8,-67.3,72.3,64.900000000000006,-32.1,0.7,-67.3,76.8,-5.4,31.4,0.3,57.5,19.2,-7.8,94.6,45.2,-32.5,38.799999999999997,1.7,28.8,-33.1,30.4,44.7,-5.0999999999999996,54.1,89.5,-73.900000000000006,75,89.8,69.8,-89.4,26.8,-70.599999999999994,97.4,87.3,-8.4,27.1,-31.1,33.4,-84.4,-51.4,74.3,7.3,-84.1,23.8,3.3,25.2,42.2,44.1,20,97.9,-62.3,43.5,32.799999999999997,-34.5,88.7,-83.1,22.5,37.799999999999997,-7,-42,68.8,42.3,60.5,72.7,89.6,12.2,59,18,-48.9,74.8,1.9,-41,-99.7,-66.2,48.4,59.5,45.5,-67.3,9.5,97.1,63.9,26.3,-13.3,47.2,33.4]
[-94.7,88.6,95.1,94.1,-37.5,10,15,63,29.5,39.299999999999997,-41.9,-69.2,95.6,73.3,-39.1,72,28.9,-77.900000000000006,61.1,33.799999999999997,12.2,65.599999999999994,30,-86.1,66.5,32.4,-18.399999999999999,55.9,-84,3.7,64.900000000000006,-19.399999999999999,17.600000000000001,-51.7,11.2,52.6,51,14.6,53.9,-23.6,31.6,-29.7,47.5,79.8,79.2,17.100000000000001,91.5,81.900000000000006,76.7,11.6,30,-73.599999999999994,2.9,97.5,65.7,52.1,46.6,16.7,46.8,57.1,64,6.9,73.099999999999994,36,69.900000000000006,-88,66,88.6,23.8,90.4,-56.7,26.2,6.7,-85.4,78.3,16,97,65.8,-36.5,92.1,74.3,-24.7,-98.7,5.6,-94.7,24.9,3.7,40.700000000000003,-82,-58.8,51.9,54.1,-80.099999999999994,48.3,-72.900000000000006,49.5,62.7,49.6,75,27.9]
[25,69.8,-81,13.7,85.9,-7,-9.4,51.1,99.4,95.5,93.5,40.5,89.3,7.2,27.1,26.1,95,52.9,96.1,96,17.899999999999999,99,71.8,-25.7,15.8,32.6,50.2,-94.7,36.200000000000003,20.3,27.9,26.1,40.200000000000003,-83.1,70.099999999999994,-84,0.1,-89.4,59,27.5,31.8,93.9,48.7,32.6,-66.2,-34.5,-72.900000000000006,33.6,-75.599999999999994,74,25,2.7,44.4,2.9,92,-32.5,53.2,48.4,66.8,64,5.5,13,37.200000000000003,2.2000000000000002,21.9,63.7,73.2,11,-8,29.4,44.3,96,27.1,85.3,6.6,-58.7,-27.6,24.2,37.9,-62.3,73,37,44.7,-52.4,72.2,33.799999999999997,-2.8,-52.8,34.6,15.9,91.6,86.5,2.6,69.400000000000006,60.4,9.3000000000000007,-95.7,-86.1,-42,68.400000000000006]
[40.700000000000003,38,45.2,-17.399999999999999,-28.7,-17.399999999999999,-75.900000000000006,35.200000000000003,78.400000000000006,14,96.3,30.4,86.5,-70.900000000000006,98.5,-7.4,-0.8,61.8,59.9,-86.4,27.4,20.8,44.5,75.099999999999994,84.7,28.5,5.7,37.6,92.1,70.2,38.9,76.099999999999994,84.9,-34.1,87.8,20.8,52,24.1,78.8,-5.0999999999999996,33.200000000000003,-40.9,91.1,1.6,31,11.9,54.6,-82.1,63.5,-24.6,62.1,79.400000000000006,76.400000000000006,35.6,12.8,-85.4,55.3,99,14.9,99.2,47.3,72.099999999999994,54.1,82.7,-83.1,7.5,-6.1,-27.6,-50.7,44.5,17.8,57.2,95.2,-1,28,4.5,34.799999999999997,1.6,5.5,52.3,4.7,19.600000000000001,34.4,5.2,86.3,90.1,64.599999999999994,67,42.2,-54.8,65.900000000000006,-45.9,47.5,78.2,-67.2,-65.3,95.9,43.4,95.2,19.5]
[84.3,-40,-95.8,88.9,44.3,59.1,15.4,22.4,62,50,-35.1,17.600000000000001,-45.9,72.099999999999994,71.400000000000006,-18.3,75,47.7,34.700000000000003,37.4,20.5,-8.8000000000000007,40.1,44.3,-6,3.1,5.5,71.7,53.5,85.8,-55.7,37.200000000000003,67.900000000000006,0.1,20.8,57.2,81.599999999999994,84.6,22.2,54.6,52.1,44.3,-31.1,72.7,-37.1,5.3,30.6,73,61.7,2.2000000000000002,54.1,32.299999999999997,31.3,9.1999999999999993,-71.5,44.5,39.6,60.9,15.9,-60.3,-69.3,27.3,-5.4,60.5,1.1000000000000001,-72.5,-18.399999999999999,41.3,-43,85.5,52.3,-44,40.6,-5,67.599999999999994,12.1,2.9,47.4,75,60,-1.8,-87.1,87.2,68.7,15.5,-20.6,-5.4,36.4,-90.8,29,-54.7,21.8,67,-29.7,72.400000000000006,-63.6,28.5,-78.5,26.2,32.6]
[56.5,17.899999999999999,61.4,96.1,97,81.7,54,27.4,29.3,-55.8,69,5.9,-49.9,53.5,-96.7,-50.8,-8.4,30.9,92.6,97,98.5,71.2,-75.5,-5.0999999999999996,24.1,82.7,73.2,-7.8,11.1,-50.8,88.7,80.3,78.400000000000006,4.2,-42.9,-47.9,4.2,-19.3,96.3,48.4,95.6,1.1000000000000001,35.700000000000003,34.6,16.8,30,0.3,-80.099999999999994,87.2,51.6,72.7,44.4,24.4,-21.6,79.3,84.2,67.5,75.7,-77.900000000000006,-85.4,81.8,33.9,36.700000000000003,-46,-29.7,63.1,-38.1,16.899999999999999,-4,13.2,71.8,95.5,-10.3,-53.8,32.9,-89.4,15.4,-60.2,-23.6,17.600000000000001,24.3,-39.5,-83,47.7,45.4,81.900000000000006,88.2,20.100000000000001,90.2,32.6,40.799999999999997,46.2,35.9,-22.7,92.4,49.7,93.2,10.4,90.4,-7.4]
[90.4,85.6,39,67.099999999999994,32.6,55.9,49.3,24.1,21.8,30.7,-87.4,19.7,60.4,50.2,52.3,97.9,-53.7,84.6,37.299999999999997,-40.9,26,94.5,15.1,75.8,31.8,27.9,-74.900000000000006,-82.4,78.3,59,-58.8,86.9,7.6,72.8,-74.5,-84,8.9,68.900000000000006,89.7,21.9,45.5,21.2,-20.7,-15.3,28.1,61.9,-8.4,37,38.799999999999997,-99.8,-73.599999999999994,20.9,95,47.7,-24.7,-27.6,-31.2,87.8,43.5,66.599999999999994,37.799999999999997,1.3,-19.399999999999999,87.6,94.9,13.4,-26.7,3.9,55,-0.4,63.8,56.1,-62.6,-71.5,-78.599999999999994,15.2,-62.2,21.8,23.8,43.4,-10.3,48.1,43.1,24.5,22.1,-57.7,84.6,98,46.2,1.5,42.3,91.9,62.8,34.6,14.6,-92.8,-88,5.5,-92.7,-50.8]
[-90.7,-20.6,-5.4,-88.1,73.2,60,-3,27.9,73.400000000000006,72.2,80.2,68.099999999999994,85.6,-81.400000000000006,54.9,7.7,32,14,29.3,28.3,83.8,1.3,28.8,52.9,-25.6,38.299999999999997,45.5,1.2,93.4,88.6,-19.3,14.6,43.5,95.9,90,32.799999999999997,-9.1,94.5,13.5,94.2,19.7,38.700000000000003,94.3,-13.3,-67.3,5.6,98.9,80.599999999999994,43.6,5.6,71.8,92.4,81.2,59.3,65,22.3,4.2,-80.400000000000006,12.9,62,12.6,-16.3,-99.7,93.2,-55.4,72.8,13.9,93.2,-99.8,80.599999999999994,68.400000000000006,-14.3,-68.2,8.1999999999999993,25.9,-94.7,59.5,45.1,39.4,75,12.1,34,72.8,-78.5,-30.1,-98.8,63.4,-4.8,11.7,64.099999999999994,13.4,42.1,75.3,67,91.4,-4.0999999999999996,68.7,-57.7,67.5,-38.5]
[91.3,85.3,1.9,57.2,62.5,-38.1,88.7,35.799999999999997,-49.9,18.8,97,74,-59.8,-0.4,10.199999999999999,-81,56.3,32.799999999999997,-18.3,16.7,10.6,69.7,19.600000000000001,-1,16.2,31.7,46.4,52.1,-0.8,-66.2,-90.7,69.599999999999994,-90.7,70.3,8.1999999999999993,78.3,99.2,-6,45.6,84.8,-5,79.8,76.099999999999994,70.8,25.4,-70.5,-8,54.6,70.8,-25.6,-86.4,4.5,58.2,-74.5,37.700000000000003,85.6,64.400000000000006,-7,47.4,44.6,-77.599999999999994,69.8,87.8,14,81.5,-30.1,3.5,29.2,60.9,-40.9,85.5,-8.8000000000000007,48.3,27.4,-7,50.3,70.400000000000006,64.8,-66.2,0.3,27.2,60.8,21.5,11.5,84.5,7.7,83.7,22.2,79.8,65,-81,93.6,36.700000000000003,-4.4000000000000004,29,33.9,2.9,8.6999999999999993,12.1,80.900000000000006]
[-7.4,83.3,28.1,80.3,12.4,72.7,-57.4,82.9,51.5,52.2,-12.3,61.9,-76.5,-79.599999999999994,-48,30.4,34.9,34.9,59.2,-62.2,17.7,-7.4,29.8,-27.7,2.2999999999999998,25.2,-6.4,47.1,96.6,-12.3,53.9,71.7,44.6,92.3,9.5,31.6,77,-42.9,96.4,-61.2,11.1,36.9,-59.8,-44.9,96.3,28.4,52.3,-27.6,75.8,12.1,41.6,-59.4,55.6,10.5,62.9,96.1,84.3,88.5,10.199999999999999,41.2,46.3,-52.7,38.200000000000003,67.099999999999994,30.4,28.2,87.2,68.5,82.2,-94.8,8.1999999999999993,39,60,-39.5,81.8,36.700000000000003,88.5,-70.5,25.4,74.8,28.2,97.2,20.399999999999999,40.200000000000003,61.1,52.9,98.4,29.3,76.8,45.3,24.3,-15.3,-86.1,-50.4,-77.5,-72.599999999999994,-61.3,49.1,29.9,2.6]
[5.6,31.6,2.9,-70.5,51.2,-82.4,-47.9,64.599999999999994,-41.9,38.299999999999997,44.7,74.099999999999994,41.1,35,-80.400000000000006,-81.099999999999994,23.9,-85.4,17.100000000000001,84.9,86.7,41.4,65.8,40.799999999999997,22.3,-30.2,-41,-96.8,62.4,56.3,91.9,42.5,31.7,28,36.9,89.8,-9,49.6,-32.5,37.4,56.5,-57.4,83.3,10.4,-94.8,9.1999999999999993,46.1,33.700000000000003,30.4,94.9,30.6,84.3,40.4,-57.4,55.6,100,79.400000000000006,0.3,-31.5,-3.4,51.2,90.4,31,50.6,29.2,-33.1,21.4,-75.5,70.7,14.8,87.7,12.7,95.6,36.700000000000003,41.1,78.2,11.4,99.2,23.8,-69.3,-75.900000000000006,2.6,74.3,-55.8,23.5,-30.2,-89.4,-87,6.9,92.9,23.8,40.5,64.7,-88.4,-69.2,46.7,-1.4,38.6,85.8,98.2]
[80.3,-68.2,9.6,52,8.3000000000000007,58.1,70.3,87.9,66.599999999999994,43.8,65.900000000000006,77.7,86.8,-94.7,34.4,98.1,-92.7,91.3,70.099999999999994,3.9,89.6,-2,52.3,41.8,-30.2,57.3,19.8,95.1,-78.5,78.2,-16.3,-82.4,67.8,37,75.8,-2.4,-20.6,53,95.6,49.2,14.5,-60.3,-70.900000000000006,43.1,88.5,79.8,-65.2,-60.6,28.2,29.4,60.4,-44.9,17,59.2,76.400000000000006,-50.4,48.2,71.3,69.5,99.1,99,29.1,18,24.9,26.3,91.4,11.6,60.7,99.5,64,5.9,99.1,2.2999999999999998,-6.4,26.1,79.2,-32.5,33.9,13.2,-68.2,11,29.1,-51.8,23.1,-36.1,-60.2,85.2,24.9,-3.8,-6.4,92.2,43.1,73.099999999999994,11.9,-92.7,7.9,-53.4,96.9,37.6,-22.6]
[78.2,94.2,-62.6,-30.2,90.1,-73.5,-40.9,45.4,-33.1,-75.599999999999994,63.5,30.3,12.9,66.599999999999994,51,6.6,37,-63.2,63.1,73.7,60.1,30.4,21.2,-12.3,51.5,77.3,84.8,28.4,95.1,-59.4,34.799999999999997,29.4,1.6,16.8,-33.1,-86.1,38.799999999999997,14.1,37.9,-89.4,14.7,32.9,13.9,50.5,47.2,-2.8,22,-42.9,70.8,-46.9,96,-22.6,66.599999999999994,37.9,75.400000000000006,3.3,42.5,-48,-8.1,71.400000000000006,20.8,28.5,36.799999999999997,96.1,24.4,-77.900000000000006,44.3,39.700000000000003,74.8,33.799999999999997,80.7,-39.1,70.7,53.5,83.8,-64.2,-99.7,75.400000000000006,-30.2,-78.900000000000006,78,85.2,59.6,9.6999999999999993,-59.4,15,-84.1,80.7,76.400000000000006,-44.9,35.299999999999997,55.2,69.099999999999994,63.9,23.2,15.6,66.7,95.6,66.8,62.5]
[92.1,74.7,28.1,-68.2,46.8,94.4,3.7,62.9,97.9,13.4,51.9,69.099999999999994,86.8,-30.1,-18.3,15.2,91,26.5,34.200000000000003,23.2,-29.6,11.6,-63.2,-95.8,27.8,49.2,2.7,58.9,-61.2,93.9,95.1,47.4,-92.8,63.4,-94.8,37.9,37.200000000000003,-99.7,-8.4,81.7,35.4,18.8,-38.5,33.200000000000003,29.9,45.8,-99.8,54.1,-67.2,30.7,40.200000000000003,80.8,-21.6,36.9,17.8,-86.1,-81,86.6,62.9,93.6,-13.3,33.200000000000003,87.5,3.1,83.5,96,10.7,41.4,42.6,21.8,45.4,-77.599999999999994,81.7,-53.4,14.5,98.1,90.9,19.7,48.8,93.5,33.200000000000003,-49,45.3,98.4,-78.5,62,37.299999999999997,-16.399999999999999,99.9,14,33.299999999999997,12.9,68.400000000000006,98.1,93.9,-80.099999999999994,7.5,68.400000000000006,-2.8,57.1]
[15.2,36.4,50.9,41.5,19.2,79.099999999999994,9.5,93.3,21.4,64.099999999999994,-30.2,-39.1,8.6999999999999993,84.6,58.1,-34.5,-20.6,4.5999999999999996,-31.1,10.5,64.599999999999994,-54.4,24,66.7,40.5,34.799999999999997,10,9.9,80.5,80.8,-94.7,16.2,-10.3,-44.9,-51.8,53,46.6,-29.6,51.5,-17.399999999999999,19,38.200000000000003,-59.8,56.5,23.3,-43.9,47.1,-64.2,44.2,-88,70.2,19.899999999999999,-4.8,-62.3,63,30.4,96.4,78,16.7,33.700000000000003,91.9,39.9,97,73.8,35.799999999999997,49.8,92.6,59.1,65.7,97,35.4,8.6999999999999993,-80.099999999999994,56.3,9.6,7.5,12.5,34.200000000000003,28.9,33.799999999999997,79,26.4,89.6,12.4,93.5,47.3,92,68.5,76.3,94.6,-22.7,33.799999999999997,71.8,43.2,76,35.4,78.099999999999994,73.099999999999994,68.7,-73.599999999999994]
[60.7,82.8,26.3,7.2,-51.4,78.400000000000006,88.3,59.6,39.299999999999997,1.1000000000000001,50,10.5,55.3,57.3,11.7,87.6,21.5,41.8,4.2,49.4,-8.4,85.8,-87.1,34.4,42.1,40.1,36.700000000000003,41.3,-95.7,84.2,32.9,9.9,74.7,22,63.7,-19.3,50.9,78.3,-93.7,95.9,22.1,33.4,32.4,92.3,69.8,11.8,65.599999999999994,25.4,87.9,96.4,52.1,7.3,31.3,52.6,9.5,19.2,78.7,-74.599999999999994,65.400000000000006,-44,-21.6,81.3,-0.8,2.5,71.2,81.2,60.7,-65.3,57,2.9,61.1,97.6,-24.7,42.7,49.3,16.5,53.2,6.2,64.900000000000006,59,18.100000000000001,30.6,94.6,45.1,57.2,17.2,14.4,-30.5,11.6,24.4,28.8,48.7,81.7,37.299999999999997,40.1,-30.2,29.9,92.9,78.3,-59.4]
[49.4,47.3,65.599999999999994,56.3,64,-59.7,86.9,52.3,-53.7,60.9,60.4,89.9,8.6,57.5,39,17.8,-29.7,87.7,-5.0999999999999996,-7.4,-69.2,92.4,19.5,60.5,51.5,-18.399999999999999,59.1,-80.099999999999994,88.6,81.599999999999994,-92.8,12.8,-81.099999999999994,44.4,23.5,89.9,-65.2,-59.4,12.8,-73.599999999999994,77.8,17,67.7,27.9,98.9,-70.599999999999994,50.9,50.5,15.9,-93.8,18.5,74.099999999999994,49.5,2.7,2.9,66.5,-7,85.6,15.1,-54.7,-8,13.4,93.6,-2,-57.7,41.1,-67.3,36.6,59.2,50,70.2,30.3,29,-88.1,78.3,40.200000000000003,89.7,77.8,24.5,-65.3,47.6,-7.8,31.6,61.1,51.6,-30.5,41.3,68,96.1,80.7,88.9,-38.5,77.099999999999994,63.1,64.400000000000006,83.6,24,59.2,88.9,34.6]
[48.1,85.5,88.7,56.2,21.2,6.6,30.4,46.8,60.5,96.3,-31.2,10.9,26.2,8.6999999999999993,73.3,20,90.3,4.5,68.900000000000006,-3.8,84.9,74.400000000000006,18.2,24.8,50.1,22.9,10.6,2.5,77.099999999999994,49.3,62,24.3,22.4,99.6,-48.9,11.2,15.2,-96.7,96.4,54,82.6,-3,94.5,68.400000000000006,14.1,37.700000000000003,3.5,-88,-25.7,15.9,72.2,83.5,99.1,-3,42.2,3.2,82.9,29.5,61.8,78,0.3,-43.9,96.3,43.3,87.9,61.4,73,10.7,70.7,54.9,63.9,-6,40.1,25.4,-74.900000000000006,0.2,77.3,59.2,99.3,-78.900000000000006,97,-4.0999999999999996,-30.1,54.9,-54.8,23.1,23.8,-37.5,69,63.4,-85.1,65.400000000000006,17.8,28,50.3,41.8,48.2,96.3,93.2,35.4]
[-55.7,37.6,38.9,-40,-61.6,40.1,-59.4,25.3,7.2,5.9,4.3,3.1,3.3,61.5,56.6,64.8,23.4,48.1,29.2,82.6,22.4,23.5,55.1,1.3,9.6,-28.7,42.6,7.6,-81,45.7,67.599999999999994,99,40.200000000000003,-83.1,-31.2,-7.4,-85.4,46.5,86.6,46.7,21,41.2,67.900000000000006,55.1,-4.4000000000000004,97,-41.9,3.3,48.7,-76.5,-65.2,59.3,14.8,38,55.3,86.3,47.3,-14.3,-22.6,28.4,35.299999999999997,23.3,81.900000000000006,74.400000000000006,37.200000000000003,23.4,-27.7,83.2,-56.4,76.8,12.1,85.8,-40.9,79,-23.7,35.799999999999997,-53.4,96.4,86.2,44.1,12.6,90.5,25.4,-21.7,92.9,43.7,-55.7,74.8,31,-32.5,98.5,57.6,-16.399999999999999,90.3,-60.2,-30.5,-45.9,1.2,72.8,77.7]
[-79.900000000000006,87.8,31.8,87.9,69.7,12.8,34.4,54.2,7.2,47.8,-62.3,92.4,24.3,-74.599999999999994,10.1,88.2,17.8,6.5,8.6999999999999993,20.100000000000001,33.6,49.6,47.1,-15.3,88.9,43.8,73,-53.4,7.9,42.7,93.5,1.9,-5.4,17,-36.5,-29.7,44.3,-45.9,-93.7,-71.599999999999994,2.6,79.8,-71.900000000000006,66.5,31,35.299999999999997,82.8,23.4,81.599999999999994,-65.2,59.5,-95.8,87.8,81.7,82.7,61.4,77,11.8,11.8,6.6,1.2,85.6,78.7,87.2,15.8,95.3,10.8,60,-54.4,-30.2,10.5,38.6,7.2,40.4,-33.1,92.2,12,-82.1,86.8,-58.8,45.6,4.9000000000000004,17.7,-86.1,20.100000000000001,21,30,-50.8,28.1,43.3,67.900000000000006,33.9,-3.4,-35.1,64.7,53.5,44.1,84.6,-21.7,-64.3]
[61,81.900000000000006,-98.8,-28.6,39.299999999999997,66.900000000000006,62.8,39.4,90.4,40.6,4.3,39.6,-17.3,57.3,59.2,11.2,27.2,13.6,97.9,-44.9,66.900000000000006,92.1,16.7,46.7,93.4,93.3,-64.2,98.1,76.3,27.9,21.4,84.2,-64.3,79.7,-56.4,49.2,-88,2.9,46.4,-51.7,-69.3,-63.3,51,68.7,-82.4,79.2,91.5,36.6,-96.7,37.200000000000003,-75.900000000000006,51.3,76.8,39.299999999999997,40.700000000000003,34,-77.900000000000006,88.2,53.3,-46.9,56.1,97.9,84.6,87.2,-79.599999999999994,50,40.700000000000003,29.2,20.399999999999999,73,73.2,-49.9,34.299999999999997,30.8,68.400000000000006,-6.1,32.700000000000003,-46,39.9,57,-25.7,54.1,-28.6,-61.6,80.599999999999994,94.5,46.8,84.7,76.3,33.700000000000003,93.1,51.2,-7,41.3,88.3,23.4,26.3,77,59.9,76]
[27.2,61.9,52.3,2.2999999999999998,52.1,9.6,3.5,77,49.7,24.3,48.7,28.2,37.4,73,8.6,63,95.2,60.7,30,43.8,92.5,-40,3.2,80.7,13.1,49.8,38.700000000000003,-9.4,18.2,41.2,15.4,91.4,41.6,89.3,55.6,52.1,12.1,-28.6,39.299999999999997,-65.3,-12.3,69.8,93.2,74.3,92.2,11,23.5,11.1,36,22.8,52.6,60.9,84.5,13.7,73.2,29.3,49.2,98.2,94.3,55.3,90.3,78.099999999999994,-53.8,21,64,59.1,85.6,-43,70.3,9.6999999999999993,-78.900000000000006,44.8,47.2,68.599999999999994,90.9,-28.7,5.2,-85.1,67.5,-86.1,5.6,-87,-37.1,58.3,-50.7,-83.4,92.4,50.5,57.3,-55.4,6.3,86.2,57.6,-48.9,12.7,68.900000000000006,-19.399999999999999,51,78.2,50.3]
[5.9,-61.2,48.5,19.2,93,90.2,10.6,92.1,-2.4,-82,64.7,-32.1,0.6,25.9,88.5,5.2,92.4,-38.1,82.8,24.3,-52.4,65.900000000000006,56.6,31,-18.3,-62.6,93,16.899999999999999,40.299999999999997,89.8,17.600000000000001,35.200000000000003,-7.8,79.8,-50.7,85.6,95.5,67,5.5,-7.1,-26.6,17.600000000000001,-72.5,20.2,-81.099999999999994,21.8,67.099999999999994,25.5,28.5,19.899999999999999,28.1,-37.5,31.3,15.8,-41,14.4,50.1,62.1,96.6,53.2,-3.4,13.9,51,67.7,20,-9.4,52.2,-56.7,92,27.8,22.8,-44.9,95.5,65.099999999999994,17.100000000000001,-21.6,22.2,3.2,42.6,65.099999999999994,45.2,-1.8,89.7,78.7,90.1,19.5,-55.4,24.5,18,63.1,49.6,89.6,48.7,70.099999999999994,25.2,-6.8,64.7,82.2,10.5,43.3]
[87.6,41.3,95,16.100000000000001,91,27.3,-49.9,23.5,-26.7,67.599999999999994,18.100000000000001,11.6,66.5,6.9,44.7,62.5,23.3,59.1,11.8,52,-2.4,29.4,7.6,-55.8,13.2,79.400000000000006,-68.2,-83.1,0.6,62,6.9,-96.8,-70.5,64.400000000000006,86.9,60.9,49.5,47.6,37.299999999999997,78.400000000000006,62,22.9,31,26.3,-72.599999999999994,59.5,23.4,69,-75.599999999999994,97.6,57.1,23.5,-40,41.4,95.6,32.9,-60.2,43.5,-99.7,23.1,31,66.099999999999994,41.3,70.3,8.6,39.700000000000003,80.7,99.2,63.9,16.8,91,64.5,48.6,28.8,-86.1,74.2,-38.5,28.3,38.299999999999997,61.9,26.1,71.7,95,-15.3,-7.1,-41,21.9,40.299999999999997,10.5,-81.400000000000006,13.9,44.7,-25.7,91.9,-47.9,56.1,-4.8,31.3,-18.3,18.600000000000001]
[86.5,-90.7,70.3,59.1,60.1,46.8,-74.900000000000006,38.799999999999997,27.4,-7,-68.2,91.4,95.5,75,-48,80.599999999999994,1.2,64.599999999999994,-66.3,18.100000000000001,29.3,-5.4,97,31.4,96.6,81.5,-10.3,18.600000000000001,14.9,2.1,99.4,-5.4,95.1,3.5,66.7,26.5,-7.4,42.3,55.9,-73.5,72.8,95.5,-98.8,58,-9.1,73.8,48.1,55.6,83.5,-76.599999999999994,56,83.5,-60.3,39.4,7.5,46.8,35.799999999999997,19.600000000000001,-1.4,11,73.7,-79.900000000000006,82.3,20.9,82.8,-74.599999999999994,-25.7,-43,-61.3,17.100000000000001,13.6,80.7,97.3,9.3000000000000007,-66.2,82.8,91.4,17.7,60,20.3,-89,98.4,72.099999999999994,44.5,44.8,8.6,83.9,51,36.200000000000003,63.8,18.5,-45,45.6,48.5,-2.8,80.900000000000006,24.9,21.1,97.2,36]
[38.299999999999997,33.700000000000003,36.700000000000003,26,-1.4,22.5,56.2,-50.8,3.5,37.4,73,-77.599999999999994,38.9,37.799999999999997,54,92,83.9,60.9,64.900000000000006,-79.900000000000006,-75.900000000000006,80.3,6.9,1.9,-5.8,25.9,-64.2,35.9,-70.5,57,67.5,45.8,21.3,50.3,91.3,10.8,75.3,65.400000000000006,43.1,45.8,-6.4,-19.3,-65.2,13.6,-34.1,69.7,-3,71.7,29.4,-3.8,-43.9,-38.1,-55.7,92.4,69.099999999999994,-49.9,81.8,-84,80.8,6.9,-99.8,-98.7,24.8,89.7,52.2,18.7,61,15.5,60.8,95,96.2,-85,48.3,74.3,44.5,48.5,17.5,-98.8,56.5,-32.5,38.200000000000003,30.4,-32.5,63.8,61.9,64.5,2.6,68,10.199999999999999,18.7,57.9,66.599999999999994,62.4,58.3,35.700000000000003,11.8,75.400000000000006,49.4,-35.1,59.9]
[63.1,73.7,95.4,-88.4,94.5,89.7,-5.8,57.6,2.6,40.5,31.8,34.6,-66.3,-33.1,79.099999999999994,-99.7,19.600000000000001,99.1,40.200000000000003,93.2,34.299999999999997,43.7,-96.8,78.2,83.9,10.9,48.4,43.7,38.299999999999997,-3.8,65.400000000000006,-24.6,18.5,-93.7,85.5,99.3,4.5,-9.8000000000000007,72.8,-46,48.2,-38.1,0.9,-85.4,2.9,22.5,8.3000000000000007,82.6,85.9,10.4,49.4,-70.5,43.5,53.6,97,41.7,24.5,20.399999999999999,42.4,60.4,-84.4,44.8,73.8,96.4,-26.6,76.099999999999994,33.299999999999997,79.7,-2.8,96.9,14.2,9.5,16,59.3,91.3,86.2,-68.2,78.7,86.5,96.5,-40,32.6,-59.8,55.3,39.700000000000003,14.4,47.2,-56.4,55.3,87.6,17,90,39.299999999999997,-78.5,44.5,39.9,66,27.5,29.8,47.3]
[16.100000000000001,-43,86.9,56.1,43.8,88.2,67.099999999999994,61.1,78.8,37,81.8,50.3,98.5,-60.6,27,9.9,0,29,71.8,39.6,64.900000000000006,77.8,-43.9,-9.8000000000000007,25.9,59,10,91.6,71.2,-51.8,42.8,-57.8,7.5,66,29.9,13.4,17.2,36.799999999999997,69.8,82.2,38.9,83.8,-52.8,-41.9,-98.7,97,48.1,10.4,89.6,89.3,-24.7,34.799999999999997,71.099999999999994,52.6,-81,67.900000000000006,83.5,72.8,44.6,-77.5,36.799999999999997,25.8,6.7,14.2,57.5,41.6,-65.2,28,13.2,8.1999999999999993,37.6,49.8,52.9,-96.8,19.100000000000001,97.5,6.3,77.099999999999994,71.8,27.8,80.8,12.1,85.6,-31.1,-13.3,53.5,39.9,28.4,33,58.6,62,11.9,-67.2,26.9,-66.3,-70.900000000000006,-83.1,-29.7,-59.8,4.3]
[62.5,-67.2,-72.900000000000006,0.5,37.9,-56.7,-84.4,50,-89,60.1,18,15.5,-6.4,91.3,18.8,80.599999999999994,-3.4,32.799999999999997,-60.3,-0.8,86.2,47.7,74.7,49.7,41.5,76.099999999999994,47.1,28.3,90.1,13.7,-81,0.3,71.099999999999994,-20.6,56.1,65.5,82.8,67,96.9,1.1000000000000001,89.8,51,83.8,58.5,80.900000000000006,77.099999999999994,14.8,-31.1,18.899999999999999,58.3,47.2,-17.3,61.4,4.5,3.5,-84,72,70.3,26.4,80.2,98.1,-83.1,97.9,-74.900000000000006,16.600000000000001,38.299999999999997,36.6,-81.400000000000006,-64.3,94.4,-62.6,68.900000000000006,15.4,80.2,6.6,-58.8,50.2,90.1,-84.1,-2.8,29.4,87.9,9.3000000000000007,-72.599999999999994,10.5,-51.4,-81.400000000000006,73.099999999999994,78.8,69.099999999999994,87.7,18.5,35.700000000000003,78,-14.3,33.200000000000003,52.1,-73.5,57.1,10.6]
[13.2,30.7,18.899999999999999,63.9,39,-52.8,60.4,53.5,82.8,92.9,20,35.6,-65.3,91.3,17.899999999999999,57.2,76,76.8,-85.4,28.4,-45,11.8,7.5,17,44.7,66.7,12.7,79.099999999999994,21.4,-61.3,7.2,46.1,82.5,40.5,-2.8,8.6,8.3000000000000007,79.3,65.400000000000006,65.8,45.2,71.7,98.6,17,-12.3,3.5,3.3,39.799999999999997,-73.900000000000006,46.8,50,20,-95.7,8.9,34.799999999999997,96.6,-54.7,-71.5,-47.9,-97.8,-59.4,-61.6,3.3,14.9,9.9,63,9.6999999999999993,45.3,8.9,44.3,8.5,74.3,64.099999999999994,40.299999999999997,46.5,0.3,67.5,90.9,-51.4,97.6,-48.9,67.599999999999994,92.5,37.6,15.5,-6.8,58.1,-24.6,45.6,92.6,96.1,-89.1,46.5,83.8,95.9,70.7,26.2,29,-59.8,19.8]
[17.5,-53.7,45.4,46.7,55.9,2.9,75,72.8,22.2,-21.6,54.2,46.3,-51.4,8.5,39.9,91.1,46.6,92.5,80.2,76.3,23.3,93.9,-47,59.5,65.099999999999994,85.3,-52.4,51.1,38.200000000000003,12.6,88.6,86.2,-57.7,28,50,34,42.4,75.7,46.7,82.9,53.3,14.7,99.4,36.9,76.400000000000006,-65.2,-86.1,88.9,68.900000000000006,88.3,29.2,-39.5,-43,1.5,51,19.100000000000001,3.9,-76.599999999999994,46.7,64.5,49.3,19.5,95,8.3000000000000007,33.4,-34.1,86.8,32.200000000000003,90.4,-31.2,66.400000000000006,-57.7,21.4,-64.3,-31.5,-68.3,25.5,44.6,-4.8,75.7,45.4,23.2,58.1,-95.8,84.3,-31.2,90.3,57.2,-74.599999999999994,12.2,72.099999999999994,-62.6,-5.4,-59.4,-51.4,58.2,-9.1,-62.2,-50.4,-95.7]
[32.200000000000003,99.1,94.5,-74.599999999999994,43.8,2.9,62.5,28.8,37.200000000000003,37.6,-19.3,55.2,31,44.3,-49.9,65.099999999999994,27.8,-13.3,40.799999999999997,60,91,90,-15.3,15.7,26.1,32.700000000000003,65.900000000000006,-34.5,77,-26.6,79.099999999999994,-73.900000000000006,95.2,15.7,77.7,42.2,14.8,27,93.4,78.8,-7.8,42.6,99.5,55,37.799999999999997,99,65.8,59.1,29.1,44.7,48.6,33.200000000000003,25.1,76,54.6,92.4,99,-13.3,80.900000000000006,-34.5,57.2,-23.7,-40,17.899999999999999,92,19.100000000000001,54.9,29,19.100000000000001,-24.7,72.7,66,30,-24.6,-50.4,-52.7,62.4,-96.8,30.8,34.9,20.3,-36.5,37.9,86.9,5.3,89.3,64.099999999999994,-74.900000000000006,22,-8.4,96,72.400000000000006,70.400000000000006,30.9,60.1,-89.4,28.2,64.900000000000006,-3,-77.5]
[0.7,-92.7,16.100000000000001,64.900000000000006,-46,92.1,58.3,87.9,50.1,-36.1,-55.8,92.6,60.8,62.1,93.9,56.3,-81.099999999999994,12,-54.8,26.8,13,35.299999999999997,64.099999999999994,80.900000000000006,-28.6,6.3,-71.900000000000006,44.2,-61.2,25.4,35.799999999999997,32,13.5,49.3,5.7,-86.4,89.5,-44.9,-66.2,34.799999999999997,12.1,-12.3,35,0.7,-79.599999999999994,-9,75.3,-56.4,62.5,-23.7,84.8,84.7,78.8,-27.6,-60.3,43.8,97.6,16.2,-78.900000000000006,10.6,12.7,71.3,38.799999999999997,27.8,55.1,-59.7,-84.4,83.8,68.8,37.6,27,94.9,90.9,73,54.5,-62.2,53.1,11.5,77.8,2.1,29.5,25.4,-72.900000000000006,92.3,59,16.100000000000001,9.1999999999999993,7.2,97.3,-8.4,62.8,23.5,-3,41.6,-4.0999999999999996,85.3,0.3,92.3,63.9,36.200000000000003]
[5.5,63,48.3,-57.7,-76.599999999999994,89.9,87.3,6.7,4.7,52.5,91.4,-69.3,59.9,65.099999999999994,18.2,15.7,75.400000000000006,37.700000000000003,48.6,-86,-79.5,3.7,39.6,15.5,34.299999999999997,51.6,-67.2,-72.900000000000006,59.2,6.5,72.2,47.1,92.9,-45.9,17.600000000000001,5.7,-8.1,-62.3,84.2,10.7,66.400000000000006,46.1,-42.9,11.1,83.7,40.799999999999997,10.9,9.5,-11.3,-30.1,15.5,28.5,-40.9,55,73.2,55.6,69.599999999999994,-71.900000000000006,20.5,-15.3,88.6,61.1,-73.5,34.799999999999997,75.3,66.900000000000006,9.9,-2,-35.1,-75.599999999999994,7.9,75.2,51.2,93.6,-51.8,-51.7,18.899999999999999,21.1,85.3,56.2,-84.4,52.1,38.9,2.7,17.899999999999999,-58.8,33.299999999999997,49.5,-90.7,-45.9,87.9,-71.900000000000006,1.3,-60.6,44.4,7.7,11.4,60.8,-20.7,-4]
[75.400000000000006,82.7,47.2,48.2,80.3,21.2,-59.7,23.8,-15.3,68.8,97.5,36.799999999999997,6.7,-66.2,4.5,99.2,78.7,28.9,91.1,99.9,-95.8,89.5,-79.599999999999994,62.7,75.2,45.4,18.7,80.599999999999994,2.2000000000000002,44.4,58.5,89.6,41.7,4.9000000000000004,55.6,98,52.3,87.8,22,-9.8000000000000007,55.5,40.799999999999997,55.5,12.2,-74.599999999999994,3.7,71.400000000000006,18.8,80.3,16.600000000000001,51.2,-42,33.4,37.700000000000003,0.1,-43.9,53.2,-96.8,99.1,35.4,3.2,44.1,2.7,62.9,-98.7,57,-93.8,-18.399999999999999,26,11.6,3.2,45.1,41.8,85.2,87.5,99.4,64.099999999999994,100,-62.2,18.2,45.3,45.6,-50.8,-87.1,17.100000000000001,70.3,28.3,10.7,-15.3,58.1,59.9,42.2,95.4,51.9,35.799999999999997,46.4,99.5,30.8,82.9,70.2]
[24,44.6,28.1,-7.8,-87,63.7,7.6,41.4,69,22.2,35.4,85.3,19.7,0.9,23.1,-49,-38.1,72.2,-74.5,66.900000000000006,33.799999999999997,27.2,-31.2,23.5,-98.8,78.099999999999994,46.1,28.5,-97.7,58,89.3,63.9,-4.0999999999999996,3.9,-6.8,10.199999999999999,-82.4,20.399999999999999,-97.7,-86,-64.3,38.200000000000003,51.5,-24.6,92.4,61.5,37.6,-41.9,41.6,13,30.8,59.1,78.400000000000006,29.8,-61.6,97.4,35.6,17.2,99.9,45.6,-84.4,76.8,33.200000000000003,17.2,27.1,44.7,67.8,0.7,29.1,62.7,-58.4,-53.8,33.799999999999997,-7.1,-54.8,85.2,23.2,71,27.5,77.7,-91.7,10.6,18.7,64.099999999999994,29,92.2,24.2,42.7,65,-71.5,21.4,9.9,-4.8,-60.2,-21.6,43.5,36.4,85.3,15.9,67.900000000000006]
[19.899999999999999,0.1,-78.599999999999994,23.1,68.099999999999994,46.3,-90.8,66.099999999999994,-38.1,17.600000000000001,61.5,62.5,92.2,7.3,3.7,79.7,66.7,90.4,70.099999999999994,19,62.9,27.3,96.1,45.1,33.9,69.900000000000006,12.8,27.4,61.9,71.099999999999994,75.2,36.9,91,61.7,-58.7,2.5,16.899999999999999,22.3,48.6,-79.5,-96.7,24.4,24.1,14.7,29.2,4.5999999999999996,8.5,31.6,32.9,45.6,75.3,90.6,-4.8,33.799999999999997,53.2,38.799999999999997,38.9,47.1,78,71.3,12.6,91.3,20.5,40.5,40.299999999999997,26.9,38.200000000000003,26.3,8.1999999999999993,70.8,-39.5,-35.5,3.6,6.3,-47.9,17.600000000000001,-18.399999999999999,-74.599999999999994,25.9,66,-5.0999999999999996,75.7,-8.1,88.5,93.5,33.299999999999997,-71.599999999999994,91.6,44.2,-2,26.1,87.3,-71.900000000000006,72.7,-86.4,51.1,28.2,13,34,78.400000000000006]
[14.1,24,0.6,24.4,4.9000000000000004,49.1,29.4,6.6,99,-19.3,30.4,-7.8,76.8,2.9,-37.5,95.3,-91.8,-83,68.5,-24.6,29.4,5.6,83.8,48.6,81.599999999999994,37.6,-28.6,97.2,-6,69.7,-63.2,26,14.6,96.5,69.400000000000006,90.1,49.6,49.5,78.2,78.3,15.7,43.8,17.8,52.6,85.7,4.9000000000000004,88.3,80.5,-40,0.6,91,53.3,79,-2.8,86.3,32.299999999999997,72.3,71.3,96.6,60.1,36,86.9,93,42.8,-1.8,99.1,29.8,28.2,97.6,69,58.9,79.400000000000006,89.2,77.400000000000006,-33.5,23.5,5.5,60.7,92.2,-6.8,-59.8,-61.6,53,24.9,55.5,9.6,96,33.4,-91.8,-47.9,34.799999999999997,-0.8,-70.900000000000006,100,21.9,66.7,39.4,37.700000000000003,-80,83.8]
[19,55.3,-54.8,85.9,16.8,90.2,80.5,-92.7,65.099999999999994,40.5,-59.8,-58.4,53.1,39.4,41.3,9.3000000000000007,48.5,-29.6,80.8,52,60.5,5.5,66.8,37.4,-89,-47.9,57.1,27.5,15.8,-49.9,-32.5,20.100000000000001,13.4,24.2,57.9,-61.2,-81.400000000000006,87.7,35,31.3,28,-40,77.400000000000006,91.1,-78.900000000000006,80.2,46.8,34.6,79.3,37.200000000000003,-82,61.5,30.6,-75.599999999999994,-84.1,9.6999999999999993,74.3,3.6,61.4,40.799999999999997,45.3,96.1,94.2,1.5,69,16.899999999999999,12.1,10,88.5,15.7,3.5,95,-40.9,-21.7,34.9,-5.8,-11.3,34.9,-77.900000000000006,29,-13.3,-10.3,37.299999999999997,82.9,59.5,40.5,79.8,29.4,66.099999999999994,72.8,68,-38.5,-53.8,30.4,44.1,28.8,12.5,74.3,-62.6,46.4]

{"sheet":"b","index":3,"n_rows":100,"n_cols":12,"rows_kept":100,"cut":false,"hidden":false,"merged":[]}
[144523.29,135032.29,93755.8,142261.15,105619.99,134060.29,133544.93,126960.55,128495.28,161216.12,151306.59,151565.54999999999]
[144787.85999999999,119163.07,121941.86,144306.82999999999,92296.82,131063.61,131393.98000000001,151249.82,142180.78,145391.07,157067.87,135665.64000000001]
[150380.63,132918.18,158470.64000000001,173238.39,121928.75,168119.79,128176.44,124489.75,168856.1,189867.8,151572.03,168841.05]
[129305.59,111376.96000000001,127918.06,113907.52,96930.37,109162.01,99103.54,91872.320000000007,132799.76999999999,148508.10999999999,114736.52,187303.43]
[90768.38,78886.55,97013.96,70304.600000000006,60793.7,54582,104266.25,96256.44,100182.36,65303.21,90676.42,93000.62]
[117830.61,103061.86,114595.78,155761.97,66154.460000000006,120892.55,104800.97,96967.08,115327.13,131651.12,117848.51,134446.29]
[139164.70000000001,73734.679999999993,117500.02,124553.44,141978.10999999999,135568.01,89277.48,144355.72,128889.39,158291.92000000001,120975.98,122225.12]
[125378.91,107904.59,80445.06,111533.65,79753.62,140857.94,98791.32,95748.160000000003,117907.97,121175.7,111273.01,128747.27]
[136891.85,101344.96000000001,125297.69,146040.97,124107.58,150882.78,129894.9,165278.39999999999,160857.97,169056.48,161094.39999999999,134245.91]
[117446.04,99281.04,132347.65,136248.99,120932.88,127276.6,87427.87,115705.75,136732.23000000001,161298.41,114277.99,119921.07]
[152397.54,140821.35999999999,115247.01,150829.74,135602.85,145677.04999999999,133333.84,151065.89000000001,149592.98000000001,156556.85,128130.58,156020.82999999999]
[147160.57,132183,129308.22,133270.22,157450.45000000001,158623.69,136455.37,108758.7,148662.35,170011.41,159110.56,200262.06]
[143229.04999999999,101774.01,101588.31,105121.96,151172.84,95171.23,104738.18,140811.04,117765.66,121684.29,143388.98000000001,126242.3]
[163151.1,140374.78,99518.13,137766.9,136116.28,143674.17000000001,125506.21,124829.49,142936.57,145676.23000000001,144733.53,174806.77]
[174700.88,121709.81,153837.67000000001,165492.35,128210.39,158700.09,170960.34,137863.57,183498.72,174107.18,179780.75,162793.67000000001]
[137006.64000000001,131996.5,113864.19,138760.07,92054.399999999994,143587.42000000001,120333.57,145813.32999999999,125926.62,164405,153625.39000000001,147192.57999999999]
[131309.81,86330.4,148424.99,103973.27,115443.84,143562.15,110266.22,148172.43,128004.13,133130.5,143709.51999999999,131874.88]
[147271.42000000001,130433.04,167563,173221.89,96317.67,164045.64000000001,151069.51999999999,139273.51,161831.97,176228.64,132037.78,173591.16]
[152120.12,129684.55,184750.57,191903.05,141365.34,202838.04,113616.17,157226.72,181963.4,179562.06,139218.88,168440.7]
[120928.2,87397.55,99102.35,86256.01,117761.42,94264.68,75932.67,105390.55,98228.33,117822.11,95801.9,79151.539999999994]
[144546.85,97682.59,138514.82999999999,160242.6,129721.74,120953.97,98309.81,114813.2,102699.31,141656.88,134393.78,167246.67000000001]
[116519.65,100326.9,103855.58,121881.54,77638.789999999994,113526.23,101767.31,74211.8,112260.34,140534.04999999999,91497.76,119882.38]
[107658.58,72487.16,100395.43,111076.4,94790.79,64329.05,108476.79,79922.64,111749.05,118469.75,108968.12,128280.31]
[143659.32999999999,132429.65,146753.91,179737.04,154148.97,151647.14000000001,164585.98000000001,150731.01999999999,167193.15,163680.82,149231.54999999999,165343.69]
[109209.37,102556.81,91324.88,134819.85,82168.5,93557.88,98070.39,118068.86,94929.63,88751.42,108353.78,149871.72]
[157877.37,132940.51,159353.24,148581.18,133799.14000000001,162271.69,127464.14,141782.93,182097.29,188239.65,161399.01,177117.66]
[132436.1,152008.35999999999,169793.94,182288.78,155172.67000000001,154491,137490.26,144057.5,162719.23000000001,174684.06,135068.32,184156.88]
[89445.53,83394.899999999994,109555.52,112659.54,42801.94,117819.24,83421.34,125771.59,112570.74,118518.65,111996.58,90521.600000000006]
[140046.10999999999,92136.53,77558.78,84658.69,81151.520000000004,93936.92,101552.63,100700.96,94210.42,95252.34,147966.96,108630.68]
[96919.6,102746.88,98239.22,142743.32,137954.6,101537.52,86928.87,97302.75,90942.02,119186.62,125641.53,147261.59]
[126985.21,104003.54,106789.92,126793.26,127077.1,152246.31,120269.7,140036.19,129209.88,147308.51999999999,136295.98000000001,142459.76999999999]
[144311.20000000001,115370.92,135729.16,151200.21,141653.26999999999,125680.43,127605.02,152788,162395.45000000001,164143.54,161081.82999999999,175531.4]
[95916.54,59858.559999999998,85025.61,97928.11,84264.58,84678.44,96656.75,68593.11,110427.65,111792.88,91709.87,113272.15]
[98275,86905.35,98115.24,130976.63,112826.43,130216.73,81465.539999999994,122429.38,123450.21,138464.54,146349.85,108686.2]
[151949.63,98620.37,110625.84,186762.04,152336.85999999999,166624.34,137407.48000000001,141488.31,134151.29,164748.07,188991.44,163851.53]
[157140.1,103224.38,127501.87,130416.29,85975.23,128366.61,120352.14,89406.14,128020.92,138707.14000000001,152283.21,142307.56]
[82183,116960.58,110060.68,71285.83,62096.11,125947.79,81615.3,100062.19,116112.19,117013.29,96035.31,105789.18]
[89180.11,86017.32,84502.55,86656.49,70670.25,78861.63,65684.479999999996,76491.039999999994,83289.63,125260.46,70405.179999999993,88370.87]
[127458.88,91502.91,122999.5,92542.94,84100.47,103597.84,95060.81,109668.81,92998.86,145491.1,94733.38,113137.03]
[145969.84,134108.42000000001,98287.83,142975.56,149946.5,148099.32,117073.52,122009.62,147547.37,146665.35,175447.18,130387.81]
[105385.57,116339.7,84656.4,126860.89,65560.98,89097.67,101519.51,92591.23,110581.19,117547.2,110039.97,112795.22]
[146403.75,158941.64000000001,141585.89000000001,147392.9,155931.56,172613.96,127184.91,136824.4,152006.95000000001,174478.91,119677.47,153393.25]
[122441.79,121733.48,146141.26999999999,133088.57,97331.68,127990.42,128975.57,137193.76999999999,141684.16,136484.78,121889.41,170098.99]
[127185.44,142211.73000000001,156072.78,142526.28,107438.25,139458.32,153705.63,159406.19,166573.87,160976.6,149214.10999999999,174442.66]
[158667.46,120278.29,114954.71,156410.82999999999,120203.46,155524.78,146042.09,119695.73,141722.07,168786.29,161309.44,167123.06]
[84898.68,100378.02,69292.27,91981.53,107617.15,134691.47,119718.82,108016.28,121918.11,105397.92,104312.14,93082.14]
[123643.16,82115.820000000007,96866.58,123595.09,67267.820000000007,104697.53,92195.77,84163.02,125167.84,127663.24,96636.14,110782.62]
[46355.6,103064.16,116552.87,76902.83,98374.49,116820.93,88922.2,106376.02,89046.43,112371.15,83244.600000000006,78998.78]
[172952.64,117520.07,78547.38,123960.26,109601.81,112145.8,121023.06,122848.63,106611.67,109352.3,130583.2,140398.29]
[157775.01,121333.83,145545.04,141426.44,94624.89,142839.35999999999,136417.87,166963.91,123848.93,157507.28,151523.67000000001,176267.01]
[115941.57,94704.93,129368.97,131491.6,108199.03999999999,132168.79999999999,123537.21,104625.47,135716.18,152029.93,150961.72,161635.74]
[98796.52,61453.919999999998,95618.26,93119.5,65383.55,116899.59,73676.240000000005,97262.46,111952.41,122210.48,107803.52,109274.57]
[158310.95000000001,101769.61,140925.81,166313.28,147945.31,144016.04,135639.23000000001,116896.72,167659.79,182139.89,154484.95000000001,168640.26]
[95901.32,66074.039999999994,100030.92,88956.09,81298.59,101739.45,102305.35,98231.77,109171.74,102915.89,88113.06,121457.36]
[90998.91,147981.17000000001,139697.44,124466.37,158282.85999999999,123626.54,98792.46,122455.91,121384.62,153515.68,102887.89,133113.01999999999]
[124507.34,149045.44,133634.51999999999,152597.38,150744.67000000001,161168.72,127782.31,131450.97,118420.21,143563.41,127669.1,161872.48000000001]
[121952.74,120315.57,91169.7,107816.13,70297.37,101080.67,120101.68,118327.08,105475.93,125072.46,128157.52,121597.54]
[174684.14,148849.89000000001,163817.57999999999,169721.27,151984.04999999999,169974.95,168008.4,153698.67000000001,166257.09,177578.61,196965.07,188015.2]
[124808.38,73983.97,103984.67,116780.76,134846.04,103307.13,93417.79,105524.13,130485.41,110459.48,118967.58,129872.94]
[108494.7,118195.19,113015.08,95061.69,64828.11,113225.76,75283.16,86651.07,81660.86,111630.16,89040.09,95418.72]
[121607.21,62149.3,85177.85,114655.07,117313.3,105090.76,81327.31,139485.20000000001,73552.87,121245.11,116956.09,110666.94]
[118413.26,106914.45,108586.25,105697.55,86148.24,115555.12,84934.080000000002,99728.69,83010.740000000005,93255.66,96448.21,112365.07]
[106841.87,83179.05,90268.58,92949.27,129269.04,118082.45,99982.36,108008.99,93829.42,140933.87,136307.94,125061.67]
[150431.37,98748.97,111812.12,111429.35,106169.02,171398.97,112410.65,103799.03999999999,100638.36,130730.56,114738.42,129871.26]
[143862.57999999999,130222.81,131452.60999999999,129172.96,109494.52,143542.54,139906.59,172865.24,143536.01,174466.01,161785.72,131935.23000000001]
[118375.54,94462.53,89467.24,110084.46,67596.740000000005,97625.05,83026.289999999994,101172.12,97530.25,120806.03,87136.48,120805.49]
[129165.12,73394.759999999995,117832.47,139227.44,121582.82,116228.26,85152.73,91761.57,143169.18,143367.17000000001,106794.75,121091.43]
[70387.12,93641.93,68917.03,61824.63,103508.74,77990.58,71796.850000000006,68147.350000000006,81381.22,117241.93,91639.85,125955.92]
[145881.72,117750.23,122504.02,140335.29,81681.42,134742.20000000001,96532.51,153573.67000000001,129885.34,147693.17000000001,139985.28,135537.39000000001]
[102737.04,122550.22,133939.64000000001,161710.39000000001,87403.77,110133.55,137426.99,98082.83,100482.95,126416.2,102414.04,155016.10999999999]
[108912.06,89978.16,98838.42,116205.04,129640.58,111705.24,134932.29999999999,98770.96,110998.59,135305.42000000001,130502.69,136318.47]
[125532.42,75263.009999999995,113439.62,107213.03,83146.27,129385.79,70535.72,101442.04,89244.04,88406.33,89668.98,88018.23]
[130616.61,109597.04,93373.96,105330.64,111706.37,126390.31,108101.84,134196.49,136224.47,130513.02,118529.48,130038.64]
[120202.12,107396.14,107091.2,105316.14,91961.4,109773.46,103025.57,99883.07,94922.65,123541.82,117420.88,130610.86]
[130512.78,95883.29,98564.36,126625.25,83550.89,93839.93,110879.59,141751.24,126094.43,109499.56,120644.09,158198.89000000001]
[135761.35999999999,136236.99,145963.79,161920.23000000001,115600.39,136605.53,146643.37,136233.99,138934.15,170306,150510.78,180748.84]
[148088.79,144262.98000000001,142579.12,191039.03,135996.98000000001,162227.48000000001,128749.95,156019.17000000001,163271.88,190577.65,166205.35,155027.14000000001]
[151391.69,133843.54999999999,109205.46,151834.57,121547.59,133460.64000000001,122693.11,107940.97,138677.20000000001,152217.62,155758.63,145766.75]
[162074.21,162811.71,158622.22,191568.24,154189.19,186385.97,181320.07,164362.67000000001,163916.6,168499.75,177511.52,213761.07]
[118541.15,79610.34,119709.85,100006.66,83090.759999999995,71502.8,82271.679999999993,115554.1,116909.1,131245.57999999999,102868.18,96734.68]
[94021.07,80781.02,64098.13,127363.73,96683.520000000004,124655.34,77379.149999999994,86127.75,101992.82,124058.08,104797.05,108865.31]
[158545.03,126860.87,137353.47,137525.29,128187.52,125409.27,150507.48000000001,142521.62,162641.4,167323.93,176434.52,196239.22]
[168724.25,154774.25,112716.26,142103.39000000001,131645.65,188140.62,158984.88,122173.36,182440.39,161746.70000000001,179788.62,173115.28]
[154461.22,132341.42000000001,158801.34,125219.23,127572.42,116182.25,108020.1,125329.5,134646.92000000001,153833.39000000001,118588.6,161753.72]
[129280.07,113720.47,126756.31,140911.18,118998.77,161615.54999999999,98010.09,144041.39000000001,128174.32,114352.29,143957.35999999999,136070.23000000001]
[135344.12,142709.42000000001,112346.8,133672.48000000001,100732.11,160073.75,106089.74,156293.44,127107.98,173021.58,131665.51999999999,136955.56]
[82742.97,111012.6,110659.99,95962.37,117365.9,90471.27,104235.84,100878.19,128024.52,145326.66,82489.61,106639.08]
[147021.71,112868.98,150329.63,155928.75,99016.960000000006,139760.38,104954.98,108828.48,160083.91,140935.49,120394.54,158296.28]
[141627.38,114453.09,109926.64,134023.32999999999,117326.78,135961.79999999999,97728.960000000006,111229.05,118322.88,151953.78,120633.28,144419.75]
[120502.25,119793.34,106675.33,80423.69,104245.62,133799.01,105080.87,106274.06,83582.399999999994,144278.48000000001,120835.51,106383.4]
[111959.17,117944.79,123666.25,140295.25,105461.77,108465.27,101069.38,127029.45,129940.26,131581,130474.29,115819.74]
[137694.39000000001,106132.19,108546.57,97237.05,128531.02,137421.92000000001,119721.38,98442.22,115053.3,124459.64,141264.48000000001,113698.38]
[149051.48000000001,128760.93,129462.67,191031.45,121092.52,180402.99,118526.44,122459.7,179854.41,170625.41,156030.16,156833.10999999999]
[127735.03,76960.12,60864.99,117554.14,82198.679999999993,94397.81,97961.38,112969,117916.13,110443.3,109054.1,136418.07999999999]
[59850.43,76867.850000000006,63592.67,51961.81,70830.009999999995,107620.42,81667.98,87227.49,106729.52,94861.73,92605.74,73828.88]
[155719.25,120030.92,155426.82999999999,151349.32999999999,120318.93,158869.54999999999,122766.93,159966.79999999999,162936.03,186481.64,158185.76,142063.04000000001]
[92611.41,69300.36,88799.39,105933.75,61747.27,58231.14,54286.94,79896.789999999994,91696.95,83844.45,81030.960000000006,92625.45]
[165308.65,120105.46,108809.22,131967.22,133345.60000000001,124033.57,133215.29,141637.16,118834.45,129077.31,165102.73000000001,147768.54]
[190487.53,164460.68,162656.14000000001,189743.13,151628.04,188917.02,163031.23000000001,191127.82,188027.71,203029.2,196930.79,195886.19]
[121916.67,74266.820000000007,113036.02,118107.53,113823.66,104046.25,74025.23,83757.63,115923.42,133535.16,104098.13,112159.01]

{"sheet":"x","index":4,"n_rows":100,"n_cols":12,"rows_kept":100,"cut":false,"hidden":false,"merged":[]}
[32.4,80.099999999999994,63.2,84.1,92.4,63.7,14.7,39.9,48.9,26.4,80,65.2]
[5.0999999999999996,16,58.5,77.8,34.6,52,84.5,56.9,50.7,58.9,96.4,75.400000000000006]
[64.8,92.2,85.5,73.3,85.5,34.799999999999997,-18.899999999999999,14.4,53.3,76.8,68.099999999999994,34.200000000000003]
[4,25.6,74.2,63.7,87.7,86.5,84,25,68.7,74.599999999999994,50,95]
[39.9,83.2,9.9,23.7,58.4,95.9,23.2,64.400000000000006,80.900000000000006,26.6,-10.1,-16.8]
[60.1,34.200000000000003,44.2,39.1,71,3.2,13.7,88.2,71.2,78.7,21.8,99.1]
[-46.1,96.9,1.9,88,85.1,43.4,86.5,28.4,64.5,36.799999999999997,42.9,76.400000000000006]
[67.099999999999994,79.2,3.4,43.9,3.6,15.9,30.4,68.099999999999994,9.9,6.5,89.2,57]
[61.3,72.099999999999994,67.3,39.799999999999997,96.1,98.8,19.7,90.6,74.400000000000006,27.4,51.8,62.9]
[9.6,18.5,8.8000000000000007,85.8,70.3,21.4,24.5,63.1,8.8000000000000007,80.3,32.4,67.099999999999994]
[61.3,81.099999999999994,85.3,9.1,63.9,69.099999999999994,11.7,73.5,67.599999999999994,70.3,19.899999999999999,30.7]
[94,46.9,19.399999999999999,58.2,-71.400000000000006,80.5,77.8,70.2,82,59.6,67.599999999999994,74.3]
[66.900000000000006,51.3,9.6,20.8,15.6,37.4,0.4,78.5,11,63.9,79.900000000000006,81.599999999999994]
[31.8,97.4,57.7,5,11.2,87.9,6.2,47.6,53.8,95.6,88.1,70.400000000000006]
[94.9,54.1,95.7,7.3,8.5,69.099999999999994,72.7,53.8,61,42.5,40.4,86.7]
[66.3,75.3,-86.2,56.5,97.5,85.7,22.5,22.8,34.799999999999997,36.5,99.9,21.4]
[53.3,74.900000000000006,30.6,31,13,46.6,98.3,50.8,61,7.9,70,16.2]
[16.899999999999999,19,8.8000000000000007,22.8,64.5,67.900000000000006,75.400000000000006,29.6,33.700000000000003,42.4,21.7,72.2]
[76,0.4,85.4,33.299999999999997,59.2,99.6,36.299999999999997,37.4,39.299999999999997,83,83.4,86.5]
[98.6,-94.6,74.900000000000006,91.2,0.7,8.9,34.1,25.3,77.8,24.2,18.2,88.2]
[33.799999999999997,85.2,11.6,73.8,91.4,60.5,41.8,15.4,3.7,52.4,30.4,87.4]
[66.400000000000006,5.0999999999999996,51.3,33.799999999999997,92.9,13.1,1.1000000000000001,4.8,12.7,56,7.5,68.5]
[88.6,60.6,9.6999999999999993,50.2,69.5,12.7,80.900000000000006,85.2,15.3,47.7,75.2,82.6]
[90.6,23.6,30.5,80.099999999999994,84.3,47.4,82.9,31.9,98.6,54.9,68.7,34]
[23.2,64.7,26.7,28.1,17.899999999999999,67.900000000000006,75.599999999999994,23.9,40.9,70.2,96.1,77.400000000000006]
[88.4,57.2,14.3,4.5999999999999996,13,48.8,67.8,20.399999999999999,21.5,78.900000000000006,57,33.299999999999997]
[99.2,73.8,53.3,61.3,69.099999999999994,-32.200000000000003,8.1999999999999993,38.1,15.3,31.6,18.8,32.1]
[17.899999999999999,59.2,20.5,60.8,-42.1,-90.1,95.2,89.9,37.4,63.3,51.5,99.7]
[98.4,98,36.700000000000003,14,91.2,94.7,80.599999999999994,64.900000000000006,54.4,24.4,94.8,99.5]
[87.2,78.5,65.900000000000006,14.2,80.8,40.700000000000003,46.6,82.4,86,61.6,87.9,1.1000000000000001]
[33.6,21,58.9,0.1,62.3,65,29.3,78.900000000000006,70.099999999999994,51.4,59.1,65.7]
[80.599999999999994,40.6,87.4,3.8,48.9,-76.7,79.599999999999994,7.3,61.1,82.3,59.1,32.200000000000003]
[12.4,9.6,72.400000000000006,34.299999999999997,31,69.7,6.3,70.900000000000006,8,52.1,1.1000000000000001,-82.6]
[76.900000000000006,22.9,77.099999999999994,47.4,30.6,7.1,17.8,61.4,66.2,32,81.5,69.900000000000006]
[89.9,55.7,38.799999999999997,65.5,-57.5,88.6,35,3.2,85.5,38.200000000000003,70.599999999999994,-20.3]
[10.3,20.3,96.8,62.5,3.2,67,86.4,29.3,88.4,41.4,92.4,70.2]
[16,12.8,27,1,93.5,14.6,46.2,93.2,39.4,38.200000000000003,4.9000000000000004,94.2]
[40.5,65,93.3,58.2,94,22.7,-97.5,30,33.799999999999997,98.9,38,4.5]
[16.600000000000001,79.400000000000006,55.2,65.099999999999994,9.1,33.299999999999997,68,4,98,46.6,93.8,75.400000000000006]
[16,11.4,48.4,91.4,12.3,35.200000000000003,94.4,98.5,84.5,32,29.8,49.4]
[53.9,12.7,18.100000000000001,45.9,99.5,62.9,34.5,81.7,59,71,21.5,31.3]
[51.2,94.6,45.7,93.4,34.9,87.5,64.400000000000006,19.3,56.3,99.6,57.1,35.5]
[54.6,86,29.5,76.2,47.7,59.8,30.9,72.5,56.4,26.5,98.1,19.899999999999999]
[74.400000000000006,37.4,15,63.1,24.5,49.5,31.3,55.5,50.3,87.4,77.599999999999994,21.1]
[51,70.7,60.3,45.8,86.7,18.8,66.7,66.7,39.1,50.8,41.2,39.200000000000003]
[31.5,14.2,89.3,-50.8,40.6,70,-15.3,74.099999999999994,93.9,53.6,2.1,22.3]
[46.2,82.8,70.400000000000006,76.2,48.4,93.6,93.5,76.400000000000006,82.6,91.8,81.8,91.4]
[98.3,70.3,42.7,59.6,87.8,93.5,71.900000000000006,48.4,56.1,47.7,34.799999999999997,93.7]
[8.5,90.7,-23.9,70,2.8,90.5,8.5,21.8,25.4,77.599999999999994,14.7,7.6]
[99.5,66.599999999999994,84.2,79.8,72.900000000000006,88.2,92.7,15.9,8.6,26.3,82.2,63.5]
[95.8,20.5,23.2,99.1,18.899999999999999,87,15.2,94.9,11.6,1.8,98.9,92.9]
[74.2,17.5,35.1,91.7,10.5,35.1,98.7,86,90,35.799999999999997,91.2,34.4]
[11.1,18.5,54.5,70.599999999999994,17.100000000000001,70.7,25.1,18,26.6,98.9,14.2,73.8]
[28.3,41.1,22.7,58.6,33.4,10.199999999999999,34.299999999999997,43.6,97.5,93.6,84.3,0.5]
[12.1,16.3,49.6,62.2,57.9,98,60.5,57,57.8,45.9,20.399999999999999,33.299999999999997]
[68,15.4,85.1,90.3,47.5,14.9,19.3,28.6,80,53.7,51.2,92.9]
[61.7,30.9,33.1,69.599999999999994,38.799999999999997,66.5,86,1.7,73,99.9,60.5,20.6]
[68.8,49.1,33,32.9,19.2,67.2,25.1,-4.7,4.5999999999999996,37,47.2,58.2]
[31.7,23.4,64.8,23.2,14.4,83.5,18.3,5.6,43.9,60.8,47.6,77.099999999999994]
[4.4000000000000004,54.3,64.8,33.4,35.700000000000003,58.5,62.6,67.099999999999994,20.7,56.4,88.7,83.8]
[82.2,6.6,82.3,27.2,21.8,57.7,74.599999999999994,72.7,99.7,99.1,6.3,63.3]
[79.400000000000006,9.1999999999999993,4.5999999999999996,88.9,30.9,86.6,0.3,38.299999999999997,77.099999999999994,19.100000000000001,91.6,41.5]
[99.2,-5.6,92.3,47.1,39.1,37.6,16.5,40.4,70.5,70.900000000000006,61.6,29.3]
[29.1,27.1,29.7,24.5,58.3,7.6,33,44,42.5,56.4,28.1,78.599999999999994]
[99.1,44.2,67.8,35.6,80.7,99.2,79.8,18.8,17.600000000000001,-2.2999999999999998,41.4,60.1]
[77.7,19.600000000000001,11.8,58.1,39.9,34.799999999999997,42.6,34.1,98.5,10,83.8,9.6999999999999993]
[17.5,68.900000000000006,78.8,66.599999999999994,75.5,84.8,81.900000000000006,27.6,62.7,93.9,11.4,93.3]
[88.4,3.5,73.3,89,38.4,52.8,6.4,6.9,80.7,5.7,83.9,40.200000000000003]
[75.3,80.900000000000006,14.6,11.4,96.1,69.3,92.6,15.2,74.5,30.4,79,60.3]
[90.3,71.2,43.9,18.3,50.7,23.5,60.3,99.4,66.5,66.8,16.899999999999999,71.7]
[61.1,60.8,78.099999999999994,82.7,45.6,17.399999999999999,16.5,89,10.5,91.7,10.4,62.6]
[14.7,56.8,71.099999999999994,32.5,59.2,90.4,30.2,47.9,68.8,88.7,52.4,92.9]
[83,51.6,11.9,87.4,54,95,87.9,61.7,55.4,67.099999999999994,51.8,31.7]
[37.299999999999997,64.8,65.7,28.6,6.1,89.9,22.1,70.400000000000006,82.1,56.2,8,80.5]
[69.3,-30.1,26.7,6.5,78.8,9.5,58,3,54.9,78.400000000000006,95.9,10]
[14.5,90.8,43,90.8,18.7,12.9,30.9,99.3,10.3,46.3,19.399999999999999,35.799999999999997]
[2,36.6,5.9,53,59.3,98.4,33.4,58.5,21.5,56.9,22.6,78.900000000000006]
[80.599999999999994,60.8,73.099999999999994,10.4,16.899999999999999,77.8,50,59.4,9.1,42.5,40.299999999999997,48]
[12.6,92,4.5,95.5,18.399999999999999,60.2,73,24.1,71.900000000000006,48.9,32,88.5]
[52.9,40.700000000000003,51.5,64.400000000000006,27.3,34,16.399999999999999,68.5,39.299999999999997,63.7,60.1,54.3]
[50.9,69.099999999999994,68,60.1,27.5,80.3,52.5,40.9,10.5,95.8,15.6,40.6]
[6.6,37.6,62.6,62.8,11.9,23,77.099999999999994,51.2,19.399999999999999,40.4,76.900000000000006,37.1]
[9.6999999999999993,39.6,95.6,93.9,50.3,83.8,0.2,56,7.5,82.2,92.2,31.3]
[58.8,2.7,8.9,61.4,-6.9,-26.3,5.2,-6.2,89.8,68,14.1,55.7]
[58.9,50.2,87.7,58,8.9,13.2,67.3,70.099999999999994,6.6,49.8,15.7,7]
[51.5,9.6,37.4,98.9,70.599999999999994,46.5,39.200000000000003,35.4,80.8,30.7,40.200000000000003,21.4]
[62.4,15.6,44.5,7.3,4.0999999999999996,75.2,62.7,94.7,32.9,88.7,23,43.7]
[34.5,48.8,10,19.399999999999999,81.900000000000006,21.6,94.7,61.7,34.5,44,74.900000000000006,99.8]
[-20.2,32,28.3,96.6,57.8,13.6,15.2,-13.7,54,40.4,49.7,79.7]
[88.9,37.9,83.9,59.5,73.599999999999994,38.1,12.1,17,4.3,76.900000000000006,19.7,63.3]
[98.7,2.2999999999999998,24.5,1.4,84.8,39.200000000000003,9.3000000000000007,30.6,82.1,93.9,71.7,37.200000000000003]
[59.2,13.1,40.799999999999997,55.9,39.299999999999997,21,50.9,18.2,0.1,17.399999999999999,61.6,66.8]
[-17.8,52.2,90,36.6,-79.400000000000006,40.5,28,28.1,92.2,44.5,-68.599999999999994,85.4]
[20.3,49.3,74.900000000000006,62.5,39.4,11.6,90.8,93.9,11,75.2,42.9,48.9]
[63.4,68.8,18.100000000000001,94.5,-35.700000000000003,52.9,9.6,1,39.1,79.5,83.3,90.3]
[18.600000000000001,60.3,82.7,51.8,90.2,80,9.5,49.8,43.4,32.9,89.6,15.4]
[15.2,17.5,96.6,96.9,39.6,43.1,44.8,30,48.9,70.8,41.1,43.5]
[7.5,49.9,37,85.6,28,7.2,81.900000000000006,71.2,59,4.2,8.6,37.1]
[79.599999999999994,39,2.5,27.2,57,59.5,54.1,76.599999999999994,20.7,14.7,94.2,40.6]
[65.2,69.900000000000006,84.4,49.1,51.6,71.5,11,75.5,9.9,66.7,-78.8,78.900000000000006]

{"sheet":"Excel b","index":5,"n_rows":104,"n_cols":25,"rows_kept":104,"cut":false,"hidden":false,"merged":[[0,0,0,11],[0,13,0,24]]}
["Solution Vectors, x, for Each Input b Vector Using Excel Minverse",null,null,null,null,null,null,null,null,null,null,null,null,"Square of the Error for Each Solution Value in Each x Solution Using Excel Minverse"]
["x1","x2","x3","x4","x5","x6","x7","x8","x9","x10","x11","x12",null,"Esqd1","Esqd2","Esqd3","Esqd4","Esqd5","Esqd6","Esqd7","Esqd8","Esqd9","Esqd10","Esqd11","Esqd12"]
[{"$f":"MMULT(MINVERSE(A),b)","v":32.39999999999732},80.100000000001529,63.199999999999477,84.099999999998374,92.400000000002294,63.699999999997551,14.699999999999326,39.900000000000844,48.899999999999963,26.40000000000073,79.999999999999929,65.19999999999979,null,{"$f":"(A3-x!A1)^2","v":7.17568074228206E-24},{"$f":"(B3-x!B1)^2","v":2.3555260412154577E-24},{"$f":"(C3-x!C1)^2","v":2.7646734828737668E-25},{"$f":"(D3-x!D1)^2","v":2.624521299008581E-24},{"$f":"(E3-x!E1)^2","v":5.2347042622038648E-24},{"$f":"(F3-x!F1)^2","v":6.0092268316115795E-24},{"$f":"(G3-x!G1)^2","v":4.5325107714740543E-25},{"$f":"(H3-x!H1)^2","v":7.1494779384542388E-25},{"$f":"(I3-x!I1)^2","v":1.2621774483536189E-27},{"$f":"(J3-x!J1)^2","v":5.3561762198334171E-25},{"$f":"(K3-x!K1)^2","v":5.0487097934144756E-27},{"$f":"(L3-x!L1)^2","v":4.543838814073028E-26}]
[5.0999999999927752,15.999999999992347,58.499999999994444,77.799999999995336,34.599999999994125,51.999999999993115,84.49999999999531,56.899999999991415,50.699999999994219,58.899999999991167,96.399999999992872,75.399999999993966,null,{"$f":"(A4-x!A2)^2","v":5.2192580501352753E-23},{"$f":"(B4-x!B2)^2","v":5.8561449019654592E-23},{"$f":"(C4-x!C2)^2","v":3.0874072077079937E-23},{"$f":"(D4-x!D2)^2","v":2.1726415776588118E-23},{"$f":"(E4-x!E2)^2","v":3.4529590403001689E-23},{"$f":"(F4-x!F2)^2","v":4.7405415963342494E-23},{"$f":"(G4-x!G2)^2","v":2.1992179860113456E-23},{"$f":"(H4-x!H2)^2","v":7.3674004479771813E-23},{"$f":"(I4-x!I2)^2","v":3.3452549142772578E-23},{"$f":"(J4-x!J2)^2","v":7.800504017605242E-23},{"$f":"(K4-x!K2)^2","v":5.089180251118486E-23},{"$f":"(L4-x!L2)^2","v":3.6476928257419586E-23}]
[64.799999999997539,92.199999999999562,85.499999999997868,73.299999999994952,85.5,34.799999999999741,-18.900000000002354,14.399999999999302,53.299999999999287,76.799999999998931,68.099999999999426,34.199999999997502,null,{"$f":"(A5-x!A3)^2","v":6.0441134162840736E-24},{"$f":"(B5-x!B3)^2","v":1.9407240445885244E-25},{"$f":"(C5-x!C3)^2","v":4.543838814073028E-24},{"$f":"(D5-x!D3)^2","v":2.5450546068602371E-23},{"$f":"(E5-x!E3)^2","v":0},{"$f":"(F5-x!F3)^2","v":6.5431278922651603E-26},{"$f":"(G5-x!G3)^2","v":5.548140787953519E-24},{"$f":"(H5-x!H3)^2","v":4.8735511180192021E-25},{"$f":"(I5-x!I3)^2","v":5.0487097934144756E-25},{"$f":"(J5-x!J3)^2","v":1.135959703518257E-24},{"$f":"(K5-x!K3)^2","v":3.2311742677852644E-25},{"$f":"(L5-x!L3)^2","v":6.2555533824322718E-24}]
[3.9999999999897398,25.59999999998999,74.199999999990013,63.699999999988435,87.699999999990467,86.499999999987864,83.999999999991147,24.99999999999045,68.699999999988336,74.599999999988555,49.999999999989271,94.999999999987892,null,{"$f":"(A6-x!A4)^2","v":1.0527246543801086E-22},{"$f":"(B6-x!B4)^2","v":1.0023107627379683E-22},{"$f":"(C6-x!C4)^2","v":9.9804712731742982E-23},{"$f":"(D6-x!D4)^2","v":1.3381019657109031E-22},{"$f":"(E6-x!E4)^2","v":9.0925445843869076E-23},{"$f":"(F6-x!F4)^2","v":1.4728419326775487E-22},{"$f":"(G6-x!G4)^2","v":7.8382027336326679E-23},{"$f":"(H6-x!H4)^2","v":9.1196662533971301E-23},{"$f":"(I6-x!I4)^2","v":1.3612149591451546E-22},{"$f":"(J6-x!J4)^2","v":1.3086760655509662E-22},{"$f":"(K6-x!K4)^2","v":1.1511563199964346E-22},{"$f":"(L6-x!L4)^2","v":1.4659514535514966E-22}]
[39.900000000000773,83.199999999997914,9.8999999999996646,23.699999999999505,58.400000000000119,95.900000000001512,23.200000000000301,64.400000000000517,80.899999999998556,26.600000000000023,-10.100000000000648,-16.800000000000807,null,{"$f":"(A7-x!A5)^2","v":5.9983721055557384E-25},{"$f":"(B7-x!B5)^2","v":4.3639027970357361E-24},{"$f":"(C7-x!C5)^2","v":1.1271560158159905E-25},{"$f":"(D7-x!D5)^2","v":2.4386530479640271E-25},{"$f":"(E7-x!E5)^2","v":1.4590771302967834E-26},{"$f":"(F7-x!F5)^2","v":2.2690921295522019E-24},{"$f":"(G7-x!G5)^2","v":9.1192320643548965E-26},{"$f":"(H7-x!H5)^2","v":2.6172511569060641E-25},{"$f":"(I7-x!I5)^2","v":2.1010710676273681E-24},{"$f":"(J7-x!J5)^2","v":4.543838814073028E-28},{"$f":"(K7-x!K5)^2","v":4.2038397639227719E-25},{"$f":"(L7-x!L5)^2","v":6.5038741736213628E-25}]
[60.099999999991553,34.19999999999073,44.199999999989807,39.099999999991624,70.999999999994145,3.1999999999916398,13.699999999993157,88.199999999991988,71.199999999990013,78.699999999992315,21.799999999991627,99.099999999990303,null,{"$f":"(A8-x!A6)^2","v":7.1374670578557058E-23},{"$f":"(B8-x!B6)^2","v":8.5980789959296872E-23},{"$f":"(C8-x!C6)^2","v":1.0396429424343923E-22},{"$f":"(D8-x!D6)^2","v":7.017913609947651E-23},{"$f":"(E8-x!E6)^2","v":3.427952780693387E-23},{"$f":"(F8-x!F6)^2","v":6.9896680508057601E-23},{"$f":"(G8-x!G6)^2","v":4.6820169524089888E-23},{"$f":"(H8-x!H6)^2","v":6.4238975617838841E-23},{"$f":"(I8-x!I6)^2","v":9.9804712731742982E-23},{"$f":"(J8-x!J6)^2","v":5.9106457241853685E-23},{"$f":"(K8-x!K6)^2","v":7.0119624432786637E-23},{"$f":"(L8-x!L6)^2","v":9.3931043758084581E-23}]
[-46.099999999983808,96.900000000015041,1.9000000000133888,88.000000000013415,85.100000000010567,43.400000000014053,86.500000000013614,28.400000000014259,64.500000000014268,36.800000000015544,42.900000000015751,76.400000000016021,null,{"$f":"(A9-x!A7)^2","v":2.6222195922137633E-22},{"$f":"(B9-x!B7)^2","v":2.2605375956782404E-22},{"$f":"(C9-x!C7)^2","v":1.7926118617313582E-22},{"$f":"(D9-x!D7)^2","v":1.7996348201856808E-22},{"$f":"(E9-x!E7)^2","v":1.1178570496829901E-22},{"$f":"(F9-x!F7)^2","v":1.9752996287377441E-22},{"$f":"(G9-x!G7)^2","v":1.8534096379372971E-22},{"$f":"(H9-x!H7)^2","v":2.0336450434653385E-22},{"$f":"(I9-x!I7)^2","v":2.0356721004473944E-22},{"$f":"(J9-x!J7)^2","v":2.4169910537244029E-22},{"$f":"(K9-x!K7)^2","v":2.4814857969803761E-22},{"$f":"(L9-x!L7)^2","v":2.5650050884798938E-22}]
[67.100000000002524,79.200000000003257,3.4000000000023363,43.900000000004695,3.6000000000008754,15.900000000003502,30.400000000001228,68.100000000001927,9.9000000000007446,6.5000000000020464,89.200000000002717,57.00000000000162,null,{"$f":"(A10-x!A8)^2","v":6.3985328437817697E-24},{"$f":"(B10-x!B8)^2","v":1.0590375611057941E-23},{"$f":"(C10-x!C8)^2","v":5.4585468967191741E-24},{"$f":"(D10-x!D8)^2","v":2.2058873316484461E-23},{"$f":"(E10-x!E8)^2","v":7.6614979697492518E-25},{"$f":"(F10-x!F8)^2","v":1.2258396751598803E-23},{"$f":"(G10-x!G8)^2","v":1.5110283540710184E-24},{"$f":"(H10-x!H8)^2","v":3.7352374535597656E-24},{"$f":"(I10-x!I8)^2","v":5.5397283752602421E-25},{"$f":"(J10-x!J8)^2","v":4.1876018510497026E-24},{"$f":"(K10-x!K8)^2","v":7.3672792789421393E-24},{"$f":"(L10-x!L8)^2","v":2.624521299008581E-24}]
[61.300000000013767,72.100000000011363,67.300000000012759,39.800000000013263,96.10000000000926,98.800000000009803,19.700000000010832,90.600000000011917,74.400000000012369,27.400000000011772,51.800000000012183,62.900000000013286,null,{"$f":"(A11-x!A9)^2","v":1.8962166385336998E-22},{"$f":"(B11-x!B9)^2","v":1.2924697071141057E-22},{"$f":"(C11-x!C9)^2","v":1.6285199088994427E-22},{"$f":"(D11-x!D9)^2","v":1.759823219109711E-22},{"$f":"(E11-x!E9)^2","v":8.5849069120786689E-23},{"$f":"(F11-x!F9)^2","v":9.6147629305785272E-23},{"$f":"(G11-x!G9)^2","v":1.1733707693052031E-22},{"$f":"(H11-x!H9)^2","v":1.4215571385960444E-22},{"$f":"(I11-x!I9)^2","v":1.5285473770541666E-22},{"$f":"(J11-x!J9)^2","v":1.3861984995578661E-22},{"$f":"(K11-x!K9)^2","v":1.4849391462135491E-22},{"$f":"(L11-x!L9)^2","v":1.765483327659108E-22}]
[9.6000000000194294,18.500000000016989,8.8000000000143803,85.80000000001904,70.300000000015615,21.400000000019176,24.500000000016936,63.100000000018248,8.8000000000190592,80.300000000020077,32.400000000018537,67.100000000021311,null,{"$f":"(A12-x!A10)^2","v":3.7751678255336255E-22},{"$f":"(B12-x!B10)^2","v":2.886287309248514E-22},{"$f":"(C12-x!C10)^2","v":2.0677314391900125E-22},{"$f":"(D12-x!D10)^2","v":3.6261853220220129E-22},{"$f":"(E12-x!E10)^2","v":2.4391346948783188E-22},{"$f":"(F12-x!F10)^2","v":3.6777836409816882E-22},{"$f":"(G12-x!G10)^2","v":2.868208510567021E-22},{"$f":"(H12-x!H10)^2","v":3.3294342772686142E-22},{"$f":"(I12-x!I10)^2","v":3.6322766219422037E-22},{"$f":"(J12-x!J10)^2","v":4.0320389854110984E-22},{"$f":"(K12-x!K10)^2","v":3.4365966767306919E-22},{"$f":"(L12-x!L10)^2","v":4.543838814073028E-22}]
[61.299999999995435,81.099999999995362,85.29999999999589,9.0999999999960437,63.899999999995941,69.099999999997124,11.699999999994844,73.499999999995254,67.599999999994651,70.299999999994128,19.899999999995032,30.699999999994247,null,{"$f":"(A13-x!A11)^2","v":2.0808964232928839E-23},{"$f":"(B13-x!B11)^2","v":2.1462267280196672E-23},{"$f":"(C13-x!C11)^2","v":1.6866931626230817E-23},{"$f":"(D13-x!D11)^2","v":1.5649514145639438E-23},{"$f":"(E13-x!E11)^2","v":1.646086389754649E-23},{"$f":"(F13-x!F11)^2","v":8.2403021764193704E-24},{"$f":"(G13-x!G11)^2","v":2.6573896619411576E-23},{"$f":"(H13-x!H11)^2","v":2.2528554788565809E-23},{"$f":"(I13-x!I11)^2","v":2.8550655830150596E-23},{"$f":"(J13-x!J11)^2","v":3.4446135230116547E-23},{"$f":"(K13-x!K11)^2","v":2.4668046537721062E-23},{"$f":"(L13-x!L11)^2","v":3.30837030270402E-23}]
[94.000000000004277,46.900000000004688,19.400000000002152,58.200000000002362,-71.399999999997306,80.500000000003439,77.800000000002598,70.200000000004209,82.000000000003439,59.600000000003533,67.600000000005551,74.300000000003038,null,{"$f":"(A14-x!A12)^2","v":1.8296726239725796E-23},{"$f":"(B14-x!B12)^2","v":2.1992179860113456E-23},{"$f":"(C14-x!C12)^2","v":4.6351699742358959E-24},{"$f":"(D14-x!D12)^2","v":5.5648898826931715E-24},{"$f":"(E14-x!E12)^2","v":7.2903369416905027E-24},{"$f":"(F14-x!F12)^2","v":1.1826905613661014E-23},{"$f":"(G14-x!G12)^2","v":6.7630496908662949E-24},{"$f":"(H14-x!H12)^2","v":1.7693910290392108E-23},{"$f":"(I14-x!I12)^2","v":1.1826905613661014E-23},{"$f":"(J14-x!J12)^2","v":1.2470767573615162E-23},{"$f":"(K14-x!K12)^2","v":3.0874072077079937E-23},{"$f":"(L14-x!L12)^2","v":9.2484285479683729E-24}]
[66.899999999997135,51.299999999996857,9.5999999999950205,20.799999999994498,15.599999999997124,37.399999999995089,0.39999999999618296,78.499999999995822,10.999999999996049,63.89999999999489,79.899999999996965,81.599999999996555,null,{"$f":"(A15-x!A13)^2","v":8.2403021764193704E-24},{"$f":"(B15-x!B13)^2","v":9.863361400806256E-24},{"$f":"(C15-x!C13)^2","v":2.479171783955437E-23},{"$f":"(D15-x!D13)^2","v":3.0284698317571215E-23},{"$f":"(E15-x!E13)^2","v":8.2709257567600501E-24},{"$f":"(F15-x!F13)^2","v":2.4106630008693372E-23},{"$f":"(G15-x!G13)^2","v":1.4569930103215913E-23},{"$f":"(H15-x!H13)^2","v":1.7455611188142944E-23},{"$f":"(I15-x!I13)^2","v":1.5607379506969773E-23},{"$f":"(J15-x!J13)^2","v":2.6099860635133407E-23},{"$f":"(K15-x!K13)^2","v":9.2484285479683729E-24},{"$f":"(L15-x!L13)^2","v":1.1826905613661014E-23}]
[31.800000000007316,97.400000000008419,57.700000000007776,5.000000000009976,11.200000000008345,87.900000000009868,6.2000000000074351,47.600000000004997,53.80000000000814,95.600000000008379,88.100000000006304,70.400000000009442,null,{"$f":"(A16-x!A14)^2","v":5.3509773109236486E-23},{"$f":"(B16-x!B14)^2","v":7.077564116156843E-23},{"$f":"(C16-x!C14)^2","v":6.0424776343110073E-23},{"$f":"(D16-x!D14)^2","v":9.9520975241353088E-23},{"$f":"(E16-x!E14)^2","v":6.9644439867030467E-23},{"$f":"(F16-x!F14)^2","v":9.7265615602438974E-23},{"$f":"(G16-x!G14)^2","v":5.5278355871392207E-23},{"$f":"(H16-x!H14)^2","v":2.4951178182935745E-23},{"$f":"(I16-x!I14)^2","v":6.6305513510479254E-23},{"$f":"(J16-x!J14)^2","v":7.0298235163503158E-23},{"$f":"(K16-x!K14)^2","v":3.9811298153382242E-23},{"$f":"(L16-x!L14)^2","v":8.9038238123090745E-23}]
[94.899999999991508,54.099999999995461,95.699999999997161,7.2999999999954461,8.4999999999935554,69.099999999992676,72.699999999995427,53.79999999999373,60.99999999999639,42.499999999995211,40.399999999994563,86.699999999994361,null,{"$f":"(A17-x!A15)^2","v":7.2217552678567605E-23},{"$f":"(B17-x!B15)^2","v":2.0614942315567921E-23},{"$f":"(C17-x!C15)^2","v":8.0779356694631609E-24},{"$f":"(D17-x!D15)^2","v":2.073609951769629E-23},{"$f":"(E17-x!E15)^2","v":4.1533160628426249E-23},{"$f":"(F17-x!F15)^2","v":5.3561762198334171E-23},{"$f":"(G17-x!G15)^2","v":2.0938817048815459E-23},{"$f":"(H17-x!H15)^2","v":3.9275125173321625E-23},{"$f":"(I17-x!I15)^2","v":1.3028902441277132E-23},{"$f":"(J17-x!J15)^2","v":2.2935076901131543E-23},{"$f":"(K17-x!K15)^2","v":2.9546311888509865E-23},{"$f":"(L17-x!L15)^2","v":3.1828884073210483E-23}]
[66.299999999997752,75.300000000000864,-86.199999999998454,56.500000000003325,97.500000000001322,85.700000000002831,22.500000000001023,22.800000000002655,34.800000000001944,36.500000000001819,99.89999999999975,21.399999999999011,null,{"$f":"(A18-x!A16)^2","v":5.0414396513119587E-24},{"$f":"(B18-x!B16)^2","v":7.5144996565181054E-25},{"$f":"(C18-x!C16)^2","v":2.3993488422222954E-24},{"$f":"(D18-x!D16)^2","v":1.1057886137928121E-23},{"$f":"(E18-x!E16)^2","v":1.746651640129672E-24},{"$f":"(F18-x!F16)^2","v":7.9973582611602659E-24},{"$f":"(G18-x!G16)^2","v":1.0469004627624257E-24},{"$f":"(H18-x!H16)^2","v":7.0430637577835452E-24},{"$f":"(I18-x!I16)^2","v":3.7903693645038517E-24},{"$f":"(J18-x!J16)^2","v":3.3087224502121107E-24},{"$f":"(K18-x!K16)^2","v":6.5431278922651603E-26},{"$f":"(L18-x!L16)^2","v":9.7546121918561082E-25}]
[53.299999999992451,74.899999999994151,30.599999999994793,30.999999999992184,12.999999999992895,46.599999999991013,98.299999999994014,50.799999999991776,60.999999999994301,7.899999999991266,69.999999999992227,16.199999999993324,null,{"$f":"(A19-x!A17)^2","v":5.6941570482437558E-23},{"$f":"(B19-x!B17)^2","v":3.427952780693387E-23},{"$f":"(C19-x!C17)^2","v":2.7126162361938702E-23},{"$f":"(D19-x!D17)^2","v":6.1089388500315154E-23},{"$f":"(E19-x!E17)^2","v":5.0487097934144756E-23},{"$f":"(F19-x!F17)^2","v":8.0790716291666791E-23},{"$f":"(G19-x!G17)^2","v":3.5793534899783002E-23},{"$f":"(H19-x!H17)^2","v":6.7584503162444943E-23},{"$f":"(I19-x!I17)^2","v":3.2473503339633643E-23},{"$f":"(J19-x!J17)^2","v":7.6288810167871692E-23},{"$f":"(K19-x!K17)^2","v":6.0424776343110073E-23},{"$f":"(L19-x!L17)^2","v":4.4562954484326693E-23}]
[16.899999999988211,18.999999999990962,8.7999999999892395,22.799999999988927,64.499999999991303,67.899999999989546,75.399999999991408,29.599999999988768,33.699999999989728,42.399999999986079,21.699999999988052,72.199999999986659,null,{"$f":"(A20-x!A18)^2","v":1.3895468038928586E-22},{"$f":"(B20-x!B18)^2","v":8.1687316663879268E-23},{"$f":"(C20-x!C18)^2","v":1.1580277402430165E-22},{"$f":"(D20-x!D18)^2","v":1.2262923551017323E-22},{"$f":"(E20-x!E18)^2","v":7.5638558434585253E-23},{"$f":"(F20-x!F18)^2","v":1.0939463601013791E-22},{"$f":"(G20-x!G18)^2","v":7.3918160085381337E-23},{"$f":"(H20-x!H18)^2","v":1.261955809993688E-22},{"$f":"(I20-x!I18)^2","v":1.0556428086407022E-22},{"$f":"(J20-x!J18)^2","v":1.9375337648700658E-22},{"$f":"(K20-x!K18)^2","v":1.427493537788886E-22},{"$f":"(L20-x!L18)^2","v":1.7806213791036819E-22}]
[76.000000000003809,0.40000000000736691,85.400000000006685,33.300000000004616,59.200000000007151,99.600000000004826,36.300000000004076,37.400000000006287,39.300000000007344,83.0000000000054,83.400000000004383,86.500000000008811,null,{"$f":"(A21-x!A19)^2","v":1.4504741288088052E-23},{"$f":"(B21-x!B19)^2","v":5.4270992833702571E-23},{"$f":"(C21-x!C19)^2","v":4.4610399734610306E-23},{"$f":"(D21-x!D19)^2","v":2.1330798877176159E-23},{"$f":"(E21-x!E19)^2","v":5.1094760644880122E-23},{"$f":"(F21-x!F19)^2","v":2.3345234084748535E-23},{"$f":"(G21-x!G19)^2","v":1.6634287078950277E-23},{"$f":"(H21-x!H19)^2","v":3.9542757279470526E-23},{"$f":"(I21-x!I19)^2","v":5.397858367887847E-23},{"$f":"(J21-x!J19)^2","v":2.9161347766762011E-23},{"$f":"(K21-x!K19)^2","v":1.9157632233698832E-23},{"$f":"(L21-x!L19)^2","v":7.7628961783540976E-23}]
[98.600000000005906,-94.599999999996342,74.900000000006457,91.200000000006142,0.70000000000233342,8.9000000000057646,34.100000000003206,25.300000000006467,77.800000000006492,24.200000000007442,18.200000000004962,88.200000000004636,null,{"$f":"(A22-x!A20)^2","v":3.4948380880365419E-23},{"$f":"(B22-x!B20)^2","v":1.3338489325809308E-23},{"$f":"(C22-x!C20)^2","v":4.1624794711176722E-23},{"$f":"(D22-x!D20)^2","v":3.7688416659447323E-23},{"$f":"(E22-x!E20)^2","v":5.4450670880897904E-24},{"$f":"(F22-x!F20)^2","v":3.3226900213999539E-23},{"$f":"(G22-x!G20)^2","v":1.0269126206902977E-23},{"$f":"(H22-x!H20)^2","v":4.1808365799265272E-23},{"$f":"(I22-x!I20)^2","v":4.2176719665792792E-23},{"$f":"(J22-x!J20)^2","v":5.5397283752602421E-23},{"$f":"(K22-x!K20)^2","v":2.4632768678039578E-23},{"$f":"(L22-x!L20)^2","v":2.1462267280196672E-23}]
[33.799999999996871,85.199999999996365,11.599999999998644,73.799999999997112,91.399999999995558,60.499999999998323,41.799999999998143,15.399999999997341,3.6999999999982549,52.399999999996012,30.399999999995977,87.399999999995828,null,{"$f":"(A23-x!A21)^2","v":9.7743021600504247E-24},{"$f":"(B23-x!B21)^2","v":1.3234889800848443E-23},{"$f":"(C23-x!C21)^2","v":1.8370014573264449E-24},{"$f":"(D23-x!D21)^2","v":8.3220912750726849E-24},{"$f":"(E23-x!E21)^2","v":1.978468199004091E-23},{"$f":"(F23-x!F21)^2","v":2.8119294065401263E-24},{"$f":"(G23-x!G21)^2","v":3.4392315983718749E-24},{"$f":"(H23-x!H21)^2","v":7.0713775533937378E-24},{"$f":"(I23-x!I21)^2","v":3.0459694487620013E-24},{"$f":"(J23-x!J21)^2","v":1.5889349948931972E-23},{"$f":"(K23-x!K21)^2","v":1.6173844745790877E-23},{"$f":"(L23-x!L21)^2","v":1.7455611188142944E-23}]
[66.400000000003331,5.1000000000003798,51.300000000001617,33.800000000002967,92.900000000001867,13.100000000003361,1.0999999999997474,4.7999999999993879,12.700000000002179,56.000000000005961,7.5000000000017089,68.500000000001222,null,{"$f":"(A24-x!A22)^2","v":1.1057886137928121E-23},{"$f":"(B24-x!B22)^2","v":1.4450669606200583E-25},{"$f":"(C24-x!C22)^2","v":2.624521299008581E-24},{"$f":"(D24-x!D22)^2","v":8.8213076994455083E-24},{"$f":"(E24-x!E22)^2","v":3.4656363505914326E-24},{"$f":"(F24-x!F22)^2","v":1.1295427933708272E-23},{"$f":"(G24-x!G22)^2","v":6.3850598883815001E-26},{"$f":"(H24-x!H22)^2","v":3.7448883778742395E-25},{"$f":"(I24-x!I22)^2","v":4.7506118791059387E-24},{"$f":"(J24-x!J22)^2","v":3.553892846490111E-23},{"$f":"(K24-x!K22)^2","v":2.9201863662854162E-24},{"$f":"(L24-x!L22)^2","v":1.4936103052837384E-24}]
[88.599999999996044,60.599999999996101,9.6999999999948301,50.199999999993956,69.499999999994913,12.699999999995335,80.899999999996879,85.199999999995498,15.299999999995443,47.69999999999348,75.199999999997317,82.599999999994594,null,{"$f":"(A25-x!A23)^2","v":1.5607379506969773E-23},{"$f":"(B25-x!B23)^2","v":1.5216861804449163E-23},{"$f":"(C25-x!C23)^2","v":2.67206121260082E-23},{"$f":"(D25-x!D23)^2","v":3.6562806811005566E-23},{"$f":"(E25-x!E23)^2","v":2.5882513678526914E-23},{"$f":"(F25-x!F23)^2","v":2.17595479346074E-23},{"$f":"(G25-x!G23)^2","v":9.7743021600504247E-24},{"$f":"(H25-x!H23)^2","v":2.0293591937217089E-23},{"$f":"(I25-x!I23)^2","v":2.0776564137829602E-23},{"$f":"(J25-x!J23)^2","v":4.2546689119454205E-23},{"$f":"(K25-x!K23)^2","v":7.2137985012223393E-24},{"$f":"(L25-x!L23)^2","v":2.9161347766762011E-23}]
[90.600000000011192,23.600000000010297,30.500000000009564,80.100000000010681,84.300000000009391,47.400000000011346,82.900000000011033,31.900000000009118,98.600000000011818,54.900000000011516,68.700000000011585,34.00000000001554,null,{"$f":"(A26-x!A24)^2","v":1.2539864215847832E-22},{"$f":"(B26-x!B24)^2","v":1.0600276130962826E-22},{"$f":"(C26-x!C24)^2","v":9.1468283120857E-23},{"$f":"(D26-x!D24)^2","v":1.1420262332060238E-22},{"$f":"(E26-x!E24)^2","v":8.8235493265937843E-23},{"$f":"(F26-x!F24)^2","v":1.2876274895512419E-22},{"$f":"(G26-x!G24)^2","v":1.2160847474236621E-22},{"$f":"(H26-x!H24)^2","v":8.3171044119742398E-23},{"$f":"(I26-x!I24)^2","v":1.3979352352146168E-22},{"$f":"(J26-x!J24)^2","v":1.3266196850277406E-22},{"$f":"(K26-x!K24)^2","v":1.341391705012292E-22},{"$f":"(L26-x!L24)^2","v":2.4147822431897841E-22}]
[23.200000000003485,64.700000000002603,26.700000000002404,28.100000000002169,17.900000000003132,67.900000000001469,75.600000000001998,23.900000000002109,40.900000000001725,70.200000000003712,96.100000000001998,77.400000000003459,null,{"$f":"(A27-x!A25)^2","v":1.214670351375037E-23},{"$f":"(B27-x!B25)^2","v":6.7630496908662949E-24},{"$f":"(C27-x!C25)^2","v":5.7849252772646579E-24},{"$f":"(D27-x!D25)^2","v":4.6965622853238159E-24},{"$f":"(E27-x!E25)^2","v":9.8187812933304062E-24},{"$f":"(F27-x!F25)^2","v":2.1424704879333668E-24},{"$f":"(G27-x!G25)^2","v":4.0149359761149275E-24},{"$f":"(H27-x!H25)^2","v":4.4534164216729747E-24},{"$f":"(I27-x!I25)^2","v":2.9812126459133137E-24},{"$f":"(J27-x!J25)^2","v":1.37569263934875E-23},{"$f":"(K27-x!K25)^2","v":4.0149359761149275E-24},{"$f":"(L27-x!L25)^2","v":1.1924850583653255E-23}]
[88.400000000008475,57.200000000007861,14.300000000010499,4.6000000000113914,13.000000000009919,48.800000000009078,67.800000000011124,20.400000000010579,21.500000000009834,78.900000000011488,57.000000000009038,33.300000000012517,null,{"$f":"(A28-x!A26)^2","v":7.1735299919100654E-23},{"$f":"(B28-x!B26)^2","v":6.1757635728571494E-23},{"$f":"(C28-x!C26)^2","v":1.1021365033460009E-22},{"$f":"(D28-x!D26)^2","v":1.2977256979989761E-22},{"$f":"(E28-x!E26)^2","v":9.8390064247628246E-23},{"$f":"(F28-x!F26)^2","v":8.2459769262271683E-23},{"$f":"(G28-x!G26)^2","v":1.238123375413875E-22},{"$f":"(H28-x!H26)^2","v":1.1193600505884895E-22},{"$f":"(I28-x!I26)^2","v":9.6705814660545177E-23},{"$f":"(J28-x!J26)^2","v":1.3184483482270993E-22},{"$f":"(K28-x!K26)^2","v":8.1687316663879268E-23},{"$f":"(L28-x!L26)^2","v":1.5674446567865491E-22}]
[99.199999999997544,73.799999999995535,53.299999999996892,61.299999999996245,69.099999999997905,-32.200000000004195,8.1999999999964786,38.099999999999206,15.299999999997056,31.599999999997976,18.79999999999729,32.099999999997152,null,{"$f":"(A29-x!A27)^2","v":6.0441134162840736E-24},{"$f":"(B29-x!B27)^2","v":1.9911303631659745E-23},{"$f":"(C29-x!C27)^2","v":9.6414706053856898E-24},{"$f":"(D29-x!D27)^2","v":1.4074995110472612E-23},{"$f":"(E29-x!E27)^2","v":4.3639027970357361E-24},{"$f":"(F29-x!F27)^2","v":1.7574558790875789E-23},{"$f":"(G29-x!G27)^2","v":1.2395604906565704E-23},{"$f":"(H29-x!H27)^2","v":6.3331015648591181E-25},{"$f":"(I29-x!I27)^2","v":8.674200917839894E-24},{"$f":"(J29-x!J27)^2","v":4.1008145297009078E-24},{"$f":"(K29-x!K27)^2","v":7.3480058293057795E-24},{"$f":"(L29-x!L27)^2","v":8.1183758349084108E-24}]
[17.900000000000226,59.199999999999982,20.499999999999183,60.79999999999859,-42.099999999999248,-90.099999999998573,95.200000000000259,89.900000000001071,37.399999999999721,63.300000000002981,51.500000000002125,99.70000000000087,null,{"$f":"(A30-x!A28)^2","v":5.169878828456423E-26},{"$f":"(B30-x!B28)^2","v":4.543838814073028E-28},{"$f":"(C30-x!C28)^2","v":6.6769187017906439E-25},{"$f":"(D30-x!D28)^2","v":1.979296187410211E-24},{"$f":"(E30-x!E28)^2","v":5.6727303238805047E-25},{"$f":"(F30-x!F28)^2","v":2.0194839173657902E-24},{"$f":"(G30-x!G28)^2","v":6.5431278922651603E-26},{"$f":"(H30-x!H28)^2","v":1.135959703518257E-24},{"$f":"(I30-x!I28)^2","v":7.6790875957834173E-26},{"$f":"(J30-x!J28)^2","v":8.9059240755831349E-24},{"$f":"(K30-x!K28)^2","v":4.5135970424104753E-24},{"$f":"(L30-x!L28)^2","v":7.5144996565181054E-25}]
[98.400000000000716,97.99999999999855,36.699999999998482,13.999999999999886,91.20000000000033,94.699999999999903,80.600000000000136,64.900000000001057,54.400000000000034,24.400000000002166,94.80000000000166,99.500000000000313,null,{"$f":"(A31-x!A29)^2","v":5.0487097934144756E-25},{"$f":"(B31-x!B29)^2","v":2.1010710676273681E-24},{"$f":"(C31-x!C29)^2","v":2.3121071369920932E-24},{"$f":"(D31-x!D29)^2","v":1.2924697071141057E-26},{"$f":"(E31-x!E29)^2","v":1.068306992286503E-25},{"$f":"(F31-x!F29)^2","v":9.8954711950923721E-27},{"$f":"(G31-x!G29)^2","v":2.0194839173657902E-26},{"$f":"(H31-x!H29)^2","v":1.1058693931495067E-24},{"$f":"(I31-x!I29)^2","v":1.2621774483536189E-27},{"$f":"(J31-x!J29)^2","v":4.6965622853238159E-24},{"$f":"(K31-x!K29)^2","v":2.7644715344820302E-24},{"$f":"(L31-x!L29)^2","v":9.7743021600504247E-26}]
[87.199999999982339,78.499999999986329,65.899999999985738,14.199999999986886,80.799999999985772,40.699999999982253,46.599999999985599,82.399999999983052,85.999999999982847,61.599999999982529,87.899999999984146,1.099999999980966,null,{"$f":"(A32-x!A30)^2","v":3.1202016070420968E-22},{"$f":"(B32-x!B30)^2","v":1.8689192744226664E-22},{"$f":"(C32-x!C30)^2","v":2.0356721004473944E-22},{"$f":"(D32-x!D30)^2","v":1.7195250486274008E-22},{"$f":"(E32-x!E30)^2","v":2.0235249046844392E-22},{"$f":"(F32-x!F30)^2","v":3.1503969305745501E-22},{"$f":"(G32-x!G30)^2","v":2.0743780340786065E-22},{"$f":"(H32-x!H30)^2","v":2.8742284659069436E-22},{"$f":"(I32-x!I30)^2","v":2.9420831255304341E-22},{"$f":"(J32-x!J30)^2","v":3.0527937582353234E-22},{"$f":"(K32-x!K30)^2","v":2.5151783617867276E-22},{"$f":"(L32-x!L30)^2","v":3.6229725301854716E-22}]
[33.599999999998687,20.999999999998995,58.900000000000325,9.9999999999312195E-2,62.300000000001717,65.000000000003354,29.300000000001326,78.89999999999975,70.100000000000392,51.400000000002962,59.100000000000549,65.699999999999591,null,{"$f":"(A33-x!A31)^2","v":1.7279209267961043E-24},{"$f":"(B33-x!B31)^2","v":1.0108652966119298E-24},{"$f":"(C33-x!C31)^2","v":1.068306992286503E-25},{"$f":"(D33-x!D31)^2","v":4.7308386075081797E-25},{"$f":"(E33-x!E31)^2","v":2.9567264034152535E-24},{"$f":"(F33-x!F31)^2","v":1.1247717626160505E-23},{"$f":"(G33-x!G31)^2","v":1.7560548621199064E-24},{"$f":"(H33-x!H31)^2","v":6.5431278922651603E-26},{"$f":"(I33-x!I31)^2","v":1.5832753912147795E-25},{"$f":"(J33-x!J31)^2","v":8.7791509726704974E-24},{"$f":"(K33-x!K31)^2","v":2.9933800365154426E-25},{"$f":"(L33-x!L31)^2","v":1.6983859745046296E-25}]
[80.599999999992122,40.599999999992974,87.399999999993327,3.7999999999931902,48.899999999995373,-76.700000000008629,79.599999999993855,7.2999999999944123,61.09999999999286,82.299999999991257,59.099999999992889,32.199999999990496,null,{"$f":"(A34-x!A32)^2","v":6.1981192598223887E-23},{"$f":"(B34-x!B32)^2","v":4.9382490718443602E-23},{"$f":"(C34-x!C32)^2","v":4.4610399734610306E-23},{"$f":"(D34-x!D32)^2","v":4.6371523028046257E-23},{"$f":"(E34-x!E32)^2","v":2.1396482591588482E-23},{"$f":"(F34-x!F32)^2","v":7.4407682986950804E-23},{"$f":"(G34-x!G32)^2","v":3.7688416659447323E-23},{"$f":"(H34-x!H32)^2","v":3.1220496399303219E-23},{"$f":"(I34-x!I32)^2","v":5.0993231090934557E-23},{"$f":"(J34-x!J32)^2","v":7.6381930464567601E-23},{"$f":"(K34-x!K32)^2","v":5.0588122617110979E-23},{"$f":"(L34-x!L32)^2","v":9.0384224154015044E-23}]
[12.400000000013137,9.6000000000095014,72.400000000009385,34.300000000012105,31.000000000009081,69.700000000011272,6.3000000000112522,70.900000000009314,8.0000000000100613,52.100000000011676,1.1000000000135941,-82.599999999986395,null,{"$f":"(A35-x!A33)^2","v":1.7255866873775553E-22},{"$f":"(B35-x!B33)^2","v":9.0282924947453803E-23},{"$f":"(C35-x!C33)^2","v":8.7968719440453822E-23},{"$f":"(D35-x!D33)^2","v":1.4659514535514966E-22},{"$f":"(E35-x!E33)^2","v":8.2459769262271683E-23},{"$f":"(F35-x!F33)^2","v":1.2699504419515598E-22},{"$f":"(G35-x!G33)^2","v":1.2661498442165589E-22},{"$f":"(H35-x!H33)^2","v":8.6640908764785815E-23},{"$f":"(I35-x!I33)^2","v":1.0122945863544455E-22},{"$f":"(J35-x!J33)^2","v":1.3628734603122913E-22},{"$f":"(K35-x!K33)^2","v":1.8479723845657773E-22},{"$f":"(L35-x!L33)^2","v":1.8495423262355416E-22}]
[76.900000000002677,22.900000000004162,77.100000000002026,47.400000000001796,30.600000000000716,7.1000000000032202,17.800000000001489,61.400000000001214,66.200000000002873,32.000000000002892,81.500000000002245,69.900000000003047,null,{"$f":"(A36-x!A34)^2","v":7.137663957537649E-24},{"$f":"(B36-x!B34)^2","v":1.7337067482193572E-23},{"$f":"(C36-x!C34)^2","v":4.1296426626213044E-24},{"$f":"(D36-x!D34)^2","v":3.2316286516666717E-24},{"$f":"(E36-x!E34)^2","v":5.0993231090934557E-25},{"$f":"(F36-x!F34)^2","v":1.0371845363093616E-23},{"$f":"(G36-x!G34)^2","v":2.2158913501040969E-24},{"$f":"(H36-x!H34)^2","v":1.4762932306923268E-24},{"$f":"(I36-x!I34)^2","v":8.2403021764193704E-24},{"$f":"(J36-x!J34)^2","v":8.3631372856931446E-24},{"$f":"(K36-x!K34)^2","v":5.0414396513119587E-24},{"$f":"(L36-x!L34)^2","v":9.2484285479683729E-24}]
[89.900000000004439,55.700000000005019,38.800000000006037,65.500000000005684,-57.49999999999342,88.600000000004798,35.000000000004974,3.2000000000066393,85.500000000005855,38.200000000006895,70.600000000005934,-20.299999999993872,null,{"$f":"(A37-x!A35)^2","v":1.9658464245205548E-23},{"$f":"(B37-x!B35)^2","v":2.5164587145903375E-23},{"$f":"(C37-x!C35)^2","v":3.6476928257419586E-23},{"$f":"(D37-x!D35)^2","v":3.2311742677852644E-23},{"$f":"(E37-x!E35)^2","v":4.3291474788178708E-23},{"$f":"(F37-x!F35)^2","v":2.3071392065553734E-23},{"$f":"(G37-x!G35)^2","v":2.473867798773093E-23},{"$f":"(H37-x!H35)^2","v":4.4078096117289798E-23},{"$f":"(I37-x!I35)^2","v":3.427952780693387E-23},{"$f":"(J37-x!J35)^2","v":4.75033104462368E-23},{"$f":"(K37-x!K35)^2","v":3.5285230797782033E-23},{"$f":"(L37-x!L35)^2","v":3.7557667697572372E-23}]
[10.300000000006381,20.300000000005983,96.800000000007572,62.500000000008463,3.2000000000065718,67.000000000006892,86.400000000006628,29.300000000008552,88.400000000008376,41.400000000006898,92.400000000007978,70.200000000006938,null,{"$f":"(A38-x!A36)^2","v":4.0712997722486067E-23},{"$f":"(B38-x!B36)^2","v":3.5793534899783002E-23},{"$f":"(C38-x!C36)^2","v":5.7371316660052998E-23},{"$f":"(D38-x!D36)^2","v":7.1614989164723587E-23},{"$f":"(E38-x!E36)^2","v":4.3186348817366241E-23},{"$f":"(F38-x!F36)^2","v":4.75033104462368E-23},{"$f":"(G38-x!G36)^2","v":4.3854304955948554E-23},{"$f":"(H38-x!H36)^2","v":7.3126131114764957E-23},{"$f":"(I38-x!I36)^2","v":7.0060138009645731E-23},{"$f":"(J38-x!J36)^2","v":4.7601305903326975E-23},{"$f":"(K38-x!K36)^2","v":6.3557399795727886E-23},{"$f":"(L38-x!L36)^2","v":4.8092797801715875E-23}]
[16.000000000003581,12.800000000003124,27.000000000003524,1.0000000000031548,93.500000000003553,14.600000000002126,46.200000000002618,93.200000000003271,39.400000000005434,38.200000000001978,4.9000000000035158,94.200000000002063,null,{"$f":"(A39-x!A37)^2","v":1.2824530668839714E-23},{"$f":"(B39-x!B37)^2","v":9.7521004587338845E-24},{"$f":"(C39-x!C37)^2","v":1.2420633885366556E-23},{"$f":"(D39-x!D37)^2","v":9.9528245383455605E-24},{"$f":"(E39-x!E37)^2","v":1.2621774483536189E-23},{"$f":"(F39-x!F37)^2","v":4.5211480189952508E-24},{"$f":"(G39-x!G37)^2","v":6.8371647506336194E-24},{"$f":"(H39-x!H37)^2","v":1.068306992286503E-23},{"$f":"(I39-x!I37)^2","v":2.9546311888509865E-23},{"$f":"(J39-x!J37)^2","v":3.9018448767424433E-24},{"$f":"(K39-x!K37)^2","v":1.2358108770018739E-23},{"$f":"(L39-x!L37)^2","v":4.2459649362615739E-24}]
[40.500000000000341,64.999999999999631,93.299999999998249,58.19999999999942,93.999999999999773,22.699999999998624,-97.500000000000909,29.999999999997556,33.799999999998249,98.899999999997647,37.999999999997016,4.50000000000054,null,{"$f":"(A40-x!A38)^2","v":1.1632227364026952E-25},{"$f":"(B40-x!B38)^2","v":1.3651711281392742E-25},{"$f":"(C40-x!C38)^2","v":3.055277218582704E-24},{"$f":"(D40-x!D38)^2","v":3.3947524650918934E-25},{"$f":"(E40-x!E38)^2","v":5.169878828456423E-26},{"$f":"(F40-x!F38)^2","v":1.8903505426247315E-24},{"$f":"(G40-x!G38)^2","v":8.2718061255302767E-25},{"$f":"(H40-x!H38)^2","v":5.9744412211349538E-24},{"$f":"(I40-x!I38)^2","v":3.055277218582704E-24},{"$f":"(J40-x!J38)^2","v":5.5648898826931715E-24},{"$f":"(K40-x!K38)^2","v":8.9059240755831349E-24},{"$f":"(L40-x!L38)^2","v":2.9161347766762011E-25}]
[16.599999999990445,79.399999999991152,55.199999999989316,65.099999999990246,9.0999999999909136,33.299999999990078,67.999999999992411,3.9999999999913172,97.999999999990706,46.599999999988484,93.799999999991385,75.399999999987443,null,{"$f":"(A41-x!A39)^2","v":9.1332422340316216E-23},{"$f":"(B41-x!B39)^2","v":7.8382027336326679E-23},{"$f":"(C41-x!C39)^2","v":1.1420262332060238E-22},{"$f":"(D41-x!D39)^2","v":9.5036105357667142E-23},{"$f":"(E41-x!E39)^2","v":8.2556581428004026E-23},{"$f":"(F41-x!F39)^2","v":9.8390064247628246E-23},{"$f":"(G41-x!G39)^2","v":5.7586795594035928E-23},{"$f":"(H41-x!H39)^2","v":7.5391575551491417E-23},{"$f":"(I41-x!I39)^2","v":8.6376558320002633E-23},{"$f":"(J41-x!J39)^2","v":1.3266196850277406E-22},{"$f":"(K41-x!K39)^2","v":7.4162719587774334E-23},{"$f":"(L41-x!L39)^2","v":1.578137824129001E-22}]
[15.9999999999865,11.399999999988538,48.3999999999875,91.399999999986392,12.299999999990092,35.199999999987767,94.399999999989419,98.49999999998802,84.499999999986699,31.999999999987722,29.799999999986824,49.399999999987614,null,{"$f":"(A42-x!A40)^2","v":1.8225842354226257E-22},{"$f":"(B42-x!B40)^2","v":1.3139648730494938E-22},{"$f":"(C42-x!C40)^2","v":1.5621117046317654E-22},{"$f":"(D42-x!D40)^2","v":1.8534096379372971E-22},{"$f":"(E42-x!E40)^2","v":9.81787378774504E-23},{"$f":"(F42-x!F40)^2","v":1.497085837105525E-22},{"$f":"(G42-x!G40)^2","v":1.1208640612359477E-22},{"$f":"(H42-x!H40)^2","v":1.4351442263920815E-22},{"$f":"(I42-x!I40)^2","v":1.7692617820684994E-22},{"$f":"(J42-x!J40)^2","v":1.5075366663778929E-22},{"$f":"(K42-x!K40)^2","v":1.736337252239471E-22},{"$f":"(L42-x!L40)^2","v":1.5338227739173054E-22}]
[53.900000000003502,12.700000000003726,18.100000000002439,45.900000000003416,99.50000000000253,62.900000000002507,34.500000000002032,81.700000000000173,59.000000000003467,71.00000000000054,21.500000000003581,31.300000000004701,null,{"$f":"(A43-x!A41)^2","v":1.2270838665795949E-23},{"$f":"(B43-x!B41)^2","v":1.3889013263457706E-23},{"$f":"(C43-x!C41)^2","v":5.9397565848541963E-24},{"$f":"(D43-x!D41)^2","v":1.1680745465141665E-23},{"$f":"(E43-x!E41)^2","v":6.3985328437817697E-24},{"$f":"(F43-x!F41)^2","v":6.2911467864758438E-24},{"$f":"(G43-x!G41)^2","v":4.1296426626213044E-24},{"$f":"(H43-x!H41)^2","v":2.9080568410067379E-26},{"$f":"(I43-x!I41)^2","v":1.2023199450428969E-23},{"$f":"(J43-x!J41)^2","v":2.9161347766762011E-25},{"$f":"(K43-x!K41)^2","v":1.2824530668839714E-23},{"$f":"(L43-x!L41)^2","v":2.2092257909993414E-23}]
[51.200000000012253,94.600000000011605,45.70000000001076,93.400000000012298,34.900000000010763,87.500000000012889,64.400000000011318,19.300000000010115,56.300000000011735,99.600000000012727,57.100000000012301,35.500000000014623,null,{"$f":"(A44-x!A42)^2","v":1.5005654078951462E-22},{"$f":"(B44-x!B42)^2","v":1.3479833005185739E-22},{"$f":"(C44-x!C42)^2","v":1.1572632393625487E-22},{"$f":"(D44-x!D42)^2","v":1.5110283540710184E-22},{"$f":"(E44-x!E42)^2","v":1.158792493558974E-22},{"$f":"(F44-x!F42)^2","v":1.66132642513705E-22},{"$f":"(G44-x!G42)^2","v":1.2795773217856425E-22},{"$f":"(H44-x!H42)^2","v":1.0230464449482458E-22},{"$f":"(I44-x!I42)^2","v":1.3778454092046619E-22},{"$f":"(J44-x!J42)^2","v":1.6212740006039342E-22},{"$f":"(K44-x!K42)^2","v":1.5127757125305191E-22},{"$f":"(L44-x!L42)^2","v":2.1383123705475107E-22}]
[54.5999999999907,85.999999999992156,29.499999999992383,76.199999999991832,47.699999999991029,59.799999999992103,30.89999999999371,72.499999999991971,56.399999999991842,26.499999999991786,98.09999999999188,19.899999999990797,null,{"$f":"(A45-x!A43)^2","v":8.650868305529629E-23},{"$f":"(B45-x!B43)^2","v":6.1534482755702574E-23},{"$f":"(C45-x!C43)^2","v":5.8018965152352207E-23},{"$f":"(D45-x!D43)^2","v":6.6769187017906439E-23},{"$f":"(E45-x!E43)^2","v":8.0535453524511756E-23},{"$f":"(F45-x!F43)^2","v":6.2317285209171489E-23},{"$f":"(G45-x!G43)^2","v":3.9542757279470526E-23},{"$f":"(H45-x!H43)^2","v":6.4466975352109438E-23},{"$f":"(I45-x!I43)^2","v":6.653714831580111E-23},{"$f":"(J45-x!J43)^2","v":6.7467726504923266E-23},{"$f":"(K45-x!K43)^2","v":6.5843455590185961E-23},{"$f":"(L45-x!L43)^2","v":8.4668125413009109E-23}]
[74.400000000009356,37.400000000007601,15.000000000007304,63.100000000007213,24.500000000008882,49.500000000008292,31.300000000008012,55.500000000007446,50.300000000007941,87.400000000010095,77.600000000007753,21.100000000009359,null,{"$f":"(A46-x!A44)^2","v":8.74363834798362E-23},{"$f":"(B46-x!B44)^2","v":5.7802678424802331E-23},{"$f":"(C46-x!C44)^2","v":5.3353957303237231E-23},{"$f":"(D46-x!D44)^2","v":5.2013070469204281E-23},{"$f":"(E46-x!E44)^2","v":7.8886090522101181E-23},{"$f":"(F46-x!F44)^2","v":6.8757823318434467E-23},{"$f":"(G46-x!G44)^2","v":6.4182038793143609E-23},{"$f":"(H46-x!H44)^2","v":5.5450181609462922E-23},{"$f":"(I46-x!I44)^2","v":6.3105035398237949E-23},{"$f":"(J46-x!J44)^2","v":1.0180218427440949E-22},{"$f":"(K46-x!K44)^2","v":6.0204046750941992E-23},{"$f":"(L46-x!L44)^2","v":8.7569316008696803E-23}]
[50.999999999990152,70.699999999992443,60.299999999992082,45.799999999990959,86.699999999991448,18.79999999999076,66.699999999992443,66.699999999990581,39.09999999999134,50.799999999989737,41.199999999991519,39.199999999990595,null,{"$f":"(A47-x!A45)^2","v":9.6985513183100339E-23},{"$f":"(B47-x!B45)^2","v":5.7156241622853541E-23},{"$f":"(C47-x!C45)^2","v":6.2654286587881905E-23},{"$f":"(D47-x!D45)^2","v":8.1687316663879268E-23},{"$f":"(E47-x!E45)^2","v":7.3186904958903184E-23},{"$f":"(F47-x!F45)^2","v":8.5388841357793509E-23},{"$f":"(G47-x!G45)^2","v":5.7156241622853541E-23},{"$f":"(H47-x!H45)^2","v":8.8770252607256304E-23},{"$f":"(I47-x!I45)^2","v":7.5021858533319675E-23},{"$f":"(J47-x!J45)^2","v":1.0527246543801086E-22},{"$f":"(K47-x!K45)^2","v":7.1976224350442393E-23},{"$f":"(L47-x!L45)^2","v":8.8502670988205337E-23}]
[31.500000000006224,14.20000000000676,89.300000000008211,-50.799999999990533,40.600000000008201,70.000000000008924,-15.299999999993382,74.100000000007242,93.900000000008333,53.600000000009885,2.1000000000078956,22.300000000008069,null,{"$f":"(A48-x!A46)^2","v":3.8742587264312266E-23},{"$f":"(B48-x!B46)^2","v":4.5708607710648306E-23},{"$f":"(C48-x!C46)^2","v":6.7467726504923266E-23},{"$f":"(D48-x!D46)^2","v":8.9575420845110045E-23},{"$f":"(E48-x!E46)^2","v":6.7234476112467517E-23},{"$f":"(F48-x!F46)^2","v":7.9645214526638981E-23},{"$f":"(G48-x!G46)^2","v":4.3807263602448415E-23},{"$f":"(H48-x!H46)^2","v":5.2526776690684204E-23},{"$f":"(I48-x!I46)^2","v":6.934826992877429E-23},{"$f":"(J48-x!J46)^2","v":9.7686526537915939E-23},{"$f":"(K48-x!K46)^2","v":6.2338321171285339E-23},{"$f":"(L48-x!L46)^2","v":6.5096057214143366E-23}]
[46.19999999998678,82.799999999988586,70.399999999988026,76.199999999987369,48.399999999988921,93.599999999987716,93.499999999988461,76.399999999988239,82.599999999987745,91.799999999987222,81.799999999987605,91.39999999998588,null,{"$f":"(A49-x!A47)^2","v":1.7485302650438015E-22},{"$f":"(B49-x!B47)^2","v":1.3021814052727178E-22},{"$f":"(C49-x!C47)^2","v":1.4351442263920815E-22},{"$f":"(D49-x!D47)^2","v":1.5960405490564487E-22},{"$f":"(E49-x!E47)^2","v":1.2270793227407808E-22},{"$f":"(F49-x!F47)^2","v":1.5075366663778929E-22},{"$f":"(G49-x!G47)^2","v":1.3315346040116296E-22},{"$f":"(H49-x!H47)^2","v":1.3845258620033079E-22},{"$f":"(I49-x!I47)^2","v":1.5005654078951462E-22},{"$f":"(J49-x!J47)^2","v":1.632148921498949E-22},{"$f":"(K49-x!K47)^2","v":1.535583259022269E-22},{"$f":"(L49-x!L47)^2","v":1.9953228117784259E-22}]
[98.300000000006548,70.300000000003934,42.700000000006185,59.600000000007242,87.800000000005156,93.500000000007077,71.900000000004241,48.400000000007395,56.100000000005309,47.700000000006924,34.800000000006492,93.700000000005474,null,{"$f":"(A50-x!A48)^2","v":4.291827416024951E-23},{"$f":"(B50-x!B48)^2","v":1.5495298149555972E-23},{"$f":"(C50-x!C48)^2","v":3.8213684426354165E-23},{"$f":"(D50-x!D48)^2","v":5.2423833497996483E-23},{"$f":"(E50-x!E48)^2","v":2.6610537630737281E-23},{"$f":"(F50-x!F48)^2","v":5.0084008944238544E-23},{"$f":"(G50-x!G48)^2","v":1.7933824979775163E-23},{"$f":"(H50-x!H48)^2","v":5.4711908776371923E-23},{"$f":"(I50-x!I48)^2","v":2.8172255031134181E-23},{"$f":"(J50-x!J48)^2","v":4.789589811977271E-23},{"$f":"(K50-x!K48)^2","v":4.2176719665792792E-23},{"$f":"(L50-x!L48)^2","v":2.9933800365154426E-23}]
[8.5000000000050875,90.700000000003996,-23.899999999995799,70.000000000005201,2.8000000000024272,90.500000000003439,8.5000000000040501,21.800000000003479,25.400000000005008,77.600000000004826,14.700000000004877,7.6000000000045134,null,{"$f":"(A51-x!A49)^2","v":2.5882513678526914E-23},{"$f":"(B51-x!B49)^2","v":1.5946046959912016E-23},{"$f":"(C51-x!C49)^2","v":1.7634184053536014E-23},{"$f":"(D51-x!D49)^2","v":2.7052198763465179E-23},{"$f":"(E51-x!E49)^2","v":5.892230081897346E-24},{"$f":"(F51-x!F49)^2","v":1.1826905613661014E-23},{"$f":"(G51-x!G49)^2","v":1.6403258118803631E-23},{"$f":"(H51-x!H49)^2","v":1.2097226157774908E-23},{"$f":"(I51-x!I49)^2","v":2.5093349850718297E-23},{"$f":"(J51-x!J49)^2","v":2.3345234084748535E-23},{"$f":"(K51-x!K49)^2","v":2.3793673110374092E-23},{"$f":"(L51-x!L49)^2","v":2.0373692873533231E-23}]
[99.499999999986358,66.59999999998891,84.199999999985408,79.799999999984664,72.899999999986079,88.199999999986233,92.699999999987753,15.899999999985823,8.5999999999849308,26.299999999982987,82.199999999984357,63.499999999982776,null,{"$f":"(A52-x!A50)^2","v":1.8611563782443123E-22},{"$f":"(B52-x!B50)^2","v":1.2286540153253468E-22},{"$f":"(C52-x!C50)^2","v":2.1300082526793026E-22},{"$f":"(D52-x!D50)^2","v":2.351165975437865E-22},{"$f":"(E52-x!E50)^2","v":1.9395123542381049E-22},{"$f":"(F52-x!F50)^2","v":1.8962166385336998E-22},{"$f":"(G52-x!G50)^2","v":1.5005654078951462E-22},{"$f":"(H52-x!H50)^2","v":2.0099027599097741E-22},{"$f":"(I52-x!I50)^2","v":2.2706979032564336E-22},{"$f":"(J52-x!J50)^2","v":2.8947435194992488E-22},{"$f":"(K52-x!K50)^2","v":2.4480204241147283E-22},{"$f":"(L52-x!L50)^2","v":2.9665087835109734E-22}]
[95.799999999995606,20.499999999997627,23.199999999997246,99.099999999997451,18.899999999996837,86.999999999997158,15.199999999997477,94.899999999996723,11.59999999999679,1.7999999999962171,98.899999999995799,92.899999999996396,null,{"$f":"(A53-x!A51)^2","v":1.9282234391400302E-23},{"$f":"(B53-x!B51)^2","v":5.6321386971414523E-24},{"$f":"(C53-x!C51)^2","v":7.5809532991739235E-24},{"$f":"(D53-x!D51)^2","v":6.4706284196317284E-24},{"$f":"(E53-x!E51)^2","v":9.9977075684090152E-24},{"$f":"(F53-x!F51)^2","v":8.0779356694631609E-24},{"$f":"(G53-x!G51)^2","v":6.3626365171505928E-24},{"$f":"(H53-x!H51)^2","v":1.0776168131455593E-23},{"$f":"(I53-x!I51)^2","v":1.0303309127648014E-23},{"$f":"(J53-x!J51)^2","v":1.4310891786138731E-23},{"$f":"(K53-x!K51)^2","v":1.7693910290392108E-23},{"$f":"(L53-x!L51)^2","v":1.3028902441277132E-23}]
[74.200000000010334,17.500000000006409,35.100000000007888,91.700000000009027,10.500000000007859,35.100000000007881,98.700000000009226,86.000000000010047,90.000000000009209,35.800000000010705,91.20000000000968,34.400000000010756,null,{"$f":"(A54-x!A52)^2","v":1.0673558153614237E-22},{"$f":"(B54-x!B52)^2","v":4.107650482761191E-23},{"$f":"(C54-x!C52)^2","v":6.2205153364659753E-23},{"$f":"(D54-x!D52)^2","v":8.1430640257982076E-23},{"$f":"(E54-x!E52)^2","v":6.1757635728571494E-23},{"$f":"(F54-x!F52)^2","v":6.2093122494343886E-23},{"$f":"(G54-x!G52)^2","v":8.5060864547838821E-23},{"$f":"(H54-x!H52)^2","v":1.0094370166113729E-22},{"$f":"(I54-x!I52)^2","v":8.4798937483756478E-23},{"$f":"(J54-x!J52)^2","v":1.1465867327624151E-22},{"$f":"(K54-x!K52)^2","v":9.3655788100147624E-23},{"$f":"(L54-x!L52)^2","v":1.1572632393625487E-22}]
[11.099999999992381,18.499999999993026,54.499999999991758,70.599999999990743,17.099999999993635,70.699999999991405,25.099999999993319,17.999999999992461,26.599999999991816,98.899999999990115,14.19999999999191,73.799999999990973,null,{"$f":"(A55-x!A53)^2","v":5.8046029392288529E-23},{"$f":"(B55-x!B53)^2","v":4.8636354519849361E-23},{"$f":"(C55-x!C53)^2","v":6.7935438980185183E-23},{"$f":"(D55-x!D53)^2","v":8.5585930366353926E-23},{"$f":"(E55-x!E53)^2","v":4.0531850015098356E-23},{"$f":"(F55-x!F53)^2","v":7.3918160085381337E-23},{"$f":"(G55-x!G53)^2","v":4.4657870228442886E-23},{"$f":"(H55-x!H53)^2","v":5.6834386373523368E-23},{"$f":"(I55-x!I53)^2","v":6.7001629616795242E-23},{"$f":"(J55-x!J53)^2","v":9.7827032131466664E-23},{"$f":"(K55-x!K53)^2","v":6.5440480196250101E-23},{"$f":"(L55-x!L53)^2","v":8.1430640257982076E-23}]
[28.29999999999967,41.09999999999701,22.699999999998056,58.599999999999795,33.400000000000318,10.199999999995441,34.299999999998334,43.600000000000421,97.499999999997272,93.599999999996271,84.2999999999995,0.49999999999840838,null,{"$f":"(A56-x!A54)^2","v":1.091657275081045E-25},{"$f":"(B56-x!B54)^2","v":8.9483837249457506E-24},{"$f":"(C56-x!C54)^2","v":3.7765485214443795E-24},{"$f":"(D56-x!D54)^2","v":4.2459649362615739E-26},{"$f":"(E56-x!E54)^2","v":1.0223637331664313E-25},{"$f":"(F56-x!F54)^2","v":2.0776564137829602E-23},{"$f":"(G56-x!G54)^2","v":2.7644715344820302E-24},{"$f":"(H56-x!H54)^2","v":1.7574558790875789E-25},{"$f":"(I56-x!I54)^2","v":7.4446255129772491E-24},{"$f":"(J56-x!J54)^2","v":1.386254540236573E-23},{"$f":"(K56-x!K54)^2","v":2.473867798773093E-25},{"$f":"(L56-x!L54)^2","v":2.5332406259436473E-24}]
[12.099999999995077,16.299999999995375,49.599999999996264,62.199999999996045,57.899999999996616,97.999999999996049,60.499999999994635,56.999999999995815,57.799999999994412,45.899999999994293,20.399999999994851,33.299999999994114,null,{"$f":"(A57-x!A55)^2","v":2.4228887671784524E-23},{"$f":"(B57-x!B55)^2","v":2.1396482591588482E-23},{"$f":"(C57-x!C55)^2","v":1.3968568308027434E-23},{"$f":"(D57-x!D55)^2","v":1.5663571646970476E-23},{"$f":"(E57-x!E55)^2","v":1.1439164701526782E-23},{"$f":"(F57-x!F55)^2","v":1.5607379506969773E-23},{"$f":"(G57-x!G55)^2","v":2.8778907999910864E-23},{"$f":"(H57-x!H55)^2","v":1.7515034502411433E-23},{"$f":"(I57-x!I55)^2","v":3.1190727155322893E-23},{"$f":"(J57-x!J55)^2","v":3.2554535131817946E-23},{"$f":"(K57-x!K55)^2","v":2.6500690327407066E-23},{"$f":"(L57-x!L55)^2","v":3.4613146550082698E-23}]
[67.999999999993946,15.399999999997107,85.099999999996072,90.299999999994498,47.499999999996163,14.899999999990968,19.29999999999481,28.599999999994623,79.999999999998295,53.699999999994901,51.199999999994077,92.89999999999165,null,{"$f":"(A58-x!A56)^2","v":3.6648786338787415E-23},{"$f":"(B58-x!B56)^2","v":8.373414565566364E-24},{"$f":"(C58-x!C56)^2","v":1.5383620688925644E-23},{"$f":"(D58-x!D56)^2","v":3.0245608681995704E-23},{"$f":"(E58-x!E56)^2","v":1.4722037757596611E-23},{"$f":"(F58-x!F56)^2","v":8.1591015680013508E-23},{"$f":"(G58-x!G56)^2","v":2.6941442692372149E-23},{"$f":"(H58-x!H56)^2","v":2.8931580984063718E-23},{"$f":"(I58-x!I56)^2","v":2.9080568410067379E-24},{"$f":"(J58-x!J56)^2","v":2.6027310675402041E-23},{"$f":"(K58-x!K56)^2","v":3.511660389068199E-23},{"$f":"(L58-x!L56)^2","v":6.9822444752571777E-23}]
[61.700000000003172,30.900000000002251,33.10000000000224,69.60000000000403,38.800000000002257,66.500000000004235,86.000000000002785,1.7000000000037119,73.000000000002956,99.900000000002805,60.500000000003325,20.600000000002865,null,{"$f":"(A59-x!A57)^2","v":1.0042691572668338E-23},{"$f":"(B59-x!B57)^2","v":5.0733979843042723E-24},{"$f":"(C59-x!C57)^2","v":5.0095822925155134E-24},{"$f":"(D59-x!D57)^2","v":1.6288349483905518E-23},{"$f":"(E59-x!E57)^2","v":5.1054572914924543E-24},{"$f":"(F59-x!F57)^2","v":1.7933824979775163E-23},{"$f":"(G59-x!G57)^2","v":7.7580494169524197E-24},{"$f":"(H59-x!H57)^2","v":1.377834756624213E-23},{"$f":"(I59-x!I57)^2","v":8.7370952200913548E-24},{"$f":"(J59-x!J57)^2","v":7.8374151349048953E-24},{"$f":"(K59-x!K57)^2","v":1.1057886137928121E-23},{"$f":"(L59-x!L57)^2","v":8.1995590883865156E-24}]
[68.800000000002058,49.100000000000719,33.000000000001734,32.900000000001931,19.200000000000539,67.199999999999761,25.100000000000648,-4.6999999999994202,4.6000000000012129,37.000000000001712,47.200000000001452,58.200000000001296,null,{"$f":"(A60-x!A58)^2","v":4.2459649362615739E-24},{"$f":"(B60-x!B58)^2","v":5.1501888602621065E-25},{"$f":"(C60-x!C58)^2","v":3.0057998626072422E-24},{"$f":"(D60-x!D58)^2","v":3.7352374535597656E-24},{"$f":"(E60-x!E58)^2","v":2.9161347766762011E-25},{"$f":"(F60-x!F58)^2","v":5.8363085211871337E-26},{"$f":"(G60-x!G58)^2","v":4.1808365799265272E-25},{"$f":"(H60-x!H58)^2","v":3.3637738973438642E-25},{"$f":"(I60-x!I58)^2","v":1.4719797392625783E-24},{"$f":"(J60-x!J58)^2","v":2.9323411351130615E-24},{"$f":"(K60-x!K58)^2","v":2.1010710676273681E-24},{"$f":"(L60-x!L58)^2","v":1.6723346319706109E-24}]
[31.699999999995768,23.399999999998705,64.799999999997368,23.199999999997075,14.399999999996837,83.499999999998039,18.299999999997056,5.5999999999958732,43.899999999996155,60.799999999996288,47.599999999996143,77.099999999997124,null,{"$f":"(A61-x!A59)^2","v":1.7903747291180897E-23},{"$f":"(B61-x!B59)^2","v":1.6723346319706109E-24},{"$f":"(C61-x!C59)^2","v":6.911683707184417E-24},{"$f":"(D61-x!D59)^2","v":8.5490938891590833E-24},{"$f":"(E61-x!E59)^2","v":1.0008944103142983E-23},{"$f":"(F61-x!F59)^2","v":3.8459051722314109E-24},{"$f":"(G61-x!G59)^2","v":8.674200917839894E-24},{"$f":"(H61-x!H59)^2","v":1.702781191924159E-23},{"$f":"(I61-x!I59)^2","v":1.4776614310463421E-23},{"$f":"(J61-x!J59)^2","v":1.37569263934875E-23},{"$f":"(K61-x!K59)^2","v":1.4886070338784647E-23},{"$f":"(L61-x!L59)^2","v":8.2403021764193704E-24}]
[4.4000000000037005,54.300000000002868,64.800000000002925,33.400000000003004,35.700000000002476,58.500000000002913,62.600000000002865,67.100000000003675,20.70000000000384,56.400000000004042,88.70000000000384,83.800000000005227,null,{"$f":"(A62-x!A60)^2","v":1.3691119616773963E-23},{"$f":"(B62-x!B60)^2","v":8.2403021764193704E-24},{"$f":"(C62-x!C60)^2","v":8.5698819517334674E-24},{"$f":"(D62-x!D60)^2","v":9.033605946258587E-24},{"$f":"(E62-x!E60)^2","v":6.1141895082166665E-24},{"$f":"(F62-x!F60)^2","v":8.4868811627297334E-24},{"$f":"(G62-x!G60)^2","v":8.1995590883865156E-24},{"$f":"(H62-x!H60)^2","v":1.3546900066081457E-23},{"$f":"(I62-x!I60)^2","v":1.4749313412255532E-23},{"$f":"(J62-x!J60)^2","v":1.634575331425664E-23},{"$f":"(K62-x!K60)^2","v":1.4722037757596611E-23},{"$f":"(L62-x!L60)^2","v":2.7348659002534478E-23}]
[82.199999999996265,6.5999999999970953,82.299999999996757,27.19999999999682,21.799999999997254,57.699999999996237,74.599999999997181,72.699999999997999,99.699999999997786,99.099999999997593,6.2999999999975955,63.299999999996928,null,{"$f":"(A63-x!A61)^2","v":1.3968568308027434E-23},{"$f":"(B63-x!B61)^2","v":8.4352107734377571E-24},{"$f":"(C63-x!C61)^2","v":1.0498085196034324E-23},{"$f":"(D63-x!D61)^2","v":1.0110356905674576E-23},{"$f":"(E63-x!E61)^2","v":7.5418762853728954E-24},{"$f":"(F63-x!F61)^2","v":1.4181825809701262E-23},{"$f":"(G63-x!G61)^2","v":7.917184749640844E-24},{"$f":"(H63-x!H61)^2","v":4.0149359761149275E-24},{"$f":"(I63-x!I61)^2","v":4.9146160613013871E-24},{"$f":"(J63-x!J61)^2","v":5.7678480163884335E-24},{"$f":"(K63-x!K61)^2","v":5.7806535954628861E-24},{"$f":"(L63-x!L61)^2","v":9.4221041648618309E-24}]
[79.400000000000958,9.2000000000006423,4.6000000000004633,88.900000000002322,30.900000000001512,86.600000000001302,0.30000000000061533,38.300000000000068,77.1000000000017,19.100000000001074,91.600000000000307,41.500000000001862,null,{"$f":"(A64-x!A62)^2","v":9.0654633050550323E-25},{"$f":"(B64-x!B62)^2","v":4.1350195385512908E-25},{"$f":"(C64-x!C62)^2","v":2.1495197489824218E-25},{"$f":"(D64-x!D62)^2","v":5.365566820049168E-24},{"$f":"(E64-x!E62)^2","v":2.2905491461742134E-24},{"$f":"(F64-x!F62)^2","v":1.7092911876584048E-24},{"$f":"(G64-x!G62)^2","v":3.7864468337713259E-25},{"$f":"(H64-x!H62)^2","v":5.0487097934144756E-27},{"$f":"(I64-x!I62)^2","v":2.9080568410067379E-24},{"$f":"(J64-x!J62)^2","v":1.1511563199964346E-24},{"$f":"(K64-x!K62)^2","v":9.7743021600504247E-26},{"$f":"(L64-x!L62)^2","v":3.4656363505914326E-24}]
[99.199999999992684,-5.6000000000030852,92.299999999993418,47.099999999993706,39.099999999994644,37.599999999993429,16.499999999993864,40.399999999993653,70.499999999993406,70.899999999992417,61.59999999999323,29.299999999992501,null,{"$f":"(A65-x!A63)^2","v":5.3561762198334171E-23},{"$f":"(B65-x!B63)^2","v":9.5205066741790999E-24},{"$f":"(C65-x!C63)^2","v":4.3291474788178708E-23},{"$f":"(D65-x!D63)^2","v":3.9632169929911897E-23},{"$f":"(E65-x!E63)^2","v":2.870272296912824E-23},{"$f":"(F65-x!F63)^2","v":4.3198023169902606E-23},{"$f":"(G65-x!G63)^2","v":3.7644808428606706E-23},{"$f":"(H65-x!H63)^2","v":4.0260885760485801E-23},{"$f":"(I65-x!I63)^2","v":4.3478680947318517E-23},{"$f":"(J65-x!J63)^2","v":5.7586795594035928E-23},{"$f":"(K65-x!K63)^2","v":4.5852836727671674E-23},{"$f":"(L65-x!L63)^2","v":5.6246678688246473E-23}]
[29.099999999982444,27.099999999988583,29.699999999984385,24.499999999984524,58.299999999988302,7.5999999999851866,32.999999999987324,43.999999999986372,42.499999999984809,56.399999999984317,28.099999999985812,78.599999999982458,null,{"$f":"(A66-x!A64)^2","v":3.0826619253731635E-22},{"$f":"(B66-x!B64)^2","v":1.3038035557293419E-22},{"$f":"(C66-x!C64)^2","v":2.4380251146834711E-22},{"$f":"(D66-x!D64)^2","v":2.3949483867663553E-22},{"$f":"(E66-x!E64)^2","v":1.3678550222654533E-22},{"$f":"(F66-x!F64)^2","v":2.1942614467260971E-22},{"$f":"(G66-x!G64)^2","v":1.6068306516269341E-22},{"$f":"(H66-x!H64)^2","v":1.8572809886068873E-22},{"$f":"(I66-x!I64)^2","v":2.3077874608928478E-22},{"$f":"(J66-x!J64)^2","v":2.4591503048543105E-22},{"$f":"(K66-x!K64)^2","v":2.0134300094525069E-22},{"$f":"(L66-x!L64)^2","v":3.0751812520722613E-22}]
[99.099999999999341,44.199999999999818,67.800000000000225,35.600000000000762,80.699999999998823,99.199999999999704,79.799999999998931,18.799999999999329,17.600000000000961,-2.3000000000010346,41.400000000000659,60.099999999999042,null,{"$f":"(A67-x!A65)^2","v":4.2732279691460121E-25},{"$f":"(B67-x!B65)^2","v":3.4129278203481855E-26},{"$f":"(C67-x!C65)^2","v":5.169878828456423E-26},{"$f":"(D67-x!D65)^2","v":5.7802678424802331E-25},{"$f":"(E67-x!E65)^2","v":1.3912224706732929E-24},{"$f":"(F67-x!F65)^2","v":8.9059240755831349E-26},{"$f":"(G67-x!G65)^2","v":1.135959703518257E-24},{"$f":"(H67-x!H65)^2","v":4.508624063263962E-25},{"$f":"(I67-x!I65)^2","v":9.2012735984978817E-25},{"$f":"(J67-x!J65)^2","v":1.0706617420885877E-24},{"$f":"(K67-x!K65)^2","v":4.3666291003241799E-25},{"$f":"(L67-x!L65)^2","v":9.2012735984978817E-25}]
[77.700000000004025,19.600000000002421,11.800000000003394,58.100000000003561,39.900000000004397,34.800000000004182,42.600000000003732,34.100000000004385,98.500000000004476,10.000000000005187,83.800000000005014,9.700000000003989,null,{"$f":"(A68-x!A66)^2","v":1.6173844745790877E-23},{"$f":"(B68-x!B66)^2","v":5.8534867562592265E-24},{"$f":"(C68-x!C66)^2","v":1.1511373873347093E-23},{"$f":"(D68-x!D66)^2","v":1.2672312068568268E-23},{"$f":"(E68-x!E66)^2","v":1.9344686931544839E-23},{"$f":"(F68-x!F66)^2","v":1.7515034502411433E-23},{"$f":"(G68-x!G66)^2","v":1.3915506368098648E-23},{"$f":"(H68-x!H66)^2","v":1.9219882825451633E-23},{"$f":"(I68-x!I66)^2","v":2.0038329170062053E-23},{"$f":"(J68-x!J66)^2","v":2.690457448910574E-23},{"$f":"(K68-x!K66)^2","v":2.5164587145903375E-23},{"$f":"(L68-x!L66)^2","v":1.591768583264751E-23}]
[17.500000000013216,68.900000000009555,78.800000000010812,66.60000000001321,75.500000000010033,84.800000000012886,81.900000000011062,27.600000000011072,62.700000000012352,93.90000000001281,11.400000000010976,93.300000000012773,null,{"$f":"(A69-x!A67)^2","v":1.746651640129672E-22},{"$f":"(B69-x!B67)^2","v":9.1196662533971301E-23},{"$f":"(C69-x!C67)^2","v":1.1695255457087938E-22},{"$f":"(D69-x!D67)^2","v":1.746651640129672E-22},{"$f":"(E69-x!E67)^2","v":1.006583485836135E-22},{"$f":"(F69-x!F67)^2","v":1.66132642513705E-22},{"$f":"(G69-x!G67)^2","v":1.222361303438835E-22},{"$f":"(H69-x!H67)^2","v":1.2255056398981735E-22},{"$f":"(I69-x!I67)^2","v":1.5250354945218675E-22},{"$f":"(J69-x!J67)^2","v":1.6394190636014659E-22},{"$f":"(K69-x!K67)^2","v":1.2047496681854138E-22},{"$f":"(L69-x!L67)^2","v":1.632148921498949E-22}]
[88.400000000001853,3.500000000000913,73.300000000000651,89.000000000000824,38.400000000001306,52.800000000000686,6.4000000000015689,6.9000000000019241,80.700000000001012,5.7000000000003652,83.900000000000205,40.200000000001381,null,{"$f":"(A70-x!A68)^2","v":3.4129278203481855E-24},{"$f":"(B70-x!B68)^2","v":8.3365558286308174E-25},{"$f":"(C70-x!C68)^2","v":4.2732279691460121E-25},{"$f":"(D70-x!D68)^2","v":6.7935438980185183E-25},{"$f":"(E70-x!E68)^2","v":1.7092911876584048E-24},{"$f":"(F70-x!F68)^2","v":4.75033104462368E-25},{"$f":"(G70-x!G68)^2","v":2.4602646813234619E-24},{"$f":"(H70-x!H68)^2","v":3.7009851130550693E-24},{"$f":"(I70-x!I68)^2","v":1.0180218427440949E-24},{"$f":"(J70-x!J68)^2","v":1.3325517297083854E-25},{"$f":"(K70-x!K68)^2","v":3.9581884780369488E-26},{"$f":"(L70-x!L68)^2","v":1.900132417849472E-24}]
[75.300000000001276,80.899999999999977,14.600000000001444,11.40000000000164,96.100000000002282,69.300000000001063,92.600000000001174,15.200000000002454,74.500000000001521,30.400000000002237,79.000000000001961,60.300000000000438,null,{"$f":"(A71-x!A69)^2","v":1.6357819730662901E-24},{"$f":"(B71-x!B69)^2","v":8.0779356694631609E-28},{"$f":"(C71-x!C69)^2","v":2.0856504146521078E-24},{"$f":"(D71-x!D69)^2","v":2.6882139284961255E-24},{"$f":"(E71-x!E69)^2","v":5.2347042622038648E-24},{"$f":"(F71-x!F69)^2","v":1.135959703518257E-24},{"$f":"(G71-x!G69)^2","v":1.3912224706732929E-24},{"$f":"(H71-x!H69)^2","v":6.026657502173343E-24},{"$f":"(I71-x!I69)^2","v":2.3121071369920932E-24},{"$f":"(J71-x!J69)^2","v":5.0095822925155134E-24},{"$f":"(K71-x!K69)^2","v":3.8459051722314109E-24},{"$f":"(L71-x!L69)^2","v":1.9407240445885244E-25}]
[90.300000000002029,71.200000000000344,43.900000000002166,18.300000000003436,50.700000000001637,23.500000000002373,60.300000000002115,99.400000000005235,66.500000000002231,66.800000000003081,16.900000000002208,71.700000000002021,null,{"$f":"(A72-x!A70)^2","v":4.1296426626213044E-24},{"$f":"(B72-x!B70)^2","v":1.1632227364026952E-25},{"$f":"(C72-x!C70)^2","v":4.6965622853238159E-24},{"$f":"(D72-x!D70)^2","v":1.1802482480035371E-23},{"$f":"(E72-x!E70)^2","v":2.6707674807162576E-24},{"$f":"(F72-x!F70)^2","v":5.6321386971414523E-24},{"$f":"(G72-x!G70)^2","v":4.4834562449437909E-24},{"$f":"(H72-x!H70)^2","v":2.7348659002534478E-23},{"$f":"(I72-x!I70)^2","v":4.9778259079149363E-24},{"$f":"(J72-x!J70)^2","v":9.5095478184837696E-24},{"$f":"(K72-x!K70)^2","v":4.8831625992884149E-24},{"$f":"(L72-x!L70)^2","v":4.0720873709763794E-24}]
[61.100000000003661,60.800000000002989,78.100000000003192,82.700000000003143,45.600000000002467,17.400000000004383,16.500000000003482,89.000000000002615,10.500000000002473,91.700000000004323,10.400000000003786,62.600000000002893,null,{"$f":"(A73-x!A71)^2","v":1.3390440549583543E-23},{"$f":"(B73-x!B71)^2","v":8.9483837249457506E-24},{"$f":"(C73-x!C71)^2","v":1.0223637331664313E-23},{"$f":"(D73-x!D71)^2","v":9.863361400806256E-24},{"$f":"(E73-x!E71)^2","v":6.0791009751524359E-24},{"$f":"(F73-x!F71)^2","v":1.9219882825451633E-23},{"$f":"(G73-x!G71)^2","v":1.2121952213988156E-23},{"$f":"(H73-x!H71)^2","v":6.8371647506336194E-24},{"$f":"(I73-x!I71)^2","v":6.1141895082166665E-24},{"$f":"(J73-x!J71)^2","v":1.8663262570727687E-23},{"$f":"(K73-x!K71)^2","v":1.4329377508857421E-23},{"$f":"(L73-x!L71)^2","v":8.3631372856931446E-24}]
[14.699999999993558,56.799999999996146,71.099999999995163,32.499999999992944,59.199999999995129,90.399999999993298,30.199999999994333,47.899999999994485,68.799999999994441,88.69999999999348,52.3999999999944,92.899999999993398,null,{"$f":"(A74-x!A72)^2","v":4.1487381452374463E-23},{"$f":"(B74-x!B72)^2","v":1.48312918375261E-23},{"$f":"(C74-x!C72)^2","v":2.3345234084748535E-23},{"$f":"(D74-x!D72)^2","v":4.9782752430865502E-23},{"$f":"(E74-x!E72)^2","v":2.3759026339416785E-23},{"$f":"(F74-x!F72)^2","v":4.4990870504642021E-23},{"$f":"(G74-x!G72)^2","v":3.2110109830478153E-23},{"$f":"(H74-x!H72)^2","v":3.0402118685591552E-23},{"$f":"(I74-x!I72)^2","v":3.0874072077079937E-23},{"$f":"(J74-x!J72)^2","v":4.2546689119454205E-23},{"$f":"(K74-x!K72)^2","v":3.1349660539619581E-23},{"$f":"(L74-x!L72)^2","v":4.3666291003241799E-23}]
[83.00000000000334,51.600000000001998,11.900000000001725,87.400000000001953,54.000000000003595,95.000000000002359,87.900000000003729,61.70000000000222,55.400000000002919,67.100000000003533,51.800000000002967,31.700000000003826,null,{"$f":"(A75-x!A73)^2","v":1.1152599933652577E-23},{"$f":"(B75-x!B73)^2","v":3.986511739978004E-24},{"$f":"(C75-x!C73)^2","v":2.975081618957936E-24},{"$f":"(D75-x!D73)^2","v":3.7903693645038517E-24},{"$f":"(E75-x!E73)^2","v":1.2926514606666687E-23},{"$f":"(F75-x!F73)^2","v":5.5648898826931715E-24},{"$f":"(G75-x!G73)^2","v":1.386254540236573E-23},{"$f":"(H75-x!H73)^2","v":4.9146160613013871E-24},{"$f":"(I75-x!I73)^2","v":8.5283310701336663E-24},{"$f":"(J75-x!J73)^2","v":1.2521002236059636E-23},{"$f":"(K75-x!K73)^2","v":8.8213076994455083E-24},{"$f":"(L75-x!L73)^2","v":1.4640362254913648E-23}]
[37.299999999999471,64.800000000000239,65.699999999997075,28.599999999999881,6.0999999999975358,89.89999999999965,22.099999999999234,70.399999999999039,82.09999999999873,56.199999999996678,7.9999999999992326,80.500000000000682,null,{"$f":"(A76-x!A74)^2","v":2.7646734828737668E-25},{"$f":"(B76-x!B74)^2","v":5.8363085211871337E-26},{"$f":"(C76-x!C74)^2","v":8.5698819517334674E-24},{"$f":"(D76-x!D74)^2","v":1.4590771302967834E-26},{"$f":"(E76-x!E74)^2","v":6.0703446191044826E-24},{"$f":"(F76-x!F74)^2","v":1.2621774483536189E-25},{"$f":"(G76-x!G74)^2","v":5.8888151030386443E-25},{"$f":"(H76-x!H74)^2","v":9.338093633899414E-25},{"$f":"(I76-x!I74)^2","v":1.5996332109454424E-24},{"$f":"(J76-x!J74)^2","v":1.1057886137928121E-23},{"$f":"(K76-x!K74)^2","v":5.8888151030386443E-25},{"$f":"(L76-x!L74)^2","v":4.6528909456107807E-25}]
[69.300000000007643,-30.09999999999421,26.700000000004572,6.5000000000056843,78.80000000000615,9.5000000000063789,58.000000000004995,3.0000000000043219,54.900000000005718,78.400000000005818,95.900000000006429,10.00000000000748,null,{"$f":"(A77-x!A75)^2","v":5.8452750297802378E-23},{"$f":"(B77-x!B75)^2","v":3.35347926253073E-23},{"$f":"(C77-x!C75)^2","v":2.0906315979520354E-23},{"$f":"(D77-x!D75)^2","v":3.2311742677852644E-23},{"$f":"(E77-x!E75)^2","v":3.7863102018299464E-23},{"$f":"(F77-x!F75)^2","v":4.0690332170957257E-23},{"$f":"(G77-x!G75)^2","v":2.4951178182935745E-23},{"$f":"(H77-x!H75)^2","v":1.8678613803943288E-23},{"$f":"(I77-x!I75)^2","v":3.2716901638774155E-23},{"$f":"(J77-x!J75)^2","v":3.3782128918086675E-23},{"$f":"(K77-x!K75)^2","v":4.1258864225350041E-23},{"$f":"(L77-x!L75)^2","v":5.5953970271642406E-23}]
[14.499999999998778,90.799999999997652,42.999999999997129,90.799999999996857,18.69999999999763,12.89999999999759,30.899999999999181,99.299999999997141,10.299999999997965,46.299999999997198,19.39999999999921,35.799999999997794,null,{"$f":"(A78-x!A76)^2","v":1.4936103052837384E-24},{"$f":"(B78-x!B76)^2","v":5.4980449650283639E-24},{"$f":"(C78-x!C76)^2","v":8.2403021764193704E-24},{"$f":"(D78-x!D76)^2","v":9.863361400806256E-24},{"$f":"(E78-x!E76)^2","v":5.6152886282059315E-24},{"$f":"(F78-x!F76)^2","v":5.8105885002333079E-24},{"$f":"(G78-x!G76)^2","v":6.6769187017906439E-25},{"$f":"(H78-x!H76)^2","v":8.1589169745495291E-24},{"$f":"(I78-x!I76)^2","v":4.1440945944049534E-24},{"$f":"(J78-x!J76)^2","v":7.8374151349048953E-24},{"$f":"(K78-x!K76)^2","v":6.2205153364659753E-25},{"$f":"(L78-x!L76)^2","v":4.851810111471311E-24}]
[1.9999999999988063,36.600000000000136,5.899999999999352,53.000000000000256,59.300000000000523,98.399999999999523,33.40000000000029,58.500000000000398,21.499999999999261,56.899999999999636,22.599999999998289,78.899999999999039,null,{"$f":"(A79-x!A77)^2","v":1.4249478520933016E-24},{"$f":"(B79-x!B77)^2","v":1.8225842354226257E-26},{"$f":"(C79-x!C77)^2","v":4.2038397639227719E-25},{"$f":"(D79-x!D77)^2","v":6.5431278922651603E-26},{"$f":"(E79-x!E77)^2","v":2.7646734828737668E-25},{"$f":"(F79-x!F77)^2","v":2.3345234084748535E-25},{"$f":"(G79-x!G77)^2","v":8.4868811627297334E-26},{"$f":"(H79-x!H77)^2","v":1.5832753912147795E-25},{"$f":"(I79-x!I77)^2","v":5.4606845125570968E-25},{"$f":"(J79-x!J77)^2","v":1.3131694172671051E-25},{"$f":"(K79-x!K77)^2","v":2.9323411351130615E-24},{"$f":"(L79-x!L77)^2","v":9.338093633899414E-25}]
[80.600000000008194,60.800000000005028,73.100000000006574,10.400000000007537,16.900000000006827,77.800000000008311,50.00000000000621,59.400000000007047,9.1000000000072845,42.50000000000928,40.300000000007046,48.000000000007461,null,{"$f":"(A80-x!A78)^2","v":6.7234476112467517E-23},{"$f":"(B80-x!B78)^2","v":2.5307364658861137E-23},{"$f":"(C80-x!C78)^2","v":4.3291474788178708E-23},{"$f":"(D80-x!D78)^2","v":5.6807606123512925E-23},{"$f":"(E80-x!E78)^2","v":4.6625895171239299E-23},{"$f":"(F80-x!F78)^2","v":6.9111788362050756E-23},{"$f":"(G80-x!G78)^2","v":3.8565882421542759E-23},{"$f":"(H80-x!H78)^2","v":4.9682535541466225E-23},{"$f":"(I80-x!I78)^2","v":5.3068885060195704E-23},{"$f":"(J80-x!J78)^2","v":8.6112611772002924E-23},{"$f":"(K80-x!K78)^2","v":4.9682535541466225E-23},{"$f":"(L80-x!L78)^2","v":5.5662025472394593E-23}]
[12.599999999996726,91.999999999998323,4.4999999999967599,95.499999999996106,18.399999999996993,60.199999999996152,72.999999999997215,24.099999999996669,71.899999999995288,48.899999999995714,31.999999999996248,88.499999999996135,null,{"$f":"(A81-x!A79)^2","v":1.0717934419432178E-23},{"$f":"(B81-x!B79)^2","v":2.8119294065401263E-24},{"$f":"(C81-x!C79)^2","v":1.0498085196034324E-23},{"$f":"(D81-x!D79)^2","v":1.5161477458015407E-23},{"$f":"(E81-x!E79)^2","v":9.033605946258587E-24},{"$f":"(F81-x!F79)^2","v":1.48312918375261E-23},{"$f":"(G81-x!G79)^2","v":7.7580494169524197E-24},{"$f":"(H81-x!H79)^2","v":1.1105192548692415E-23},{"$f":"(I81-x!I79)^2","v":2.2259559530772686E-23},{"$f":"(J81-x!J79)^2","v":1.835756319273644E-23},{"$f":"(K81-x!K79)^2","v":1.4074995110472612E-23},{"$f":"(L81-x!L79)^2","v":1.4940949814239062E-23}]
[52.899999999996957,40.699999999997509,51.499999999995552,64.399999999995117,27.299999999996551,33.999999999995978,16.399999999996858,68.499999999994728,39.299999999996018,63.699999999994226,60.099999999996612,54.299999999995741,null,{"$f":"(A82-x!A80)^2","v":9.2484285479683729E-24},{"$f":"(B82-x!B80)^2","v":6.220060952584568E-24},{"$f":"(C82-x!C80)^2","v":1.978468199004091E-23},{"$f":"(D82-x!D80)^2","v":2.3897764884539815E-23},{"$f":"(E82-x!E80)^2","v":1.1900326475831744E-23},{"$f":"(F82-x!F80)^2","v":1.6173844745790877E-23},{"$f":"(G82-x!G80)^2","v":9.863361400806256E-24},{"$f":"(H82-x!H80)^2","v":2.7796378587014473E-23},{"$f":"(I82-x!I80)^2","v":1.5832753912147795E-23},{"$f":"(J82-x!J80)^2","v":3.3370406634433725E-23},{"$f":"(K82-x!K80)^2","v":1.1487278905858022E-23},{"$f":"(L82-x!L80)^2","v":1.8114821225869072E-23}]
[50.900000000000531,69.100000000000776,67.999999999999574,60.099999999999056,27.499999999998778,80.299999999998846,52.500000000001364,40.900000000000034,10.500000000000867,95.800000000000423,15.600000000001245,40.600000000001188,null,{"$f":"(A83-x!A81)^2","v":2.8398992587956425E-25},{"$f":"(B83-x!B81)^2","v":6.1089388500315154E-25},{"$f":"(C83-x!C81)^2","v":1.8175355256292112E-25},{"$f":"(D83-x!D81)^2","v":8.9306627535708658E-25},{"$f":"(E83-x!E81)^2","v":1.4936103052837384E-24},{"$f":"(F83-x!F81)^2","v":1.324983398183695E-24},{"$f":"(G83-x!G81)^2","v":1.8611563782443123E-24},{"$f":"(H83-x!H81)^2","v":1.2621774483536189E-27},{"$f":"(I83-x!I81)^2","v":7.5144996565181054E-25},{"$f":"(J83-x!J81)^2","v":1.8175355256292112E-25},{"$f":"(K83-x!K81)^2","v":1.5505881507460417E-24},{"$f":"(L83-x!L81)^2","v":1.4080346742853631E-24}]
[6.5999999999952408,37.599999999995113,62.599999999997117,62.799999999997205,11.8999999999971,22.999999999996049,77.099999999995219,51.199999999996123,19.399999999996162,40.399999999995345,76.899999999995899,37.099999999994282,null,{"$f":"(A84-x!A82)^2","v":2.2646748240273263E-23},{"$f":"(B84-x!B82)^2","v":2.3897764884539815E-23},{"$f":"(C84-x!C82)^2","v":8.3220912750726849E-24},{"$f":"(D84-x!D82)^2","v":7.7976817888307233E-24},{"$f":"(E84-x!E82)^2","v":8.414586793931659E-24},{"$f":"(F84-x!F82)^2","v":1.5607379506969773E-23},{"$f":"(G84-x!G82)^2","v":2.2799165633492825E-23},{"$f":"(H84-x!H82)^2","v":1.5051011687735498E-23},{"$f":"(I84-x!I82)^2","v":1.4722037757596611E-23},{"$f":"(J84-x!J82)^2","v":2.1660227191196454E-23},{"$f":"(K84-x!K82)^2","v":1.6866931626230817E-23},{"$f":"(L84-x!L82)^2","v":3.2716901638774155E-23}]
[9.7000000000003581,39.599999999998616,95.600000000001074,93.899999999999665,50.300000000001205,83.799999999999955,0.20000000000065654,56.000000000000981,7.5000000000002842,82.200000000000216,92.199999999999108,31.299999999999926,null,{"$f":"(A85-x!A83)^2","v":1.2875472150655266E-25},{"$f":"(B85-x!B83)^2","v":1.9197718989458543E-24},{"$f":"(C85-x!C83)^2","v":1.1664539106704804E-24},{"$f":"(D85-x!D83)^2","v":1.1632227364026952E-25},{"$f":"(E85-x!E83)^2","v":1.4590771302967834E-24},{"$f":"(F85-x!F83)^2","v":1.8175355256292112E-27},{"$f":"(G85-x!G83)^2","v":4.3103214723195476E-25},{"$f":"(H85-x!H83)^2","v":9.6147629305785272E-25},{"$f":"(I85-x!I83)^2","v":8.0779356694631609E-26},{"$f":"(J85-x!J83)^2","v":4.543838814073028E-26},{"$f":"(K85-x!K83)^2","v":8.0153316680248214E-25},{"$f":"(L85-x!L83)^2","v":5.5662025472394593E-27}]
[58.800000000002655,2.7000000000013245,8.9000000000022013,61.400000000002123,-6.8999999999977923,-26.299999999997034,5.200000000001932,-6.1999999999978144,89.800000000001916,68.000000000002814,14.10000000000262,55.700000000002873,null,{"$f":"(A86-x!A84)^2","v":7.0619333106364318E-24},{"$f":"(B86-x!B84)^2","v":1.7537016900396321E-24},{"$f":"(C86-x!C84)^2","v":4.8439877667351395E-24},{"$f":"(D86-x!D84)^2","v":4.5135970424104753E-24},{"$f":"(E86-x!E84)^2","v":4.8753150110032763E-24},{"$f":"(F86-x!F84)^2","v":8.8002167142835193E-24},{"$f":"(G86-x!G84)^2","v":3.731805119761149E-24},{"$f":"(H86-x!H84)^2","v":4.7777526385500676E-24},{"$f":"(I86-x!I84)^2","v":3.6805094393991527E-24},{"$f":"(J86-x!J84)^2","v":7.917184749640844E-24},{"$f":"(K86-x!K84)^2","v":6.8650620276858552E-24},{"$f":"(L86-x!L84)^2","v":8.2403021764193704E-24}]
[58.900000000007083,50.20000000000536,87.700000000006327,58.000000000006395,8.9000000000066848,13.200000000007392,67.300000000004573,70.100000000007299,6.6000000000070003,49.800000000008765,15.700000000005744,7.0000000000076739,null,{"$f":"(A87-x!A85)^2","v":5.0184629730421294E-23},{"$f":"(B87-x!B85)^2","v":2.870272296912824E-23},{"$f":"(C87-x!C85)^2","v":3.9990830273636061E-23},{"$f":"(D87-x!D85)^2","v":4.0894549326657252E-23},{"$f":"(E87-x!E85)^2","v":4.4681614941690038E-23},{"$f":"(F87-x!F85)^2","v":5.4659364329196962E-23},{"$f":"(G87-x!G85)^2","v":2.0938817048815459E-23},{"$f":"(H87-x!H85)^2","v":5.3353957303237231E-23},{"$f":"(I87-x!I85)^2","v":4.9008712644331783E-23},{"$f":"(J87-x!J85)^2","v":7.6879531301806531E-23},{"$f":"(K87-x!K85)^2","v":3.3002014902582754E-23},{"$f":"(L87-x!L85)^2","v":5.8888151030386443E-23}]
[51.499999999994188,9.5999999999960259,37.399999999994868,98.899999999994122,70.599999999996129,46.499999999993662,39.199999999995917,35.39999999999467,80.799999999995549,30.699999999992855,40.1999999999951,21.399999999994147,null,{"$f":"(A88-x!A86)^2","v":3.3782128918086675E-23},{"$f":"(B88-x!B86)^2","v":1.5790373148875702E-23},{"$f":"(C88-x!C86)^2","v":2.6318116359502715E-23},{"$f":"(D88-x!D86)^2","v":3.4613146550082698E-23},{"$f":"(E88-x!E86)^2","v":1.4940949814239062E-23},{"$f":"(F88-x!F86)^2","v":4.0170766290673353E-23},{"$f":"(G88-x!G86)^2","v":1.669229675447661E-23},{"$f":"(H88-x!H86)^2","v":2.8398992587956425E-23},{"$f":"(I88-x!I86)^2","v":1.978468199004091E-23},{"$f":"(J88-x!J86)^2","v":5.1043983246132856E-23},{"$f":"(K88-x!K86)^2","v":2.4036907326446318E-23},{"$f":"(L88-x!L86)^2","v":3.4237939060010618E-23}]
[62.400000000001825,15.600000000002765,44.50000000000145,7.3000000000027399,4.1000000000017707,75.200000000002646,62.700000000003271,94.700000000001964,32.900000000001768,88.700000000002831,23.000000000002487,43.700000000003456,null,{"$f":"(A89-x!A87)^2","v":3.334622331452327E-24},{"$f":"(B89-x!B87)^2","v":7.6495810424845306E-24},{"$f":"(C89-x!C87)^2","v":2.1010710676273681E-24},{"$f":"(D89-x!D87)^2","v":7.5077667286920441E-24},{"$f":"(E89-x!E87)^2","v":3.1365393581513309E-24},{"$f":"(F89-x!F87)^2","v":6.9866065605186879E-24},{"$f":"(G89-x!G87)^2","v":1.068306992286503E-23},{"$f":"(H89-x!H87)^2","v":3.8459051722314109E-24},{"$f":"(I89-x!I87)^2","v":3.130250559014909E-24},{"$f":"(J89-x!J87)^2","v":7.9973582611602659E-24},{"$f":"(K89-x!K87)^2","v":6.1846694969327326E-24},{"$f":"(L89-x!L87)^2","v":1.1924850583653255E-23}]
[34.499999999997783,48.799999999999386,9.9999999999988489,19.399999999998315,81.899999999997675,21.599999999999,94.699999999998624,61.699999999998184,34.499999999999474,43.99999999999919,74.899999999998357,99.799999999997439,null,{"$f":"(A90-x!A88)^2","v":4.9146160613013871E-24},{"$f":"(B90-x!B88)^2","v":3.7340257632093461E-25},{"$f":"(C90-x!C88)^2","v":1.324983398183695E-24},{"$f":"(D90-x!D88)^2","v":2.8358098038629768E-24},{"$f":"(E90-x!E88)^2","v":5.4316039441470294E-24},{"$f":"(F90-x!F88)^2","v":1.0037339940287319E-24},{"$f":"(G90-x!G88)^2","v":1.900132417849472E-24},{"$f":"(H90-x!H88)^2","v":3.3087224502121107E-24},{"$f":"(I90-x!I88)^2","v":2.7646734828737668E-25},{"$f":"(J90-x!J88)^2","v":6.5613032475214524E-25},{"$f":"(K90-x!K88)^2","v":2.7174175592074073E-24},{"$f":"(L90-x!L88)^2","v":6.5431278922651603E-24}]
[-20.200000000001197,31.99999999999882,28.299999999997823,96.599999999997962,57.799999999997425,13.599999999998332,15.199999999999612,-13.700000000002149,53.999999999998266,40.399999999999352,49.699999999999648,79.699999999999662,null,{"$f":"(A91-x!A89)^2","v":1.4334423063207214E-24},{"$f":"(B91-x!B89)^2","v":1.3912224706732929E-24},{"$f":"(C91-x!C89)^2","v":4.7428715759039102E-24},{"$f":"(D91-x!D89)^2","v":4.1296426626213044E-24},{"$f":"(E91-x!E89)^2","v":6.6160312616820653E-24},{"$f":"(F91-x!F89)^2","v":2.782220904849503E-24},{"$f":"(G91-x!G89)^2","v":1.4995930263889346E-25},{"$f":"(H91-x!H89)^2","v":4.6198850053363335E-24},{"$f":"(I91-x!I89)^2","v":3.0057998626072422E-24},{"$f":"(J91-x!J89)^2","v":4.1808365799265272E-25},{"$f":"(K91-x!K89)^2","v":1.2621774483536189E-25},{"$f":"(L91-x!L89)^2","v":1.1632227364026952E-25}]
[88.899999999998073,37.899999999999139,83.899999999998442,59.500000000001236,73.599999999999639,38.099999999997436,12.099999999999238,16.999999999999261,4.29999999999837,76.899999999998698,19.699999999997775,63.299999999997226,null,{"$f":"(A92-x!A90)^2","v":3.7352374535597656E-24},{"$f":"(B92-x!B90)^2","v":7.3918160085381337E-25},{"$f":"(C92-x!C90)^2","v":2.4435755400126062E-24},{"$f":"(D92-x!D90)^2","v":1.5285473770541666E-24},{"$f":"(E92-x!E90)^2","v":1.2621774483536189E-25},{"$f":"(F92-x!F90)^2","v":6.5795290898756787E-24},{"$f":"(G92-x!G90)^2","v":5.8073099943112093E-25},{"$f":"(H92-x!H90)^2","v":5.4606845125570968E-25},{"$f":"(I92-x!I90)^2","v":2.6562721615828215E-24},{"$f":"(J92-x!J90)^2","v":1.7092911876584048E-24},{"$f":"(K92-x!K90)^2","v":4.9461704975102276E-24},{"$f":"(L92-x!L90)^2","v":7.6790875957834173E-24}]
[98.70000000000185,2.3000000000024983,24.500000000001894,1.4000000000018034,84.800000000000551,39.200000000001779,9.30000000000204,30.600000000001643,82.100000000001387,93.900000000002024,71.700000000001907,37.200000000002113,null,{"$f":"(A93-x!A91)^2","v":3.4129278203481855E-24},{"$f":"(B93-x!B91)^2","v":6.2422318883258046E-24},{"$f":"(C93-x!C91)^2","v":3.5857072912533124E-24},{"$f":"(D93-x!D91)^2","v":3.2524184891780925E-24},{"$f":"(E93-x!E91)^2","v":3.0716350383133669E-25},{"$f":"(F93-x!F91)^2","v":3.1554436208840472E-24},{"$f":"(G93-x!G91)^2","v":4.1585717697375694E-24},{"$f":"(H93-x!H91)^2","v":2.6940420328638983E-24},{"$f":"(I93-x!I91)^2","v":1.9395123542381049E-24},{"$f":"(J93-x!J91)^2","v":4.0720873709763794E-24},{"$f":"(K93-x!K91)^2","v":3.6261853220220129E-24},{"$f":"(L93-x!L91)^2","v":4.4534164216729747E-24}]
[59.200000000002952,13.100000000002648,40.800000000003749,55.900000000003111,39.300000000001639,21.000000000003986,50.90000000000375,18.200000000002923,0.1000000000019341,17.400000000004788,61.600000000003128,66.800000000001006,null,{"$f":"(A94-x!A92)^2","v":8.6951404417080805E-24},{"$f":"(B94-x!B92)^2","v":7.0148067601585286E-24},{"$f":"(C94-x!C92)^2","v":1.4074995110472612E-23},{"$f":"(D94-x!D92)^2","v":9.6856468160780665E-24},{"$f":"(E94-x!E92)^2","v":2.6940420328638983E-24},{"$f":"(F94-x!F92)^2","v":1.5889349948931972E-23},{"$f":"(G94-x!G92)^2","v":1.4074995110472612E-23},{"$f":"(H94-x!H92)^2","v":8.5490938891590833E-24},{"$f":"(I94-x!I92)^2","v":3.7407109965358927E-24},{"$f":"(J94-x!J92)^2","v":2.2935076901131543E-23},{"$f":"(K94-x!K92)^2","v":9.7743021600504247E-24},{"$f":"(L94-x!L92)^2","v":1.0180218427440949E-24}]
[-17.800000000005554,52.199999999998113,89.99999999999703,36.599999999994893,-79.40000000000218,40.499999999996859,27.999999999993882,28.09999999999755,92.199999999999307,44.499999999997073,-68.600000000004044,85.399999999996112,null,{"$f":"(A95-x!A93)^2","v":3.083460378826992E-23},{"$f":"(B95-x!B93)^2","v":3.5722651014283463E-24},{"$f":"(C95-x!C93)^2","v":8.8213076994455083E-24},{"$f":"(D95-x!D93)^2","v":2.6099860635133407E-23},{"$f":"(E95-x!E93)^2","v":4.7274099021615783E-24},{"$f":"(F95-x!F93)^2","v":9.863361400806256E-24},{"$f":"(G95-x!G93)^2","v":3.7427145927638124E-23},{"$f":"(H95-x!H93)^2","v":6.0092268316115795E-24},{"$f":"(I95-x!I93)^2","v":4.8487808855952623E-25},{"$f":"(J95-x!J93)^2","v":8.5698819517334674E-24},{"$f":"(K95-x!K93)^2","v":1.6403258118803631E-23},{"$f":"(L95-x!L93)^2","v":1.5161477458015407E-23}]
[20.29999999999735,49.299999999999514,74.899999999996965,62.499999999998067,39.39999999999776,11.599999999998388,90.799999999996786,93.899999999996581,10.999999999997964,75.199999999995896,42.899999999998428,48.899999999996695,null,{"$f":"(A96-x!A94)^2","v":7.0242194484796257E-24},{"$f":"(B96-x!B94)^2","v":2.3345234084748535E-25},{"$f":"(C96-x!C94)^2","v":9.2484285479683729E-24},{"$f":"(D96-x!D94)^2","v":3.7352374535597656E-24},{"$f":"(E96-x!E94)^2","v":5.0095822925155134E-24},{"$f":"(F96-x!F94)^2","v":2.5958225392766406E-24},{"$f":"(G96-x!G94)^2","v":1.031471605633751E-23},{"$f":"(H96-x!H94)^2","v":1.1729364540452246E-23},{"$f":"(I96-x!I94)^2","v":4.1440945944049534E-24},{"$f":"(J96-x!J94)^2","v":1.6866931626230817E-23},{"$f":"(K96-x!K94)^2","v":2.465840350201564E-24},{"$f":"(L96-x!L94)^2","v":1.091657275081045E-23}]
[63.399999999994748,68.799999999995521,18.099999999997067,94.499999999996135,-35.700000000003115,52.899999999995373,9.5999999999940258,0.99999999999658939,39.099999999996271,79.49999999999568,83.299999999995634,90.299999999994043,null,{"$f":"(A97-x!A95)^2","v":2.7572064410893068E-23},{"$f":"(B97-x!B95)^2","v":2.0038329170062053E-23},{"$f":"(C97-x!C95)^2","v":8.6115338075291368E-24},{"$f":"(D97-x!D95)^2","v":1.4940949814239062E-23},{"$f":"(E97-x!E95)^2","v":9.6856468160780665E-24},{"$f":"(F97-x!F95)^2","v":2.1396482591588482E-23},{"$f":"(G97-x!G95)^2","v":3.568733844472215E-23},{"$f":"(H97-x!H95)^2","v":1.1632227364026952E-23},{"$f":"(I97-x!I95)^2","v":1.3915506368098648E-23},{"$f":"(J97-x!J95)^2","v":1.8663262570727687E-23},{"$f":"(K97-x!K95)^2","v":1.9033433972780836E-23},{"$f":"(L97-x!L95)^2","v":3.545426160166555E-23}]
[18.59999999999954,60.299999999999663,82.699999999998425,51.799999999999059,90.19999999999979,79.999999999998991,9.5000000000001208,49.799999999998889,43.399999999999352,32.899999999998471,89.60000000000025,15.399999999999345,null,{"$f":"(A98-x!A96)^2","v":2.1330798877176159E-25},{"$f":"(B98-x!B96)^2","v":1.1152599933652577E-25},{"$f":"(C98-x!C96)^2","v":2.4882061345863901E-24},{"$f":"(D98-x!D96)^2","v":8.7968719440453822E-25},{"$f":"(E98-x!E96)^2","v":4.543838814073028E-26},{"$f":"(F98-x!F96)^2","v":1.0180218427440949E-24},{"$f":"(G98-x!G96)^2","v":1.4590771302967834E-26},{"$f":"(H98-x!H96)^2","v":1.2286540153253468E-24},{"$f":"(I98-x!I96)^2","v":4.1808365799265272E-25},{"$f":"(J98-x!J96)^2","v":2.3337661020058413E-24},{"$f":"(K98-x!K96)^2","v":6.5431278922651603E-26},{"$f":"(L98-x!L96)^2","v":4.2964835886319275E-25}]
[15.199999999999584,17.500000000000188,96.599999999999142,96.900000000000261,39.599999999999305,43.099999999998786,44.800000000000509,29.999999999999734,48.899999999999388,70.8,41.100000000001017,43.500000000000028,null,{"$f":"(A99-x!A97)^2","v":1.7277947090512689E-25},{"$f":"(B99-x!B97)^2","v":3.5454564524253155E-26},{"$f":"(C99-x!C97)^2","v":7.2701421025168448E-25},{"$f":"(D99-x!D97)^2","v":6.5431278922651603E-26},{"$f":"(E99-x!E97)^2","v":4.8487808855952623E-25},{"$f":"(F99-x!F97)^2","v":1.4762932306923268E-24},{"$f":"(G99-x!G97)^2","v":2.6172511569060641E-25},{"$f":"(H99-x!H97)^2","v":7.0997481469891062E-26},{"$f":"(I99-x!I97)^2","v":3.7340257632093461E-25},{"$f":"(J99-x!J97)^2","v":0},{"$f":"(K99-x!K97)^2","v":1.0324106656553261E-24},{"$f":"(L99-x!L97)^2","v":8.0779356694631609E-28}]
[7.5000000000041496,49.900000000002933,37.000000000004007,85.600000000004229,28.000000000003979,7.2000000000037971,81.900000000001967,71.200000000003342,59.00000000000307,4.200000000004934,8.6000000000034902,37.100000000004229,null,{"$f":"(A100-x!A98)^2","v":1.7218927673027674E-23},{"$f":"(B100-x!B98)^2","v":8.6115338075291368E-24},{"$f":"(C100-x!C98)^2","v":1.605974390445971E-23},{"$f":"(D100-x!D98)^2","v":1.7933824979775163E-23},{"$f":"(E100-x!E98)^2","v":1.5832753912147795E-23},{"$f":"(F100-x!F98)^2","v":1.4416926080979754E-23},{"$f":"(G100-x!G98)^2","v":3.8459051722314109E-24},{"$f":"(H100-x!H98)^2","v":1.1152599933652577E-23},{"$f":"(I100-x!I98)^2","v":9.4221041648618309E-24},{"$f":"(J100-x!J98)^2","v":2.4342689534832613E-23},{"$f":"(K100-x!K98)^2","v":1.2183877795048005E-23},{"$f":"(L100-x!L98)^2","v":1.7873694846135597E-23}]
[79.600000000001842,39.000000000001236,2.5000000000020464,27.200000000002603,57.00000000000216,59.500000000001648,54.100000000001529,76.600000000002368,20.700000000001864,14.70000000000249,94.200000000002177,40.600000000001955,null,{"$f":"(A101-x!A99)^2","v":3.4129278203481855E-24},{"$f":"(B101-x!B99)^2","v":1.5285473770541666E-24},{"$f":"(C101-x!C99)^2","v":4.1876018510497026E-24},{"$f":"(D101-x!D99)^2","v":6.7815405904846754E-24},{"$f":"(E101-x!E99)^2","v":4.6658156426819217E-24},{"$f":"(F101-x!F99)^2","v":2.7174175592074073E-24},{"$f":"(G101-x!G99)^2","v":2.3337661020058413E-24},{"$f":"(H101-x!H99)^2","v":5.6321386971414523E-24},{"$f":"(I101-x!I99)^2","v":3.4788765920246621E-24},{"$f":"(J101-x!J99)^2","v":6.2023526029841668E-24},{"$f":"(K101-x!K99)^2","v":4.7274099021615783E-24},{"$f":"(L101-x!L99)^2","v":3.8180867812696971E-24}]
[65.199999999999292,69.899999999999466,84.39999999999911,49.099999999998047,51.599999999997991,71.499999999998451,10.999999999998423,75.499999999998863,9.8999999999989399,66.69999999999682,-78.800000000002328,78.899999999998371,null,{"$f":"(A102-x!A100)^2","v":5.0487097934144756E-25},{"$f":"(B102-x!B100)^2","v":2.9161347766762011E-25},{"$f":"(C102-x!C100)^2","v":8.0153316680248214E-25},{"$f":"(D102-x!D100)^2","v":3.8180867812696971E-24},{"$f":"(E102-x!E100)^2","v":4.0434611864477193E-24},{"$f":"(F102-x!F100)^2","v":2.3993488422222954E-24},{"$f":"(G102-x!G100)^2","v":2.4882061345863901E-24},{"$f":"(H102-x!H100)^2","v":1.2924697071141057E-24},{"$f":"(I102-x!I100)^2","v":1.1246285054756624E-24},{"$f":"(J102-x!J100)^2","v":1.0132962503774589E-23},{"$f":"(K102-x!K100)^2","v":5.4316039441470294E-24},{"$f":"(L102-x!L100)^2","v":2.6707674807162576E-24}]
[]
[null,null,null,null,null,null,null,null,null,null,null,null,null,{"$f":"SQRT(SUM(N3:N102)/100)","v":6.976984271095477E-12},{"$f":"SQRT(SUM(O3:O102)/100)","v":5.8046467975863719E-12},{"$f":"SQRT(SUM(P3:P102)/100)","v":6.1833424865226336E-12},6.7655118809336591E-12,5.7546432303529043E-12,6.7754592952237694E-12,5.8822238317948236E-12,6.3867957894128146E-12,6.6110812414695417E-12,7.3193110901603103E-12,6.6421156843773491E-12,7.5447202462327932E-12]

{"sheet":"DP","index":6,"n_rows":117,"n_cols":25,"rows_kept":117,"cut":false,"hidden":false,"merged":[[0,0,0,11],[0,13,0,24]]}
["Solution Vectors, x, for Each Input b Vector Using Excel Minverse",null,null,null,null,null,null,null,null,null,null,null,null,"Square of the Error for Each Solution Value in Each x Solution Using Excel Minverse"]
["x1","x2","x3","x4","x5","x6","x7","x8","x9","x10","x11","x12",null,"Esqd1","Esqd2","Esqd3","Esqd4","Esqd5","Esqd6","Esqd7","Esqd8","Esqd9","Esqd10","Esqd11","Esqd12"]
[{"$f":"gaussian(A,b)","v":32.400000000001121},80.099999999999909,63.200000000000863,84.100000000005451,92.40000000000154,63.700000000010334,14.699999999998766,39.899999999982462,48.899999999992801,26.399999999996261,80.000000000007915,65.200000000001097,null,{"$f":"(A3-x!A1)^2","v":1.2603599128279897E-24},{"$f":"(B3-x!B1)^2","v":7.2701421025168448E-27},{"$f":"(C3-x!C1)^2","v":7.3918160085381337E-25},{"$f":"(D3-x!D1)^2","v":2.9778502051908996E-23},{"$f":"(E3-x!E1)^2","v":2.3555260412154577E-24},{"$f":"(F3-x!F1)^2","v":1.0673558153614237E-22},{"$f":"(G3-x!G1)^2","v":1.519775243788109E-24},{"$f":"(H3-x!H1)^2","v":3.0751812520722613E-22},{"$f":"(I3-x!I1)^2","v":5.180829479998339E-23},{"$f":"(J3-x!J1)^2","v":1.3968568308027434E-23},{"$f":"(K3-x!K1)^2","v":6.2654286587881905E-23},{"$f":"(L3-x!L1)^2","v":1.197352014606177E-24}]
[5.0999999999945516,15.999999999998829,58.499999999996653,77.800000000003024,34.599999999998573,51.999999999993214,84.499999999998039,56.900000000010458,50.700000000002717,58.900000000007921,96.39999999999948,75.400000000002834,null,{"$f":"(A4-x!A2)^2","v":2.968164570996596E-23},{"$f":"(B4-x!B2)^2","v":1.3703492111211449E-24},{"$f":"(C4-x!C2)^2","v":1.1200108292808607E-23},{"$f":"(D4-x!D2)^2","v":9.1621965846968537E-24},{"$f":"(E4-x!E2)^2","v":2.0397292436373823E-24},{"$f":"(F4-x!F2)^2","v":4.6045495493388371E-23},{"$f":"(G4-x!G2)^2","v":3.8459051722314109E-24},{"$f":"(H4-x!H2)^2","v":1.0939463601013791E-22},{"$f":"(I4-x!I2)^2","v":7.3672792789421393E-24},{"$f":"(J4-x!J2)^2","v":6.2766822329177114E-23},{"$f":"(K4-x!K2)^2","v":2.7646734828737668E-25},{"$f":"(L4-x!L2)^2","v":7.9973582611602659E-24}]
[64.800000000001234,92.200000000003428,85.499999999999829,73.299999999997979,85.500000000007446,34.799999999996118,-18.899999999994897,14.399999999999963,53.299999999999379,76.80000000000507,68.100000000000861,34.199999999998319,null,{"$f":"(A5-x!A3)^2","v":1.5285473770541666E-24},{"$f":"(B5-x!B3)^2","v":1.1729364540452246E-23},{"$f":"(C5-x!C3)^2","v":2.9080568410067379E-26},{"$f":"(D5-x!D3)^2","v":4.0720873709763794E-24},{"$f":"(E5-x!E3)^2","v":5.5450181609462922E-23},{"$f":"(F5-x!F3)^2","v":1.5051011687735498E-23},{"$f":"(G5-x!G3)^2","v":2.6027310675402041E-23},{"$f":"(H5-x!H3)^2","v":1.3915506368098648E-27},{"$f":"(I5-x!I3)^2","v":3.8213684426354165E-25},{"$f":"(J5-x!J3)^2","v":2.573812057843526E-23},{"$f":"(K5-x!K3)^2","v":7.5144996565181054E-25},{"$f":"(L5-x!L3)^2","v":2.8358098038629768E-24}]
[4.00000000000108,25.599999999996005,74.199999999998738,63.699999999993516,87.700000000004721,86.499999999997954,83.999999999995794,25.000000000007422,68.699999999994773,74.600000000007455,49.999999999997748,95.000000000003254,null,{"$f":"(A6-x!A4)^2","v":1.1664539106704804E-24},{"$f":"(B6-x!B4)^2","v":1.5974433330725489E-23},{"$f":"(C6-x!C4)^2","v":1.5996332109454424E-24},{"$f":"(D6-x!D4)^2","v":4.208447973786711E-23},{"$f":"(E6-x!E4)^2","v":2.2259559530772686E-23},{"$f":"(F6-x!F4)^2","v":4.1876018510497026E-24},{"$f":"(G6-x!G4)^2","v":1.7693910290392108E-23},{"$f":"(H6-x!H4)^2","v":5.5080426725967729E-23},{"$f":"(I6-x!I4)^2","v":2.7348659002534478E-23},{"$f":"(J6-x!J4)^2","v":5.5662025472394593E-23},{"$f":"(K6-x!K4)^2","v":5.0733979843042723E-24},{"$f":"(L6-x!L4)^2","v":1.0590375611057941E-23}]
[39.900000000005534,83.200000000001765,9.9000000000044821,23.699999999990187,58.399999999994371,95.900000000002166,23.200000000008135,64.400000000009911,80.900000000009456,26.599999999997639,-10.100000000000497,-16.800000000003063,null,{"$f":"(A7-x!A5)^2","v":3.0637640997454338E-23},{"$f":"(B7-x!B5)^2","v":3.105158471341639E-24},{"$f":"(C7-x!C5)^2","v":2.0086067876602408E-23},{"$f":"(D7-x!D5)^2","v":9.6287024183181446E-23},{"$f":"(E7-x!E5)^2","v":3.1668738998563376E-23},{"$f":"(F7-x!F5)^2","v":4.6658156426819217E-24},{"$f":"(G7-x!G5)^2","v":6.6189847569112128E-23},{"$f":"(H7-x!H5)^2","v":9.8108346241155718E-23},{"$f":"(I7-x!I5)^2","v":8.9306627535708658E-23},{"$f":"(J7-x!J5)^2","v":5.5816642209817911E-24},{"$f":"(K7-x!K5)^2","v":2.473867798773093E-25},{"$f":"(L7-x!L5)^2","v":9.3785337993446639E-24}]
[60.10000000000619,34.19999999999574,44.200000000002944,39.099999999994274,70.999999999996618,3.200000000002063,13.70000000000695,88.200000000008558,71.200000000012793,78.69999999999493,21.799999999993865,99.099999999997621,null,{"$f":"(A8-x!A6)^2","v":3.8301582463857511E-23},{"$f":"(B8-x!B6)^2","v":1.8175355256292112E-23},{"$f":"(C8-x!C6)^2","v":8.6532866375206745E-24},{"$f":"(D8-x!D6)^2","v":3.2798236353546062E-23},{"$f":"(E8-x!E6)^2","v":1.1439164701526782E-23},{"$f":"(F8-x!F6)^2","v":4.2551206531427953E-24},{"$f":"(G8-x!G6)^2","v":4.831479272677593E-23},{"$f":"(H8-x!H6)^2","v":7.3186904958903184E-23},{"$f":"(I8-x!I6)^2","v":1.6357819730662901E-22},{"$f":"(J8-x!J6)^2","v":2.573812057843526E-23},{"$f":"(K8-x!K6)^2","v":3.7644808428606706E-23},{"$f":"(L8-x!L6)^2","v":5.6321386971414523E-24}]
[-46.09999999999912,96.900000000001171,1.8999999999996982,88.000000000002288,85.099999999999071,43.39999999999884,86.499999999999446,28.399999999996759,64.499999999999631,36.800000000000566,42.899999999999842,76.400000000001214,null,{"$f":"(A9-x!A7)^2","v":7.7628961783540976E-25},{"$f":"(B9-x!B7)^2","v":1.3579009860367573E-24},{"$f":"(C9-x!C7)^2","v":9.1058263593467969E-26},{"$f":"(D9-x!D7)^2","v":5.2347042622038648E-24},{"$f":"(E9-x!E7)^2","v":8.5323195508704637E-25},{"$f":"(F9-x!F7)^2","v":1.341391705012292E-24},{"$f":"(G9-x!G7)^2","v":3.0716350383133669E-25},{"$f":"(H9-x!H7)^2","v":1.0498085196034324E-23},{"$f":"(I9-x!I7)^2","v":1.3651711281392742E-25},{"$f":"(J9-x!J7)^2","v":3.2311742677852644E-25},{"$f":"(K9-x!K7)^2","v":2.4435755400126062E-26},{"$f":"(L9-x!L7)^2","v":1.4590771302967834E-24}]
[67.099999999997522,79.200000000001211,3.3999999999993862,43.900000000005711,3.599999999992169,15.900000000004921,30.399999999997998,68.099999999997991,9.9000000000026684,6.4999999999951967,89.199999999999463,57.000000000001577,null,{"$f":"(A10-x!A8)^2","v":6.1141895082166665E-24},{"$f":"(B10-x!B8)^2","v":1.4590771302967834E-24},{"$f":"(C10-x!C8)^2","v":3.7666609388583394E-25},{"$f":"(D10-x!D8)^2","v":3.2635667898198116E-23},{"$f":"(E10-x!E8)^2","v":6.132564366395889E-23},{"$f":"(F10-x!F8)^2","v":2.4211403358681206E-23},{"$f":"(G10-x!G8)^2","v":4.0007112362719823E-24},{"$f":"(H10-x!H8)^2","v":4.0149359761149275E-24},{"$f":"(I10-x!I8)^2","v":7.1186934304888941E-24},{"$f":"(J10-x!J8)^2","v":2.3071392065553734E-23},{"$f":"(K10-x!K8)^2","v":2.9161347766762011E-25},{"$f":"(L10-x!L8)^2","v":2.4882061345863901E-24}]
[61.300000000002321,72.100000000001558,67.299999999999542,39.800000000005021,96.100000000005863,98.800000000000679,19.700000000002824,90.599999999988867,74.399999999996339,27.400000000000844,51.800000000002846,62.899999999997739,null,{"$f":"(A11-x!A9)^2","v":5.3985348950001646E-24},{"$f":"(B11-x!B9)^2","v":2.4435755400126062E-24},{"$f":"(C11-x!C9)^2","v":2.0679515313825692E-25},{"$f":"(D11-x!D9)^2","v":2.5235925415284322E-23},{"$f":"(E11-x!E9)^2","v":3.4446135230116547E-23},{"$f":"(F11-x!F9)^2","v":4.6528909456107807E-25},{"$f":"(G11-x!G9)^2","v":7.9772770179569598E-24},{"$f":"(H11-x!H9)^2","v":1.238123375413875E-22},{"$f":"(I11-x!I9)^2","v":1.3442492747553646E-23},{"$f":"(J11-x!J9)^2","v":7.1494779384542388E-25},{"$f":"(K11-x!K9)^2","v":8.1183758349084108E-24},{"$f":"(L11-x!L9)^2","v":5.1054572914924543E-24}]
[9.5999999999985768,18.500000000001478,8.7999999999994429,85.799999999996928,70.299999999999855,21.399999999996222,24.49999999999871,63.100000000001799,8.7999999999974197,80.30000000000723,32.399999999996297,67.09999999999782,null,{"$f":"(A12-x!A10)^2","v":2.0245357826028256E-24},{"$f":"(B12-x!B10)^2","v":2.1842738050228387E-24},{"$f":"(C12-x!C10)^2","v":3.1111411924468352E-25},{"$f":"(D12-x!D10)^2","v":9.4221041648618309E-24},{"$f":"(E12-x!E10)^2","v":2.0194839173657902E-26},{"$f":"(F12-x!F10)^2","v":1.4262213891386904E-23},{"$f":"(G12-x!G10)^2","v":1.6631586019210801E-24},{"$f":"(H12-x!H10)^2","v":3.2316286516666717E-24},{"$f":"(I12-x!I10)^2","v":6.6618009714029885E-24},{"$f":"(J12-x!J10)^2","v":5.232099127950463E-23},{"$f":"(K12-x!K10)^2","v":1.3704268350342187E-23},{"$f":"(L12-x!L10)^2","v":4.7274099021615783E-24}]
[61.299999999997993,81.1000000000016,85.299999999997539,9.1000000000034245,63.899999999995444,69.100000000000307,11.699999999995802,73.499999999996831,67.599999999996328,70.300000000003195,19.900000000005203,30.70000000000045,null,{"$f":"(A13-x!A11)^2","v":4.0149359761149275E-24},{"$f":"(B13-x!B11)^2","v":2.5786790140843775E-24},{"$f":"(C13-x!C11)^2","v":6.0441134162840736E-24},{"$f":"(D13-x!D11)^2","v":1.1729364540452246E-23},{"$f":"(E13-x!E11)^2","v":2.0744189286279331E-23},{"$f":"(F13-x!F11)^2","v":9.7743021600504247E-26},{"$f":"(G13-x!G11)^2","v":1.7619268271540095E-23},{"$f":"(H13-x!H11)^2","v":1.0042691572668338E-23},{"$f":"(I13-x!I11)^2","v":1.3442492747553646E-23},{"$f":"(J13-x!J11)^2","v":1.0223637331664313E-23},{"$f":"(K13-x!K11)^2","v":2.7089167940927457E-23},{"$f":"(L13-x!L11)^2","v":2.0357660064495519E-25}]
[93.999999999998153,46.900000000000674,19.399999999995241,58.200000000005303,-71.399999999999537,80.500000000001961,77.799999999994938,70.199999999995171,81.999999999999659,59.599999999997188,67.599999999996527,74.299999999995507,null,{"$f":"(A14-x!A12)^2","v":3.4129278203481855E-24},{"$f":"(B14-x!B12)^2","v":4.5564605885565642E-25},{"$f":"(C14-x!C12)^2","v":2.2629844528796187E-23},{"$f":"(D14-x!D12)^2","v":2.8096877793918503E-23},{"$f":"(E14-x!E12)^2","v":2.1992179860113456E-25},{"$f":"(F14-x!F12)^2","v":3.8459051722314109E-24},{"$f":"(G14-x!G12)^2","v":2.5594131375127079E-23},{"$f":"(H14-x!H12)^2","v":2.3345234084748535E-23},{"$f":"(I14-x!I12)^2","v":1.1632227364026952E-25},{"$f":"(J14-x!J12)^2","v":7.917184749640844E-24},{"$f":"(K14-x!K12)^2","v":1.2023199450428969E-23},{"$f":"(L14-x!L12)^2","v":2.0165758605247835E-23}]
[66.900000000002393,51.300000000001802,9.5999999999992749,20.800000000000871,15.600000000006883,37.400000000000837,0.4000000000029193,78.500000000000597,10.999999999998561,63.900000000002294,79.900000000003544,81.599999999996498,null,{"$f":"(A15-x!A13)^2","v":5.6997914083732063E-24},{"$f":"(B15-x!B13)^2","v":3.257225610319283E-24},{"$f":"(C15-x!C13)^2","v":5.2526776690684204E-25},{"$f":"(D15-x!D13)^2","v":7.5762201337425974E-25},{"$f":"(E15-x!E13)^2","v":4.7380958119837022E-23},{"$f":"(F15-x!F13)^2","v":7.0298235163503158E-25},{"$f":"(G15-x!G13)^2","v":8.5221719677419312E-24},{"$f":"(H15-x!H13)^2","v":3.562369630233254E-25},{"$f":"(I15-x!I13)^2","v":2.0702865596620234E-24},{"$f":"(J15-x!J13)^2","v":5.2672684403713882E-24},{"$f":"(K15-x!K13)^2","v":1.2521002236059636E-23},{"$f":"(L15-x!L13)^2","v":1.2221108874330816E-23}]
[31.79999999999939,97.400000000005008,57.69999999999763,5.0000000000034008,11.200000000004556,87.899999999996083,6.1999999999979787,47.600000000000776,53.799999999999109,95.600000000003817,88.099999999995092,70.399999999995487,null,{"$f":"(A16-x!A14)^2","v":3.7340257632093461E-25},{"$f":"(B16-x!B14)^2","v":2.5022213529729087E-23},{"$f":"(C16-x!C14)^2","v":5.6321386971414523E-24},{"$f":"(D16-x!D14)^2","v":1.1565679846923412E-23},{"$f":"(E16-x!E14)^2","v":2.0760373556610846E-23},{"$f":"(F16-x!F14)^2","v":1.5383620688925644E-23},{"$f":"(G16-x!G14)^2","v":4.0864383285641601E-24},{"$f":"(H16-x!H14)^2","v":5.9983721055557384E-25},{"$f":"(I16-x!I14)^2","v":7.8886090522101181E-25},{"$f":"(J16-x!J14)^2","v":1.4613187574450595E-23},{"$f":"(K16-x!K14)^2","v":2.4036907326446318E-23},{"$f":"(L16-x!L14)^2","v":2.0421829165969817E-23}]
[94.899999999999395,54.10000000000111,95.699999999999065,7.300000000008855,8.5000000000052509,69.100000000003973,72.70000000000195,53.799999999985445,60.99999999999153,42.500000000005116,40.400000000007296,86.699999999996862,null,{"$f":"(A17-x!A15)^2","v":3.7340257632093461E-25},{"$f":"(B17-x!B15)^2","v":1.2286540153253468E-24},{"$f":"(C17-x!C15)^2","v":8.7968719440453822E-25},{"$f":"(D17-x!D15)^2","v":7.8413483953783272E-23},{"$f":"(E17-x!E15)^2","v":2.7572064410893068E-23},{"$f":"(F17-x!F15)^2","v":1.5832753912147795E-23},{"$f":"(G17-x!G15)^2","v":3.7903693645038517E-24},{"$f":"(H17-x!H15)^2","v":2.1175823681357508E-22},{"$f":"(I17-x!I15)^2","v":7.1735299919100654E-23},{"$f":"(J17-x!J15)^2","v":2.6172511569060641E-23},{"$f":"(K17-x!K15)^2","v":5.3250206316982564E-23},{"$f":"(L17-x!L15)^2","v":9.863361400806256E-24}]
[66.300000000002342,75.299999999997439,-86.19999999999736,56.499999999996568,97.500000000005443,85.69999999999952,22.50000000000659,22.800000000001056,34.799999999998448,36.500000000000668,99.900000000004908,21.400000000001668,null,{"$f":"(A18-x!A16)^2","v":5.4980449650283639E-24},{"$f":"(B18-x!B16)^2","v":6.5431278922651603E-24},{"$f":"(C18-x!C16)^2","v":6.9866065605186879E-24},{"$f":"(D18-x!D16)^2","v":1.1778084589958696E-23},{"$f":"(E18-x!E16)^2","v":2.962360763544704E-23},{"$f":"(F18-x!F16)^2","v":2.3345234084748535E-25},{"$f":"(G18-x!G16)^2","v":4.3431841542210114E-23},{"$f":"(H18-x!H16)^2","v":1.1133541054182437E-24},{"$f":"(I18-x!I16)^2","v":2.3993488422222954E-24},{"$f":"(J18-x!J16)^2","v":4.4610399734610306E-25},{"$f":"(K18-x!K16)^2","v":2.4036907326446318E-23},{"$f":"(L18-x!L16)^2","v":2.7881499834131441E-24}]
[53.299999999999919,74.900000000003743,30.599999999996577,31.000000000009184,13.000000000007766,46.600000000002595,98.299999999999486,50.799999999989801,60.99999999999158,7.9000000000014978,69.999999999999915,16.199999999994848,null,{"$f":"(A19-x!A17)^2","v":6.1089388500315154E-27},{"$f":"(B19-x!B17)^2","v":1.3968568308027434E-23},{"$f":"(C19-x!C17)^2","v":1.1729364540452246E-23},{"$f":"(D19-x!D17)^2","v":8.434153699824761E-23},{"$f":"(E19-x!E17)^2","v":6.0314361059928098E-23},{"$f":"(F19-x!F17)^2","v":6.7261436222764351E-24},{"$f":"(G19-x!G17)^2","v":2.6172511569060641E-25},{"$f":"(H19-x!H17)^2","v":1.0396429424343923E-22},{"$f":"(I19-x!I17)^2","v":7.0895245096574419E-23},{"$f":"(J19-x!J17)^2","v":2.2424128537376273E-24},{"$f":"(K19-x!K17)^2","v":7.2701421025168448E-27},{"$f":"(L19-x!L17)^2","v":2.6537280851634837E-23}]
[16.900000000000823,18.999999999999083,8.799999999998434,22.799999999999486,64.50000000000766,67.900000000001313,75.400000000001739,29.600000000001266,33.699999999996265,42.399999999998478,21.699999999998521,72.199999999997175,null,{"$f":"(A20-x!A18)^2","v":6.7935438980185183E-25},{"$f":"(B20-x!B18)^2","v":8.4015579672210288E-25},{"$f":"(C20-x!C18)^2","v":2.4546953233326016E-24},{"$f":"(D20-x!D18)^2","v":2.6537280851634837E-25},{"$f":"(E20-x!E18)^2","v":5.8670248715702674E-23},{"$f":"(F20-x!F18)^2","v":1.7092911876584048E-24},{"$f":"(G20-x!G18)^2","v":3.0057998626072422E-24},{"$f":"(H20-x!H18)^2","v":1.5996332109454424E-24},{"$f":"(I20-x!I18)^2","v":1.3968568308027434E-23},{"$f":"(J20-x!J18)^2","v":2.3121071369920932E-24},{"$f":"(K20-x!K18)^2","v":2.1842738050228387E-24},{"$f":"(L20-x!L18)^2","v":7.9973582611602659E-24}]
[75.999999999994145,0.40000000000316299,85.399999999996552,33.300000000011401,59.200000000001744,99.600000000002382,36.299999999995094,37.399999999986335,39.299999999992714,83.00000000000108,83.4000000000147,86.499999999998565,null,{"$f":"(A21-x!A19)^2","v":3.427952780693387E-23},{"$f":"(B21-x!B19)^2","v":1.0004378499779795E-23},{"$f":"(C21-x!C19)^2","v":1.1924850583653255E-23},{"$f":"(D21-x!D19)^2","v":1.3005602645580524E-22},{"$f":"(E21-x!E19)^2","v":3.030488053497039E-24},{"$f":"(F21-x!F19)^2","v":5.6997914083732063E-24},{"$f":"(G21-x!G19)^2","v":2.4036907326446318E-23},{"$f":"(H21-x!H19)^2","v":1.8669770357651398E-22},{"$f":"(I21-x!I19)^2","v":5.3043007267060834E-23},{"$f":"(J21-x!J19)^2","v":1.1664539106704804E-24},{"$f":"(K21-x!K19)^2","v":2.1591433471551388E-22},{"$f":"(L21-x!L19)^2","v":2.0600755441048426E-24}]
[98.599999999997934,-94.59999999999944,74.89999999999975,91.200000000000955,0.70000000000089679,8.8999999999963446,34.099999999996683,25.299999999994341,77.799999999997127,24.199999999998404,18.20000000000093,88.199999999999335,null,{"$f":"(A22-x!A20)^2","v":4.2459649362615739E-24},{"$f":"(B22-x!B20)^2","v":3.0716350383133669E-25},{"$f":"(C22-x!C20)^2","v":6.5431278922651603E-26},{"$f":"(D22-x!D20)^2","v":9.0654633050550323E-25},{"$f":"(E22-x!E20)^2","v":8.0431868396262411E-25},{"$f":"(F22-x!F20)^2","v":1.3364452315921942E-23},{"$f":"(G22-x!G20)^2","v":1.1010680701359696E-23},{"$f":"(H22-x!H20)^2","v":3.2029633396371126E-23},{"$f":"(I22-x!I20)^2","v":8.2403021764193704E-24},{"$f":"(J22-x!J20)^2","v":2.5445623576553792E-24},{"$f":"(K22-x!K20)^2","v":8.6640908764785815E-25},{"$f":"(L22-x!L20)^2","v":4.4610399734610306E-25}]
[33.799999999996693,85.200000000003655,11.599999999997447,73.800000000012318,91.400000000003686,60.500000000001435,41.799999999999088,15.399999999983603,3.6999999999911921,52.399999999998698,30.400000000011598,87.39999999999803,null,{"$f":"(A23-x!A21)^2","v":1.091657275081045E-23},{"$f":"(B23-x!B21)^2","v":1.3338489325809308E-23},{"$f":"(C23-x!C21)^2","v":6.5158932583733101E-24},{"$f":"(D23-x!D21)^2","v":1.5180238463607735E-22},{"$f":"(E23-x!E21)^2","v":1.3546900066081457E-23},{"$f":"(F23-x!F21)^2","v":2.0600755441048426E-24},{"$f":"(G23-x!G21)^2","v":8.2718061255302767E-25},{"$f":"(H23-x!H21)^2","v":2.6887964549429769E-22},{"$f":"(I23-x!I21)^2","v":7.7582015882210368E-23},{"$f":"(J23-x!J21)^2","v":1.6907624227165737E-24},{"$f":"(K23-x!K21)^2","v":1.3455095589375457E-22},{"$f":"(L23-x!L21)^2","v":3.9018448767424433E-24}]
[66.399999999997917,5.100000000001037,51.30000000000188,33.7999999999953,92.89999999999371,13.099999999997408,1.0999999999985208,4.8000000000067384,12.70000000000582,56.000000000001954,7.4999999999904956,68.500000000002174,null,{"$f":"(A24-x!A22)^2","v":4.3639027970357361E-24},{"$f":"(B24-x!B22)^2","v":1.0761829795642296E-24},{"$f":"(C24-x!C22)^2","v":3.5454564524253155E-24},{"$f":"(D24-x!D22)^2","v":2.2058873316484461E-23},{"$f":"(E24-x!E22)^2","v":3.9632169929911897E-23},{"$f":"(F24-x!F22)^2","v":6.7169328823470745E-24},{"$f":"(G24-x!G22)^2","v":2.1882135735987387E-24},{"$f":"(H24-x!H22)^2","v":4.5408860288186952E-23},{"$f":"(I24-x!I22)^2","v":3.3885453919452524E-23},{"$f":"(J24-x!J22)^2","v":3.8180867812696971E-24},{"$f":"(K24-x!K22)^2","v":9.0333567450986276E-23},{"$f":"(L24-x!L22)^2","v":4.7274099021615783E-24}]
[88.600000000000264,60.600000000003618,9.6999999999982869,50.200000000003513,69.500000000002345,12.70000000000055,80.900000000000901,85.199999999995271,15.299999999996679,47.700000000000308,75.200000000001921,82.599999999997024,null,{"$f":"(A25-x!A23)^2","v":7.2903369416905027E-26},{"$f":"(B25-x!B23)^2","v":1.3080247819876157E-23},{"$f":"(C25-x!C23)^2","v":2.9323411351130615E-24},{"$f":"(D25-x!D23)^2","v":1.232066943145695E-23},{"$f":"(E25-x!E23)^2","v":5.4980449650283639E-24},{"$f":"(F25-x!F23)^2","v":3.0323813196695694E-25},{"$f":"(G25-x!G23)^2","v":8.0153316680248214E-25},{"$f":"(H25-x!H23)^2","v":2.2393855211277511E-23},{"$f":"(I25-x!I23)^2","v":1.1034270797869425E-23},{"$f":"(J25-x!J23)^2","v":9.3350644080233653E-26},{"$f":"(K25-x!K23)^2","v":3.6805094393991527E-24},{"$f":"(L25-x!L23)^2","v":8.8213076994455083E-24}]
[90.599999999993571,23.600000000001923,30.499999999997058,80.100000000001529,84.299999999998192,47.399999999994741,82.899999999999608,31.899999999998911,98.600000000003789,54.899999999996318,68.699999999991562,34.000000000000036,null,{"$f":"(A26-x!A24)^2","v":4.1258864225350041E-23},{"$f":"(B26-x!B24)^2","v":3.6941535776158553E-24},{"$f":"(C26-x!C24)^2","v":8.6532866375206745E-24},{"$f":"(D26-x!D24)^2","v":2.3555260412154577E-24},{"$f":"(E26-x!E24)^2","v":3.257225610319283E-24},{"$f":"(F26-x!F24)^2","v":2.7646734828737668E-23},{"$f":"(G26-x!G24)^2","v":1.5832753912147795E-25},{"$f":"(H26-x!H24)^2","v":1.1818524755403946E-24},{"$f":"(I26-x!I24)^2","v":1.4396698898508982E-23},{"$f":"(J26-x!J24)^2","v":1.3546900066081457E-23},{"$f":"(K26-x!K24)^2","v":7.1254662746767596E-23},{"$f":"(L26-x!L24)^2","v":1.2621774483536189E-27}]
[23.199999999995509,64.699999999997189,26.699999999998347,28.099999999998204,17.899999999995273,67.899999999998599,75.599999999994168,23.900000000001128,40.900000000001718,70.199999999995555,96.099999999994225,77.400000000001469,null,{"$f":"(A27-x!A25)^2","v":2.0165758605247835E-23},{"$f":"(B27-x!B25)^2","v":7.917184749640844E-24},{"$f":"(C27-x!C25)^2","v":2.7291431877026124E-24},{"$f":"(D27-x!D25)^2","v":3.2316286516666717E-24},{"$f":"(E27-x!E25)^2","v":2.2326656883927165E-23},{"$f":"(F27-x!F25)^2","v":1.979296187410211E-24},{"$f":"(G27-x!G25)^2","v":3.3947524650918934E-23},{"$f":"(H27-x!H25)^2","v":1.2763643228731136E-24},{"$f":"(I27-x!I25)^2","v":2.9567264034152535E-24},{"$f":"(J27-x!J25)^2","v":1.978468199004091E-23},{"$f":"(K27-x!K25)^2","v":3.328836510029074E-23},{"$f":"(L27-x!L25)^2","v":2.1424704879333668E-24}]
[88.400000000003089,57.199999999999996,14.300000000002296,4.5999999999924928,12.999999999999398,48.799999999997688,67.800000000000168,20.400000000010046,21.500000000004842,78.899999999996965,56.999999999991907,33.29999999999761,null,{"$f":"(A28-x!A26)^2","v":9.5095478184837696E-24},{"$f":"(B28-x!B26)^2","v":5.0487097934144756E-29},{"$f":"(C28-x!C26)^2","v":5.2672684403713882E-24},{"$f":"(D28-x!D26)^2","v":5.6353307439083387E-23},{"$f":"(E28-x!E26)^2","v":3.6262673635561559E-25},{"$f":"(F28-x!F26)^2","v":5.3326997192940398E-24},{"$f":"(G28-x!G26)^2","v":2.9080568410067379E-26},{"$f":"(H28-x!H26)^2","v":1.0094370166113729E-22},{"$f":"(I28-x!I26)^2","v":2.3448341360504542E-23},{"$f":"(J28-x!J26)^2","v":9.2484285479683729E-24},{"$f":"(K28-x!K26)^2","v":6.5497972379022608E-23},{"$f":"(L28-x!L26)^2","v":5.6997914083732063E-24}]
[99.200000000000458,73.799999999996331,53.299999999998462,61.299999999991719,69.099999999992647,-32.200000000002269,8.2000000000014488,38.100000000006133,15.30000000000306,31.60000000000198,18.799999999993648,32.100000000003277,null,{"$f":"(A29-x!A27)^2","v":2.0679515313825692E-25},{"$f":"(B29-x!B27)^2","v":1.3442492747553646E-23},{"$f":"(C29-x!C27)^2","v":2.3555260412154577E-24},{"$f":"(D29-x!D27)^2","v":6.8522351493669616E-23},{"$f":"(E29-x!E27)^2","v":5.397858367887847E-23},{"$f":"(F29-x!F27)^2","v":5.1376175728765045E-24},{"$f":"(G29-x!G27)^2","v":2.1010710676273681E-24},{"$f":"(H29-x!H27)^2","v":3.7601225441315055E-23},{"$f":"(I29-x!I27)^2","v":9.3567864819095311E-24},{"$f":"(J29-x!J27)^2","v":3.9158929117426191E-24},{"$f":"(K29-x!K27)^2","v":4.0351106204494118E-23},{"$f":"(L29-x!L27)^2","v":1.0729568540062378E-23}]
[17.900000000003772,59.199999999998482,20.500000000005404,60.799999999993403,-42.100000000000335,-90.099999999998317,95.200000000004621,89.900000000009342,37.400000000005747,63.300000000000182,51.499999999997335,99.699999999998937,null,{"$f":"(A30-x!A28)^2","v":1.4235392620609389E-23},{"$f":"(B30-x!B28)^2","v":2.3121071369920932E-24},{"$f":"(C30-x!C28)^2","v":2.9199730582966444E-23},{"$f":"(D30-x!D28)^2","v":4.3478680947318517E-23},{"$f":"(E30-x!E28)^2","v":1.1152599933652577E-25},{"$f":"(F30-x!F28)^2","v":2.8119294065401263E-24},{"$f":"(G30-x!G28)^2","v":2.1330798877176159E-23},{"$f":"(H30-x!H28)^2","v":8.7170821344702598E-23},{"$f":"(I30-x!I28)^2","v":3.3042846343036994E-23},{"$f":"(J30-x!J28)^2","v":3.4129278203481855E-26},{"$f":"(K30-x!K28)^2","v":7.0997481469891062E-24},{"$f":"(L30-x!L28)^2","v":1.135959703518257E-24}]
[98.400000000004226,97.999999999996191,36.700000000002753,13.999999999989454,91.199999999995669,94.699999999999065,80.600000000002211,64.900000000009072,54.400000000005861,24.399999999998826,94.799999999996359,99.500000000001847,null,{"$f":"(A31-x!A29)^2","v":1.7813665686691899E-23},{"$f":"(B31-x!B29)^2","v":1.4504741288088052E-23},{"$f":"(C31-x!C29)^2","v":7.5614021704989259E-24},{"$f":"(D31-x!D29)^2","v":1.1122297893016865E-22},{"$f":"(E31-x!E29)^2","v":1.8786249141295264E-23},{"$f":"(F31-x!F29)^2","v":8.7968719440453822E-25},{"$f":"(G31-x!G29)^2","v":4.9146160613013871E-24},{"$f":"(H31-x!H29)^2","v":8.2201881166024072E-23},{"$f":"(I31-x!I29)^2","v":3.4362781031427274E-23},{"$f":"(J31-x!J29)^2","v":1.374511241257091E-24},{"$f":"(K31-x!K29)^2","v":1.3234889800848443E-23},{"$f":"(L31-x!L29)^2","v":3.4129278203481855E-24}]
[87.199999999997985,78.499999999999773,65.899999999999181,14.19999999999879,80.799999999997027,40.69999999999547,46.59999999999706,82.3999999999984,86.000000000003425,61.599999999999625,87.899999999993071,1.1000000000028856,null,{"$f":"(A32-x!A30)^2","v":4.0720873709763794E-24},{"$f":"(B32-x!B30)^2","v":5.169878828456423E-26},{"$f":"(C32-x!C30)^2","v":6.7935438980185183E-25},{"$f":"(D32-x!D30)^2","v":1.4633716890648066E-24},{"$f":"(E32-x!E30)^2","v":8.8213076994455083E-24},{"$f":"(F32-x!F30)^2","v":2.0550470291506018E-23},{"$f":"(G32-x!G30)^2","v":8.6532866375206745E-24},{"$f":"(H32-x!H30)^2","v":2.5786790140843775E-24},{"$f":"(I32-x!I30)^2","v":1.1729364540452246E-23},{"$f":"(J32-x!J30)^2","v":1.4181825809701262E-25},{"$f":"(K32-x!K30)^2","v":4.8092797801715875E-23},{"$f":"(L32-x!L30)^2","v":8.3259350491371809E-24}]
[33.600000000003597,20.999999999996298,58.900000000009079,9.9999999989709709E-2,62.299999999994448,65.00000000000297,29.300000000007728,78.900000000014998,70.100000000009572,51.399999999997434,59.100000000003838,65.700000000004138,null,{"$f":"(A33-x!A31)^2","v":1.2926514606666687E-23},{"$f":"(B33-x!B31)^2","v":1.3704268350342187E-23},{"$f":"(C33-x!C31)^2","v":8.2459769262271683E-23},{"$f":"(D33-x!D31)^2","v":1.0589019985100532E-22},{"$f":"(E33-x!E31)^2","v":3.0795160743008869E-23},{"$f":"(F33-x!F31)^2","v":8.8213076994455083E-24},{"$f":"(G33-x!G31)^2","v":5.9708881916178384E-23},{"$f":"(H33-x!H31)^2","v":2.2477360871260587E-22},{"$f":"(I33-x!I31)^2","v":9.1740307604526172E-23},{"$f":"(J33-x!J31)^2","v":6.5795290898756787E-24},{"$f":"(K33-x!K31)^2","v":1.4722037757596611E-23},{"$f":"(L33-x!L31)^2","v":1.7101191760645248E-23}]
[80.600000000004059,40.599999999997657,87.400000000000659,3.7999999999980445,48.900000000006067,-76.699999999997232,79.600000000000776,7.3000000000020391,61.099999999996172,82.300000000000537,59.100000000001373,32.199999999998724,null,{"$f":"(A34-x!A32)^2","v":1.6518570650485218E-23},{"$f":"(B34-x!B32)^2","v":5.4980449650283639E-24},{"$f":"(C34-x!C32)^2","v":4.2732279691460121E-25},{"$f":"(D34-x!D32)^2","v":3.8232950381811926E-24},{"$f":"(E34-x!E32)^2","v":3.6821048316938717E-23},{"$f":"(F34-x!F32)^2","v":7.6790875957834173E-24},{"$f":"(G34-x!G32)^2","v":6.1089388500315154E-25},{"$f":"(H34-x!H32)^2","v":4.1585717697375694E-24},{"$f":"(I34-x!I32)^2","v":1.4667562178925669E-23},{"$f":"(J34-x!J32)^2","v":2.9161347766762011E-25},{"$f":"(K34-x!K32)^2","v":1.880593910948958E-24},{"$f":"(L34-x!L32)^2","v":1.6357819730662901E-24}]
[12.399999999999821,9.6000000000008008,72.400000000002095,34.29999999999513,30.999999999994611,69.69999999999564,6.3000000000006287,70.900000000007921,8.0000000000068994,52.099999999996861,1.0999999999912253,-82.599999999999895,null,{"$f":"(A35-x!A33)^2","v":3.2188680376638166E-26},{"$f":"(B35-x!B33)^2","v":6.4182038793143609E-25},{"$f":"(C35-x!C33)^2","v":4.3639027970357361E-24},{"$f":"(D35-x!D33)^2","v":2.3689808528149073E-23},{"$f":"(E35-x!E33)^2","v":2.9046350779442513E-23},{"$f":"(F35-x!F33)^2","v":1.9033433972780836E-23},{"$f":"(G35-x!G33)^2","v":3.9542757279470526E-25},{"$f":"(H35-x!H33)^2","v":6.2654286587881905E-23},{"$f":"(I35-x!I33)^2","v":4.7601305903326975E-23},{"$f":"(J35-x!J33)^2","v":9.863361400806256E-24},{"$f":"(K35-x!K33)^2","v":7.6996390198077577E-23},{"$f":"(L35-x!L33)^2","v":9.8954711950923721E-27}]
[76.899999999993298,22.90000000000158,77.099999999995916,47.400000000009264,30.60000000000074,7.099999999998702,17.799999999995386,61.399999999986917,66.19999999999412,31.999999999999954,81.49999999999811,69.899999999998229,null,{"$f":"(A36-x!A34)^2","v":4.4990870504642021E-23},{"$f":"(B36-x!B34)^2","v":2.4994268921022538E-24},{"$f":"(C36-x!C34)^2","v":1.6634287078950277E-23},{"$f":"(D36-x!D34)^2","v":8.5849069120786689E-23},{"$f":"(E36-x!E34)^2","v":5.4606845125570968E-25},{"$f":"(F36-x!F34)^2","v":1.6838401682732593E-24},{"$f":"(G36-x!G34)^2","v":2.1297994885293449E-23},{"$f":"(H36-x!H34)^2","v":1.7111496177333607E-22},{"$f":"(I36-x!I34)^2","v":3.4613146550082698E-23},{"$f":"(J36-x!J34)^2","v":2.1330798877176159E-27},{"$f":"(K36-x!K34)^2","v":3.5722651014283463E-24},{"$f":"(L36-x!L34)^2","v":3.1554436208840472E-24}]
[89.89999999999921,55.699999999998049,38.80000000000183,65.500000000001535,-57.499999999994429,88.599999999998545,35.000000000001833,3.1999999999994353,85.49999999999946,38.199999999999839,70.600000000002737,-20.299999999996832,null,{"$f":"(A37-x!A35)^2","v":6.3331015648591181E-25},{"$f":"(B37-x!B35)^2","v":3.8180867812696971E-24},{"$f":"(C37-x!C35)^2","v":3.3606231868884115E-24},{"$f":"(D37-x!D35)^2","v":2.3555260412154577E-24},{"$f":"(E37-x!E35)^2","v":3.1032197667809679E-23},{"$f":"(F37-x!F35)^2","v":2.1010710676273681E-24},{"$f":"(G37-x!G35)^2","v":3.3606231868884115E-24},{"$f":"(H37-x!H35)^2","v":3.1909108071827839E-25},{"$f":"(I37-x!I35)^2","v":2.9161347766762011E-25},{"$f":"(J37-x!J35)^2","v":2.6707674807162576E-26},{"$f":"(K37-x!K35)^2","v":7.522375643795832E-24},{"$f":"(L37-x!L35)^2","v":1.0042691572668338E-23}]
[10.300000000000306,20.299999999996352,96.800000000000395,62.500000000000554,3.1999999999994513,67.000000000004448,86.399999999999423,29.299999999996164,88.39999999999597,41.399999999999324,92.400000000007651,70.200000000000273,null,{"$f":"(A38-x!A36)^2","v":9.3350644080233653E-26},{"$f":"(B38-x!B36)^2","v":1.3312551579245641E-23},{"$f":"(C38-x!C36)^2","v":1.5832753912147795E-25},{"$f":"(D38-x!D36)^2","v":3.0716350383133669E-25},{"$f":"(E38-x!E36)^2","v":3.0128491236562971E-25},{"$f":"(F38-x!F36)^2","v":1.978468199004091E-23},{"$f":"(G38-x!G36)^2","v":3.3947524650918934E-25},{"$f":"(H38-x!H36)^2","v":1.4722037757596611E-23},{"$f":"(I38-x!I36)^2","v":1.6288349483905518E-23},{"$f":"(J38-x!J36)^2","v":4.5564605885565642E-25},{"$f":"(K38-x!K36)^2","v":5.8452750297802378E-23},{"$f":"(L38-x!L36)^2","v":7.2903369416905027E-26}]
[16.000000000001918,12.800000000000159,26.99999999999849,1.000000000002961,93.500000000008271,14.600000000000607,46.200000000001545,93.199999999996749,39.39999999999602,38.200000000001587,4.900000000005921,94.199999999996123,null,{"$f":"(A39-x!A37)^2","v":3.6805094393991527E-24},{"$f":"(B39-x!B37)^2","v":2.4994268921022538E-26},{"$f":"(C39-x!C37)^2","v":2.2798080160887241E-24},{"$f":"(D39-x!D37)^2","v":8.7673125863696522E-24},{"$f":"(E39-x!E37)^2","v":6.8404767042580993E-23},{"$f":"(F39-x!F37)^2","v":3.690733076730817E-25},{"$f":"(G39-x!G37)^2","v":2.3773869546209424E-24},{"$f":"(H39-x!H37)^2","v":1.0590375611057941E-23},{"$f":"(I39-x!I37)^2","v":1.5832753912147795E-23},{"$f":"(J39-x!J37)^2","v":2.5106728931670845E-24},{"$f":"(K39-x!K37)^2","v":3.5053472930158962E-23},{"$f":"(L39-x!L37)^2","v":1.5051011687735498E-23}]
[40.499999999997819,65.000000000002487,93.299999999997254,58.200000000000685,93.999999999997641,22.699999999996447,-97.500000000005556,30.000000000003975,33.800000000002655,98.899999999999594,37.999999999990081,4.4999999999986953,null,{"$f":"(A40-x!A38)^2","v":4.7583584931952091E-24},{"$f":"(B40-x!B38)^2","v":6.1846694969327326E-24},{"$f":"(C40-x!C38)^2","v":7.522375643795832E-24},{"$f":"(D40-x!D38)^2","v":4.6528909456107807E-25},{"$f":"(E40-x!E38)^2","v":5.5648898826931715E-24},{"$f":"(F40-x!F38)^2","v":1.2621774483536189E-23},{"$f":"(G40-x!G38)^2","v":3.0874072077079937E-23},{"$f":"(H40-x!H38)^2","v":1.5804493759079158E-23},{"$f":"(I40-x!I38)^2","v":7.0619333106364318E-24},{"$f":"(J40-x!J38)^2","v":1.6983859745046296E-25},{"$f":"(K40-x!K38)^2","v":9.8390064247628246E-23},{"$f":"(L40-x!L38)^2","v":1.7023310678916399E-24}]
[16.599999999998758,79.399999999998442,55.199999999998589,65.099999999996754,9.0999999999932193,33.299999999998612,67.999999999997272,3.9999999999985225,98.000000000001904,46.600000000000065,93.799999999996174,75.400000000003004,null,{"$f":"(A41-x!A39)^2","v":1.5461673742331831E-24},{"$f":"(B41-x!B39)^2","v":2.4435755400126062E-24},{"$f":"(C41-x!C39)^2","v":1.9993395652900665E-24},{"$f":"(D41-x!D39)^2","v":1.0498085196034324E-23},{"$f":"(E41-x!E39)^2","v":4.5973201124590296E-23},{"$f":"(F41-x!F39)^2","v":1.9197718989458543E-24},{"$f":"(G41-x!G39)^2","v":7.4446255129772491E-24},{"$f":"(H41-x!H39)^2","v":2.1829613376917772E-24},{"$f":"(I41-x!I39)^2","v":3.6261853220220129E-24},{"$f":"(J41-x!J39)^2","v":4.0894549326657252E-27},{"$f":"(K41-x!K39)^2","v":1.4613187574450595E-23},{"$f":"(L41-x!L39)^2","v":8.9909443485042346E-24}]
[16.000000000003102,11.399999999996513,48.400000000002606,91.399999999990797,12.299999999994933,35.200000000000948,94.400000000001683,98.500000000009848,84.500000000004988,31.999999999998508,29.799999999994483,49.400000000002279,null,{"$f":"(A42-x!A40)^2","v":9.6194203653629521E-24},{"$f":"(B42-x!B40)^2","v":1.215908862996234E-23},{"$f":"(C42-x!C40)^2","v":6.800056733652023E-24},{"$f":"(D42-x!D40)^2","v":8.4798937483756478E-23},{"$f":"(E42-x!E40)^2","v":2.5684077295540379E-23},{"$f":"(F42-x!F40)^2","v":8.9306627535708658E-25},{"$f":"(G42-x!G40)^2","v":2.8119294065401263E-24},{"$f":"(H42-x!H40)^2","v":9.6985513183100339E-23},{"$f":"(I42-x!I40)^2","v":2.4880243810338272E-23},{"$f":"(J42-x!J40)^2","v":2.2264810188957837E-24},{"$f":"(K42-x!K40)^2","v":3.0441309295362932E-23},{"$f":"(L42-x!L40)^2","v":5.2022410582322098E-24}]
[53.899999999997803,12.699999999999964,18.099999999996264,45.900000000004063,99.500000000002956,62.899999999996211,34.499999999995353,81.699999999996521,58.999999999996824,70.999999999998181,21.499999999996717,31.300000000000122,null,{"$f":"(A43-x!A41)^2","v":4.8205585978500754E-24},{"$f":"(B43-x!B41)^2","v":1.2621774483536189E-27},{"$f":"(C43-x!C41)^2","v":1.3968568308027434E-23},{"$f":"(D43-x!D41)^2","v":1.6518570650485218E-23},{"$f":"(E43-x!E41)^2","v":8.7370952200913548E-24},{"$f":"(F43-x!F41)^2","v":1.4342829165013249E-23},{"$f":"(G43-x!G41)^2","v":2.1594139580000658E-23},{"$f":"(H43-x!H41)^2","v":1.2121952213988156E-23},{"$f":"(I43-x!I41)^2","v":1.0087776551123529E-23},{"$f":"(J43-x!J41)^2","v":3.3087224502121107E-24},{"$f":"(K43-x!K41)^2","v":1.0776168131455593E-23},{"$f":"(L43-x!L41)^2","v":1.4590771302967834E-26}]
[51.199999999997573,94.600000000000151,45.700000000001197,93.400000000000361,34.899999999994812,87.49999999999973,64.399999999999267,19.300000000002502,56.300000000003138,99.600000000000335,57.100000000002339,35.500000000003112,null,{"$f":"(A44-x!A42)^2","v":5.9051729227693072E-24},{"$f":"(B44-x!B42)^2","v":2.4435755400126062E-26},{"$f":"(C44-x!C42)^2","v":1.4249478520933016E-24},{"$f":"(D44-x!D42)^2","v":1.2621774483536189E-25},{"$f":"(E44-x!E42)^2","v":2.690457448910574E-23},{"$f":"(F44-x!F42)^2","v":7.2903369416905027E-26},{"$f":"(G44-x!G42)^2","v":5.4606845125570968E-25},{"$f":"(H44-x!H42)^2","v":6.2555533824322718E-24},{"$f":"(I44-x!I42)^2","v":9.863361400806256E-24},{"$f":"(J44-x!J42)^2","v":1.1632227364026952E-25},{"$f":"(K44-x!K42)^2","v":5.4647739674897625E-24},{"$f":"(L44-x!L42)^2","v":9.6856468160780665E-24}]
[54.600000000003824,86.000000000000952,29.500000000003261,76.19999999999898,47.700000000003314,59.800000000003429,30.90000000000386,72.500000000005954,56.400000000002557,26.500000000001744,98.1000000000017,19.899999999999448,null,{"$f":"(A45-x!A43)^2","v":1.4613187574450595E-23},{"$f":"(B45-x!B43)^2","v":9.0654633050550323E-25},{"$f":"(C45-x!C43)^2","v":1.0636672279863551E-23},{"$f":"(D45-x!D43)^2","v":1.0469004627624257E-24},{"$f":"(E45-x!E43)^2","v":1.0963576238987139E-23},{"$f":"(F45-x!F43)^2","v":1.1778084589958696E-23},{"$f":"(G45-x!G43)^2","v":1.4913497454737371E-23},{"$f":"(H45-x!H43)^2","v":3.545426160166555E-23},{"$f":"(I45-x!I43)^2","v":6.5431278922651603E-24},{"$f":"(J45-x!J43)^2","v":3.042870014265388E-24},{"$f":"(K45-x!K43)^2","v":2.9080568410067379E-24},{"$f":"(L45-x!L43)^2","v":3.0323813196695694E-25}]
[74.399999999999935,37.399999999998101,15.000000000007212,63.09999999998923,24.499999999982574,49.500000000000767,31.300000000004673,55.500000000013465,50.300000000014045,87.399999999997519,77.599999999998616,21.100000000006737,null,{"$f":"(A46-x!A44)^2","v":5.0487097934144756E-27},{"$f":"(B46-x!B44)^2","v":3.5991747246272455E-24},{"$f":"(C46-x!C44)^2","v":5.2013070469204281E-23},{"$f":"(D46-x!D44)^2","v":1.1603227574973579E-22},{"$f":"(E46-x!E44)^2","v":3.0366758784375926E-22},{"$f":"(F46-x!F44)^2","v":5.8888151030386443E-25},{"$f":"(G46-x!G44)^2","v":2.1825887981292866E-23},{"$f":"(H46-x!H44)^2","v":1.8130043085896217E-22},{"$f":"(I46-x!I44)^2","v":1.9733028640144487E-22},{"$f":"(J46-x!J44)^2","v":6.1846694969327326E-24},{"$f":"(K46-x!K44)^2","v":1.900132417849472E-24},{"$f":"(L46-x!L44)^2","v":4.5372956861807628E-23}]
[50.999999999999972,70.700000000003314,60.300000000000388,45.800000000008026,86.700000000002774,18.800000000002836,66.700000000003314,66.699999999990112,39.099999999995241,50.800000000002768,41.200000000006789,39.199999999996507,null,{"$f":"(A47-x!A45)^2","v":8.0779356694631609E-28},{"$f":"(B47-x!B45)^2","v":1.0963576238987139E-23},{"$f":"(C47-x!C45)^2","v":1.5272347125078789E-25},{"$f":"(D47-x!D45)^2","v":6.4466975352109438E-23},{"$f":"(E47-x!E45)^2","v":7.6790875957834173E-24},{"$f":"(F47-x!F45)^2","v":8.0375964782137792E-24},{"$f":"(G47-x!G45)^2","v":1.0963576238987139E-23},{"$f":"(H47-x!H45)^2","v":9.7827032131466664E-23},{"$f":"(I47-x!I45)^2","v":2.2663658262637581E-23},{"$f":"(J47-x!J45)^2","v":7.6790875957834173E-24},{"$f":"(K47-x!K45)^2","v":4.6045495493388371E-23},{"$f":"(L47-x!L45)^2","v":1.2221108874330816E-23}]
[31.50000000000108,14.199999999998163,89.300000000001631,-50.800000000001063,40.600000000002957,70.000000000002487,-15.299999999997253,74.100000000003135,93.900000000000688,53.599999999998666,2.1000000000031487,22.300000000003177,null,{"$f":"(A48-x!A46)^2","v":1.1664539106704804E-24},{"$f":"(B48-x!B46)^2","v":3.3736614799299044E-24},{"$f":"(C48-x!C46)^2","v":2.6707674807162576E-24},{"$f":"(D48-x!D46)^2","v":1.135959703518257E-24},{"$f":"(E48-x!E46)^2","v":8.7370952200913548E-24},{"$f":"(F48-x!F46)^2","v":6.1846694969327326E-24},{"$f":"(G48-x!G46)^2","v":7.5516360724922898E-24},{"$f":"(H48-x!H46)^2","v":9.863361400806256E-24},{"$f":"(I48-x!I46)^2","v":4.6528909456107807E-25},{"$f":"(J48-x!J46)^2","v":1.7844159893844122E-24},{"$f":"(K48-x!K46)^2","v":9.9136347174350859E-24},{"$f":"(L48-x!L46)^2","v":1.0087776551123529E-23}]
[46.20000000000303,82.799999999998931,70.400000000002663,76.199999999998198,48.400000000005946,93.600000000002808,93.500000000002032,76.400000000002265,82.599999999998616,91.800000000001333,81.800000000001162,91.399999999999139,null,{"$f":"(A49-x!A47)^2","v":9.1621965846968537E-24},{"$f":"(B49-x!B47)^2","v":1.135959703518257E-24},{"$f":"(C49-x!C47)^2","v":7.0619333106364318E-24},{"$f":"(D49-x!D47)^2","v":3.257225610319283E-24},{"$f":"(E49-x!E47)^2","v":3.5369695712625857E-23},{"$f":"(F49-x!F47)^2","v":7.917184749640844E-24},{"$f":"(G49-x!G47)^2","v":4.1296426626213044E-24},{"$f":"(H49-x!H47)^2","v":5.1054572914924543E-24},{"$f":"(I49-x!I47)^2","v":1.900132417849472E-24},{"$f":"(J49-x!J47)^2","v":1.7844159893844122E-24},{"$f":"(K49-x!K47)^2","v":1.3579009860367573E-24},{"$f":"(L49-x!L47)^2","v":7.5144996565181054E-25}]
[98.300000000003635,70.299999999994753,42.700000000001204,59.599999999993841,87.799999999998093,93.50000000000162,71.900000000002734,48.400000000002855,56.100000000003213,47.699999999998703,34.799999999998754,93.700000000002518,null,{"$f":"(A50-x!A48)^2","v":1.3234889800848443E-23},{"$f":"(B50-x!B48)^2","v":2.7497494967244336E-23},{"$f":"(C50-x!C48)^2","v":1.4419620040971084E-24},{"$f":"(D50-x!D48)^2","v":3.7950596159019337E-23},{"$f":"(E50-x!E48)^2","v":3.6261853220220129E-24},{"$f":"(F50-x!F48)^2","v":2.624521299008581E-24},{"$f":"(G50-x!G48)^2","v":7.4446255129772491E-24},{"$f":"(H50-x!H48)^2","v":8.1589169745495291E-24},{"$f":"(I50-x!I48)^2","v":1.031471605633751E-23},{"$f":"(J50-x!J48)^2","v":1.6907624227165737E-24},{"$f":"(K50-x!K48)^2","v":1.5461673742331831E-24},{"$f":"(L50-x!L48)^2","v":6.3268411647152842E-24}]
[8.4999999999974865,90.700000000001722,-23.900000000001995,70.000000000003851,2.7999999999956069,90.499999999998849,8.4999999999987832,21.799999999995435,25.399999999998194,77.600000000001572,14.700000000003266,7.6000000000018,null,{"$f":"(A51-x!A49)^2","v":6.3179081038245614E-24},{"$f":"(B51-x!B49)^2","v":2.9567264034152535E-24},{"$f":"(C51-x!C49)^2","v":3.986511739978004E-24},{"$f":"(D51-x!D49)^2","v":1.48312918375261E-23},{"$f":"(E51-x!E49)^2","v":1.9297838060105573E-23},{"$f":"(F51-x!F49)^2","v":1.324983398183695E-24},{"$f":"(G51-x!G49)^2","v":1.4806130330093171E-24},{"$f":"(H51-x!H49)^2","v":2.0841389571577043E-23},{"$f":"(I51-x!I49)^2","v":3.257225610319283E-24},{"$f":"(J51-x!J49)^2","v":2.4882061345863901E-24},{"$f":"(K51-x!K49)^2","v":1.0671461045783798E-23},{"$f":"(L51-x!L49)^2","v":3.2412156782478226E-24}]
[99.500000000000412,66.600000000003391,84.199999999994915,79.800000000010044,72.900000000005832,88.200000000000159,92.69999999999709,15.899999999988143,8.5999999999933419,26.300000000002083,82.200000000003556,63.499999999997932,null,{"$f":"(A52-x!A50)^2","v":1.6983859745046296E-25},{"$f":"(B52-x!B50)^2","v":1.153549408438513E-23},{"$f":"(C52-x!C50)^2","v":2.5882513678526914E-23},{"$f":"(D52-x!D50)^2","v":1.0094370166113729E-22},{"$f":"(E52-x!E50)^2","v":3.3947524650918934E-23},{"$f":"(F52-x!F50)^2","v":2.4435755400126062E-26},{"$f":"(G52-x!G50)^2","v":8.4868811627297334E-24},{"$f":"(H52-x!H50)^2","v":1.4059276268075178E-22},{"$f":"(I52-x!I50)^2","v":4.4326106886143137E-23},{"$f":"(J52-x!J50)^2","v":4.3342668705483931E-24},{"$f":"(K52-x!K50)^2","v":1.2621774483536189E-23},{"$f":"(L52-x!L50)^2","v":4.275297940161312E-24}]
[95.799999999999528,20.500000000000611,23.199999999997669,99.100000000004712,18.900000000002361,87.000000000002032,15.200000000000037,94.899999999993682,11.599999999995585,1.7999999999998346,98.900000000003629,92.900000000000475,null,{"$f":"(A53-x!A51)^2","v":2.1992179860113456E-25},{"$f":"(B53-x!B51)^2","v":3.7340257632093461E-25},{"$f":"(C53-x!C51)^2","v":5.4316039441470294E-24},{"$f":"(D53-x!D51)^2","v":2.2259559530772686E-23},{"$f":"(E53-x!E51)^2","v":5.5816642209817911E-24},{"$f":"(F53-x!F51)^2","v":4.1296426626213044E-24},{"$f":"(G53-x!G51)^2","v":1.3915506368098648E-27},{"$f":"(H53-x!H51)^2","v":3.9990830273636061E-23},{"$f":"(I53-x!I51)^2","v":1.9485574333773691E-23},{"$f":"(J53-x!J51)^2","v":2.7364845245018255E-26},{"$f":"(K53-x!K51)^2","v":1.3131694172671051E-23},{"$f":"(L53-x!L51)^2","v":2.1992179860113456E-25}]
[74.199999999999704,17.499999999998487,35.100000000002453,91.699999999992286,10.499999999992788,35.099999999997856,98.700000000002845,86.000000000008455,90.00000000000442,35.799999999999393,91.200000000000372,34.400000000001924,null,{"$f":"(A54-x!A52)^2","v":8.9059240755831349E-26},{"$f":"(B54-x!B52)^2","v":2.2905491461742134E-24},{"$f":"(C54-x!C52)^2","v":6.0092268316115795E-24},{"$f":"(D54-x!D52)^2","v":5.9544281355138588E-23},{"$f":"(E54-x!E52)^2","v":5.2013070469204281E-23},{"$f":"(F54-x!F52)^2","v":4.6046252799857383E-24},{"$f":"(G54-x!G52)^2","v":8.0779356694631609E-24},{"$f":"(H54-x!H52)^2","v":7.1494779384542388E-23},{"$f":"(I54-x!I52)^2","v":1.953265039715366E-23},{"$f":"(J54-x!J52)^2","v":3.6476928257419586E-25},{"$f":"(K54-x!K52)^2","v":1.3651711281392742E-25},{"$f":"(L54-x!L52)^2","v":3.707822959381525E-24}]
[11.100000000001765,18.499999999999861,54.500000000000206,70.600000000000705,17.100000000000318,70.699999999999534,25.099999999998701,18.000000000001073,26.600000000000225,98.90000000000019,14.200000000000047,73.799999999999514,null,{"$f":"(A55-x!A53)^2","v":3.1176918934037905E-24},{"$f":"(B55-x!B53)^2","v":1.9197718989458543E-26},{"$f":"(C55-x!C53)^2","v":4.2459649362615739E-26},{"$f":"(D55-x!D53)^2","v":5.0487097934144756E-25},{"$f":"(E55-x!E53)^2","v":9.9977075684090152E-26},{"$f":"(F55-x!F53)^2","v":2.1992179860113456E-25},{"$f":"(G55-x!G53)^2","v":1.6907624227165737E-24},{"$f":"(H55-x!H53)^2","v":1.1511563199964346E-24},{"$f":"(I55-x!I53)^2","v":5.0095822925155134E-26},{"$f":"(J55-x!J53)^2","v":3.4129278203481855E-26},{"$f":"(K55-x!K53)^2","v":2.3003183996244704E-27},{"$f":"(L55-x!L53)^2","v":2.3345234084748535E-25}]
[28.300000000003568,41.099999999996697,22.699999999999054,58.599999999993415,33.399999999992026,10.199999999998081,34.299999999998484,43.600000000000996,97.499999999999943,93.600000000000051,84.299999999998334,0.50000000000120881,null,{"$f":"(A56-x!A54)^2","v":1.2722950627796215E-23},{"$f":"(B56-x!B54)^2","v":1.091657275081045E-23},{"$f":"(C56-x!C54)^2","v":8.9306627535708658E-25},{"$f":"(D56-x!D54)^2","v":4.3385027380650679E-23},{"$f":"(E56-x!E54)^2","v":6.3557399795727886E-23},{"$f":"(F56-x!F54)^2","v":3.6805094393991527E-24},{"$f":"(G56-x!G54)^2","v":2.2905491461742134E-24},{"$f":"(H56-x!H54)^2","v":9.8954711950923721E-25},{"$f":"(I56-x!I54)^2","v":3.2311742677852644E-27},{"$f":"(J56-x!J54)^2","v":3.2311742677852644E-27},{"$f":"(K56-x!K54)^2","v":2.7644715344820302E-24},{"$f":"(L56-x!L54)^2","v":1.4612236208198898E-24}]
[12.100000000002369,16.299999999997599,49.599999999999596,62.200000000002937,57.900000000008305,98.000000000003226,60.500000000000675,56.99999999999546,57.799999999995876,45.90000000000019,20.400000000004088,33.299999999999592,null,{"$f":"(A57-x!A55)^2","v":5.6152886282059315E-24},{"$f":"(B57-x!B55)^2","v":5.7678480163884335E-24},{"$f":"(C57-x!C55)^2","v":1.6403258118803631E-25},{"$f":"(D57-x!D55)^2","v":8.6115338075291368E-24},{"$f":"(E57-x!E55)^2","v":6.8993699039982791E-23},{"$f":"(F57-x!F55)^2","v":1.040619867779418E-23},{"$f":"(G57-x!G55)^2","v":4.5564605885565642E-25},{"$f":"(H57-x!H55)^2","v":2.0614942315567921E-23},{"$f":"(I57-x!I55)^2","v":1.6983859745046296E-23},{"$f":"(J57-x!J55)^2","v":3.6805094393991527E-26},{"$f":"(K57-x!K55)^2","v":1.6721339457563227E-23},{"$f":"(L57-x!L55)^2","v":1.6403258118803631E-25}]
[68.000000000000085,15.400000000002278,85.099999999996712,90.300000000010726,47.500000000007873,14.900000000002091,19.299999999999557,28.599999999986949,79.999999999991985,53.700000000004962,51.200000000008423,92.899999999998727,null,{"$f":"(A58-x!A56)^2","v":7.2701421025168448E-27},{"$f":"(B58-x!B56)^2","v":5.1860473215698328E-24},{"$f":"(C58-x!C56)^2","v":1.0776168131455593E-23},{"$f":"(D58-x!D56)^2","v":1.1511563199964346E-22},{"$f":"(E58-x!E56)^2","v":6.1981192598223887E-23},{"$f":"(F58-x!F56)^2","v":4.3713275558756763E-24},{"$f":"(G58-x!G56)^2","v":1.9721522630525295E-25},{"$f":"(H58-x!H56)^2","v":1.7037219558852893E-22},{"$f":"(I58-x!I56)^2","v":6.4238975617838841E-23},{"$f":"(J58-x!J56)^2","v":2.4597516061907061E-23},{"$f":"(K58-x!K56)^2","v":7.0895245096574419E-23},{"$f":"(L58-x!L56)^2","v":1.6357819730662901E-24}]
[61.700000000001921,30.899999999998581,33.100000000001309,69.599999999996143,38.800000000001482,66.49999999999973,86.000000000000853,1.7000000000022382,73.000000000001236,99.899999999997902,60.499999999996838,20.600000000000062,null,{"$f":"(A59-x!A57)^2","v":3.6805094393991527E-24},{"$f":"(B59-x!B57)^2","v":2.0093991195534448E-24},{"$f":"(C59-x!C57)^2","v":1.7092911876584048E-24},{"$f":"(D59-x!D57)^2","v":1.48312918375261E-23},{"$f":"(E59-x!E57)^2","v":2.2053269248613771E-24},{"$f":"(F59-x!F57)^2","v":7.2903369416905027E-26},{"$f":"(G59-x!G57)^2","v":7.2701421025168448E-25},{"$f":"(H59-x!H57)^2","v":5.0095822925155134E-24},{"$f":"(I59-x!I57)^2","v":1.5285473770541666E-24},{"$f":"(J59-x!J57)^2","v":4.4234775725980269E-24},{"$f":"(K59-x!K57)^2","v":9.9977075684090152E-24},{"$f":"(L59-x!L57)^2","v":3.6476928257419586E-27}]
[68.800000000001489,49.099999999997763,33.000000000003091,32.899999999992509,19.199999999997669,67.200000000000415,25.100000000002272,-4.6999999999911504,4.6000000000046146,36.999999999998678,47.1999999999992,58.200000000001388,null,{"$f":"(A60-x!A58)^2","v":2.2264810188957837E-24},{"$f":"(B60-x!B58)^2","v":5.0095822925155134E-24},{"$f":"(C60-x!C58)^2","v":9.5534211065885414E-24},{"$f":"(D60-x!D58)^2","v":5.6086924888608355E-23},{"$f":"(E60-x!E58)^2","v":5.4316039441470294E-24},{"$f":"(F60-x!F58)^2","v":1.6983859745046296E-25},{"$f":"(G60-x!G58)^2","v":5.1537355788919802E-24},{"$f":"(H60-x!H58)^2","v":7.8319133034075218E-23},{"$f":"(I60-x!I58)^2","v":2.1297994885293449E-23},{"$f":"(J60-x!J58)^2","v":1.746651640129672E-24},{"$f":"(K60-x!K58)^2","v":6.4466975352109438E-25},{"$f":"(L60-x!L58)^2","v":1.9197718989458543E-24}]
[31.700000000000141,23.400000000000972,64.799999999999557,23.19999999999995,14.399999999999654,83.499999999998778,18.299999999998668,5.600000000001744,43.900000000000084,60.799999999998974,47.599999999998886,77.09999999999873,null,{"$f":"(A61-x!A59)^2","v":2.0194839173657902E-26},{"$f":"(B61-x!B59)^2","v":9.4759234112596292E-25},{"$f":"(C61-x!C59)^2","v":1.9407240445885244E-25},{"$f":"(D61-x!D59)^2","v":2.473867798773093E-27},{"$f":"(E61-x!E59)^2","v":1.199857436841159E-25},{"$f":"(F61-x!F59)^2","v":1.4936103052837384E-24},{"$f":"(G61-x!G59)^2","v":1.7749370367472766E-24},{"$f":"(H61-x!H59)^2","v":3.042870014265388E-24},{"$f":"(I61-x!I59)^2","v":7.2701421025168448E-27},{"$f":"(J61-x!J59)^2","v":1.0469004627624257E-24},{"$f":"(K61-x!K59)^2","v":1.2444564769787341E-24},{"$f":"(L61-x!L59)^2","v":1.5996332109454424E-24}]
[4.4000000000002553,54.30000000000053,64.799999999999883,33.399999999999729,35.699999999997132,58.49999999999865,62.599999999998964,67.100000000004812,20.700000000003961,56.400000000000453,88.6999999999978,83.799999999999415,null,{"$f":"(A62-x!A60)^2","v":6.4977683902149521E-26},{"$f":"(B62-x!B60)^2","v":2.8398992587956425E-25},{"$f":"(C62-x!C60)^2","v":1.2924697071141057E-26},{"$f":"(D62-x!D60)^2","v":7.2903369416905027E-26},{"$f":"(E62-x!E60)^2","v":8.2403021764193704E-24},{"$f":"(F62-x!F60)^2","v":1.8225842354226257E-24},{"$f":"(G62-x!G60)^2","v":1.0761829795642296E-24},{"$f":"(H62-x!H60)^2","v":2.3208111126759398E-23},{"$f":"(I62-x!I60)^2","v":1.5691705582294278E-23},{"$f":"(J62-x!J60)^2","v":2.0679515313825692E-25},{"$f":"(K62-x!K60)^2","v":4.851810111471311E-24},{"$f":"(L62-x!L60)^2","v":3.3947524650918934E-25}]
[82.200000000000387,6.599999999999163,82.300000000000921,27.199999999999651,21.799999999999944,57.700000000002326,74.600000000000975,72.700000000000784,99.700000000000216,99.100000000001828,6.3000000000021892,63.300000000001077,null,{"$f":"(A63-x!A61)^2","v":1.4722037757596611E-25},{"$f":"(B63-x!B61)^2","v":7.0000676830053792E-25},{"$f":"(C63-x!C61)^2","v":8.5323195508704637E-25},{"$f":"(D63-x!D61)^2","v":1.2121952213988156E-25},{"$f":"(E63-x!E61)^2","v":3.2311742677852644E-27},{"$f":"(F63-x!F61)^2","v":5.3985348950001646E-24},{"$f":"(G63-x!G61)^2","v":9.6147629305785272E-25},{"$f":"(H63-x!H61)^2","v":6.1089388500315154E-25},{"$f":"(I63-x!I61)^2","v":4.543838814073028E-26},{"$f":"(J63-x!J61)^2","v":3.3606231868884115E-24},{"$f":"(K63-x!K61)^2","v":4.7932963538265425E-24},{"$f":"(L63-x!L61)^2","v":1.1664539106704804E-24}]
[79.400000000001199,9.1999999999999424,4.5999999999992003,88.900000000003658,30.900000000004262,86.60000000000106,0.29999999999989063,38.299999999994689,77.099999999995987,19.100000000000716,91.600000000003135,41.499999999999268,null,{"$f":"(A64-x!A62)^2","v":1.4249478520933016E-24},{"$f":"(B64-x!B62)^2","v":3.2311742677852644E-27},{"$f":"(C64-x!C62)^2","v":6.3897733322901956E-25},{"$f":"(D64-x!D62)^2","v":1.3338489325809308E-23},{"$f":"(E64-x!E62)^2","v":1.8175355256292112E-23},{"$f":"(F64-x!F62)^2","v":1.135959703518257E-24},{"$f":"(G64-x!G62)^2","v":1.1958946433875878E-26},{"$f":"(H64-x!H62)^2","v":2.8172255031134181E-23},{"$f":"(I64-x!I62)^2","v":1.605974390445971E-23},{"$f":"(J64-x!J62)^2","v":5.0993231090934557E-25},{"$f":"(K64-x!K62)^2","v":9.863361400806256E-24},{"$f":"(L64-x!L62)^2","v":5.3561762198334171E-25}]
[99.199999999998653,-5.5999999999979089,92.299999999997297,47.100000000006318,39.100000000005352,37.600000000000051,16.499999999997819,40.399999999992403,70.499999999994799,70.900000000001796,61.600000000004613,29.299999999997596,null,{"$f":"(A65-x!A63)^2","v":1.8225842354226257E-24},{"$f":"(B65-x!B63)^2","v":4.3713275558756763E-24},{"$f":"(C65-x!C63)^2","v":7.2903369416905027E-24},{"$f":"(D65-x!D63)^2","v":3.9901013726411217E-23},{"$f":"(E65-x!E63)^2","v":2.8626638912541484E-23},{"$f":"(F65-x!F63)^2","v":2.473867798773093E-27},{"$f":"(G65-x!G63)^2","v":4.7583584931952091E-24},{"$f":"(H65-x!H63)^2","v":5.7694686522321195E-23},{"$f":"(I65-x!I63)^2","v":2.7052198763465179E-23},{"$f":"(J65-x!J63)^2","v":3.2061326672099286E-24},{"$f":"(K65-x!K63)^2","v":2.1265216136959705E-23},{"$f":"(L65-x!L63)^2","v":5.7849252772646579E-24}]
[29.099999999998644,27.100000000005515,29.699999999998251,24.500000000009098,58.30000000000669,7.6000000000005938,33.000000000000469,43.99999999999126,42.499999999993435,56.400000000004695,28.100000000002336,78.599999999998801,null,{"$f":"(A66-x!A64)^2","v":1.8418198197355348E-24},{"$f":"(B66-x!B64)^2","v":3.0402118685591552E-23},{"$f":"(C66-x!C64)^2","v":3.055277218582704E-24},{"$f":"(D66-x!D64)^2","v":8.2782697362432956E-23},{"$f":"(E66-x!E64)^2","v":4.4800433171234427E-23},{"$f":"(F66-x!F64)^2","v":3.5306337560162126E-25},{"$f":"(G66-x!G64)^2","v":2.1992179860113456E-25},{"$f":"(H66-x!H64)^2","v":7.6381930464567601E-23},{"$f":"(I66-x!I64)^2","v":4.3104672525822373E-23},{"$f":"(J66-x!J64)^2","v":2.2058873316484461E-23},{"$f":"(K66-x!K64)^2","v":5.4481763340439124E-24},{"$f":"(L66-x!L64)^2","v":1.4249478520933016E-24}]
[99.099999999999326,44.199999999999505,67.799999999997198,35.600000000003661,80.700000000003953,99.200000000001467,79.799999999998235,18.799999999990913,17.599999999992502,-2.2999999999988558,41.400000000002215,60.099999999998232,null,{"$f":"(A67-x!A65)^2","v":4.4610399734610306E-25},{"$f":"(B67-x!B65)^2","v":2.473867798773093E-25},{"$f":"(C67-x!C65)^2","v":7.8374151349048953E-24},{"$f":"(D67-x!D65)^2","v":1.3390440549583543E-23},{"$f":"(E67-x!E65)^2","v":1.5607379506969773E-23},{"$f":"(F67-x!F65)^2","v":2.1424704879333668E-24},{"$f":"(G67-x!G65)^2","v":3.105158471341639E-24},{"$f":"(H67-x!H65)^2","v":8.2588864771689291E-23},{"$f":"(I67-x!I65)^2","v":5.6246678688246473E-23},{"$f":"(J67-x!J65)^2","v":1.3086760655509662E-24},{"$f":"(K67-x!K65)^2","v":4.9146160613013871E-24},{"$f":"(L67-x!L65)^2","v":3.130250559014909E-24}]
[77.699999999999847,19.600000000002041,11.800000000001756,58.100000000000996,39.899999999999515,34.800000000000999,42.600000000003106,34.10000000000408,98.500000000003368,10.000000000000261,83.800000000003266,9.7000000000025217,null,{"$f":"(A68-x!A66)^2","v":2.4435755400126062E-26},{"$f":"(B68-x!B66)^2","v":4.1585717697375694E-24},{"$f":"(C68-x!C66)^2","v":3.0801673578642374E-24},{"$f":"(D68-x!D66)^2","v":9.8954711950923721E-25},{"$f":"(E68-x!E66)^2","v":2.3345234084748535E-25},{"$f":"(F68-x!F66)^2","v":1.0037339940287319E-24},{"$f":"(G68-x!G66)^2","v":9.6414706053856898E-24},{"$f":"(H68-x!H66)^2","v":1.6634287078950277E-23},{"$f":"(I68-x!I66)^2","v":1.1343239215451907E-23},{"$f":"(J68-x!J66)^2","v":6.8185981203683376E-26},{"$f":"(K68-x!K66)^2","v":1.068306992286503E-23},{"$f":"(L68-x!L66)^2","v":6.3626365171505928E-24}]
[17.499999999997861,68.899999999998712,78.80000000000264,66.599999999991624,75.499999999993079,84.799999999998789,81.900000000000659,27.600000000009281,62.70000000000816,93.899999999998002,11.399999999994026,93.300000000002825,null,{"$f":"(A69-x!A67)^2","v":4.574181559931449E-24},{"$f":"(B69-x!B67)^2","v":1.6723346319706109E-24},{"$f":"(C69-x!C67)^2","v":6.9866065605186879E-24},{"$f":"(D69-x!D67)^2","v":7.0060138009645731E-23},{"$f":"(E69-x!E67)^2","v":4.789589811977271E-23},{"$f":"(F69-x!F67)^2","v":1.4590771302967834E-24},{"$f":"(G69-x!G67)^2","v":4.2732279691460121E-25},{"$f":"(H69-x!H67)^2","v":8.6112611772002924E-23},{"$f":"(I69-x!I67)^2","v":6.653714831580111E-23},{"$f":"(J69-x!J67)^2","v":4.0149359761149275E-24},{"$f":"(K69-x!K67)^2","v":3.568733844472215E-23},{"$f":"(L69-x!L67)^2","v":7.9973582611602659E-24}]
[88.399999999998769,3.5000000000018416,73.300000000001177,88.999999999997499,38.399999999995401,52.799999999997304,6.3999999999985633,6.9000000000068002,80.700000000005602,5.6999999999976128,83.899999999997519,40.200000000000422,null,{"$f":"(A70-x!A68)^2","v":1.5285473770541666E-24},{"$f":"(B70-x!B68)^2","v":3.3916303508442549E-24},{"$f":"(C70-x!C68)^2","v":1.3912224706732929E-24},{"$f":"(D70-x!D68)^2","v":6.2555533824322718E-24},{"$f":"(E70-x!E68)^2","v":2.1134353579114402E-23},{"$f":"(F70-x!F68)^2","v":7.2520172343584868E-24},{"$f":"(G70-x!G68)^2","v":2.0651778964398121E-24},{"$f":"(H70-x!H68)^2","v":4.623855815588854E-23},{"$f":"(I70-x!I68)^2","v":3.1349660539619581E-23},{"$f":"(J70-x!J68)^2","v":5.6997914083732063E-24},{"$f":"(K70-x!K68)^2","v":6.1846694969327326E-24},{"$f":"(L70-x!L68)^2","v":1.7574558790875789E-25}]
[75.30000000000075,80.899999999998499,14.600000000000165,11.399999999997849,96.100000000000136,69.300000000000651,92.600000000001344,15.200000000000557,74.499999999999673,30.399999999999274,78.99999999999865,60.300000000001475,null,{"$f":"(A71-x!A69)^2","v":5.6727303238805047E-25},{"$f":"(B71-x!B69)^2","v":2.2690921295522019E-24},{"$f":"(C71-x!C69)^2","v":2.7291431877026124E-26},{"$f":"(D71-x!D69)^2","v":4.6275243343424938E-24},{"$f":"(E71-x!E69)^2","v":2.0194839173657902E-26},{"$f":"(F71-x!F69)^2","v":4.2732279691460121E-25},{"$f":"(G71-x!G69)^2","v":1.8225842354226257E-24},{"$f":"(H71-x!H69)^2","v":3.1111411924468352E-25},{"$f":"(I71-x!I69)^2","v":1.068306992286503E-25},{"$f":"(J71-x!J69)^2","v":5.2526776690684204E-25},{"$f":"(K71-x!K69)^2","v":1.8225842354226257E-24},{"$f":"(L71-x!L69)^2","v":2.1842738050228387E-24}]
[90.30000000000436,71.199999999996194,43.900000000003772,18.299999999998082,50.700000000003229,23.500000000004075,60.300000000003877,99.400000000003303,66.499999999998778,66.80000000000004,16.900000000006028,71.700000000002021,null,{"$f":"(A72-x!A70)^2","v":1.9033433972780836E-23},{"$f":"(B72-x!B70)^2","v":1.4504741288088052E-23},{"$f":"(C72-x!C70)^2","v":1.4235392620609389E-23},{"$f":"(D72-x!D70)^2","v":3.6805094393991527E-24},{"$f":"(E72-x!E70)^2","v":1.040619867779418E-23},{"$f":"(F72-x!F70)^2","v":1.6605320106510562E-23},{"$f":"(G72-x!G70)^2","v":1.5051011687735498E-23},{"$f":"(H72-x!H70)^2","v":1.0869670236829629E-23},{"$f":"(I72-x!I70)^2","v":1.4936103052837384E-24},{"$f":"(J72-x!J70)^2","v":1.8175355256292112E-27},{"$f":"(K72-x!K70)^2","v":3.6348299753657869E-23},{"$f":"(L72-x!L70)^2","v":4.0720873709763794E-24}]
[61.100000000000094,60.800000000001056,78.100000000002737,82.699999999994688,45.599999999993805,17.39999999999776,16.500000000000558,89.000000000012264,10.500000000008098,91.699999999999264,10.399999999993177,62.600000000000321,null,{"$f":"(A73-x!A71)^2","v":8.5323195508704637E-27},{"$f":"(B73-x!B71)^2","v":1.1208640612359477E-24},{"$f":"(C73-x!C71)^2","v":7.522375643795832E-24},{"$f":"(D73-x!D71)^2","v":2.8247733242545727E-23},{"$f":"(E73-x!E71)^2","v":3.8389581475556726E-23},{"$f":"(F73-x!F71)^2","v":5.0095822925155134E-24},{"$f":"(G73-x!G71)^2","v":3.1111411924468352E-25},{"$f":"(H73-x!H71)^2","v":1.5040490176526022E-22},{"$f":"(I73-x!I71)^2","v":6.5584257984835683E-23},{"$f":"(J73-x!J71)^2","v":5.4606845125570968E-25},{"$f":"(K73-x!K71)^2","v":4.6553146418559817E-23},{"$f":"(L73-x!L71)^2","v":1.0223637331664313E-25}]
[14.699999999998909,56.800000000002306,71.099999999999525,32.50000000000496,59.200000000002383,90.400000000001413,30.199999999999175,47.899999999993589,68.799999999997198,88.700000000000955,52.399999999997938,92.899999999998869,null,{"$f":"(A74-x!A72)^2","v":1.1895896232988023E-24},{"$f":"(B74-x!B72)^2","v":5.3326997192940398E-24},{"$f":"(C74-x!C72)^2","v":2.1992179860113456E-25},{"$f":"(D74-x!D72)^2","v":2.4597516061907061E-23},{"$f":"(E74-x!E72)^2","v":5.6659145656593952E-24},{"$f":"(F74-x!F72)^2","v":1.979296187410211E-24},{"$f":"(G74-x!G72)^2","v":6.7935438980185183E-25},{"$f":"(H74-x!H72)^2","v":4.107650482761191E-23},{"$f":"(I74-x!I72)^2","v":7.8374151349048953E-24},{"$f":"(J74-x!J72)^2","v":9.0654633050550323E-25},{"$f":"(K74-x!K72)^2","v":4.2459649362615739E-24},{"$f":"(L74-x!L72)^2","v":1.2924697071141057E-24}]
[83.000000000001393,51.599999999999078,11.900000000003352,87.399999999996737,53.999999999997392,95.000000000000952,87.900000000002251,61.700000000007449,55.400000000005335,67.099999999999497,51.79999999999994,31.700000000001758,null,{"$f":"(A75-x!A73)^2","v":1.9395123542381049E-24},{"$f":"(B75-x!B73)^2","v":8.5323195508704637E-25},{"$f":"(C75-x!C73)^2","v":1.1235805826491668E-23},{"$f":"(D75-x!D73)^2","v":1.068306992286503E-23},{"$f":"(E75-x!E73)^2","v":6.800056733652023E-24},{"$f":"(F75-x!F73)^2","v":9.0654633050550323E-25},{"$f":"(G75-x!G73)^2","v":5.0414396513119587E-24},{"$f":"(H75-x!H73)^2","v":5.5450181609462922E-23},{"$f":"(I75-x!I73)^2","v":2.8474773721955576E-23},{"$f":"(J75-x!J73)^2","v":2.473867798773093E-25},{"$f":"(K75-x!K73)^2","v":3.2311742677852644E-27},{"$f":"(L75-x!L73)^2","v":3.0926502928284547E-24}]
[37.299999999997894,64.800000000001091,65.69999999999898,28.59999999999706,6.099999999996145,89.899999999996652,22.099999999997149,70.400000000002052,82.100000000003277,56.19999999999952,7.9999999999908438,80.500000000000142,null,{"$f":"(A76-x!A74)^2","v":4.4234775725980269E-24},{"$f":"(B76-x!B74)^2","v":1.197352014606177E-24},{"$f":"(C76-x!C74)^2","v":1.0469004627624257E-24},{"$f":"(D76-x!D74)^2","v":8.6532866375206745E-24},{"$f":"(E76-x!E74)^2","v":1.485866846638089E-23},{"$f":"(F76-x!F74)^2","v":1.1247717626160505E-23},{"$f":"(G76-x!G74)^2","v":8.1386337829544864E-24},{"$f":"(H76-x!H74)^2","v":4.1876018510497026E-24},{"$f":"(I76-x!I74)^2","v":1.0776168131455593E-23},{"$f":"(J76-x!J74)^2","v":2.3345234084748535E-25},{"$f":"(K76-x!K74)^2","v":8.3836572144458441E-23},{"$f":"(L76-x!L74)^2","v":2.0194839173657902E-26}]
[69.299999999998008,-30.099999999998996,26.700000000001701,6.4999999999965672,78.799999999997766,9.499999999999126,58.000000000003112,3.000000000006469,54.900000000004653,78.399999999998926,95.899999999998286,10.000000000002261,null,{"$f":"(A77-x!A75)^2","v":3.9581884780369488E-24},{"$f":"(B77-x!B75)^2","v":1.0108652966119298E-24},{"$f":"(C77-x!C75)^2","v":2.8959525592770267E-24},{"$f":"(D77-x!D75)^2","v":1.1784181695895149E-23},{"$f":"(E77-x!E75)^2","v":4.9778259079149363E-24},{"$f":"(F77-x!F75)^2","v":7.6381930464567601E-25},{"$f":"(G77-x!G75)^2","v":9.6856468160780665E-24},{"$f":"(H77-x!H75)^2","v":4.1848575814541424E-23},{"$f":"(I77-x!I75)^2","v":2.1660227191196454E-23},{"$f":"(J77-x!J75)^2","v":1.1664539106704804E-24},{"$f":"(K77-x!K75)^2","v":2.9567264034152535E-24},{"$f":"(L77-x!L75)^2","v":5.1134878955076042E-24}]
[14.499999999997391,90.800000000002626,42.999999999999709,90.800000000000452,18.699999999997303,12.899999999998082,30.899999999999192,99.300000000002299,10.300000000003209,46.300000000000018,19.399999999995536,35.799999999999592,null,{"$f":"(A78-x!A76)^2","v":6.8093242715665594E-24},{"$f":"(B78-x!B76)^2","v":6.911683707184417E-24},{"$f":"(C78-x!C76)^2","v":8.4868811627297334E-26},{"$f":"(D78-x!D76)^2","v":2.0679515313825692E-25},{"$f":"(E78-x!E76)^2","v":7.2711644662500112E-24},{"$f":"(F78-x!F76)^2","v":3.6805094393991527E-24},{"$f":"(G78-x!G76)^2","v":6.5038741736213628E-25},{"$f":"(H78-x!H76)^2","v":5.2999335927347799E-24},{"$f":"(I78-x!I76)^2","v":1.029190850984576E-23},{"$f":"(J78-x!J76)^2","v":4.543838814073028E-28},{"$f":"(K78-x!K76)^2","v":1.9911303631659745E-23},{"$f":"(L78-x!L76)^2","v":1.6403258118803631E-25}]
[1.9999999999976152,36.600000000000783,5.9000000000004684,53.000000000005429,59.300000000002449,98.400000000001739,33.399999999999515,58.499999999996852,21.499999999998369,56.899999999999238,22.600000000004425,78.89999999999948,null,{"$f":"(A79-x!A77)^2","v":5.6870757594419488E-24},{"$f":"(B79-x!B77)^2","v":6.1089388500315154E-25},{"$f":"(C79-x!C77)^2","v":2.1908955034612639E-25},{"$f":"(D79-x!D77)^2","v":2.9469117115768557E-23},{"$f":"(E79-x!E77)^2","v":6.0092268316115795E-24},{"$f":"(F79-x!F77)^2","v":3.0057998626072422E-24},{"$f":"(G79-x!G77)^2","v":2.3345234084748535E-25},{"$f":"(H79-x!H77)^2","v":9.9080424824779741E-24},{"$f":"(I79-x!I77)^2","v":2.6591680699658878E-24},{"$f":"(J79-x!J77)^2","v":5.7802678424802331E-25},{"$f":"(K79-x!K77)^2","v":1.9564065993843181E-23},{"$f":"(L79-x!L77)^2","v":2.7646734828737668E-25}]
[80.600000000001501,60.799999999997659,73.100000000003732,10.399999999992568,16.89999999999732,77.800000000000921,50.000000000004022,59.400000000008475,9.100000000004389,42.499999999998202,40.300000000002214,48.000000000002892,null,{"$f":"(A80-x!A78)^2","v":2.2690921295522019E-24},{"$f":"(B80-x!B78)^2","v":5.4647739674897625E-24},{"$f":"(C80-x!C78)^2","v":1.3968568308027434E-23},{"$f":"(D80-x!D78)^2","v":5.5238741643314723E-23},{"$f":"(E80-x!E78)^2","v":7.17568074228206E-24},{"$f":"(F80-x!F78)^2","v":8.5323195508704637E-25},{"$f":"(G80-x!G78)^2","v":1.6173844745790877E-23},{"$f":"(H80-x!H78)^2","v":7.1855711647673589E-23},{"$f":"(I80-x!I78)^2","v":1.9266637033582272E-23},{"$f":"(J80-x!J78)^2","v":3.2316286516666717E-24},{"$f":"(K80-x!K78)^2","v":4.9146160613013871E-24},{"$f":"(L80-x!L78)^2","v":8.3631372856931446E-24}]
[12.599999999998138,92.000000000002828,4.4999999999968372,95.500000000001094,18.39999999999873,60.199999999995583,72.999999999997073,24.099999999999969,71.899999999999579,48.899999999998748,31.999999999998415,88.499999999998522,null,{"$f":"(A81-x!A79)^2","v":3.4656363505914326E-24},{"$f":"(B81-x!B79)^2","v":7.9973582611602659E-24},{"$f":"(C81-x!C79)^2","v":1.0003325046915094E-23},{"$f":"(D81-x!D79)^2","v":1.197352014606177E-24},{"$f":"(E81-x!E79)^2","v":1.6086325361522037E-24},{"$f":"(F81-x!F79)^2","v":1.953265039715366E-23},{"$f":"(G81-x!G79)^2","v":8.5698819517334674E-24},{"$f":"(H81-x!H79)^2","v":1.0223637331664313E-27},{"$f":"(I81-x!I79)^2","v":1.8175355256292112E-25},{"$f":"(J81-x!J79)^2","v":1.5638883456080679E-24},{"$f":"(K81-x!K79)^2","v":2.5106728931670845E-24},{"$f":"(L81-x!L79)^2","v":2.1842738050228387E-24}]
[52.899999999994577,40.700000000002447,51.499999999995737,64.400000000002422,27.29999999999896,33.999999999996483,16.399999999996428,68.4999999999946,39.299999999998974,63.699999999997473,60.099999999994644,54.299999999999947,null,{"$f":"(A82-x!A80)^2","v":2.9392023317223118E-23},{"$f":"(B82-x!B80)^2","v":5.9744412211349538E-24},{"$f":"(C82-x!C80)^2","v":1.8175355256292112E-23},{"$f":"(D82-x!D80)^2","v":5.8363085211871337E-24},{"$f":"(E82-x!E80)^2","v":1.0835667176370983E-24},{"$f":"(F82-x!F80)^2","v":1.2370601171313819E-23},{"$f":"(G82-x!G80)^2","v":1.2748307772733639E-23},{"$f":"(H82-x!H80)^2","v":2.9161347766762011E-23},{"$f":"(I82-x!I80)^2","v":1.0469004627624257E-24},{"$f":"(J82-x!J80)^2","v":6.3985328437817697E-24},{"$f":"(K82-x!K80)^2","v":2.870272296912824E-23},{"$f":"(L82-x!L80)^2","v":2.473867798773093E-27}]
[50.899999999999359,69.100000000000207,67.99999999999865,60.099999999997294,27.499999999995978,80.29999999999815,52.499999999999879,40.900000000003189,10.500000000001885,95.799999999998718,15.599999999992752,40.600000000001721,null,{"$f":"(A83-x!A81)^2","v":4.0894549326657252E-25},{"$f":"(B83-x!B81)^2","v":4.543838814073028E-26},{"$f":"(C83-x!C81)^2","v":1.8225842354226257E-24},{"$f":"(D83-x!D81)^2","v":7.3287576232183869E-24},{"$f":"(E83-x!E81)^2","v":1.6173844745790877E-23},{"$f":"(F83-x!F81)^2","v":3.4129278203481855E-24},{"$f":"(G83-x!G81)^2","v":1.4590771302967834E-26},{"$f":"(H83-x!H81)^2","v":1.0178249430621517E-23},{"$f":"(I83-x!I81)^2","v":3.5521491483452105E-24},{"$f":"(J83-x!J81)^2","v":1.6357819730662901E-24},{"$f":"(K83-x!K81)^2","v":5.2526776690684204E-23},{"$f":"(L83-x!L81)^2","v":2.9567264034152535E-24}]
[6.6000000000006072,37.599999999999021,62.60000000000074,62.800000000002591,11.900000000005988,23.000000000002622,77.100000000002794,51.199999999997701,19.399999999995913,40.399999999999878,76.900000000007111,37.100000000000719,null,{"$f":"(A84-x!A82)^2","v":3.690733076730817E-25},{"$f":"(B84-x!B82)^2","v":9.6147629305785272E-25},{"$f":"(C84-x!C82)^2","v":5.4606845125570968E-25},{"$f":"(D84-x!D82)^2","v":6.7261436222764351E-24},{"$f":"(E84-x!E82)^2","v":3.5857328503466415E-23},{"$f":"(F84-x!F82)^2","v":6.8743737418110841E-24},{"$f":"(G84-x!G82)^2","v":7.8374151349048953E-24},{"$f":"(H84-x!H82)^2","v":5.2999335927347799E-24},{"$f":"(I84-x!I82)^2","v":1.669229675447661E-23},{"$f":"(J84-x!J82)^2","v":1.4590771302967834E-26},{"$f":"(K84-x!K82)^2","v":5.0487097934144756E-23},{"$f":"(L84-x!L82)^2","v":5.1501888602621065E-25}]
[9.700000000002877,39.599999999996548,95.600000000002794,93.899999999995501,50.299999999998683,83.800000000002143,0.20000000000171328,56.000000000005606,7.5000000000012879,82.199999999998596,92.200000000001452,31.300000000001042,null,{"$f":"(A85-x!A83)^2","v":8.2811462386480935E-24},{"$f":"(B85-x!B83)^2","v":1.1924850583653255E-23},{"$f":"(C85-x!C83)^2","v":7.8374151349048953E-24},{"$f":"(D85-x!D83)^2","v":2.0293591937217089E-23},{"$f":"(E85-x!E83)^2","v":1.7279209267961043E-24},{"$f":"(F85-x!F83)^2","v":4.6046252799857383E-24},{"$f":"(G85-x!G83)^2","v":2.9352886653519853E-24},{"$f":"(H85-x!H83)^2","v":3.1429278693061727E-23},{"$f":"(I85-x!I83)^2","v":1.6585800532271773E-24},{"$f":"(J85-x!J83)^2","v":1.979296187410211E-24},{"$f":"(K85-x!K83)^2","v":2.1010710676273681E-24},{"$f":"(L85-x!L83)^2","v":1.0835667176370983E-24}]
[58.800000000002626,2.6999999999989686,8.9000000000028034,61.399999999995991,-6.9000000000020218,-26.299999999998672,5.2000000000028619,-6.1999999999922766,89.800000000004417,68.000000000001819,14.100000000000126,55.700000000001275,null,{"$f":"(A86-x!A84)^2","v":6.911683707184417E-24},{"$f":"(B86-x!B84)^2","v":1.0642382449525994E-24},{"$f":"(C86-x!C84)^2","v":7.8573196732654318E-24},{"$f":"(D86-x!D84)^2","v":1.605974390445971E-23},{"$f":"(E86-x!E84)^2","v":4.0864383285641601E-24},{"$f":"(F86-x!F84)^2","v":1.765483327659108E-24},{"$f":"(G86-x!G84)^2","v":8.1893890935964063E-24},{"$f":"(H86-x!H84)^2","v":5.9653989818949485E-23},{"$f":"(I86-x!I84)^2","v":1.953265039715366E-23},{"$f":"(J86-x!J84)^2","v":3.3087224502121107E-24},{"$f":"(K86-x!K84)^2","v":1.5906591292876482E-26},{"$f":"(L86-x!L84)^2","v":1.6176571049079321E-24}]
[58.900000000002656,50.199999999996507,87.700000000003627,57.999999999994728,8.8999999999984833,13.200000000002401,67.300000000003791,70.100000000006929,6.60000000000172,49.799999999999045,15.700000000003884,7.0000000000032818,null,{"$f":"(A87-x!A85)^2","v":7.0619333106364318E-24},{"$f":"(B87-x!B85)^2","v":1.2221108874330816E-23},{"$f":"(C87-x!C85)^2","v":1.3131694172671051E-23},{"$f":"(D87-x!D85)^2","v":2.7796378587014473E-23},{"$f":"(E87-x!E85)^2","v":2.3013155198086698E-24},{"$f":"(F87-x!F85)^2","v":5.7678480163884335E-24},{"$f":"(G87-x!G85)^2","v":1.4396698898508982E-23},{"$f":"(H87-x!H85)^2","v":4.8092797801715875E-23},{"$f":"(I87-x!I85)^2","v":2.9597816617011744E-24},{"$f":"(J87-x!J85)^2","v":9.0654633050550323E-25},{"$f":"(K87-x!K85)^2","v":1.509238901993615E-23},{"$f":"(L87-x!L85)^2","v":1.0770337660505105E-23}]
[51.499999999998188,9.6000000000026926,37.399999999996027,98.90000000001028,70.600000000006162,46.499999999999979,39.199999999998525,35.399999999987827,80.799999999992266,30.699999999999882,40.200000000003186,21.399999999998332,null,{"$f":"(A88-x!A86)^2","v":3.2829235431677627E-24},{"$f":"(B88-x!B86)^2","v":7.2520172343584868E-24},{"$f":"(C88-x!C86)^2","v":1.5776258849559487E-23},{"$f":"(D88-x!D86)^2","v":1.0556428086407022E-22},{"$f":"(E88-x!E86)^2","v":3.8038191273935078E-23},{"$f":"(F88-x!F86)^2","v":4.543838814073028E-28},{"$f":"(G88-x!G86)^2","v":2.1842738050228387E-24},{"$f":"(H88-x!H86)^2","v":1.4814777507791841E-22},{"$f":"(I88-x!I86)^2","v":5.976379925695625E-23},{"$f":"(J88-x!J86)^2","v":1.374511241257091E-26},{"$f":"(K88-x!K86)^2","v":1.0132962503774589E-23},{"$f":"(L88-x!L86)^2","v":2.7762981371731036E-24}]
[62.40000000000007,15.600000000000003,44.499999999998785,7.2999999999968876,4.099999999996121,75.199999999997388,62.699999999998575,94.700000000001609,32.900000000003445,88.699999999998795,22.999999999994834,43.700000000000813,null,{"$f":"(A89-x!A87)^2","v":5.0487097934144756E-27},{"$f":"(B89-x!B87)^2","v":1.2621774483536189E-29},{"$f":"(C89-x!C87)^2","v":1.4762932306923268E-24},{"$f":"(D89-x!D87)^2","v":9.6856468160780665E-24},{"$f":"(E89-x!E87)^2","v":1.5044120987728392E-23},{"$f":"(F89-x!F87)^2","v":6.8371647506336194E-24},{"$f":"(G89-x!G87)^2","v":2.0397292436373823E-24},{"$f":"(H89-x!H87)^2","v":2.5786790140843775E-24},{"$f":"(I89-x!I87)^2","v":1.18758276115592E-23},{"$f":"(J89-x!J87)^2","v":1.4590771302967834E-24},{"$f":"(K89-x!K87)^2","v":2.6683895384035594E-23},{"$f":"(L89-x!L87)^2","v":6.5613032475214524E-25}]
[34.499999999999218,48.800000000001717,9.9999999999999964,19.400000000005221,81.900000000000929,21.600000000000673,94.699999999999051,61.699999999997679,34.499999999998678,44.000000000000902,74.900000000001455,99.799999999998562,null,{"$f":"(A90-x!A88)^2","v":6.1089388500315154E-25},{"$f":"(B90-x!B88)^2","v":2.9567264034152535E-24},{"$f":"(C90-x!C88)^2","v":1.2621774483536189E-29},{"$f":"(D90-x!D88)^2","v":2.7274392481473351E-23},{"$f":"(E90-x!E88)^2","v":8.5323195508704637E-25},{"$f":"(F90-x!F88)^2","v":4.508624063263962E-25},{"$f":"(G90-x!G88)^2","v":9.0654633050550323E-25},{"$f":"(H90-x!H88)^2","v":5.3985348950001646E-24},{"$f":"(I90-x!I88)^2","v":1.746651640129672E-24},{"$f":"(J90-x!J88)^2","v":8.1430640257982076E-25},{"$f":"(K90-x!K88)^2","v":2.1010710676273681E-24},{"$f":"(L90-x!L88)^2","v":2.0600755441048426E-24}]
[-20.199999999999704,32.000000000000476,28.299999999998445,96.599999999996385,57.799999999996153,13.599999999996607,15.199999999997635,-13.699999999999283,54.000000000002366,40.400000000000041,49.699999999993715,79.699999999998539,null,{"$f":"(A91-x!A89)^2","v":8.6951404417080805E-26},{"$f":"(B91-x!B89)^2","v":2.2663658262637581E-25},{"$f":"(C91-x!C89)^2","v":2.4214117040195166E-24},{"$f":"(D91-x!D89)^2","v":1.3028902441277132E-23},{"$f":"(E91-x!E89)^2","v":1.4776614310463421E-23},{"$f":"(F91-x!F89)^2","v":1.1511373873347093E-23},{"$f":"(G91-x!G89)^2","v":5.5900608564569636E-24},{"$f":"(H91-x!H89)^2","v":5.1247244302415723E-25},{"$f":"(I91-x!I89)^2","v":5.5984638028193778E-24},{"$f":"(J91-x!J89)^2","v":1.8175355256292112E-27},{"$f":"(K91-x!K89)^2","v":3.9542757279470526E-23},{"$f":"(L91-x!L89)^2","v":2.1424704879333668E-24}]
[88.900000000000986,37.900000000001334,83.899999999999054,59.500000000006423,73.600000000003206,38.100000000001614,12.099999999998728,16.999999999994536,4.2999999999967295,76.900000000001754,19.700000000006636,63.299999999999152,null,{"$f":"(A92-x!A90)^2","v":9.6147629305785272E-25},{"$f":"(B92-x!B90)^2","v":1.7844159893844122E-24},{"$f":"(C92-x!C90)^2","v":9.0654633050550323E-25},{"$f":"(D92-x!D90)^2","v":4.1258864225350041E-23},{"$f":"(E92-x!E90)^2","v":1.031471605633751E-23},{"$f":"(F92-x!F90)^2","v":2.6015496694485451E-24},{"$f":"(G92-x!G90)^2","v":1.6176571049079321E-24},{"$f":"(H92-x!H90)^2","v":2.9856100721433777E-23},{"$f":"(I92-x!I90)^2","v":1.0694685110833504E-23},{"$f":"(J92-x!J90)^2","v":3.055277218582704E-24},{"$f":"(K92-x!K90)^2","v":4.4042722805438782E-23},{"$f":"(L92-x!L90)^2","v":7.1494779384542388E-25}]
[98.699999999998283,2.3000000000010283,24.499999999998522,1.4000000000006989,84.799999999997624,39.199999999997765,9.2999999999972633,30.599999999998673,82.100000000000534,93.899999999998826,71.699999999998113,37.19999999999812,null,{"$f":"(A93-x!A91)^2","v":2.9567264034152535E-24},{"$f":"(B93-x!B91)^2","v":1.0578340749087889E-24},{"$f":"(C93-x!C91)^2","v":2.1842738050228387E-24},{"$f":"(D93-x!D91)^2","v":4.8859599000583286E-25},{"$f":"(E93-x!E91)^2","v":5.6321386971414523E-24},{"$f":"(F93-x!F91)^2","v":5.0095822925155134E-24},{"$f":"(G93-x!G91)^2","v":7.4931720130845501E-24},{"$f":"(H93-x!H91)^2","v":1.765483327659108E-24},{"$f":"(I93-x!I91)^2","v":2.9161347766762011E-25},{"$f":"(J93-x!J91)^2","v":1.3912224706732929E-24},{"$f":"(K93-x!K91)^2","v":3.5722651014283463E-24},{"$f":"(L93-x!L91)^2","v":3.5454564524253155E-24}]
[59.199999999999967,13.099999999998934,40.800000000003209,55.899999999999267,39.299999999999187,21.000000000002462,50.900000000002201,18.20000000000358,0.10000000000208467,17.399999999997895,61.600000000005892,66.800000000001376,null,{"$f":"(A94-x!A92)^2","v":1.2621774483536189E-27},{"$f":"(B94-x!B92)^2","v":1.135959703518257E-24},{"$f":"(C94-x!C92)^2","v":1.031471605633751E-23},{"$f":"(D94-x!D92)^2","v":5.3561762198334171E-25},{"$f":"(E94-x!E92)^2","v":6.5613032475214524E-25},{"$f":"(F94-x!F92)^2","v":6.0615945739437712E-24},{"$f":"(G94-x!G92)^2","v":4.851810111471311E-24},{"$f":"(H94-x!H92)^2","v":1.2824530668839714E-23},{"$f":"(I94-x!I92)^2","v":4.3458313865296585E-24},{"$f":"(J94-x!J92)^2","v":4.4234775725980269E-24},{"$f":"(K94-x!K92)^2","v":3.4696803671359576E-23},{"$f":"(L94-x!L92)^2","v":1.900132417849472E-24}]
[-17.799999999998455,52.199999999999498,89.999999999999631,36.600000000003426,-79.399999999993824,40.50000000000162,28.00000000000114,28.099999999993965,92.199999999994915,44.50000000000297,-68.599999999993557,85.399999999999153,null,{"$f":"(A95-x!A93)^2","v":2.3883552766471353E-24},{"$f":"(B95-x!B93)^2","v":2.5450546068602371E-25},{"$f":"(C95-x!C93)^2","v":1.3651711281392742E-25},{"$f":"(D95-x!D93)^2","v":1.1729364540452246E-23},{"$f":"(E95-x!E93)^2","v":3.8213684426354165E-23},{"$f":"(F95-x!F93)^2","v":2.624521299008581E-24},{"$f":"(G95-x!G93)^2","v":1.3005602645580524E-24},{"$f":"(H95-x!H93)^2","v":3.6434026845950046E-23},{"$f":"(I95-x!I93)^2","v":2.5882513678526914E-23},{"$f":"(J95-x!J93)^2","v":8.8213076994455083E-24},{"$f":"(K95-x!K93)^2","v":4.1441627519871645E-23},{"$f":"(L95-x!L93)^2","v":7.2701421025168448E-25}]
[20.299999999999546,49.300000000000637,74.899999999996425,62.500000000006629,39.400000000004908,11.600000000000625,90.799999999997937,93.899999999989518,10.999999999992832,75.200000000002007,42.900000000004489,48.899999999998585,null,{"$f":"(A96-x!A94)^2","v":2.0679515313825692E-25},{"$f":"(B96-x!B94)^2","v":4.0894549326657252E-25},{"$f":"(C96-x!C94)^2","v":1.2824530668839714E-23},{"$f":"(D96-x!D94)^2","v":4.3948463393595734E-23},{"$f":"(E96-x!E94)^2","v":2.4106630008693372E-23},{"$f":"(F96-x!F94)^2","v":3.9097208640201699E-25},{"$f":"(G96-x!G94)^2","v":4.2459649362615739E-24},{"$f":"(H96-x!H94)^2","v":1.0998997986897734E-22},{"$f":"(I96-x!I94)^2","v":5.1374487566427872E-23},{"$f":"(J96-x!J94)^2","v":4.0149359761149275E-24},{"$f":"(K96-x!K94)^2","v":2.0165758605247835E-23},{"$f":"(L96-x!L94)^2","v":1.9993395652900665E-24}]
[63.399999999996737,68.800000000000651,18.099999999999092,94.500000000008626,-35.699999999990943,52.900000000002947,9.6000000000015078,0.99999999999159295,39.099999999992583,79.500000000000369,83.300000000010144,90.299999999998192,null,{"$f":"(A97-x!A95)^2","v":1.0636672279863551E-23},{"$f":"(B97-x!B95)^2","v":4.2732279691460121E-25},{"$f":"(C97-x!C95)^2","v":8.2718061255302767E-25},{"$f":"(D97-x!D95)^2","v":7.4407682986950804E-23},{"$f":"(E97-x!E95)^2","v":8.2073088579194068E-23},{"$f":"(F97-x!F95)^2","v":8.6951404417080805E-24},{"$f":"(G97-x!G95)^2","v":2.2744469173768421E-24},{"$f":"(H97-x!H95)^2","v":7.0678537314516382E-23},{"$f":"(I97-x!I95)^2","v":5.5027705573949998E-23},{"$f":"(J97-x!J95)^2","v":1.3651711281392742E-25},{"$f":"(K97-x!K95)^2","v":1.0295248231374104E-22},{"$f":"(L97-x!L95)^2","v":3.257225610319283E-24}]
[18.60000000000143,60.299999999999926,82.700000000000173,51.799999999996849,90.199999999998184,79.999999999998195,9.5000000000005045,49.800000000003422,43.400000000002237,32.900000000000745,89.599999999995163,15.399999999999904,null,{"$f":"(A98-x!A96)^2","v":2.0397292436373823E-24},{"$f":"(B98-x!B96)^2","v":5.0487097934144756E-27},{"$f":"(C98-x!C96)^2","v":2.9080568410067379E-26},{"$f":"(D98-x!D96)^2","v":9.9080424824779741E-24},{"$f":"(E98-x!E96)^2","v":3.3087224502121107E-24},{"$f":"(F98-x!F96)^2","v":3.257225610319283E-24},{"$f":"(G98-x!G96)^2","v":2.5450546068602371E-25},{"$f":"(H98-x!H96)^2","v":1.1729364540452246E-23},{"$f":"(I98-x!I96)^2","v":5.0095822925155134E-24},{"$f":"(J98-x!J96)^2","v":5.5662025472394593E-25},{"$f":"(K98-x!K96)^2","v":2.3345234084748535E-23},{"$f":"(L98-x!L96)^2","v":9.2012735984978817E-27}]
[15.199999999998452,17.500000000001595,96.599999999996569,96.900000000002407,39.599999999999362,43.099999999998708,44.79999999999621,29.999999999994717,48.899999999998201,70.800000000001049,41.099999999997621,43.499999999998956,null,{"$f":"(A99-x!A97)^2","v":2.3938489039910945E-24},{"$f":"(B99-x!B97)^2","v":2.5445623576553792E-24},{"$f":"(C99-x!C97)^2","v":1.1729364540452246E-23},{"$f":"(D99-x!D97)^2","v":5.7678480163884335E-24},{"$f":"(E99-x!E97)^2","v":4.0894549326657252E-25},{"$f":"(F99-x!F97)^2","v":1.6723346319706109E-24},{"$f":"(G99-x!G97)^2","v":1.4342829165013249E-23},{"$f":"(H99-x!H97)^2","v":2.7908876462986231E-23},{"$f":"(I99-x!I97)^2","v":3.2316286516666717E-24},{"$f":"(J99-x!J97)^2","v":1.1058693931495067E-24},{"$f":"(K99-x!K97)^2","v":5.6659145656593952E-24},{"$f":"(L99-x!L97)^2","v":1.090975699258934E-24}]
[7.5000000000006528,49.899999999996496,37.000000000001535,85.599999999993287,27.999999999993889,7.1999999999995952,81.899999999998016,71.200000000005588,59.000000000001783,4.1999999999956339,8.5999999999951804,37.100000000001195,null,{"$f":"(A100-x!A98)^2","v":4.261623825230211E-25},{"$f":"(B100-x!B98)^2","v":1.2270838665795949E-23},{"$f":"(C100-x!C98)^2","v":2.3555260412154577E-24},{"$f":"(D100-x!D98)^2","v":4.4990870504642021E-23},{"$f":"(E100-x!E98)^2","v":3.7340257632093461E-23},{"$f":"(F100-x!F98)^2","v":1.6403258118803631E-25},{"$f":"(G100-x!G98)^2","v":3.9581884780369488E-24},{"$f":"(H100-x!H98)^2","v":3.1190727155322893E-23},{"$f":"(I100-x!I98)^2","v":3.1807376569490537E-24},{"$f":"(J100-x!J98)^2","v":1.9064445672686885E-23},{"$f":"(K100-x!K98)^2","v":2.3225229408402694E-23},{"$f":"(L100-x!L98)^2","v":1.4249478520933016E-24}]
[79.600000000001543,38.999999999997883,2.5000000000007305,27.199999999995612,56.999999999998771,59.499999999999204,54.099999999999525,76.600000000002098,20.700000000001623,14.699999999999537,94.199999999997843,40.599999999999987,null,{"$f":"(A101-x!A99)^2","v":2.3993488422222954E-24},{"$f":"(B101-x!B99)^2","v":4.4834562449437909E-24},{"$f":"(C101-x!C99)^2","v":5.3366933276267212E-25},{"$f":"(D101-x!D99)^2","v":1.9251045986651484E-23},{"$f":"(E101-x!E99)^2","v":1.5110283540710184E-24},{"$f":"(F101-x!F99)^2","v":6.3331015648591181E-25},{"$f":"(G101-x!G99)^2","v":2.2663658262637581E-25},{"$f":"(H101-x!H99)^2","v":4.4234775725980269E-24},{"$f":"(I101-x!I99)^2","v":2.6360449791120495E-24},{"$f":"(J101-x!J99)^2","v":2.1330798877176159E-25},{"$f":"(K101-x!K99)^2","v":4.6658156426819217E-24},{"$f":"(L101-x!L99)^2","v":2.0194839173657902E-28}]
[65.199999999996649,69.90000000000083,84.399999999995728,49.100000000001408,51.599999999999532,71.499999999997485,10.999999999995495,75.499999999992212,9.89999999999735,66.699999999998269,-78.800000000003308,78.899999999999409,null,{"$f":"(A102-x!A100)^2","v":1.1247717626160505E-23},{"$f":"(B102-x!B100)^2","v":6.7935438980185183E-25},{"$f":"(C102-x!C100)^2","v":1.8296726239725796E-23},{"$f":"(D102-x!D100)^2","v":1.979296187410211E-24},{"$f":"(E102-x!E100)^2","v":2.1992179860113456E-25},{"$f":"(F102-x!F100)^2","v":6.3268411647152842E-24},{"$f":"(G102-x!G100)^2","v":2.0293591937217089E-23},{"$f":"(H102-x!H100)^2","v":6.0645909832061627E-23},{"$f":"(I102-x!I100)^2","v":7.0242194484796257E-24},{"$f":"(J102-x!J100)^2","v":3.0057998626072422E-24},{"$f":"(K102-x!K100)^2","v":1.0963576238987139E-23},{"$f":"(L102-x!L100)^2","v":3.562369630233254E-25}]
[]
[null,null,null,null,null,null,null,null,null,null,null,null,null,{"$f":"SQRT(SUM(N3:N102)/100)","v":2.5085415984759062E-12},{"$f":"SQRT(SUM(O3:O102)/100)","v":2.2503651122546665E-12},{"$f":"SQRT(SUM(P3:P102)/100)","v":2.6142138697858749E-12},5.4951660223469394E-12,4.7665618435062276E-12,2.6283113383973772E-12,2.9132523531356067E-12,7.1165709071452871E-12,4.7864583851497344E-12,2.4310914314730949E-12,4.9365696349852954E-12,2.1507993942166586E-12]
[]
[null,null,null,null,null,null,null,null,null,null,null,null,2.5085415984759062E-12]
[null,null,null,null,null,null,null,null,null,null,null,null,2.2503651122546665E-12]
[null,null,null,null,null,null,null,null,null,null,null,null,2.6142138697858749E-12]
[null,null,null,null,null,null,null,null,null,null,null,null,5.4951660223469394E-12]
[null,null,null,null,null,null,null,null,null,null,null,null,4.7665618435062276E-12]
[null,null,null,null,null,null,null,null,null,null,null,null,2.6283113383973772E-12]
[null,null,null,null,null,null,null,null,null,null,null,null,2.9132523531356067E-12]
[null,null,null,null,null,null,null,null,null,null,null,null,7.1165709071452871E-12]
[null,null,null,null,null,null,null,null,null,null,null,null,4.7864583851497344E-12]
[null,null,null,null,null,null,null,null,null,null,null,null,2.4310914314730949E-12]
[null,null,null,null,null,null,null,null,null,null,null,null,4.9365696349852954E-12]
[null,null,null,null,null,null,null,null,null,null,null,null,2.1507993942166586E-12]

{"sheet":"DNP","index":7,"n_rows":104,"n_cols":25,"rows_kept":104,"cut":false,"hidden":false,"merged":[[0,0,0,11],[0,13,0,24]]}
["Solution Vectors, x, for Each Input b Vector Using Excel Minverse",null,null,null,null,null,null,null,null,null,null,null,null,"Square of the Error for Each Solution Value in Each x Solution Using Excel Minverse"]
["x1","x2","x3","x4","x5","x6","x7","x8","x9","x10","x11","x12",null,"Esqd1","Esqd2","Esqd3","Esqd4","Esqd5","Esqd6","Esqd7","Esqd8","Esqd9","Esqd10","Esqd11","Esqd12"]
[{"$f":"GaussianDNP(A,b)","v":32.399999999957871},80.099999999953567,63.199999999981124,84.099999999971487,92.399999999992687,63.70000000000887,14.699999999958212,39.899999999988694,48.899999999985674,26.399999999972064,79.999999999988276,65.199999999990013,null,{"$f":"(A3-x!A1)^2","v":1.7747750236500059E-21},{"$f":"(B3-x!B1)^2","v":2.1554535480897198E-21},{"$f":"(C3-x!C1)^2","v":3.5642119044368709E-22},{"$f":"(D3-x!D1)^2","v":8.126475984900965E-22},{"$f":"(E3-x!E1)^2","v":5.3561762198334171E-23},{"$f":"(F3-x!F1)^2","v":7.8633856980822193E-23},{"$f":"(G3-x!G1)^2","v":1.7461548975730979E-21},{"$f":"(H3-x!H1)^2","v":1.2779703174583987E-22},{"$f":"(I3-x!I1)^2","v":2.0519249070143543E-22},{"$f":"(J3-x!J1)^2","v":7.8036353536368625E-22},{"$f":"(K3-x!K1)^2","v":1.374511241257091E-22},{"$f":"(L3-x!L1)^2","v":9.9804712731742982E-23}]
[5.1000000000063492,16.000000000067782,58.499999999959165,77.799999999987207,34.599999999994509,51.999999999975756,84.500000000057895,56.900000000026999,50.699999999999989,58.899999999973005,96.400000000038048,75.399999999988353,null,{"$f":"(A4-x!A2)^2","v":4.0317261705077421E-23},{"$f":"(B4-x!B2)^2","v":4.5944299280506916E-21},{"$f":"(C4-x!C2)^2","v":1.6674883249528144E-21},{"$f":"(D4-x!D2)^2","v":1.6357819730662901E-22},{"$f":"(E4-x!E2)^2","v":3.0167505141491582E-23},{"$f":"(F4-x!F2)^2","v":5.877578694522421E-22},{"$f":"(G4-x!G2)^2","v":3.3518335850864686E-21},{"$f":"(H4-x!H2)^2","v":7.2903369416905027E-22},{"$f":"(I4-x!I2)^2","v":2.0194839173657902E-28},{"$f":"(J4-x!J2)^2","v":7.286500427118487E-22},{"$f":"(K4-x!K2)^2","v":1.4472286162052066E-21},{"$f":"(L4-x!L2)^2","v":1.3579009860367573E-22}]
[64.800000000000395,92.200000000017567,85.499999999981753,73.300000000009561,85.499999999993477,34.799999999992181,-18.89999999997206,14.399999999990802,53.30000000000399,76.799999999983768,68.099999999991411,34.199999999990737,null,{"$f":"(A5-x!A3)^2","v":1.5832753912147795E-25},{"$f":"(B5-x!B3)^2","v":3.0851575026240483E-22},{"$f":"(C5-x!C3)^2","v":3.3294342772686142E-22},{"$f":"(D5-x!D3)^2","v":9.1468283120857E-23},{"$f":"(E5-x!E3)^2","v":4.2546689119454205E-23},{"$f":"(F5-x!F3)^2","v":6.1089388500315154E-23},{"$f":"(G5-x!G3)^2","v":7.8056203801098883E-22},{"$f":"(H5-x!H3)^2","v":8.4602757242958875E-23},{"$f":"(I5-x!I3)^2","v":1.5946046959912016E-23},{"$f":"(J5-x!J3)^2","v":2.6337382236074384E-22},{"$f":"(K5-x!K3)^2","v":7.3674004479771813E-23},{"$f":"(L5-x!L3)^2","v":8.5849069120786689E-23}]
[4.000000000011414,25.600000000031795,74.200000000027714,63.700000000035395,87.700000000013858,86.499999999977319,84.000000000016826,25.000000000036245,68.699999999990325,74.600000000025034,49.999999999952834,94.99999999999892,null,{"$f":"(A6-x!A4)^2","v":1.3027895933648161E-22},{"$f":"(B6-x!B4)^2","v":1.0108097734259768E-21},{"$f":"(C6-x!C4)^2","v":7.6790875957834173E-22},{"$f":"(D6-x!D4)^2","v":1.2526031255884856E-21},{"$f":"(E6-x!E4)^2","v":1.9197718989458543E-22},{"$f":"(F6-x!F4)^2","v":5.1440617460568187E-22},{"$f":"(G6-x!G4)^2","v":2.8310256464627372E-22},{"$f":"(H6-x!H4)^2","v":1.3136844361531313E-21},{"$f":"(I6-x!I4)^2","v":9.3655788100147624E-23},{"$f":"(J6-x!J4)^2","v":6.2697786271461964E-22},{"$f":"(K6-x!K4)^2","v":2.2246152177045295E-21},{"$f":"(L6-x!L4)^2","v":1.1664539106704804E-24}]
[39.900000000027617,83.199999999975603,9.9000000000727404,23.70000000007051,58.400000000009676,95.900000000024804,23.200000000020207,64.399999999986434,80.900000000000674,26.600000000062984,-10.100000000008855,-16.799999999980248,null,{"$f":"(A7-x!A5)^2","v":7.6279790016737032E-22},{"$f":"(B7-x!B5)^2","v":5.9536183224629951E-22},{"$f":"(C7-x!C5)^2","v":5.2911128687924042E-21},{"$f":"(D7-x!D5)^2","v":4.9717599966941192E-21},{"$f":"(E7-x!E5)^2","v":9.3655788100147624E-23},{"$f":"(F7-x!F5)^2","v":6.1493790154767654E-22},{"$f":"(G7-x!G5)^2","v":4.0835661175626866E-22},{"$f":"(H7-x!H5)^2","v":1.8418198197355348E-22},{"$f":"(I7-x!I5)^2","v":4.4610399734610306E-25},{"$f":"(J7-x!J5)^2","v":3.9667963262863288E-21},{"$f":"(K7-x!K5)^2","v":7.8413483953783272E-23},{"$f":"(L7-x!L5)^2","v":3.9018448767424433E-22}]
[60.100000000035649,34.200000000003683,44.200000000050558,39.100000000010773,71.000000000005983,3.2000000000623179,13.69999999992468,88.200000000052441,71.199999999940303,78.70000000011261,21.800000000099455,99.100000000020728,null,{"$f":"(A8-x!A6)^2","v":1.2707748457737265E-21},{"$f":"(B8-x!B6)^2","v":1.3546900066081457E-23},{"$f":"(C8-x!C6)^2","v":2.5558197183172451E-21},{"$f":"(D8-x!D6)^2","v":1.1603227574973579E-22},{"$f":"(E8-x!E6)^2","v":3.5793534899783002E-23},{"$f":"(F8-x!F6)^2","v":3.8834965497304004E-21},{"$f":"(G8-x!G6)^2","v":5.6729979086549993E-21},{"$f":"(H8-x!H6)^2","v":2.7497494967244336E-21},{"$f":"(I8-x!I6)^2","v":3.564066198672233E-21},{"$f":"(J8-x!J6)^2","v":1.2680294280700048E-20},{"$f":"(K8-x!K6)^2","v":9.8912307332497853E-21},{"$f":"(L8-x!L6)^2","v":4.2988370447021277E-22}]
[-46.099999999983332,96.900000000012568,1.8999999999920445,87.999999999991005,85.099999999993145,43.399999999996595,86.499999999999901,28.400000000009573,64.500000000013074,36.799999999995059,42.900000000018807,76.399999999991522,null,{"$f":"(A9-x!A7)^2","v":2.7786664869371944E-22},{"$f":"(B9-x!B7)^2","v":1.578137824129001E-22},{"$f":"(C9-x!C7)^2","v":6.3288613586074647E-23},{"$f":"(D9-x!D7)^2","v":8.0918499136538112E-23},{"$f":"(E9-x!E7)^2","v":4.6917458161808985E-23},{"$f":"(F9-x!F7)^2","v":1.1583810237108107E-23},{"$f":"(G9-x!G7)^2","v":9.8954711950923721E-27},{"$f":"(H9-x!H7)^2","v":9.1672263618285428E-23},{"$f":"(I9-x!I7)^2","v":1.7092911876584048E-22},{"$f":"(J9-x!J7)^2","v":2.4386530479640271E-23},{"$f":"(K9-x!K7)^2","v":3.5374335476926005E-22},{"$f":"(L9-x!L7)^2","v":7.1976224350442393E-23}]
[67.100000000011093,79.199999999985224,3.3999999999942463,43.899999999999039,3.6000000000074674,15.90000000001592,30.400000000055957,68.099999999976532,9.9000000000647788,6.5000000000101545,89.199999999998013,57.000000000011731,null,{"$f":"(A10-x!A8)^2","v":1.2318064297203548E-22},{"$f":"(B10-x!B8)^2","v":2.1842738050228387E-22},{"$f":"(C10-x!C8)^2","v":3.3104140835372666E-23},{"$f":"(D10-x!D8)^2","v":9.2012735984978817E-25},{"$f":"(E10-x!E8)^2","v":5.5761466319878359E-23},{"$f":"(F10-x!F8)^2","v":2.5343716631551169E-22},{"$f":"(G10-x!G8)^2","v":3.1313865313402017E-21},{"$f":"(H10-x!H8)^2","v":5.5047112814395884E-22},{"$f":"(I10-x!I8)^2","v":4.1962417365181654E-21},{"$f":"(J10-x!J8)^2","v":1.0311476125713677E-22},{"$f":"(K10-x!K8)^2","v":3.9581884780369488E-24},{"$f":"(L10-x!L8)^2","v":1.3761778203598971E-22}]
[61.299999999973792,72.09999999995901,67.299999999997567,39.799999999956661,96.100000000005139,98.800000000028831,19.70000000004551,90.600000000027578,74.400000000040464,27.400000000020487,51.79999999993796,62.899999999977112,null,{"$f":"(A11-x!A9)^2","v":6.8669238656399217E-22},{"$f":"(B11-x!B9)^2","v":1.6796968625397596E-21},{"$f":"(C11-x!C9)^2","v":5.9051729227693072E-24},{"$f":"(D11-x!D9)^2","v":1.8780090220218277E-21},{"$f":"(E11-x!E9)^2","v":2.6464125046728261E-23},{"$f":"(F11-x!F9)^2","v":8.3138941898520972E-22},{"$f":"(G11-x!G9)^2","v":2.0711839678278028E-21},{"$f":"(H11-x!H9)^2","v":7.6083672884811847E-22},{"$f":"(I11-x!I9)^2","v":1.6368743119171932E-21},{"$f":"(J11-x!J9)^2","v":4.1977862346627231E-22},{"$f":"(K11-x!K9)^2","v":3.8486497013622089E-21},{"$f":"(L11-x!L9)^2","v":5.2379561361818031E-22}]
[9.6000000000153651,18.500000000025864,8.799999999974343,85.800000000005639,70.299999999982077,21.39999999998815,24.499999999991338,63.10000000000165,8.7999999999795584,80.299999999961642,32.40000000003905,67.100000000003575,null,{"$f":"(A12-x!A10)^2","v":2.3609818032359662E-22},{"$f":"(B12-x!B10)^2","v":6.6893385278824435E-22},{"$f":"(C12-x!C10)^2","v":6.5831747632175033E-22},{"$f":"(D12-x!D10)^2","v":3.1828884073210483E-23},{"$f":"(E12-x!E10)^2","v":3.2112237861656077E-22},{"$f":"(F12-x!F10)^2","v":1.4038221570514829E-22},{"$f":"(G12-x!G10)^2","v":7.5021858533319675E-23},{"$f":"(H12-x!H10)^2","v":2.7174175592074073E-24},{"$f":"(I12-x!I10)^2","v":4.1788822243654965E-22},{"$f":"(J12-x!J10)^2","v":1.4711134563926753E-21},{"$f":"(K12-x!K10)^2","v":1.5250140879923434E-21},{"$f":"(L12-x!L10)^2","v":1.2824530668839714E-23}]
[61.299999999993098,81.100000000013381,85.299999999974617,9.0999999999946635,63.900000000003509,69.099999999983666,11.6999999999891,73.49999999998623,67.600000000011349,70.299999999970638,19.899999999990676,30.699999999997981,null,{"$f":"(A13-x!A11)^2","v":4.7601305903326975E-23},{"$f":"(B13-x!B11)^2","v":1.7920173268493771E-22},{"$f":"(C13-x!C11)^2","v":6.4417417216777282E-22},{"$f":"(D13-x!D11)^2","v":2.8474773721955576E-23},{"$f":"(E13-x!E11)^2","v":1.232066943145695E-23},{"$f":"(F13-x!F11)^2","v":2.6661246871902336E-22},{"$f":"(G13-x!G11)^2","v":1.1880401742632034E-22},{"$f":"(H13-x!H11)^2","v":1.8962166385336998E-22},{"$f":"(I13-x!I11)^2","v":1.2892405523302378E-22},{"$f":"(J13-x!J11)^2","v":8.6198762955917749E-22},{"$f":"(K13-x!K11)^2","v":8.690566310635247E-23},{"$f":"(L13-x!L11)^2","v":4.0720873709763794E-24}]
[93.99999999998154,46.899999999995607,19.399999999974685,58.199999999964575,-71.400000000005548,80.499999999990266,77.800000000085504,70.199999999994887,82.000000000036508,59.599999999979978,67.599999999998033,74.299999999988756,null,{"$f":"(A14-x!A12)^2","v":3.4076791816469518E-22},{"$f":"(B14-x!B12)^2","v":1.9282234391400302E-23},{"$f":"(C14-x!C12)^2","v":6.4075227026576684E-22},{"$f":"(D14-x!D12)^2","v":1.2551191501140337E-21},{"$f":"(E14-x!E12)^2","v":3.0716350383133669E-23},{"$f":"(F14-x!F12)^2","v":9.4759234112596292E-23},{"$f":"(G14-x!G12)^2","v":7.3113979375163188E-21},{"$f":"(H14-x!H12)^2","v":2.6172511569060641E-23},{"$f":"(I14-x!I12)^2","v":1.3328111197957965E-21},{"$f":"(J14-x!J12)^2","v":4.0092430509518734E-22},{"$f":"(K14-x!K12)^2","v":3.8459051722314109E-24},{"$f":"(L14-x!L12)^2","v":1.263552716901345E-22}]
[66.899999999965374,51.300000000005909,9.5999999999843801,20.800000000014144,15.600000000004561,37.399999999982882,0.39999999996098101,78.499999999990436,10.999999999985915,63.899999999981461,79.900000000012923,81.60000000000278,null,{"$f":"(A15-x!A13)^2","v":1.199365238123399E-21},{"$f":"(B15-x!B13)^2","v":3.4948380880365419E-23},{"$f":"(C15-x!C13)^2","v":2.4396895796390513E-22},{"$f":"(D15-x!D13)^2","v":2.0003443847567008E-22},{"$f":"(E15-x!E13)^2","v":2.0808964232928839E-23},{"$f":"(F15-x!F13)^2","v":2.9299081618636151E-22},{"$f":"(G15-x!G13)^2","v":1.5224831605037891E-21},{"$f":"(H15-x!H13)^2","v":9.1468283120857E-23},{"$f":"(I15-x!I13)^2","v":1.9837971437454762E-22},{"$f":"(J15-x!J13)^2","v":3.4365966767306919E-22},{"$f":"(K15-x!K13)^2","v":1.6686611907249225E-22},{"$f":"(L15-x!L13)^2","v":7.7580494169524197E-24}]
[31.800000000024539,97.400000000038958,57.699999999947188,4.9999999999848086,11.199999999996269,87.899999999979002,6.2000000000589015,47.599999999947876,53.800000000036377,95.599999999944899,88.099999999989151,70.400000000008063,null,{"$f":"(A16-x!A14)^2","v":6.0214256504321724E-22},{"$f":"(B16-x!B14)^2","v":1.5172546249366489E-21},{"$f":"(C16-x!C14)^2","v":2.7893863619544534E-21},{"$f":"(D16-x!D14)^2","v":2.3077874608928478E-22},{"$f":"(E16-x!E14)^2","v":1.3915506368098648E-23},{"$f":"(F16-x!F14)^2","v":4.4115303057428909E-22},{"$f":"(G16-x!G14)^2","v":3.4693664707043002E-21},{"$f":"(H16-x!H14)^2","v":2.7170588988636832E-21},{"$f":"(I16-x!I14)^2","v":1.3234889800848443E-21},{"$f":"(J16-x!J14)^2","v":3.0355123275350533E-21},{"$f":"(K16-x!K14)^2","v":1.1756809326889247E-22},{"$f":"(L16-x!L14)^2","v":6.4924186511001053E-23}]
[94.899999999961977,54.099999999924243,95.700000000031466,7.2999999999917593,8.5000000000211475,69.100000000023499,72.699999999994091,53.800000000014222,61.000000000012619,42.500000000027853,40.399999999946161,86.699999999987284,null,{"$f":"(A17-x!A15)^2","v":1.4461475864642407E-21},{"$f":"(B17-x!B15)^2","v":5.7392846378096035E-21},{"$f":"(C17-x!C15)^2","v":9.899098188207961E-22},{"$f":"(D17-x!D15)^2","v":6.7906159618827E-23},{"$f":"(E17-x!E15)^2","v":4.4721794783036565E-22},{"$f":"(F17-x!F15)^2","v":5.5247344644802702E-22},{"$f":"(G17-x!G15)^2","v":3.4948380880365419E-23},{"$f":"(H17-x!H15)^2","v":2.0235249046844392E-22},{"$f":"(I17-x!I15)^2","v":1.5924519261352897E-22},{"$f":"(J17-x!J15)^2","v":7.7580494169524197E-22},{"$f":"(K17-x!K15)^2","v":2.8985111949132312E-21},{"$f":"(L17-x!L15)^2","v":1.6176571049079321E-22}]
[66.299999999909161,75.300000000027552,-86.200000000015692,56.500000000003439,97.499999999997655,85.699999999966849,22.49999999989048,22.800000000027005,34.799999999931664,36.500000000005706,99.900000000017485,21.399999999967989,null,{"$f":"(A18-x!A16)^2","v":8.2511395349135222E-21},{"$f":"(B18-x!B16)^2","v":7.5926960932824262E-22},{"$f":"(C18-x!C16)^2","v":2.461379310228103E-22},{"$f":"(D18-x!D16)^2","v":1.1826905613661014E-23},{"$f":"(E18-x!E16)^2","v":5.4980449650283639E-24},{"$f":"(F18-x!F16)^2","v":1.0991826799507169E-21},{"$f":"(G18-x!G16)^2","v":1.1994521882656386E-20},{"$f":"(H18-x!H16)^2","v":7.292255577629745E-22},{"$f":"(I18-x!I16)^2","v":4.6693845251477885E-21},{"$f":"(J18-x!J16)^2","v":3.2554535131817946E-23},{"$f":"(K18-x!K16)^2","v":3.055277218582704E-22},{"$f":"(L18-x!L16)^2","v":1.0246369147509162E-21}]
[53.299999999990725,74.899999999962361,30.599999999985162,31.000000000016119,12.999999999984404,46.599999999996882,98.299999999915329,50.799999999957244,60.999999999981945,7.8999999999596291,69.999999999994216,16.200000000015631,null,{"$f":"(A19-x!A17)^2","v":8.5980789959296872E-23},{"$f":"(B19-x!B17)^2","v":1.4171124564423141E-21},{"$f":"(C19-x!C17)^2","v":2.2021625197806097E-22},{"$f":"(D19-x!D17)^2","v":2.5981126340389334E-22},{"$f":"(E19-x!E17)^2","v":2.4324810002415779E-22},{"$f":"(F19-x!F17)^2","v":9.7299240009663114E-24},{"$f":"(G19-x!G17)^2","v":7.1687163500446323E-21},{"$f":"(H19-x!H17)^2","v":1.8278494843790797E-21},{"$f":"(I19-x!I17)^2","v":3.2597908597653169E-22},{"$f":"(J19-x!J17)^2","v":1.62983878651422E-21},{"$f":"(K19-x!K17)^2","v":3.3452549142772578E-23},{"$f":"(L19-x!L17)^2","v":2.4435755400126062E-22}]
[16.899999999987777,19.000000000060453,8.7999999999452712,22.800000000007937,64.499999999972772,67.899999999968173,75.399999999995401,29.600000000020774,33.699999999973443,42.39999999996332,21.70000000001593,72.199999999999918,null,{"$f":"(A20-x!A18)^2","v":1.4936103052837384E-22},{"$f":"(B20-x!B18)^2","v":3.6545623022352701E-21},{"$f":"(C20-x!C18)^2","v":2.9953241053302692E-21},{"$f":"(D20-x!D18)^2","v":6.2992196734355136E-23},{"$f":"(E20-x!E18)^2","v":7.4136385517491884E-22},{"$f":"(F20-x!F18)^2","v":1.0132962503774589E-21},{"$f":"(G20-x!G18)^2","v":2.1199734370939119E-23},{"$f":"(H20-x!H18)^2","v":4.3150576657441546E-22},{"$f":"(I20-x!I18)^2","v":7.0543824602694011E-22},{"$f":"(J20-x!J18)^2","v":1.3452915304051171E-21},{"$f":"(K20-x!K18)^2","v":2.537766289402464E-22},{"$f":"(L20-x!L18)^2","v":7.2701421025168448E-27}]
[75.999999999935426,0.39999999995229302,85.399999999984772,33.299999999980798,59.200000000022889,99.599999999986323,36.300000000012425,37.39999999997621,39.30000000005154,82.99999999997776,83.399999999923182,86.49999999996308,null,{"$f":"(A21-x!A19)^2","v":4.1698174678798125E-21},{"$f":"(B21-x!B19)^2","v":2.2759583273208056E-21},{"$f":"(C21-x!C19)^2","v":2.3207586060940883E-22},{"$f":"(D21-x!D19)^2","v":3.6859640654599577E-22},{"$f":"(E21-x!E19)^2","v":5.2379561361818031E-22},{"$f":"(F21-x!F19)^2","v":1.8689192744226664E-22},{"$f":"(G21-x!G19)^2","v":1.5444008306764674E-22},{"$f":"(H21-x!H19)^2","v":5.6591513140201372E-22},{"$f":"(I21-x!I19)^2","v":2.6566571446372311E-21},{"$f":"(J21-x!J19)^2","v":4.9461704975102276E-22},{"$f":"(K21-x!K19)^2","v":5.9019086289652771E-21},{"$f":"(L21-x!L19)^2","v":1.3630716726587807E-21}]
[98.599999999968034,-94.600000000052347,74.900000000041842,91.199999999965868,0.7000000000037705,8.900000000014451,34.100000000026824,25.300000000029463,77.800000000047689,24.200000000050938,18.19999999996007,88.199999999980946,null,{"$f":"(A22-x!A20)^2","v":1.0214551673520084E-21},{"$f":"(B22-x!B20)^2","v":2.7408144920804404E-21},{"$f":"(C22-x!C20)^2","v":1.7503141761622066E-21},{"$f":"(D22-x!D20)^2","v":1.1651622487569333E-21},{"$f":"(E22-x!E20)^2","v":1.4216967640180401E-23},{"$f":"(F22-x!F20)^2","v":2.0882165791767918E-22},{"$f":"(G22-x!G20)^2","v":7.1947269999777161E-22},{"$f":"(H22-x!H20)^2","v":8.6804801244277084E-22},{"$f":"(I22-x!I20)^2","v":2.2744914217536711E-21},{"$f":"(J22-x!J20)^2","v":2.5947622344893766E-21},{"$f":"(K22-x!K20)^2","v":1.5943209711225862E-21},{"$f":"(L22-x!L20)^2","v":3.6315995584044706E-22}]
[33.799999999945136,85.199999999936011,11.599999999991986,73.799999999998306,91.400000000005093,60.499999999986926,41.799999999915102,15.399999999963603,3.7000000000065114,52.399999999962255,30.39999999993984,87.399999999986633,null,{"$f":"(A23-x!A21)^2","v":3.0097298287975339E-21},{"$f":"(B23-x!B21)^2","v":4.0949093567781385E-21},{"$f":"(C23-x!C21)^2","v":6.4210504050047604E-23},{"$f":"(D23-x!D21)^2","v":2.8597911753816955E-24},{"$f":"(E23-x!E21)^2","v":2.5882513678526914E-23},{"$f":"(F23-x!F21)^2","v":1.7092911876584048E-22},{"$f":"(G23-x!G21)^2","v":7.2072707214078461E-21},{"$f":"(H23-x!H21)^2","v":1.3247817653363205E-21},{"$f":"(I23-x!I21)^2","v":4.2396194180260666E-23},{"$f":"(J23-x!J21)^2","v":1.4246118099694519E-21},{"$f":"(K23-x!K21)^2","v":3.6189970826141197E-21},{"$f":"(L23-x!L21)^2","v":1.7882146386329773E-22}]
[66.400000000040137,5.0999999999802696,51.300000000033414,33.800000000004381,92.900000000010067,13.100000000031379,1.1000000000384376,4.7999999999855971,12.700000000038667,56.000000000031598,7.50000000002745,68.500000000028578,null,{"$f":"(A24-x!A22)^2","v":1.610533577337816E-21},{"$f":"(B24-x!B22)^2","v":3.8927271908454626E-22},{"$f":"(C24-x!C22)^2","v":1.1166841839108819E-21},{"$f":"(D24-x!D22)^2","v":1.9219882825451633E-23},{"$f":"(E24-x!E22)^2","v":1.0122945863544455E-22},{"$f":"(F24-x!F22)^2","v":9.846632027589234E-22},{"$f":"(G24-x!G22)^2","v":1.4774395170288287E-21},{"$f":"(H24-x!H22)^2","v":2.0743780340786065E-22},{"$f":"(I24-x!I22)^2","v":1.495193782623345E-21},{"$f":"(J24-x!J22)^2","v":9.9842320570994126E-22},{"$f":"(K24-x!K22)^2","v":7.5350481893672282E-22},{"$f":"(L24-x!L22)^2","v":8.1670373193812569E-22}]
[88.599999999991439,60.599999999984036,9.6999999999875968,50.199999999998994,69.499999999990592,12.700000000008504,80.900000000000801,85.199999999980037,15.300000000005467,47.699999999953533,75.199999999990183,82.600000000015882,null,{"$f":"(A25-x!A23)^2","v":7.3186904958903184E-23},{"$f":"(B25-x!B23)^2","v":2.5490981185337828E-22},{"$f":"(C25-x!C23)^2","v":1.538225879945887E-22},{"$f":"(D25-x!D23)^2","v":1.0180218427440949E-24},{"$f":"(E25-x!E23)^2","v":8.8502670988205337E-23},{"$f":"(F25-x!F23)^2","v":7.2338368303924013E-23},{"$f":"(G25-x!G23)^2","v":6.3331015648591181E-25},{"$f":"(H25-x!H23)^2","v":3.986511739978004E-22},{"$f":"(I25-x!I23)^2","v":2.9875516166033076E-23},{"$f":"(J25-x!J23)^2","v":2.1594139580000658E-21},{"$f":"(K25-x!K23)^2","v":9.6426520034773488E-23},{"$f":"(L25-x!L23)^2","v":2.524201415929518E-22}]
[90.600000000029567,23.599999999965188,30.499999999997758,80.099999999987674,84.299999999981878,47.400000000007857,82.900000000066242,31.899999999953671,98.600000000046791,54.899999999953287,68.699999999979056,33.999999999993108,null,{"$f":"(A26-x!A24)^2","v":8.7454982926715139E-22},{"$f":"(B26-x!B24)^2","v":1.2119478472407128E-21},{"$f":"(C26-x!C24)^2","v":5.0254983501392525E-24},{"$f":"(D26-x!D24)^2","v":1.5180238463607735E-22},{"$f":"(E26-x!E24)^2","v":3.2829235431677627E-22},{"$f":"(F26-x!F24)^2","v":6.1757635728571494E-23},{"$f":"(G26-x!G24)^2","v":4.3873128565542321E-21},{"$f":"(H26-x!H24)^2","v":2.1462267280196672E-21},{"$f":"(I26-x!I24)^2","v":2.1898978657843107E-21},{"$f":"(J26-x!J24)^2","v":2.1819249432785506E-21},{"$f":"(K26-x!K24)^2","v":4.3876842396466356E-22},{"$f":"(L26-x!L24)^2","v":4.75033104462368E-23}]
[23.200000000014644,64.699999999989373,26.699999999988101,28.099999999988022,17.899999999983731,67.900000000002095,75.600000000035735,23.899999999984406,40.900000000030765,70.199999999970458,96.099999999999824,77.400000000000631,null,{"$f":"(A27-x!A25)^2","v":2.144551061239233E-22},{"$f":"(B27-x!B25)^2","v":1.1299093297018291E-22},{"$f":"(C27-x!C25)^2","v":1.4156331087421967E-22},{"$f":"(D27-x!D25)^2","v":1.4351442263920815E-22},{"$f":"(E27-x!E25)^2","v":2.646437874439538E-22},{"$f":"(F27-x!F25)^2","v":4.3639027970357361E-24},{"$f":"(G27-x!G25)^2","v":1.277369016122003E-21},{"$f":"(H27-x!H25)^2","v":2.4313729346596682E-22},{"$f":"(I27-x!I25)^2","v":9.4657755045748661E-22},{"$f":"(J27-x!J25)^2","v":8.7286961864790305E-22},{"$f":"(K27-x!K25)^2","v":2.9080568410067379E-26},{"$f":"(L27-x!L25)^2","v":3.9097208640201699E-25}]
[88.400000000049573,57.200000000050409,14.300000000015322,4.6000000000057542,12.999999999979275,48.800000000005511,67.800000000011707,20.40000000000795,21.499999999980449,78.900000000028982,57.000000000026368,33.300000000006428,null,{"$f":"(A28-x!A26)^2","v":2.4569332144356305E-21},{"$f":"(B28-x!B26)^2","v":2.5407549236517736E-21},{"$f":"(C28-x!C26)^2","v":2.3473542310982733E-22},{"$f":"(D28-x!D26)^2","v":3.3114362106121615E-23},{"$f":"(E28-x!E26)^2","v":4.2951547997687371E-22},{"$f":"(F28-x!F26)^2","v":3.0402118685591552E-23},{"$f":"(G28-x!G26)^2","v":1.3711811122773548E-22},{"$f":"(H28-x!H26)^2","v":6.3217975036316631E-23},{"$f":"(I28-x!I26)^2","v":3.8222531028089676E-22},{"$f":"(J28-x!J26)^2","v":8.3960467956105375E-22},{"$f":"(K28-x!K26)^2","v":6.9528412942913112E-22},{"$f":"(L28-x!L26)^2","v":4.1350195385512908E-23}]
[99.200000000027799,73.800000000009959,53.30000000001607,61.300000000012112,69.100000000002225,-32.199999999985657,8.1999999999337803,38.100000000002197,15.299999999973201,31.600000000009917,18.800000000009064,32.100000000017211,null,{"$f":"(A29-x!A27)^2","v":7.726416220870802E-22},{"$f":"(B29-x!B27)^2","v":9.9237641647746668E-23},{"$f":"(C29-x!C27)^2","v":2.5832450672215416E-22},{"$f":"(D29-x!D27)^2","v":1.4676725587200716E-22},{"$f":"(E29-x!E27)^2","v":4.9778259079149363E-24},{"$f":"(F29-x!F27)^2","v":2.0580363702192825E-22},{"$f":"(G29-x!G27)^2","v":4.3849599684638837E-21},{"$f":"(H29-x!H27)^2","v":4.8205585978500754E-24},{"$f":"(I29-x!I27)^2","v":7.1823440610218446E-22},{"$f":"(J29-x!J27)^2","v":9.8319596880686663E-23},{"$f":"(K29-x!K27)^2","v":8.2137472250834586E-23},{"$f":"(L29-x!L27)^2","v":2.961615573979196E-22}]
[17.900000000027383,59.200000000041662,20.500000000030589,60.800000000022521,-42.099999999992932,-90.099999999988214,95.199999999986986,89.900000000030417,37.399999999971193,63.300000000055554,51.500000000041666,99.700000000013503,null,{"$f":"(A30-x!A28)^2","v":7.4990081953879924E-22},{"$f":"(B30-x!B28)^2","v":1.7354823289666032E-21},{"$f":"(C30-x!C28)^2","v":9.3567864819095311E-22},{"$f":"(D30-x!D28)^2","v":5.0733979843042723E-22},{"$f":"(E30-x!E28)^2","v":4.9983489132251662E-23},{"$f":"(F30-x!F28)^2","v":1.387872146854383E-22},{"$f":"(G30-x!G28)^2","v":1.6944600977692705E-22},{"$f":"(H30-x!H28)^2","v":9.2484285479683729E-22},{"$f":"(I30-x!I28)^2","v":8.2975121363144259E-22},{"$f":"(J30-x!J28)^2","v":3.0866176399834017E-21},{"$f":"(K30-x!K28)^2","v":1.7360743911640769E-21},{"$f":"(L30-x!L28)^2","v":1.8225842354226257E-22}]
[98.400000000010863,98.000000000029473,36.700000000040816,14.000000000006855,91.200000000009624,94.700000000008615,80.599999999928471,64.900000000014657,54.399999999951717,24.400000000041786,94.800000000029328,99.500000000008441,null,{"$f":"(A31-x!A29)^2","v":1.1787646846307423E-22},{"$f":"(B31-x!B29)^2","v":8.6867616029349299E-22},{"$f":"(C31-x!C29)^2","v":1.6657478832257306E-21},{"$f":"(D31-x!D29)^2","v":4.6990490904414346E-23},{"$f":"(E31-x!E29)^2","v":9.2558804436234527E-23},{"$f":"(F31-x!F29)^2","v":7.4162719587774334E-23},{"$f":"(G31-x!G29)^2","v":5.1155726844861478E-21},{"$f":"(H31-x!H29)^2","v":2.1466326442870577E-22},{"$f":"(I31-x!I29)^2","v":2.33109154799278E-21},{"$f":"(J31-x!J29)^2","v":1.7461548975730979E-21},{"$f":"(K31-x!K29)^2","v":8.6031953584343335E-22},{"$f":"(L31-x!L29)^2","v":7.1254662746767596E-23}]
[87.200000000028069,78.499999999984297,65.899999999990968,14.199999999970643,80.799999999990433,40.700000000016146,46.600000000052844,82.399999999982001,86.00000000003638,61.600000000004037,87.89999999997498,1.100000000005469,null,{"$f":"(A32-x!A30)^2","v":7.8772494551749355E-22},{"$f":"(B32-x!B30)^2","v":2.465840350201564E-22},{"$f":"(C32-x!C30)^2","v":8.1687316663879268E-23},{"$f":"(D32-x!D30)^2","v":8.6177902949228809E-22},{"$f":"(E32-x!E30)^2","v":9.1468283120857E-23},{"$f":"(F32-x!F30)^2","v":2.6061359174248828E-22},{"$f":"(G32-x!G30)^2","v":2.7923893345395763E-21},{"$f":"(H32-x!H30)^2","v":3.241855318224212E-22},{"$f":"(I32-x!I30)^2","v":1.3234889800848443E-21},{"$f":"(J32-x!J30)^2","v":1.6288349483905518E-23},{"$f":"(K32-x!K30)^2","v":6.2626639853053167E-22},{"$f":"(L32-x!L30)^2","v":2.9909508379654276E-23}]
[33.600000000006993,21.000000000034564,58.900000000053076,0.10000000003312159,62.300000000027339,65.000000000008455,29.299999999972613,78.900000000045651,70.099999999946178,51.400000000079231,59.100000000041121,65.700000000001225,null,{"$f":"(A33-x!A31)^2","v":4.8884435497323264E-23},{"$f":"(B33-x!B31)^2","v":1.1946943863926981E-21},{"$f":"(C33-x!C31)^2","v":2.8172255031134181E-21},{"$f":"(D33-x!D31)^2","v":1.0970396449657834E-21},{"$f":"(E33-x!E31)^2","v":7.4756770976906655E-22},{"$f":"(F33-x!F31)^2","v":7.1494779384542388E-23},{"$f":"(G33-x!G31)^2","v":7.5009540943601192E-22},{"$f":"(H33-x!H31)^2","v":2.0834902484363485E-21},{"$f":"(I33-x!I31)^2","v":2.8962164048508306E-21},{"$f":"(J33-x!J31)^2","v":6.2778081456887407E-21},{"$f":"(K33-x!K31)^2","v":1.6907810524557114E-21},{"$f":"(L33-x!L31)^2","v":1.4936103052837384E-24}]
[80.599999999992122,40.600000000021062,87.399999999999707,3.8000000000060563,48.899999999992779,-76.70000000001076,79.599999999939911,7.3000000000508241,61.099999999934667,82.300000000024511,59.100000000028103,32.199999999981138,null,{"$f":"(A34-x!A32)^2","v":6.1981192598223887E-23},{"$f":"(B34-x!B32)^2","v":4.4354409953245018E-22},{"$f":"(C34-x!C32)^2","v":8.9059240755831349E-26},{"$f":"(D34-x!D32)^2","v":3.668105469411548E-23},{"$f":"(E34-x!E32)^2","v":5.2115609765108529E-23},{"$f":"(F34-x!F32)^2","v":1.1572632393625487E-22},{"$f":"(G34-x!G32)^2","v":3.6100262195088188E-21},{"$f":"(H34-x!H32)^2","v":2.5831027322595517E-21},{"$f":"(I34-x!I32)^2","v":4.2685844183135191E-21},{"$f":"(J34-x!J32)^2","v":6.0092268316115795E-22},{"$f":"(K34-x!K32)^2","v":7.8972044806334062E-22},{"$f":"(L34-x!L32)^2","v":3.5588481551523474E-22}]
[12.400000000056185,9.6000000000029093,72.40000000003657,34.300000000014371,31.000000000006096,69.700000000005133,6.3000000000460261,70.899999999968131,8.0000000000354241,52.100000000019939,1.1000000000116352,-82.59999999997882,null,{"$f":"(A35-x!A33)^2","v":3.1566857328664156E-21},{"$f":"(B35-x!B33)^2","v":8.4661940743512176E-24},{"$f":"(C35-x!C33)^2","v":1.3369647943170345E-21},{"$f":"(D35-x!D33)^2","v":2.066199124213275E-22},{"$f":"(E35-x!E33)^2","v":3.716678396359174E-23},{"$f":"(F35-x!F33)^2","v":2.6318116359502715E-23},{"$f":"(G35-x!G33)^2","v":2.1184197289982858E-21},{"$f":"(H35-x!H33)^2","v":1.0160122542979242E-21},{"$f":"(I35-x!I33)^2","v":1.2548674340655086E-21},{"$f":"(J35-x!J33)^2","v":3.9751703182980778E-22},{"$f":"(K35-x!K33)^2","v":1.3537641994497784E-22},{"$f":"(L35-x!L33)^2","v":4.4834562449437909E-22}]
[76.899999999980196,22.899999999950996,77.099999999979204,47.399999999973147,30.599999999993337,7.0999999999894774,17.800000000024568,61.399999999979215,66.20000000004508,31.999999999960298,81.499999999948599,69.899999999978576,null,{"$f":"(A36-x!A34)^2","v":3.9243338496462287E-22},{"$f":"(B36-x!B34)^2","v":2.4012528242813623E-21},{"$f":"(C36-x!C34)^2","v":4.3224407727282991E-22},{"$f":"(D36-x!D34)^2","v":7.2099821814894972E-22},{"$f":"(E36-x!E34)^2","v":4.4420770194769658E-23},{"$f":"(F36-x!F34)^2","v":1.1071773955278446E-22},{"$f":"(G36-x!G34)^2","v":6.0353823037850874E-22},{"$f":"(H36-x!H34)^2","v":4.3194867726281722E-22},{"$f":"(I36-x!I34)^2","v":2.0319207071224957E-21},{"$f":"(J36-x!J34)^2","v":1.5762150861130515E-21},{"$f":"(K36-x!K34)^2","v":2.6420280031398333E-21},{"$f":"(L36-x!L34)^2","v":4.5924356750605184E-22}]
[89.899999999995103,55.700000000010988,38.799999999986753,65.500000000006679,-57.500000000006203,88.599999999983041,34.999999999961922,3.2000000000111513,85.49999999996426,38.199999999985067,70.599999999984362,-20.300000000013792,null,{"$f":"(A37-x!A35)^2","v":2.4036907326446318E-23},{"$f":"(B37-x!B35)^2","v":1.2067002056596633E-22},{"$f":"(C37-x!C35)^2","v":1.7541721982379422E-22},{"$f":"(D37-x!D35)^2","v":4.4610399734610306E-23},{"$f":"(E37-x!E35)^2","v":3.8477681461451808E-23},{"$f":"(F37-x!F35)^2","v":2.8742284659069436E-22},{"$f":"(G37-x!G35)^2","v":1.4499329576060491E-21},{"$f":"(H37-x!H35)^2","v":1.2434658648970028E-22},{"$f":"(I37-x!I35)^2","v":1.277369016122003E-21},{"$f":"(J37-x!J35)^2","v":2.2307239546061692E-22},{"$f":"(K37-x!K35)^2","v":2.4435755400126062E-22},{"$f":"(L37-x!L35)^2","v":1.9020918221202962E-22}]
[10.299999999973716,20.299999999984671,96.80000000000949,62.49999999999428,3.2000000000031261,67.000000000009507,86.399999999978505,29.300000000055686,88.39999999998291,41.400000000030012,92.399999999995615,70.199999999976043,null,{"$f":"(A38-x!A36)^2","v":6.9088819572389979E-22},{"$f":"(B38-x!B36)^2","v":2.350076590082191E-22},{"$f":"(C38-x!C36)^2","v":9.0114219154263238E-23},{"$f":"(D38-x!D36)^2","v":3.2716901638774155E-23},{"$f":"(E38-x!E36)^2","v":9.771525566879273E-24},{"$f":"(F38-x!F36)^2","v":9.0384224154015044E-23},{"$f":"(G38-x!G36)^2","v":4.6229399796323286E-22},{"$f":"(H38-x!H36)^2","v":3.1008453080780271E-21},{"$f":"(I38-x!I36)^2","v":2.9226153005670279E-22},{"$f":"(J38-x!J36)^2","v":9.0079968707024714E-22},{"$f":"(K38-x!K36)^2","v":1.9282234391400302E-23},{"$f":"(L38-x!L36)^2","v":5.7405769055683258E-22}]
[15.999999999951962,12.800000000032352,26.999999999975998,1.0000000000020908,93.500000000002501,14.59999999996869,46.199999999925659,93.200000000015336,39.3999999999495,38.199999999979383,4.9000000000003219,94.199999999998241,null,{"$f":"(A39-x!A37)^2","v":2.3076511741274182E-21},{"$f":"(B39-x!B37)^2","v":1.0465878971391154E-21},{"$f":"(C39-x!C37)^2","v":5.7610241802316544E-22},{"$f":"(D39-x!D37)^2","v":4.3713275558756763E-24},{"$f":"(E39-x!E37)^2","v":6.2555533824322718E-24},{"$f":"(F39-x!F37)^2","v":9.8032021108676327E-22},{"$f":"(G39-x!G37)^2","v":5.5270431889817007E-21},{"$f":"(H39-x!H37)^2","v":2.351165975437865E-22},{"$f":"(I39-x!I37)^2","v":2.5500754982626899E-21},{"$f":"(J39-x!J37)^2","v":4.2518234591058521E-22},{"$f":"(K39-x!K37)^2","v":1.0337548846378227E-25},{"$f":"(L39-x!L37)^2","v":3.105158471341639E-24}]
[40.500000000047152,65.000000000002217,93.299999999977274,58.200000000005623,94.000000000005059,22.700000000003278,-97.499999999938822,29.999999999933888,33.800000000063982,98.899999999959363,37.999999999991935,4.5000000000271569,null,{"$f":"(A40-x!A38)^2","v":2.2232748862285738E-21},{"$f":"(B40-x!B38)^2","v":4.9146160613013871E-24},{"$f":"(C40-x!C38)^2","v":5.1634184994047698E-22},{"$f":"(D40-x!D38)^2","v":3.1588817922533625E-23},{"$f":"(E40-x!E38)^2","v":2.5594131375127079E-23},{"$f":"(F40-x!F38)^2","v":1.0752855713984502E-23},{"$f":"(G40-x!G38)^2","v":3.7427145927638124E-21},{"$f":"(H40-x!H38)^2","v":4.370855892785001E-21},{"$f":"(I40-x!I38)^2","v":4.0940000336572466E-21},{"$f":"(J40-x!J38)^2","v":1.6518570650485218E-21},{"$f":"(K40-x!K38)^2","v":6.5038741736213628E-23},{"$f":"(L40-x!L38)^2","v":7.374995726990394E-22}]
[16.599999999997284,79.400000000005846,55.199999999988343,65.099999999982032,9.0999999999867871,33.300000000008104,68.000000000010132,3.9999999999980091,98.000000000021373,46.600000000003199,93.799999999992693,75.400000000004482,null,{"$f":"(A41-x!A39)^2","v":7.3865779721274661E-24},{"$f":"(B41-x!B39)^2","v":3.4113324280534665E-23},{"$f":"(C41-x!C39)^2","v":1.3595574677199766E-22},{"$f":"(D41-x!D39)^2","v":3.2265213768396536E-22},{"$f":"(E41-x!E39)^2","v":1.7457127063258417E-22},{"$f":"(F41-x!F39)^2","v":6.5728193545602308E-23},{"$f":"(G41-x!G39)^2","v":1.0266430195873294E-22},{"$f":"(H41-x!H39)^2","v":3.9634913982570708E-24},{"$f":"(I41-x!I39)^2","v":4.5681049328240953E-22},{"$f":"(J41-x!J39)^2","v":1.0223637331664313E-23},{"$f":"(K41-x!K39)^2","v":5.3353957303237231E-23},{"$f":"(L41-x!L39)^2","v":2.0038329170062053E-23}]
[16.000000000036749,11.400000000036302,48.40000000001983,91.400000000016249,12.299999999987229,35.200000000000806,94.399999999956165,98.500000000028948,84.499999999952834,32.000000000029786,29.800000000039599,49.400000000007481,null,{"$f":"(A42-x!A40)^2","v":1.3505088671056316E-21},{"$f":"(B42-x!B40)^2","v":1.3178082223123922E-21},{"$f":"(C42-x!C40)^2","v":3.9327838752274665E-22},{"$f":"(D42-x!D40)^2","v":2.6383527443586193E-22},{"$f":"(E42-x!E40)^2","v":1.6312412896958379E-22},{"$f":"(F42-x!F40)^2","v":6.4466975352109438E-25},{"$f":"(G42-x!G40)^2","v":1.9219882825451633E-21},{"$f":"(H42-x!H40)^2","v":8.3795839627161716E-22},{"$f":"(I42-x!I40)^2","v":2.2246152177045295E-21},{"$f":"(J42-x!J40)^2","v":8.8720290575140675E-22},{"$f":"(K42-x!K40)^2","v":1.5680448978938882E-21},{"$f":"(L42-x!L40)^2","v":5.5980548573261112E-23}]
[53.900000000013222,12.699999999992496,18.099999999967661,45.899999999982413,99.499999999984396,62.89999999998183,34.499999999985491,81.69999999997583,59.000000000004114,70.99999999993949,21.499999999975582,31.299999999994167,null,{"$f":"(A43-x!A41)^2","v":1.7485302650438015E-22},{"$f":"(B43-x!B41)^2","v":5.6299980441890446E-23},{"$f":"(C43-x!C41)^2","v":1.0458984074644032E-21},{"$f":"(D43-x!D41)^2","v":3.0926502928284547E-22},{"$f":"(E43-x!E41)^2","v":2.4346978887118662E-22},{"$f":"(F43-x!F41)^2","v":3.3009721758082401E-22},{"$f":"(G43-x!G41)^2","v":2.1051928343027117E-22},{"$f":"(H43-x!H41)^2","v":5.8431767859900948E-22},{"$f":"(I43-x!I41)^2","v":1.6925345198540622E-23},{"$f":"(J43-x!J41)^2","v":3.6614382410771171E-21},{"$f":"(K43-x!K41)^2","v":5.9622901126219087E-22},{"$f":"(L43-x!L41)^2","v":3.4030373978628865E-23}]
[51.200000000023984,94.600000000004826,45.699999999982332,93.399999999997419,34.900000000002301,87.499999999977916,64.400000000006571,19.299999999944813,56.299999999998384,99.599999999926155,57.100000000010191,35.50000000001468,null,{"$f":"(A44-x!A42)^2","v":5.7507959990611761E-22},{"$f":"(B44-x!B42)^2","v":2.3345234084748535E-23},{"$f":"(C44-x!C42)^2","v":3.1227123304223618E-22},{"$f":"(D44-x!D42)^2","v":6.6893385278824435E-24},{"$f":"(E44-x!E42)^2","v":5.2999335927347799E-24},{"$f":"(F44-x!F42)^2","v":4.8768840237893247E-22},{"$f":"(G44-x!G42)^2","v":4.3104672525822373E-23},{"$f":"(H44-x!H42)^2","v":3.0456992607465195E-21},{"$f":"(I44-x!I42)^2","v":2.6015496694485451E-24},{"$f":"(J44-x!J42)^2","v":5.4522866906351229E-21},{"$f":"(K44-x!K42)^2","v":1.0381944675946617E-22},{"$f":"(L44-x!L42)^2","v":2.1549690738979437E-22}]
[54.600000000029048,86.000000000056488,29.49999999999341,76.200000000037306,47.699999999999129,59.799999999989893,30.899999999969548,72.50000000000199,56.399999999951618,26.499999999996412,98.100000000050898,19.900000000026552,null,{"$f":"(A45-x!A43)^2","v":8.4372745597835601E-22},{"$f":"(B45-x!B43)^2","v":3.1909108071827839E-21},{"$f":"(C45-x!C43)^2","v":4.3431841542210114E-23},{"$f":"(D45-x!D43)^2","v":1.3915506368098648E-21},{"$f":"(E45-x!E43)^2","v":7.6381930464567601E-25},{"$f":"(F45-x!F43)^2","v":1.0208915293906716E-22},{"$f":"(G45-x!G43)^2","v":9.2722131460228933E-22},{"$f":"(H45-x!H43)^2","v":3.9581884780369488E-24},{"$f":"(I45-x!I43)^2","v":2.3407071187169255E-21},{"$f":"(J45-x!J43)^2","v":1.2875472150655266E-23},{"$f":"(K45-x!K43)^2","v":2.5911440766159261E-21},{"$f":"(L45-x!L43)^2","v":7.0506085496988238E-22}]
[74.400000000064324,37.399999999990541,15.000000000059165,63.100000000024387,24.500000000021743,49.500000000044018,31.300000000074231,55.499999999978414,50.300000000027765,87.400000000066498,77.600000000022774,21.100000000026117,null,{"$f":"(A46-x!A44)^2","v":4.1368473734448986E-21},{"$f":"(B46-x!B44)^2","v":8.9440973703311417E-23},{"$f":"(C46-x!C44)^2","v":3.5005110991949047E-21},{"$f":"(D46-x!D44)^2","v":5.9466854341746784E-22},{"$f":"(E46-x!E44)^2","v":4.7274099021615783E-22},{"$f":"(F46-x!F44)^2","v":1.9375951066940558E-21},{"$f":"(G46-x!G44)^2","v":5.5101522254968532E-21},{"$f":"(H46-x!H44)^2","v":4.6596784310570471E-22},{"$f":"(I46-x!I44)^2","v":7.7106238566370015E-22},{"$f":"(J46-x!J44)^2","v":4.4212644201729857E-21},{"$f":"(K46-x!K44)^2","v":5.1892840494183908E-22},{"$f":"(L46-x!L44)^2","v":6.8204536474351623E-22}]
[50.999999999974669,70.699999999985451,60.299999999986795,45.800000000009149,86.700000000003783,18.799999999996817,66.699999999987114,66.700000000006881,39.100000000007647,50.799999999992309,41.199999999990482,39.199999999995732,null,{"$f":"(A47-x!A45)^2","v":6.4165188724208088E-22},{"$f":"(B47-x!B45)^2","v":2.1175823681357508E-22},{"$f":"(C47-x!C45)^2","v":1.742897419527289E-22},{"$f":"(D47-x!D45)^2","v":8.3755268195261837E-23},{"$f":"(E47-x!E45)^2","v":1.4289060405713385E-23},{"$f":"(F47-x!F45)^2","v":1.0132962503774589E-23},{"$f":"(G47-x!G45)^2","v":1.66132642513705E-22},{"$f":"(H47-x!H45)^2","v":4.7307622454644055E-23},{"$f":"(I47-x!I45)^2","v":5.8452750297802378E-23},{"$f":"(J47-x!J45)^2","v":5.9106457241853685E-23},{"$f":"(K47-x!K45)^2","v":9.0654633050550323E-23},{"$f":"(L47-x!L45)^2","v":1.823599026091102E-23}]
[31.499999999980439,14.200000000015017,89.299999999994014,-50.799999999987158,40.599999999993223,69.999999999979806,-15.300000000061177,74.100000000005679,93.899999999946317,53.599999999976781,2.1000000000206573,22.29999999999362,null,{"$f":"(A48-x!A46)^2","v":3.8264216962676451E-22},{"$f":"(B48-x!B46)^2","v":2.2551992161604288E-22},{"$f":"(C48-x!C46)^2","v":3.5793534899783002E-23},{"$f":"(D48-x!D46)^2","v":1.6485294604236823E-22},{"$f":"(E48-x!E46)^2","v":4.5949115623432088E-23},{"$f":"(F48-x!F46)^2","v":4.0778247247856156E-22},{"$f":"(G48-x!G46)^2","v":3.7424972489626496E-21},{"$f":"(H48-x!H46)^2","v":3.2311742677852644E-23},{"$f":"(I48-x!I46)^2","v":2.8824667485994456E-21},{"$f":"(J48-x!J46)^2","v":5.3919332020742958E-22},{"$f":"(K48-x!K46)^2","v":4.2672212982237334E-22},{"$f":"(L48-x!L46)^2","v":4.0712997722486067E-23}]
[46.199999999998319,82.800000000019267,70.400000000012255,76.200000000023437,48.399999999996389,93.600000000001657,93.499999999974534,76.400000000036243,82.599999999978607,91.800000000043227,81.800000000029002,91.399999999994336,null,{"$f":"(A49-x!A47)^2","v":2.8358098038629768E-24},{"$f":"(B49-x!B47)^2","v":3.7132977802815036E-22},{"$f":"(C49-x!C47)^2","v":1.5005654078951462E-22},{"$f":"(D49-x!D47)^2","v":5.4913826875849741E-22},{"$f":"(E49-x!E47)^2","v":1.3028902441277132E-23},{"$f":"(F49-x!F47)^2","v":2.7644715344820302E-24},{"$f":"(G49-x!G47)^2","v":6.485096002415737E-22},{"$f":"(H49-x!H47)^2","v":1.3131694172671051E-21},{"$f":"(I49-x!I47)^2","v":4.574181559931449E-22},{"$f":"(J49-x!J47)^2","v":1.8687827573098524E-21},{"$f":"(K49-x!K47)^2","v":8.4125257843762424E-22},{"$f":"(L49-x!L47)^2","v":3.2150385912855117E-23}]
[98.299999999996842,70.300000000014848,42.700000000019244,59.599999999994814,87.800000000000153,93.50000000000729,71.899999999952968,48.400000000033131,56.099999999967999,47.700000000029561,34.800000000022727,93.70000000000141,null,{"$f":"(A50-x!A48)^2","v":9.9528245383455605E-24},{"$f":"(B50-x!B48)^2","v":2.2053269248613771E-22},{"$f":"(C50-x!C48)^2","v":3.7023521774493811E-22},{"$f":"(D50-x!D48)^2","v":2.690457448910574E-23},{"$f":"(E50-x!E48)^2","v":2.4435755400126062E-26},{"$f":"(F50-x!F48)^2","v":5.3146556304923765E-23},{"$f":"(G50-x!G48)^2","v":2.2125667747051334E-21},{"$f":"(H50-x!H48)^2","v":1.0977696975408339E-21},{"$f":"(I50-x!I48)^2","v":1.0241820764856275E-21},{"$f":"(J50-x!J48)^2","v":8.7370952200913548E-22},{"$f":"(K50-x!K48)^2","v":5.166648159059617E-22},{"$f":"(L50-x!L48)^2","v":1.979296187410211E-24}]
[8.4999999999885656,90.699999999972604,-23.900000000020448,69.999999999983515,2.7999999999937866,90.499999999989129,8.5000000000136815,21.79999999997526,25.400000000023688,77.599999999946263,14.699999999985943,7.5999999999969319,null,{"$f":"(A51-x!A49)^2","v":1.3074570861257825E-22},{"$f":"(B51-x!B49)^2","v":7.5067933058894376E-22},{"$f":"(C51-x!C49)^2","v":4.1817877568516065E-22},{"$f":"(D51-x!D49)^2","v":2.7174175592074073E-22},{"$f":"(E51-x!E49)^2","v":3.8604502093233985E-23},{"$f":"(F51-x!F49)^2","v":1.1818524755403946E-22},{"$f":"(G51-x!G49)^2","v":1.8718345256751287E-22},{"$f":"(H51-x!H49)^2","v":6.1212193317330168E-22},{"$f":"(I51-x!I49)^2","v":5.6119216436447034E-22},{"$f":"(J51-x!J49)^2","v":2.887046332278856E-21},{"$f":"(K51-x!K49)^2","v":1.975798977690749E-22},{"$f":"(L51-x!L49)^2","v":9.4112021071516765E-24}]
[99.49999999996453,66.599999999981506,84.199999999962827,79.79999999997294,72.899999999994577,88.19999999998403,92.700000000023294,15.899999999987633,8.6000000000349477,26.299999999960551,82.199999999958038,63.49999999999477,null,{"$f":"(A52-x!A50)^2","v":1.2581417116931551E-21},{"$f":"(B52-x!B50)^2","v":3.4181804980172539E-22},{"$f":"(C52-x!C50)^2","v":1.3820249331200421E-21},{"$f":"(D52-x!D50)^2","v":7.3210654089771406E-22},{"$f":"(E52-x!E50)^2","v":2.9469117115768557E-23},{"$f":"(F52-x!F50)^2","v":2.5513675135859226E-22},{"$f":"(G52-x!G50)^2","v":5.424982056381987E-22},{"$f":"(H52-x!H50)^2","v":1.5294259787759656E-22},{"$f":"(I52-x!I50)^2","v":1.221365811463544E-21},{"$f":"(J52-x!J50)^2","v":1.5562498496390236E-21},{"$f":"(K52-x!K50)^2","v":1.761032183156842E-21},{"$f":"(L52-x!L50)^2","v":2.7348659002534478E-23}]
[95.799999999987591,20.499999999986905,23.19999999998209,99.099999999999952,18.900000000005722,86.999999999988077,15.200000000012812,94.899999999997291,11.600000000011416,1.7999999999911493,98.899999999975549,92.899999999996282,null,{"$f":"(A53-x!A51)^2","v":1.5391072584580723E-22},{"$f":"(B53-x!B51)^2","v":1.7148695071091485E-22},{"$f":"(C53-x!C51)^2","v":3.2074050682956138E-22},{"$f":"(D53-x!D51)^2","v":1.8175355256292112E-27},{"$f":"(E53-x!E51)^2","v":3.2757556374385625E-23},{"$f":"(F53-x!F51)^2","v":1.4215571385960444E-22},{"$f":"(G53-x!G51)^2","v":1.6416942962243043E-22},{"$f":"(H53-x!H51)^2","v":7.3672792789421393E-24},{"$f":"(I53-x!I51)^2","v":1.3033979234518773E-22},{"$f":"(J53-x!J51)^2","v":7.8334854243055368E-23},{"$f":"(K53-x!K51)^2","v":5.9813902652946095E-22},{"$f":"(L53-x!L51)^2","v":1.386254540236573E-23}]
[74.200000000012082,17.500000000011461,35.100000000010994,91.70000000000654,10.500000000005446,35.100000000009125,98.699999999993068,85.999999999996774,89.99999999998694,35.799999999996544,91.200000000030641,34.40000000000348,null,{"$f":"(A54-x!A52)^2","v":1.4590771302967834E-22},{"$f":"(B54-x!B52)^2","v":1.3135576630502187E-22},{"$f":"(C54-x!C52)^2","v":1.2082617715987664E-22},{"$f":"(D54-x!D52)^2","v":4.2732279691460121E-23},{"$f":"(E54-x!E52)^2","v":2.9662293374239079E-23},{"$f":"(F54-x!F52)^2","v":8.3235856931715356E-23},{"$f":"(G54-x!G52)^2","v":4.8092797801715875E-23},{"$f":"(H54-x!H52)^2","v":1.040619867779418E-23},{"$f":"(I54-x!I52)^2","v":1.7055773567343692E-22},{"$f":"(J54-x!J52)^2","v":1.1924850583653255E-23},{"$f":"(K54-x!K52)^2","v":9.3872397945124279E-22},{"$f":"(L54-x!L52)^2","v":1.2121952213988156E-23}]
[11.100000000007634,18.500000000006278,54.49999999999639,70.599999999999795,17.100000000000406,70.700000000000358,25.099999999998527,18.000000000004405,26.599999999997859,98.900000000009385,14.199999999990567,73.799999999999301,null,{"$f":"(A55-x!A53)^2","v":5.8289891541641311E-23},{"$f":"(B55-x!B53)^2","v":3.9408827630425724E-23},{"$f":"(C55-x!C53)^2","v":1.3028902441277132E-23},{"$f":"(D55-x!D53)^2","v":3.9581884780369488E-26},{"$f":"(E55-x!E53)^2","v":1.6403258118803631E-25},{"$f":"(F55-x!F53)^2","v":1.2621774483536189E-25},{"$f":"(G55-x!G53)^2","v":2.1737851104270201E-24},{"$f":"(H55-x!H53)^2","v":1.9407240445885244E-23},{"$f":"(I55-x!I53)^2","v":4.5893907981841101E-24},{"$f":"(J55-x!J53)^2","v":8.7968719440453822E-23},{"$f":"(K55-x!K53)^2","v":8.8971203878808684E-23},{"$f":"(L55-x!L53)^2","v":4.8487808855952623E-25}]
[28.30000000000938,41.100000000021886,22.700000000016118,58.599999999972518,33.399999999994201,10.19999999999896,34.299999999962552,43.60000000003366,97.499999999958675,93.600000000016522,84.30000000002525,0.49999999999410349,null,{"$f":"(A56-x!A54)^2","v":8.7968719440453822E-23},{"$f":"(B56-x!B54)^2","v":4.7894080584247081E-22},{"$f":"(C56-x!C54)^2","v":2.5981126340389334E-22},{"$f":"(D56-x!D54)^2","v":7.5535887872226377E-22},{"$f":"(E56-x!E54)^2","v":3.361713708203789E-23},{"$f":"(F56-x!F54)^2","v":1.0798716931570431E-24},{"$f":"(G56-x!G54)^2","v":1.4021731222152089E-21},{"$f":"(H56-x!H54)^2","v":1.132888522863825E-21},{"$f":"(I56-x!I54)^2","v":1.707769304578278E-21},{"$f":"(J56-x!J54)^2","v":2.7314913426275295E-22},{"$f":"(K56-x!K54)^2","v":6.3769829308995594E-22},{"$f":"(L56-x!L54)^2","v":3.4768777183310403E-23}]
[12.099999999968821,16.29999999999384,49.600000000001252,62.199999999993295,57.899999999995131,97.999999999997272,60.499999999971038,57.000000000035492,57.799999999972833,45.900000000028562,20.399999999982402,33.299999999984543,null,{"$f":"(A57-x!A55)^2","v":9.721060486052993E-22},{"$f":"(B57-x!B55)^2","v":3.7950596159019337E-23},{"$f":"(C57-x!C55)^2","v":1.5638883456080679E-24},{"$f":"(D57-x!D55)^2","v":4.4990870504642021E-23},{"$f":"(E57-x!E55)^2","v":2.3689808528149073E-23},{"$f":"(F57-x!F55)^2","v":7.4446255129772491E-24},{"$f":"(G57-x!G55)^2","v":8.3878133596794372E-22},{"$f":"(H57-x!H55)^2","v":1.25965435563436E-21},{"$f":"(I57-x!I55)^2","v":7.3788554656274594E-22},{"$f":"(J57-x!J55)^2","v":8.1589169745495291E-22},{"$f":"(K57-x!K55)^2","v":3.0964000958097684E-22},{"$f":"(L57-x!L55)^2","v":2.3883552766471353E-22}]
[67.999999999927255,15.399999999992454,85.099999999952914,90.29999999997078,47.500000000001727,14.899999999983564,19.299999999986237,28.600000000012429,80.000000000001393,53.699999999963318,51.199999999958358,92.899999999971953,null,{"$f":"(A58-x!A56)^2","v":5.2918881707563863E-21},{"$f":"(B58-x!B56)^2","v":5.6941570482437558E-23},{"$f":"(C58-x!C56)^2","v":2.2165792873005475E-21},{"$f":"(D58-x!D56)^2","v":8.536633168517957E-22},{"$f":"(E58-x!E56)^2","v":2.9812126459133137E-24},{"$f":"(F58-x!F56)^2","v":2.7016280033184294E-22},{"$f":"(G58-x!G56)^2","v":1.8942602634887516E-22},{"$f":"(H58-x!H56)^2","v":1.5444008306764674E-22},{"$f":"(I58-x!I56)^2","v":1.9395123542381049E-24},{"$f":"(J58-x!J56)^2","v":1.3458128096912871E-21},{"$f":"(K58-x!K56)^2","v":1.7342985074942434E-21},{"$f":"(L58-x!L56)^2","v":7.869274513185258E-22}]
[61.700000000009851,30.900000000015336,33.100000000017737,69.600000000000549,38.799999999998768,66.500000000013827,85.999999999982677,1.700000000011485,72.999999999982265,99.900000000029507,60.50000000000783,20.600000000005497,null,{"$f":"(A59-x!A57)^2","v":9.6985513183100339E-23},{"$f":"(B59-x!B57)^2","v":2.3522556132290287E-22},{"$f":"(C59-x!C57)^2","v":3.1453542792328877E-22},{"$f":"(D59-x!D57)^2","v":3.0716350383133669E-25},{"$f":"(E59-x!E57)^2","v":1.5110283540710184E-24},{"$f":"(F59-x!F57)^2","v":1.9119039896037972E-22},{"$f":"(G59-x!G57)^2","v":3.000874341332787E-22},{"$f":"(H59-x!H57)^2","v":1.3190603228515426E-22},{"$f":"(I59-x!I57)^2","v":3.1453542792328877E-22},{"$f":"(J59-x!J57)^2","v":8.7035233194490659E-22},{"$f":"(K59-x!K57)^2","v":6.1311733679617128E-23},{"$f":"(L59-x!L57)^2","v":3.0206544289969159E-23}]
[68.800000000018287,49.100000000019534,33.000000000024706,32.900000000019418,19.200000000006877,67.200000000005232,25.099999999984345,-4.6999999999741267,4.5999999999696097,37.000000000035413,47.200000000033107,58.200000000005161,null,{"$f":"(A60-x!A58)^2","v":3.3450105567232566E-22},{"$f":"(B60-x!B58)^2","v":3.8153104957542985E-22},{"$f":"(C60-x!C58)^2","v":6.1036523460068311E-22},{"$f":"(D60-x!D58)^2","v":3.7710272524143015E-22},{"$f":"(E60-x!E58)^2","v":4.7307622454644055E-23},{"$f":"(F60-x!F58)^2","v":2.7348659002534478E-23},{"$f":"(G60-x!G58)^2","v":2.4513567377639614E-22},{"$f":"(H60-x!H58)^2","v":6.6943932409073467E-22},{"$f":"(I60-x!I58)^2","v":9.2354680050576986E-22},{"$f":"(J60-x!J58)^2","v":1.2541124373812269E-21},{"$f":"(K60-x!K58)^2","v":1.0958871346330656E-21},{"$f":"(L60-x!L58)^2","v":2.6610537630737281E-23}]
[31.70000000001394,23.400000000000603,64.799999999998604,23.20000000000141,14.399999999991277,83.500000000004817,18.300000000016084,5.6000000000013674,43.899999999997753,60.800000000002257,47.600000000002723,77.100000000000477,null,{"$f":"(A61-x!A59)^2","v":1.9434725622000592E-22},{"$f":"(B61-x!B59)^2","v":3.6476928257419586E-25},{"$f":"(C61-x!C59)^2","v":1.9395123542381049E-24},{"$f":"(D61-x!D59)^2","v":1.9893052545756552E-24},{"$f":"(E61-x!E59)^2","v":7.6102739968435401E-23},{"$f":"(F61-x!F59)^2","v":2.3208111126759398E-23},{"$f":"(G61-x!G59)^2","v":2.5866722576470562E-22},{"$f":"(H61-x!H59)^2","v":1.8708625228221516E-24},{"$f":"(I61-x!I59)^2","v":5.0414396513119587E-24},{"$f":"(J61-x!J59)^2","v":5.1054572914924543E-24},{"$f":"(K61-x!K59)^2","v":7.40590190886176E-24},{"$f":"(L61-x!L59)^2","v":2.3345234084748535E-25}]
[4.4000000000424215,54.30000000000566,64.799999999997809,33.400000000008667,35.700000000011315,58.500000000002473,62.600000000046677,67.099999999976504,20.700000000023806,56.399999999996666,88.700000000008359,83.800000000016311,null,{"$f":"(A62-x!A60)^2","v":1.7995563159038369E-21},{"$f":"(B62-x!B60)^2","v":3.2069858991650156E-23},{"$f":"(C62-x!C60)^2","v":4.7894080584247081E-24},{"$f":"(D62-x!D60)^2","v":7.5144996565181054E-23},{"$f":"(E62-x!E60)^2","v":1.2795773217856425E-22},{"$f":"(F62-x!F60)^2","v":6.1141895082166665E-24},{"$f":"(G62-x!G60)^2","v":2.1786071836378082E-21},{"$f":"(H62-x!H60)^2","v":5.5180560311655415E-22},{"$f":"(I62-x!I60)^2","v":5.6676060096579339E-22},{"$f":"(J62-x!J60)^2","v":1.1105192548692415E-23},{"$f":"(K62-x!K60)^2","v":6.9822444752571777E-23},{"$f":"(L62-x!L60)^2","v":2.6614859326320444E-22}]
[82.200000000008032,6.5999999999983503,82.29999999999896,27.200000000013539,21.800000000002203,57.699999999999442,74.60000000000899,72.700000000014768,99.69999999999456,99.099999999994907,6.3000000000170253,63.300000000006641,null,{"$f":"(A63-x!A61)^2","v":6.4466975352109438E-23},{"$f":"(B63-x!B61)^2","v":2.7203465997484929E-24},{"$f":"(C63-x!C61)^2","v":1.0761829795642296E-24},{"$f":"(D63-x!D61)^2","v":1.833151311237987E-22},{"$f":"(E63-x!E61)^2","v":4.851810111471311E-24},{"$f":"(F63-x!F61)^2","v":3.1508997820699742E-25},{"$f":"(G63-x!G61)^2","v":8.0918499136538112E-23},{"$f":"(H63-x!H61)^2","v":2.1800752979586352E-22},{"$f":"(I63-x!I61)^2","v":2.962360763544704E-23},{"$f":"(J63-x!J61)^2","v":2.5882513678526914E-23},{"$f":"(K63-x!K61)^2","v":2.8986738217442862E-22},{"$f":"(L63-x!L61)^2","v":4.4137083191477699E-23}]
[79.399999999960983,9.1999999999929543,4.5999999999935257,88.899999999991934,30.899999999991064,86.599999999999312,0.29999999996177706,38.300000000027282,77.099999999977726,19.100000000005945,91.599999999988299,41.499999999989981,null,{"$f":"(A64-x!A62)^2","v":1.5227950790639419E-21},{"$f":"(B64-x!B62)^2","v":4.9632464962090037E-23},{"$f":"(C64-x!C62)^2","v":4.1911802030018756E-23},{"$f":"(D64-x!D62)^2","v":6.515339793562207E-23},{"$f":"(E64-x!E62)^2","v":7.983556350762519E-23},{"$f":"(F64-x!F62)^2","v":4.6528909456107807E-25},{"$f":"(G64-x!G62)^2","v":1.4609919821966044E-21},{"$f":"(H64-x!H62)^2","v":7.4446255129772491E-22},{"$f":"(I64-x!I62)^2","v":4.9588205447686069E-22},{"$f":"(J64-x!J62)^2","v":3.5327450633429462E-23},{"$f":"(K64-x!K62)^2","v":1.3678550222654533E-22},{"$f":"(L64-x!L62)^2","v":1.0037339940287319E-22}]
[99.199999999975944,-5.6000000000140737,92.299999999971291,47.099999999982778,39.09999999999831,37.599999999994836,16.500000000007681,40.399999999990186,70.50000000001404,70.899999999984118,61.599999999957895,29.299999999982056,null,{"$f":"(A65-x!A63)^2","v":5.7883437586657789E-22},{"$f":"(B65-x!B63)^2","v":1.980795938208781E-22},{"$f":"(C65-x!C63)^2","v":8.2403021764193704E-22},{"$f":"(D65-x!D63)^2","v":2.9665087835109734E-22},{"$f":"(E65-x!E63)^2","v":2.8597911753816955E-24},{"$f":"(F65-x!F63)^2","v":2.6683895384035594E-23},{"$f":"(G65-x!G63)^2","v":5.899725364902213E-23},{"$f":"(H65-x!H63)^2","v":9.6287024183181446E-23},{"$f":"(I65-x!I63)^2","v":1.9713071090331119E-22},{"$f":"(J65-x!J63)^2","v":2.524201415929518E-22},{"$f":"(K65-x!K63)^2","v":1.772979450011978E-21},{"$f":"(L65-x!L63)^2","v":3.2201429631043986E-22}]
[29.099999999971413,27.099999999993393,29.699999999956614,24.499999999992266,58.299999999988806,7.6000000000079471,32.999999999992795,44.000000000004214,42.499999999994614,56.399999999964592,28.099999999985471,78.599999999999795,null,{"$f":"(A66-x!A64)^2","v":8.1731302285776943E-22},{"$f":"(B66-x!B64)^2","v":4.3666291003241799E-23},{"$f":"(C66-x!C64)^2","v":1.8823223872338314E-21},{"$f":"(D66-x!D64)^2","v":5.9818741841283083E-23},{"$f":"(E66-x!E64)^2","v":1.2523955731288783E-22},{"$f":"(F66-x!F64)^2","v":6.3161492595502807E-23},{"$f":"(G66-x!G64)^2","v":5.1910632147495901E-23},{"$f":"(H66-x!H64)^2","v":1.7753737501444069E-23},{"$f":"(I66-x!I64)^2","v":2.9008068937433947E-23},{"$f":"(J66-x!J64)^2","v":1.2536092324761172E-21},{"$f":"(K66-x!K64)^2","v":2.1113830573804172E-22},{"$f":"(L66-x!L64)^2","v":3.9581884780369488E-26}]
[99.099999999968347,44.199999999987917,67.799999999982361,35.599999999970457,80.699999999993466,99.199999999984684,79.799999999981495,18.800000000019185,17.599999999995759,-2.3000000000130503,41.39999999997363,60.099999999974933,null,{"$f":"(A67-x!A65)^2","v":1.001568905320924E-21},{"$f":"(B67-x!B65)^2","v":1.4607941964975237E-22},{"$f":"(C67-x!C65)^2","v":3.1101688109406236E-22},{"$f":"(D67-x!D65)^2","v":8.7286961864790305E-22},{"$f":"(E67-x!E65)^2","v":4.2732279691460121E-23},{"$f":"(F67-x!F65)^2","v":2.346809948628107E-22},{"$f":"(G67-x!G65)^2","v":3.423437214654157E-22},{"$f":"(H67-x!H65)^2","v":3.6805094393991527E-22},{"$f":"(I67-x!I65)^2","v":1.7994056087610598E-23},{"$f":"(J67-x!J65)^2","v":1.7031423501959395E-22},{"$f":"(K67-x!K65)^2","v":6.9528412942913112E-22},{"$f":"(L67-x!L65)^2","v":6.28402002773146E-22}]
[77.70000000001221,19.599999999988142,11.800000000012401,58.100000000014091,39.900000000016227,34.800000000010186,42.600000000024799,34.099999999967174,98.499999999985931,9.999999999970834,83.800000000019864,9.7000000000291458,null,{"$f":"(A68-x!A66)^2","v":1.4901388124297867E-22},{"$f":"(B68-x!B66)^2","v":1.406348910085342E-22},{"$f":"(C68-x!C66)^2","v":1.537785285353103E-22},{"$f":"(D68-x!D66)^2","v":1.9852985984836015E-22},{"$f":"(E68-x!E66)^2","v":2.6337382236074384E-22},{"$f":"(F68-x!F66)^2","v":1.0381944675946617E-22},{"$f":"(G68-x!G66)^2","v":6.1493790154767654E-22},{"$f":"(H68-x!H66)^2","v":1.0776168131455593E-21},{"$f":"(I68-x!I66)^2","v":1.979296187410211E-22},{"$f":"(J68-x!J66)^2","v":8.5065572785265542E-22},{"$f":"(K68-x!K66)^2","v":3.9468874460353699E-22},{"$f":"(L68-x!L66)^2","v":8.4951630662748505E-22}]
[17.500000000033744,68.900000000002692,78.800000000025946,66.60000000000683,75.500000000007418,84.800000000002854,81.900000000013108,27.599999999968581,62.700000000002447,93.8999999999957,11.400000000032396,93.300000000015459,null,{"$f":"(A69-x!A67)^2","v":1.1386355701958646E-21},{"$f":"(B69-x!B67)^2","v":7.2137985012223393E-24},{"$f":"(C69-x!C67)^2","v":6.7335167580587376E-22},{"$f":"(D69-x!D67)^2","v":4.6722981860566659E-23},{"$f":"(E69-x!E67)^2","v":5.5027705573949998E-23},{"$f":"(F69-x!F67)^2","v":8.1589169745495291E-24},{"$f":"(G69-x!G67)^2","v":1.7167309664099804E-22},{"$f":"(H69-x!H67)^2","v":9.8722895392049302E-22},{"$f":"(I69-x!I67)^2","v":5.9744412211349538E-24},{"$f":"(J69-x!J67)^2","v":1.8540679896943583E-23},{"$f":"(K69-x!K67)^2","v":1.0494632162525554E-21},{"$f":"(L69-x!L67)^2","v":2.39055197027825E-22}]
[88.400000000044287,3.4999999999997202,73.300000000011408,89.00000000001431,38.400000000005697,52.799999999998427,6.4000000000518051,6.8999999999575081,80.700000000017752,5.6999999999986368,83.900000000002791,40.200000000013091,null,{"$f":"(A70-x!A68)^2","v":1.9608090238370776E-21},{"$f":"(B70-x!B68)^2","v":7.8274723320554896E-26},{"$f":"(C70-x!C68)^2","v":1.3021814052727178E-22},{"$f":"(D70-x!D68)^2","v":2.0478556469208622E-22},{"$f":"(E70-x!E68)^2","v":3.2473503339633643E-23},{"$f":"(F70-x!F68)^2","v":2.465840350201564E-24},{"$f":"(G70-x!G68)^2","v":2.6837355091280615E-21},{"$f":"(H70-x!H68)^2","v":1.8055897765424568E-21},{"$f":"(I70-x!I68)^2","v":3.1503969305745501E-22},{"$f":"(J70-x!J68)^2","v":1.8587337864043785E-24},{"$f":"(K70-x!K68)^2","v":7.7580494169524197E-24},{"$f":"(L70-x!L68)^2","v":1.7130090575502753E-22}]
[75.299999999979121,80.900000000000844,14.600000000011558,11.39999999999659,96.100000000001032,69.2999999999994,92.599999999966329,15.200000000012894,74.499999999974719,30.400000000007086,79.00000000000469,60.299999999998725,null,{"$f":"(A71-x!A69)^2","v":4.357967533802598E-22},{"$f":"(B71-x!B69)^2","v":7.0298235163503158E-25},{"$f":"(C71-x!C69)^2","v":1.3360479296858887E-22},{"$f":"(D71-x!D69)^2","v":1.1632227364026952E-23},{"$f":"(E71-x!E69)^2","v":1.0761829795642296E-24},{"$f":"(F71-x!F69)^2","v":3.562369630233254E-25},{"$f":"(G71-x!G69)^2","v":1.1333668881167511E-21},{"$f":"(H71-x!H69)^2","v":1.6627004630617639E-22},{"$f":"(I71-x!I69)^2","v":6.3913455005198649E-22},{"$f":"(J71-x!J69)^2","v":5.023497798883612E-23},{"$f":"(K71-x!K69)^2","v":2.1992179860113456E-23},{"$f":"(L71-x!L69)^2","v":1.6176571049079321E-24}]
[90.299999999960434,71.200000000007051,43.900000000027816,18.300000000020802,50.700000000011315,23.499999999987907,60.299999999929533,99.400000000068601,66.499999999940783,66.800000000055448,16.900000000013545,71.699999999982765,null,{"$f":"(A72-x!A70)^2","v":1.5652325141034666E-21},{"$f":"(B72-x!B70)^2","v":4.9682535541466225E-23},{"$f":"(C72-x!C70)^2","v":7.7382710963367185E-22},{"$f":"(D72-x!D70)^2","v":4.3268736661446618E-22},{"$f":"(E72-x!E70)^2","v":1.2795773217856425E-22},{"$f":"(F72-x!F70)^2","v":1.4625122724402226E-22},{"$f":"(G72-x!G70)^2","v":4.9652490164614636E-21},{"$f":"(H72-x!H70)^2","v":4.7053831891264779E-21},{"$f":"(I72-x!I70)^2","v":3.5066094578424754E-21},{"$f":"(J72-x!J70)^2","v":3.0747862410180245E-21},{"$f":"(K72-x!K70)^2","v":1.8350758794112366E-22},{"$f":"(L72-x!L70)^2","v":2.9714060320105854E-22}]
[61.100000000069983,60.800000000007422,78.100000000020145,82.700000000026634,45.600000000008137,17.400000000017705,16.500000000043695,88.999999999964913,10.500000000022441,91.699999999989885,10.400000000048363,62.600000000043202,null,{"$f":"(A73-x!A71)^2","v":4.8973899139733548E-21},{"$f":"(B73-x!B71)^2","v":5.5133173121534427E-23},{"$f":"(C73-x!C71)^2","v":4.0606247802614112E-22},{"$f":"(D73-x!D71)^2","v":7.0921771017829019E-22},{"$f":"(E73-x!E71)^2","v":6.6189847569112128E-23},{"$f":"(F73-x!F71)^2","v":3.1352810934530672E-22},{"$f":"(G73-x!G71)^2","v":1.9092377785836695E-21},{"$f":"(H73-x!H71)^2","v":1.231069520038908E-21},{"$f":"(I73-x!I71)^2","v":5.0358573244478165E-22},{"$f":"(J73-x!J71)^2","v":1.0237652550050832E-22},{"$f":"(K73-x!K71)^2","v":2.3389886010121196E-21},{"$f":"(L73-x!L71)^2","v":1.8663262570727687E-21}]
[14.6999999999913,56.79999999998936,71.099999999985272,32.499999999991005,59.199999999996869,90.399999999995956,30.200000000005716,47.900000000004326,68.800000000014961,88.699999999985266,52.399999999984743,92.899999999995302,null,{"$f":"(A74-x!A72)^2","v":7.5669459693964571E-23},{"$f":"(B74-x!B72)^2","v":1.131420408542998E-22},{"$f":"(C74-x!C72)^2","v":2.1675040105730332E-22},{"$f":"(D74-x!D72)^2","v":8.0918499136538112E-23},{"$f":"(E74-x!E72)^2","v":9.8187812933304062E-24},{"$f":"(F74-x!F72)^2","v":1.6403258118803631E-23},{"$f":"(G74-x!G72)^2","v":3.2676272146711652E-23},{"$f":"(H74-x!H72)^2","v":1.8724705368913541E-23},{"$f":"(I74-x!I72)^2","v":2.2392219429304445E-22},{"$f":"(J74-x!J72)^2","v":2.1716904007337325E-22},{"$f":"(K74-x!K72)^2","v":2.3272578102111507E-22},{"$f":"(L74-x!L72)^2","v":2.2125667747051334E-23}]
[83.000000000030596,51.600000000010091,11.900000000021087,87.400000000027362,54.000000000004704,95.00000000001117,87.900000000009712,61.700000000006398,55.39999999999592,67.100000000015555,51.80000000002962,31.700000000019724,null,{"$f":"(A75-x!A73)^2","v":9.3611339259126403E-22},{"$f":"(B75-x!B73)^2","v":1.0180218427440949E-22},{"$f":"(C75-x!C73)^2","v":4.4466713769434092E-22},{"$f":"(D75-x!D73)^2","v":7.4834500912886064E-22},{"$f":"(E75-x!E73)^2","v":2.2125667747051334E-23},{"$f":"(F75-x!F73)^2","v":1.2476290862129157E-22},{"$f":"(G75-x!G73)^2","v":9.4206703312805011E-23},{"$f":"(H75-x!H73)^2","v":4.0894549326657252E-23},{"$f":"(I75-x!I73)^2","v":1.6634287078950277E-23},{"$f":"(J75-x!J73)^2","v":2.4214117040195166E-22},{"$f":"(K75-x!K73)^2","v":8.7749408535737691E-22},{"$f":"(L75-x!L73)^2","v":3.890624624097559E-22}]
[37.300000000043411,64.799999999996658,65.699999999993892,28.599999999990043,6.0999999999881371,89.900000000001299,22.100000000025315,70.39999999997049,82.100000000036488,56.199999999982523,8.0000000000067395,80.500000000008683,null,{"$f":"(A76-x!A74)^2","v":1.8847893887872854E-21},{"$f":"(B76-x!B74)^2","v":1.1152599933652577E-23},{"$f":"(C76-x!C74)^2","v":3.7340257632093461E-23},{"$f":"(D76-x!D74)^2","v":9.9166871358217481E-23},{"$f":"(E76-x!E74)^2","v":1.4071916659676077E-22},{"$f":"(F76-x!F74)^2","v":1.6723346319706109E-24},{"$f":"(G76-x!G74)^2","v":6.4075227026576684E-22},{"$f":"(H76-x!H74)^2","v":8.711910236157886E-22},{"$f":"(I76-x!I74)^2","v":1.3317737109074457E-21},{"$f":"(J76-x!J74)^2","v":3.055277218582704E-22},{"$f":"(K76-x!K74)^2","v":4.5420831252423681E-23},{"$f":"(L76-x!L74)^2","v":7.5391575551491417E-23}]
[69.300000000014947,-30.100000000002989,26.700000000011375,6.5000000000133245,78.800000000002612,9.5000000000093809,58.000000000011745,2.9999999999721951,54.899999999998521,78.399999999984161,95.900000000018821,10.000000000011218,null,{"$f":"(A77-x!A75)^2","v":2.2349709292843895E-22},{"$f":"(B77-x!B75)^2","v":8.9271412784899592E-24},{"$f":"(C77-x!C75)^2","v":1.2940857991189777E-22},{"$f":"(D77-x!D75)^2","v":1.7754103848448454E-22},{"$f":"(E77-x!E75)^2","v":6.8371647506336194E-24},{"$f":"(F77-x!F75)^2","v":8.8002044080533978E-23},{"$f":"(G77-x!G75)^2","v":1.3795140077913854E-22},{"$f":"(H77-x!H75)^2","v":7.7311076890868303E-22},{"$f":"(I77-x!I75)^2","v":2.1842738050228387E-24},{"$f":"(J77-x!J75)^2","v":2.5106728931670845E-22},{"$f":"(K77-x!K75)^2","v":3.5401068395282135E-22},{"$f":"(L77-x!L75)^2","v":1.2583664613204962E-22}]
[14.500000000035131,90.800000000001816,42.999999999984588,90.800000000006094,18.700000000002607,12.900000000004777,30.900000000050202,99.299999999956299,10.300000000046433,46.299999999973011,19.40000000000207,35.800000000019942,null,{"$f":"(A78-x!A76)^2","v":1.2341878083111561E-21},{"$f":"(B78-x!B76)^2","v":3.3087224502121107E-24},{"$f":"(C78-x!C76)^2","v":2.3751963194415799E-22},{"$f":"(D78-x!D76)^2","v":3.716678396359174E-23},{"$f":"(E78-x!E76)^2","v":6.800056733652023E-24},{"$f":"(F78-x!F76)^2","v":2.2816132453842319E-23},{"$f":"(G78-x!G76)^2","v":2.5203810698506157E-21},{"$f":"(H78-x!H76)^2","v":1.90954826161419E-21},{"$f":"(I78-x!I76)^2","v":2.1559484005355649E-21},{"$f":"(J78-x!J76)^2","v":7.2826649222884301E-22},{"$f":"(K78-x!K76)^2","v":4.2900023074346317E-24},{"$f":"(L78-x!L76)^2","v":3.9780041591051213E-22}]
[1.9999999999943439,36.599999999972951,5.8999999999986201,53.000000000021025,59.300000000010932,98.399999999998684,33.400000000021414,58.499999999978392,21.50000000003325,56.899999999982924,22.599999999988661,78.90000000000633,null,{"$f":"(A79-x!A77)^2","v":3.1991944827067094E-23},{"$f":"(B79-x!B77)^2","v":7.3172208164694554E-22},{"$f":"(C79-x!C77)^2","v":1.9050328217927049E-24},{"$f":"(D79-x!D77)^2","v":4.4204892412713049E-22},{"$f":"(E79-x!E77)^2","v":1.1957975168607847E-22},{"$f":"(F79-x!F77)^2","v":1.746651640129672E-24},{"$f":"(G79-x!G77)^2","v":4.5863469310496605E-22},{"$f":"(H79-x!H77)^2","v":4.6688857631072971E-22},{"$f":"(I79-x!I77)^2","v":1.1055523467962548E-21},{"$f":"(J79-x!J77)^2","v":2.9153315269480688E-22},{"$f":"(K79-x!K77)^2","v":1.2860154365142047E-22},{"$f":"(L79-x!L77)^2","v":3.9990830273636061E-23}]
[80.600000000003305,60.800000000011181,73.100000000037952,10.400000000015913,16.900000000015588,77.800000000005383,49.999999999980915,59.400000000018331,9.0999999999597492,42.500000000027633,40.300000000030259,48.000000000005365,null,{"$f":"(A80-x!A78)^2","v":1.0963576238987139E-23},{"$f":"(B80-x!B78)^2","v":1.2508057344149321E-22},{"$f":"(C80-x!C78)^2","v":1.4407484962111633E-21},{"$f":"(D80-x!D78)^2","v":2.5321098411676672E-22},{"$f":"(E80-x!E78)^2","v":2.4302651215132482E-22},{"$f":"(F80-x!F78)^2","v":2.9008068937433947E-23},{"$f":"(G80-x!G78)^2","v":3.6424401480728902E-22},{"$f":"(H80-x!H78)^2","v":3.3606231868884115E-22},{"$f":"(I80-x!I78)^2","v":1.6201003049501538E-21},{"$f":"(J80-x!J78)^2","v":7.6358307551444214E-22},{"$f":"(K80-x!K78)^2","v":9.1578955888238439E-22},{"$f":"(L80-x!L78)^2","v":2.8778907999910864E-23}]
[12.600000000011599,91.99999999999801,4.4999999999888436,95.499999999997158,18.399999999993216,60.200000000002362,73.000000000042178,24.09999999996683,71.900000000045353,48.899999999980793,31.99999999997668,88.500000000002586,null,{"$f":"(A81-x!A79)^2","v":1.3455095589375457E-22},{"$f":"(B81-x!B79)^2","v":3.9581884780369488E-24},{"$f":"(C81-x!C79)^2","v":1.2446546467267346E-22},{"$f":"(D81-x!D79)^2","v":8.0779356694631609E-24},{"$f":"(E81-x!E79)^2","v":4.5997292936635746E-23},{"$f":"(F81-x!F79)^2","v":5.5648898826931715E-24},{"$f":"(G81-x!G79)^2","v":1.7789682295689263E-21},{"$f":"(H81-x!H79)^2","v":1.1003608594898825E-21},{"$f":"(I81-x!I79)^2","v":2.0563356618382729E-21},{"$f":"(J81-x!J79)^2","v":3.6886928931032982E-22},{"$f":"(K81-x!K79)^2","v":5.4382298708799065E-22},{"$f":"(L81-x!L79)^2","v":6.6893385278824435E-24}]
[52.900000000006848,40.699999999969151,51.499999999977277,64.399999999980565,27.299999999990177,33.999999999997925,16.400000000043814,68.499999999941124,39.300000000040782,63.699999999942712,60.099999999974891,54.300000000001916,null,{"$f":"(A82-x!A80)^2","v":4.6917458161808985E-23},{"$f":"(B82-x!B80)^2","v":9.5183143981690545E-22},{"$f":"(C82-x!C80)^2","v":5.1634184994047698E-22},{"$f":"(D82-x!D80)^2","v":3.7793106705723566E-22},{"$f":"(E82-x!E80)^2","v":9.649630582589296E-23},{"$f":"(F82-x!F80)^2","v":4.3047319182569184E-24},{"$f":"(G82-x!G80)^2","v":1.9198083632523373E-21},{"$f":"(H82-x!H80)^2","v":3.4663328705945321E-21},{"$f":"(I82-x!I80)^2","v":1.6634287078950277E-21},{"$f":"(J82-x!J80)^2","v":3.2822656457945829E-21},{"$f":"(K82-x!K80)^2","v":6.3054124208681158E-22},{"$f":"(L82-x!L80)^2","v":3.6805094393991527E-24}]
[50.900000000027944,69.099999999999966,68.000000000000028,60.099999999994481,27.499999999990482,80.300000000009732,52.500000000016733,40.899999999973971,10.500000000011344,95.799999999970709,15.600000000019353,40.60000000001417,null,{"$f":"(A83-x!A81)^2","v":7.8095911903624088E-22},{"$f":"(B83-x!B81)^2","v":8.0779356694631609E-28},{"$f":"(C83-x!C81)^2","v":8.0779356694631609E-28},{"$f":"(D83-x!D81)^2","v":3.0480525148683279E-23},{"$f":"(E83-x!E81)^2","v":9.0586992961093053E-23},{"$f":"(F83-x!F81)^2","v":9.4759234112596292E-23},{"$f":"(G83-x!G81)^2","v":2.8000270732021517E-22},{"$f":"(H83-x!H81)^2","v":6.7741412014114471E-22},{"$f":"(I83-x!I81)^2","v":1.2868213368149785E-22},{"$f":"(J83-x!J81)^2","v":8.5782042449569318E-22},{"$f":"(K83-x!K81)^2","v":3.7455439212864781E-22},{"$f":"(L83-x!L81)^2","v":2.0073851892168518E-22}]
[6.5999999999644956,37.599999999997742,62.599999999997074,62.800000000012673,11.900000000000842,22.999999999998536,77.09999999996279,51.20000000003877,19.399999999974934,40.400000000022082,76.89999999998841,37.099999999987766,null,{"$f":"(A84-x!A82)^2","v":1.2605371509407311E-21},{"$f":"(B84-x!B82)^2","v":5.1054572914924543E-24},{"$f":"(C84-x!C82)^2","v":8.5698819517334674E-24},{"$f":"(D84-x!D82)^2","v":1.6068306516269341E-22},{"$f":"(E84-x!E82)^2","v":7.0895245096574419E-25},{"$f":"(F84-x!F82)^2","v":2.1424704879333668E-24},{"$f":"(G84-x!G82)^2","v":1.3841389288847406E-21},{"$f":"(H84-x!H82)^2","v":1.5028967001293533E-21},{"$f":"(I84-x!I82)^2","v":6.2822389691340882E-22},{"$f":"(J84-x!J82)^2","v":4.8768840237893247E-22},{"$f":"(K84-x!K82)^2","v":1.3446854832815156E-22},{"$f":"(L84-x!L82)^2","v":1.497085837105525E-22}]
[9.700000000007476,39.600000000020309,95.600000000024735,93.900000000019773,50.300000000008303,83.800000000001958,0.19999999997387938,56.000000000041943,7.4999999999687565,82.200000000059532,92.200000000015365,31.299999999994217,null,{"$f":"(A85-x!A83)^2","v":5.5900832601066719E-23},{"$f":"(B85-x!B83)^2","v":4.1238689581015556E-22},{"$f":"(C85-x!C83)^2","v":6.1212193317330168E-22},{"$f":"(D85-x!D83)^2","v":3.9074610615166376E-22},{"$f":"(E85-x!E83)^2","v":6.8993699039982791E-23},{"$f":"(F85-x!F83)^2","v":3.8459051722314109E-24},{"$f":"(G85-x!G83)^2","v":6.8228749099289149E-22},{"$f":"(H85-x!H83)^2","v":1.7592435767383291E-21},{"$f":"(I85-x!I83)^2","v":9.7615330973472747E-22},{"$f":"(J85-x!J83)^2","v":3.5437340345921942E-21},{"$f":"(K85-x!K83)^2","v":2.3598901459608852E-22},{"$f":"(L85-x!L83)^2","v":3.3452549142772578E-23}]
[58.800000000024752,2.7000000000100983,8.9000000000180695,61.400000000021819,-6.8999999999940798,-26.299999999989009,5.1999999999984592,-6.1999999999807907,89.799999999978596,68.000000000018716,14.100000000039829,55.700000000018299,null,{"$f":"(A86-x!A84)^2","v":6.1282531942172018E-22},{"$f":"(B86-x!B84)^2","v":1.0197252320688908E-22},{"$f":"(C86-x!C84)^2","v":3.2649243878832608E-22},{"$f":"(D86-x!D84)^2","v":4.7614589058793449E-22},{"$f":"(E86-x!E84)^2","v":3.5053472930158962E-23},{"$f":"(F86-x!F84)^2","v":1.2082617715987664E-22},{"$f":"(G86-x!G84)^2","v":2.3746488184189203E-24},{"$f":"(H86-x!H84)^2","v":3.690057685578203E-22},{"$f":"(I86-x!I84)^2","v":4.5802622260066374E-22},{"$f":"(J86-x!J84)^2","v":3.5027726403478721E-22},{"$f":"(K86-x!K84)^2","v":1.5863869236822354E-21},{"$f":"(L86-x!L84)^2","v":3.3476101373958857E-22}]
[58.899999999993788,50.200000000007549,87.700000000034464,58.00000000001998,8.9000000000119499,13.199999999992695,67.299999999969714,70.100000000032253,6.5999999999578494,49.800000000033357,15.700000000030119,6.9999999999993081,null,{"$f":"(A87-x!A85)^2","v":3.8565882421542759E-23},{"$f":"(B87-x!B85)^2","v":5.6941570482437558E-23},{"$f":"(C87-x!C85)^2","v":1.18758276115592E-21},{"$f":"(D87-x!D85)^2","v":3.9921885092697193E-22},{"$f":"(E87-x!E85)^2","v":1.4279180396192035E-22},{"$f":"(F87-x!F85)^2","v":5.3353957303237231E-23},{"$f":"(G87-x!G85)^2","v":9.1708016056687493E-22},{"$f":"(H87-x!H85)^2","v":1.040619867779418E-21},{"$f":"(I87-x!I85)^2","v":1.7766463792108938E-21},{"$f":"(J87-x!J85)^2","v":1.1128883619398012E-21},{"$f":"(K87-x!K85)^2","v":9.0720877171749714E-22},{"$f":"(L87-x!L85)^2","v":4.7871314058522403E-25}]
[51.49999999996006,9.599999999969647,37.399999999963683,98.899999999982995,70.599999999990487,46.499999999994166,39.199999999998617,35.39999999998598,80.80000000001921,30.699999999951658,40.199999999949547,21.399999999984015,null,{"$f":"(A88-x!A86)^2","v":1.5951722214590793E-21},{"$f":"(B88-x!B86)^2","v":9.2128089221883113E-22},{"$f":"(C88-x!C86)^2","v":1.3188401785941662E-21},{"$f":"(D88-x!D86)^2","v":2.8935347321569605E-22},{"$f":"(E88-x!E86)^2","v":9.0384224154015044E-23},{"$f":"(F88-x!F86)^2","v":3.4030373978628865E-23},{"$f":"(G88-x!G86)^2","v":1.9197718989458543E-24},{"$f":"(H88-x!H86)^2","v":1.9653259025408538E-22},{"$f":"(I88-x!I86)^2","v":3.6914227304885974E-22},{"$f":"(J88-x!J86)^2","v":2.3369272128034685E-21},{"$f":"(K88-x!K86)^2","v":2.5457715741379999E-21},{"$f":"(L88-x!L86)^2","v":2.5547734994303048E-22}]
[62.400000000021514,15.600000000011864,44.500000000004434,7.2999999999929113,4.0999999999968271,75.20000000000482,62.700000000010412,94.699999999984698,32.900000000007161,88.699999999990609,23.000000000001901,43.700000000002589,null,{"$f":"(A89-x!A87)^2","v":4.6290529574501949E-22},{"$f":"(B89-x!B87)^2","v":1.4076131385720492E-22},{"$f":"(C89-x!C87)^2","v":1.9658464245205548E-23},{"$f":"(D89-x!D87)^2","v":5.0247568997744353E-23},{"$f":"(E89-x!E87)^2","v":1.006522144012145E-23},{"$f":"(F89-x!F87)^2","v":2.3208111126759398E-23},{"$f":"(G89-x!G87)^2","v":1.0835667176370983E-22},{"$f":"(H89-x!H87)^2","v":2.3424579607861837E-22},{"$f":"(I89-x!I87)^2","v":5.1298122675358857E-23},{"$f":"(J89-x!J87)^2","v":8.8235493265937843E-23},{"$f":"(K89-x!K87)^2","v":3.6126674015501457E-24},{"$f":"(L89-x!L87)^2","v":6.6893385278824435E-24}]
[34.500000000008953,48.799999999983363,9.9999999999900311,19.400000000009921,81.899999999999395,21.599999999995681,94.700000000024559,61.699999999982943,34.500000000032124,43.999999999982649,74.899999999994009,99.800000000006747,null,{"$f":"(A90-x!A88)^2","v":8.0153316680248214E-23},{"$f":"(B90-x!B88)^2","v":2.7668348355363276E-22},{"$f":"(C90-x!C88)^2","v":9.9379257957451944E-23},{"$f":"(D90-x!D88)^2","v":9.8460556858118796E-23},{"$f":"(E90-x!E88)^2","v":3.7340257632093461E-25},{"$f":"(F90-x!F88)^2","v":1.8663262570727687E-23},{"$f":"(G90-x!G88)^2","v":6.0301466655115717E-22},{"$f":"(H90-x!H88)^2","v":2.9104807265785562E-22},{"$f":"(I90-x!I88)^2","v":1.0319280594861736E-21},{"$f":"(J90-x!J88)^2","v":3.0107294228495321E-22},{"$f":"(K90-x!K88)^2","v":3.5963777394016939E-23},{"$f":"(L90-x!L88)^2","v":4.5564605885565642E-23}]
[-20.199999999975415,32.00000000001998,28.299999999999368,96.599999999990189,57.799999999990341,13.600000000007499,15.200000000010565,-13.70000000000943,54.00000000001851,40.400000000008333,49.700000000007101,79.700000000000159,null,{"$f":"(A91-x!A89)^2","v":6.0441134162840736E-22},{"$f":"(B91-x!B89)^2","v":3.9921885092697193E-22},{"$f":"(C91-x!C89)^2","v":3.9990830273636061E-25},{"$f":"(D91-x!D89)^2","v":9.6147629305785272E-23},{"$f":"(E91-x!E89)^2","v":9.32436619197112E-23},{"$f":"(F91-x!F89)^2","v":5.6246678688246473E-23},{"$f":"(G91-x!G89)^2","v":1.1163550585194492E-22},{"$f":"(H91-x!H89)^2","v":8.8937696222998516E-23},{"$f":"(I91-x!I89)^2","v":3.4260670875855466E-22},{"$f":"(J91-x!J89)^2","v":6.9466662173429859E-23},{"$f":"(K91-x!K89)^2","v":5.03861742253744E-23},{"$f":"(L91-x!L89)^2","v":2.4435755400126062E-26}]
[88.899999999976416,37.899999999999537,83.899999999982953,59.499999999996717,73.6000000000044,38.099999999988306,12.100000000007958,17.000000000004277,4.2999999999956264,76.899999999999352,19.699999999975663,63.299999999990334,null,{"$f":"(A92-x!A90)^2","v":5.5648898826931715E-22},{"$f":"(B92-x!B90)^2","v":2.1330798877176159E-25},{"$f":"(C92-x!C90)^2","v":2.9080568410067379E-22},{"$f":"(D92-x!D90)^2","v":1.0776168131455593E-23},{"$f":"(E92-x!E90)^2","v":1.9407240445885244E-23},{"$f":"(F92-x!F90)^2","v":1.3678550222654533E-22},{"$f":"(G92-x!G90)^2","v":6.3331015648591181E-23},{"$f":"(H92-x!H90)^2","v":1.8296726239725796E-23},{"$f":"(I92-x!I90)^2","v":1.9126544803145883E-23},{"$f":"(J92-x!J90)^2","v":4.2732279691460121E-25},{"$f":"(K92-x!K90)^2","v":5.9224521320372682E-22},{"$f":"(L92-x!L90)^2","v":9.338093633899414E-23}]
[98.700000000018633,2.2999999999960328,24.499999999999932,1.3999999999886741,84.80000000000085,39.19999999999277,9.3000000000327159,30.599999999979048,82.100000000027961,93.89999999999327,71.699999999990411,37.20000000000239,null,{"$f":"(A93-x!A91)^2","v":3.4709294179388483E-22},{"$f":"(B93-x!B91)^2","v":1.5737477066952238E-23},{"$f":"(C93-x!C91)^2","v":4.5564605885565642E-27},{"$f":"(D93-x!D91)^2","v":1.2827440623877274E-22},{"$f":"(E93-x!E91)^2","v":7.2701421025168448E-25},{"$f":"(F93-x!F91)^2","v":5.232099127950463E-23},{"$f":"(G93-x!G91)^2","v":1.0702819497389345E-21},{"$f":"(H93-x!H91)^2","v":4.3906614638118122E-22},{"$f":"(I93-x!I91)^2","v":7.8215096795717223E-22},{"$f":"(J93-x!J91)^2","v":4.5372956861807628E-23},{"$f":"(K93-x!K91)^2","v":9.2012735984978817E-23},{"$f":"(L93-x!L91)^2","v":5.6997914083732063E-24}]
[59.200000000008806,13.100000000002385,40.800000000026181,55.900000000029785,39.300000000020269,20.999999999997549,50.900000000014181,18.200000000000596,9.9999999996326194E-2,17.400000000031245,61.600000000012528,66.800000000001745,null,{"$f":"(A94-x!A92)^2","v":7.7503804267762231E-23},{"$f":"(B94-x!B92)^2","v":5.6913127313638909E-24},{"$f":"(C94-x!C92)^2","v":6.8557566244478682E-22},{"$f":"(D94-x!D92)^2","v":8.8720290575140675E-22},{"$f":"(E94-x!E92)^2","v":4.1094523672864606E-22},{"$f":"(F94-x!F92)^2","v":6.0092268316115795E-24},{"$f":"(G94-x!G92)^2","v":2.0114140596319965E-22},{"$f":"(H94-x!H92)^2","v":3.562369630233254E-25},{"$f":"(I94-x!I92)^2","v":1.3496889138918623E-23},{"$f":"(J94-x!J92)^2","v":9.7631981539485337E-22},{"$f":"(K94-x!K92)^2","v":1.5692243269887277E-22},{"$f":"(L94-x!L92)^2","v":3.055277218582704E-24}]
[-17.800000000053092,52.200000000005552,89.999999999983558,36.59999999998729,-79.400000000000816,40.499999999994834,27.999999999955381,28.10000000004273,92.199999999967005,44.500000000013799,-68.600000000026625,85.399999999976188,null,{"$f":"(A95-x!A93)^2","v":2.8187342595480821E-21},{"$f":"(B95-x!B93)^2","v":3.0795160743008869E-23},{"$f":"(C95-x!C93)^2","v":2.7033801264977977E-22},{"$f":"(D95-x!D93)^2","v":1.6158501716728691E-22},{"$f":"(E95-x!E93)^2","v":6.5613032475214524E-25},{"$f":"(F95-x!F93)^2","v":2.6683895384035594E-23},{"$f":"(G95-x!G93)^2","v":1.9908133168127226E-21},{"$f":"(H95-x!H93)^2","v":1.8257236367681411E-21},{"$f":"(I95-x!I93)^2","v":1.0888419125518453E-21},{"$f":"(J95-x!J93)^2","v":1.904052236133079E-22},{"$f":"(K95-x!K93)^2","v":7.0921771017829019E-22},{"$f":"(L95-x!L93)^2","v":5.672681856266488E-22}]
[20.299999999968843,49.29999999998509,74.899999999975691,62.499999999977575,39.39999999999597,11.599999999992605,90.799999999992636,93.900000000007267,11.0000000000142,75.19999999997664,42.899999999965019,48.899999999981844,null,{"$f":"(A96-x!A94)^2","v":9.7077727867477054E-22},{"$f":"(B96-x!B94)^2","v":2.2222421221532329E-22},{"$f":"(C96-x!C94)^2","v":5.9120815772506156E-22},{"$f":"(D96-x!D94)^2","v":5.0286845908898764E-22},{"$f":"(E96-x!E94)^2","v":1.6231046627750263E-23},{"$f":"(F96-x!F94)^2","v":5.4685633397340821E-23},{"$f":"(G96-x!G94)^2","v":5.418760026432583E-23},{"$f":"(H96-x!H94)^2","v":5.2732965998647251E-23},{"$f":"(I96-x!I94)^2","v":2.0164558274494451E-22},{"$f":"(J96-x!J94)^2","v":5.4581318848855464E-22},{"$f":"(K96-x!K94)^2","v":1.223601720947979E-21},{"$f":"(L96-x!L94)^2","v":3.2958103749154532E-22}]
[63.399999999944271,68.799999999972613,18.099999999975285,94.500000000011084,-35.699999999997679,52.899999999987344,9.5999999999926438,1.0000000000058868,39.100000000011292,79.499999999989853,83.299999999971178,90.299999999991556,null,{"$f":"(A97-x!A95)^2","v":3.1055951342516715E-21},{"$f":"(B97-x!B95)^2","v":7.4990081953879924E-22},{"$f":"(C97-x!C95)^2","v":6.1089197911520453E-22},{"$f":"(D97-x!D95)^2","v":1.2286540153253468E-22},{"$f":"(E97-x!E95)^2","v":5.3985348950001646E-24},{"$f":"(F97-x!F95)^2","v":1.6014310565028773E-22},{"$f":"(G97-x!G95)^2","v":5.4109171713128757E-23},{"$f":"(H97-x!H95)^2","v":3.4654962488946653E-23},{"$f":"(I97-x!I95)^2","v":1.2747593380297871E-22},{"$f":"(J97-x!J95)^2","v":1.0295248231374104E-22},{"$f":"(K97-x!K95)^2","v":8.3057011435993442E-22},{"$f":"(L97-x!L95)^2","v":7.1254662746767596E-23}]
[18.600000000014326,60.300000000023189,82.699999999991647,51.799999999994611,90.199999999995612,80.000000000014481,9.4999999999956621,49.799999999999478,43.399999999991479,32.899999999995984,89.60000000001493,15.400000000005898,null,{"$f":"(A98-x!A96)^2","v":2.0519249070143543E-22},{"$f":"(B98-x!B96)^2","v":5.3787419331260625E-22},{"$f":"(C98-x!C96)^2","v":6.9822444752571777E-23},{"$f":"(D98-x!D96)^2","v":2.9008068937433947E-23},{"$f":"(E98-x!E96)^2","v":1.9282234391400302E-23},{"$f":"(F98-x!F96)^2","v":2.0969533399198593E-22},{"$f":"(G98-x!G96)^2","v":1.8817058892809575E-23},{"$f":"(H98-x!H96)^2","v":2.690457448910574E-25},{"$f":"(I98-x!I96)^2","v":7.2580302477224435E-23},{"$f":"(J98-x!J96)^2","v":1.611674383802736E-23},{"$f":"(K98-x!K96)^2","v":2.2307239546061692E-22},{"$f":"(L98-x!L96)^2","v":3.4780561766832322E-23}]
[15.199999999994438,17.499999999988919,96.599999999984931,96.899999999970362,39.599999999997166,43.099999999993216,44.800000000021264,29.999999999974658,48.900000000022594,70.799999999962708,41.099999999980369,43.499999999998252,null,{"$f":"(A99-x!A97)^2","v":3.0933321841949277E-23},{"$f":"(B99-x!B97)^2","v":1.2278665428153189E-22},{"$f":"(C99-x!C97)^2","v":2.2690921295522019E-22},{"$f":"(D99-x!D97)^2","v":8.7875742400898301E-22},{"$f":"(E99-x!E97)^2","v":8.0375964782137792E-24},{"$f":"(F99-x!F97)^2","v":4.6045495493388371E-23},{"$f":"(G99-x!G97)^2","v":4.5226589716186749E-22},{"$f":"(H99-x!H97)^2","v":6.4219196035045691E-22},{"$f":"(I99-x!I97)^2","v":5.1054572914924543E-22},{"$f":"(J99-x!J97)^2","v":1.3904906097016395E-21},{"$f":"(K99-x!K97)^2","v":3.8542703794881193E-22},{"$f":"(L99-x!L97)^2","v":3.055277218582704E-24}]
[7.5000000000326965,49.90000000000704,37.000000000031719,85.600000000000605,27.999999999990813,7.1999999999933664,81.899999999997434,71.20000000000725,58.999999999991402,4.2000000000332092,8.6000000000098176,37.099999999995191,null,{"$f":"(A100-x!A98)^2","v":1.0690619077181115E-21},{"$f":"(B100-x!B98)^2","v":4.9582419626262816E-23},{"$f":"(C100-x!C98)^2","v":1.0060713447146911E-21},{"$f":"(D100-x!D98)^2","v":3.7340257632093461E-25},{"$f":"(E100-x!E98)^2","v":8.4406804194101975E-23},{"$f":"(F100-x!F98)^2","v":4.4007363693084061E-23},{"$f":"(G100-x!G98)^2","v":6.6160312616820653E-24},{"$f":"(H100-x!H98)^2","v":5.2526776690684204E-23},{"$f":"(I100-x!I98)^2","v":7.3918160085381337E-23},{"$f":"(J100-x!J98)^2","v":1.1028370907159277E-21},{"$f":"(K100-x!K98)^2","v":9.6391636605544615E-23},{"$f":"(L100-x!L98)^2","v":2.3139701109058632E-23}]
[79.599999999995575,39.000000000005372,2.500000000018324,27.199999999983508,56.999999999997442,59.499999999998913,54.099999999973043,76.600000000014248,20.699999999976765,14.700000000025742,94.200000000002916,40.599999999984846,null,{"$f":"(A101-x!A99)^2","v":1.953265039715366E-23},{"$f":"(B101-x!B99)^2","v":2.8855194004889357E-23},{"$f":"(C101-x!C99)^2","v":3.3576930498306676E-22},{"$f":"(D101-x!D99)^2","v":2.719760665422531E-22},{"$f":"(E101-x!E99)^2","v":6.5431278922651603E-24},{"$f":"(F101-x!F99)^2","v":1.1818524755403946E-24},{"$f":"(G101-x!G99)^2","v":7.267333000387789E-22},{"$f":"(H101-x!H99)^2","v":2.0316189962252413E-22},{"$f":"(I101-x!I99)^2","v":5.3985348950001646E-22},{"$f":"(J101-x!J99)^2","v":6.6270016031921757E-22},{"$f":"(K101-x!K99)^2","v":8.4868811627297334E-24},{"$f":"(L101-x!L99)^2","v":2.2970059411290112E-22}]
[65.199999999998838,69.899999999981446,84.399999999989888,49.099999999982074,51.599999999997266,71.499999999995993,11.000000000014429,75.499999999974293,9.9000000000283777,66.699999999975276,-78.800000000027367,78.899999999995956,null,{"$f":"(A102-x!A100)^2","v":1.3579009860367573E-24},{"$f":"(B102-x!B100)^2","v":3.444504470880117E-22},{"$f":"(C102-x!C100)^2","v":1.0237652550050832E-22},{"$f":"(D102-x!D100)^2","v":3.2137708602563853E-22},{"$f":"(E102-x!E100)^2","v":7.4834500912886064E-24},{"$f":"(F102-x!F100)^2","v":1.605974390445971E-23},{"$f":"(G102-x!G100)^2","v":2.0820604348901918E-22},{"$f":"(H102-x!H100)^2","v":6.6087227493851186E-22},{"$f":"(I102-x!I100)^2","v":8.052711842018719E-22},{"$f":"(J102-x!J100)^2","v":6.1141895082166665E-22},{"$f":"(K102-x!K100)^2","v":7.491227123854382E-22},{"$f":"(L102-x!L100)^2","v":1.6403258118803631E-23}]
[]
[null,null,null,null,null,null,null,null,null,null,null,null,null,{"$f":"SQRT(SUM(N3:N102)/100)","v":3.0699211664236014E-11},{"$f":"SQRT(SUM(O3:O102)/100)","v":2.4963258182355973E-11},{"$f":"SQRT(SUM(P3:P102)/100)","v":2.4729702634202E-11},1.8606539154204703E-11,9.7831073397370179E-12,1.4736995595679813E-11,3.839924310332589E-11,2.7689158924516844E-11,3.0939010676851912E-11,3.3484315307181178E-11,2.8640014706206675E-11,1.4560837800373926E-11]

{"sheet":"SP","index":8,"n_rows":104,"n_cols":25,"rows_kept":104,"cut":false,"hidden":false,"merged":[[0,0,0,11],[0,13,0,24]]}
["Solution Vectors, x, for Each Input b Vector Using Excel Minverse",null,null,null,null,null,null,null,null,null,null,null,null,"Square of the Error for Each Solution Value in Each x Solution Using Excel Minverse"]
["x1","x2","x3","x4","x5","x6","x7","x8","x9","x10","x11","x12",null,"Esqd1","Esqd2","Esqd3","Esqd4","Esqd5","Esqd6","Esqd7","Esqd8","Esqd9","Esqd10","Esqd11","Esqd12"]
[{"$f":"gaussianSP(A,b)","v":32.397022247314453},80.10064697265625,63.193737030029297,84.092918395996094,92.399078369140625,63.699005126953125,14.698295593261719,39.896953582763672,48.899864196777344,26.39600944519043,79.996070861816406,65.191307067871094,null,{"$f":"(A3-x!A1)^2","v":8.8670110562731625E-6},{"$f":"(B3-x!B1)^2","v":4.1857361794253587E-7},{"$f":"(C3-x!C1)^2","v":3.9224792853964701E-5},{"$f":"(D3-x!D1)^2","v":5.0149115268060522E-5},{"$f":"(E3-x!E1)^2","v":8.4940344096277879E-7},{"$f":"(F3-x!F1)^2","v":9.8977237940400115E-7},{"$f":"(G3-x!G1)^2","v":2.9050023294961072E-6},{"$f":"(H3-x!H1)^2","v":9.2806579777884321E-6},{"$f":"(I3-x!I1)^2","v":1.8442515283437036E-8},{"$f":"(J3-x!J1)^2","v":1.5924527688173412E-5},{"$f":"(K3-x!K1)^2","v":1.5438126865774393E-5},{"$f":"(L3-x!L1)^2","v":7.5567068997819966E-5}]
[5.1025562286376953,15.997689247131348,58.503139495849609,77.805908203125,34.599437713623047,52.000480651855469,84.50018310546875,56.901737213134766,50.698322296142578,58.901405334472656,96.402633666992188,75.405250549316406,null,{"$f":"(A4-x!A2)^2","v":6.5343048481754494E-6},{"$f":"(B4-x!B2)^2","v":5.3395788199850358E-6},{"$f":"(C4-x!C2)^2","v":9.8564341897144914E-6},{"$f":"(D4-x!D2)^2","v":3.4906864166293348E-5},{"$f":"(E4-x!E2)^2","v":3.161659697086699E-7},{"$f":"(F4-x!F2)^2","v":2.3102620616555214E-7},{"$f":"(G4-x!G2)^2","v":3.3527612686157227E-8},{"$f":"(H4-x!H2)^2","v":3.017909475607147E-6},{"$f":"(I4-x!I2)^2","v":2.8146902332177755E-6},{"$f":"(J4-x!J2)^2","v":1.9749649800400144E-6},{"$f":"(K4-x!K2)^2","v":6.9362018257080119E-6},{"$f":"(L4-x!L2)^2","v":2.7568268123954447E-5}]
[64.800270080566406,92.198196411132812,85.498809814453125,73.299003601074219,85.49798583984375,34.796981811523438,-18.8997802734375,14.400124549865723,53.297382354736328,76.796501159667969,68.099174499511719,34.200702667236328,null,{"$f":"(A5-x!A3)^2","v":7.2943512351856042E-8},{"$f":"(B5-x!B3)^2","v":3.2529328018529415E-6},{"$f":"(C5-x!C3)^2","v":1.4165416359901428E-6},{"$f":"(D5-x!D3)^2","v":9.9281081929236508E-7},{"$f":"(E5-x!E3)^2","v":4.0568411350250244E-6},{"$f":"(F5-x!F3)^2","v":9.109461680037508E-6},{"$f":"(G5-x!G3)^2","v":4.8279762267441908E-8},{"$f":"(H5-x!H3)^2","v":1.5512669051443204E-8},{"$f":"(I5-x!I3)^2","v":6.8520667264089202E-6},{"$f":"(J5-x!J3)^2","v":1.2241883669028659E-5},{"$f":"(K5-x!K3)^2","v":6.8145105614319735E-7},{"$f":"(L5-x!L3)^2","v":4.9374124500501088E-7}]
[3.9989144802093506,25.598487854003906,74.199310302734375,63.700130462646484,87.696800231933594,86.495635986328125,84.002593994140625,24.998899459838867,68.699356079101563,74.60040283203125,50.002811431884766,95.006591796875,null,{"$f":"(A6-x!A4)^2","v":1.1783532158915477E-6},{"$f":"(B6-x!B4)^2","v":2.2865855135066571E-6},{"$f":"(C6-x!C4)^2","v":4.7568231821452229E-7},{"$f":"(D6-x!D4)^2","v":1.7020502126965409E-8},{"$f":"(E6-x!E4)^2","v":1.023851567881138E-5},{"$f":"(F6-x!F4)^2","v":1.904461532831192E-5},{"$f":"(G6-x!G4)^2","v":6.7288056015968323E-6},{"$f":"(H6-x!H4)^2","v":1.2111886462662369E-6},{"$f":"(I6-x!I4)^2","v":4.1463412344821746E-7},{"$f":"(J6-x!J4)^2","v":1.6227364540558065E-7},{"$f":"(K6-x!K4)^2","v":7.9041492426767945E-6},{"$f":"(L6-x!L4)^2","v":4.3451786041259766E-5}]
[39.905601501464844,83.202651977539062,9.9049549102783203,23.701450347900391,58.403194427490234,95.898193359375,23.197711944580078,64.398780822753906,80.90435791015625,26.605186462402344,-10.09666919708252,-16.794822692871094,null,{"$f":"(A7-x!A5)^2","v":3.1376818660662595E-5},{"$f":"(B7-x!B5)^2","v":7.0329848676769188E-6},{"$f":"(C7-x!C5)^2","v":2.4551135866200756E-5},{"$f":"(D7-x!D5)^2","v":2.1035090321695552E-6},{"$f":"(E7-x!E5)^2","v":1.0204366990374167E-5},{"$f":"(F7-x!F5)^2","v":3.2639503479209298E-6},{"$f":"(G7-x!G5)^2","v":5.2351976046306165E-6},{"$f":"(H7-x!H5)^2","v":1.4863931574066007E-6},{"$f":"(I7-x!I5)^2","v":1.8991380929897355E-5},{"$f":"(J7-x!J5)^2","v":2.6899392250910563E-5},{"$f":"(K7-x!K5)^2","v":1.1094248075094036E-5},{"$f":"(L7-x!L5)^2","v":2.6804509107030834E-5}]
[60.098194122314453,34.202804565429688,44.204662322998047,39.104633331298828,71.001960754394531,3.2033522129058838,13.700924873352051,88.199676513671875,71.205284118652344,78.706863403320312,21.803901672363281,99.109626770019531,null,{"$f":"(A8-x!A6)^2","v":3.2611942151612705E-6},{"$f":"(B8-x!B6)^2","v":7.8655872493822892E-6},{"$f":"(C8-x!C6)^2","v":2.17372557380903E-5},{"$f":"(D8-x!D6)^2","v":2.1467758924687152E-5},{"$f":"(E8-x!E6)^2","v":3.8445577956736088E-6},{"$f":"(F8-x!F6)^2","v":1.1237331366372646E-5},{"$f":"(G8-x!G6)^2","v":8.5539071733496267E-7},{"$f":"(H8-x!H6)^2","v":1.0464340448563397E-7},{"$f":"(I8-x!I6)^2","v":2.7921909932017093E-5},{"$f":"(J8-x!J6)^2","v":4.7106305137237634E-5},{"$f":"(K8-x!K6)^2","v":1.5223047230387149E-5},{"$f":"(L8-x!L6)^2","v":9.2674701009055153E-5}]
[-46.099666595458984,96.899757385253906,1.8990864753723145,87.998069763183594,85.100624084472656,43.400009155273437,86.499160766601563,28.401111602783203,64.49615478515625,36.797950744628906,42.899433135986328,76.39697265625,null,{"$f":"(A9-x!A7)^2","v":1.1115858797078717E-7},{"$f":"(B9-x!B7)^2","v":5.8861915024892992E-8},{"$f":"(C9-x!C7)^2","v":8.3452724538785475E-7},{"$f":"(D9-x!D7)^2","v":3.7258141674101353E-6},{"$f":"(E9-x!E7)^2","v":3.8948142901772465E-7},{"$f":"(F9-x!F7)^2","v":8.3819031741413916E-11},{"$f":"(G9-x!G7)^2","v":7.0431269705295563E-7},{"$f":"(H9-x!H7)^2","v":1.235660747628093E-6},{"$f":"(I9-x!I7)^2","v":1.4785677194595337E-5},{"$f":"(J9-x!J7)^2","v":4.1994475759449342E-6},{"$f":"(K9-x!K7)^2","v":3.2133480999457656E-7},{"$f":"(L9-x!L7)^2","v":9.1648101806984786E-6}]
[67.10382080078125,79.200889587402344,3.4001433849334717,43.900703430175781,3.6032061576843262,15.902700424194336,30.397556304931641,68.099044799804687,9.8995704650878906,6.5004673004150391,89.197074890136719,56.998172760009766,null,{"$f":"(A10-x!A8)^2","v":1.4598518610044047E-5},{"$f":"(B10-x!B8)^2","v":7.9136574640364423E-7},{"$f":"(C10-x!C8)^2","v":2.0559239146703482E-8},{"$f":"(D10-x!D8)^2","v":4.9481401220163949E-7},{"$f":"(E10-x!E8)^2","v":1.0279447096763191E-5},{"$f":"(F10-x!F8)^2","v":7.2922908293529782E-6},{"$f":"(G10-x!G8)^2","v":5.9716455871169854E-6},{"$f":"(H10-x!H8)^2","v":9.1240741311417881E-7},{"$f":"(I10-x!I8)^2","v":1.8450024072111371E-7},{"$f":"(J10-x!J8)^2","v":2.1836967789568007E-7},{"$f":"(K10-x!K8)^2","v":8.5562677122818802E-6},{"$f":"(L10-x!L8)^2","v":3.3388059819117188E-6}]
[61.297054290771484,72.098678588867188,67.296836853027344,39.797817230224609,96.101264953613281,98.802253723144531,19.70081901550293,90.604957580566406,74.396583557128906,27.394899368286133,51.797222137451172,62.892063140869141,null,{"$f":"(A11-x!A9)^2","v":8.677202858945374E-6},{"$f":"(B11-x!B9)^2","v":1.7461273819057918E-6},{"$f":"(C11-x!C9)^2","v":1.0005498770606419E-5},{"$f":"(D11-x!D9)^2","v":4.7644838923464317E-6},{"$f":"(E11-x!E9)^2","v":1.6001076437676711E-6},{"$f":"(F11-x!F9)^2","v":5.0792680122086363E-6},{"$f":"(G11-x!G9)^2","v":6.7078639404033283E-7},{"$f":"(H11-x!H9)^2","v":2.4577605072465275E-5},{"$f":"(I11-x!I9)^2","v":1.1672081891486145E-5},{"$f":"(J11-x!J9)^2","v":2.6016443880493227E-5},{"$f":"(K11-x!K9)^2","v":7.7165203401660966E-6},{"$f":"(L11-x!L9)^2","v":6.2993732863083273E-5}]
[9.6012334823608398,18.500221252441406,8.8013496398925781,85.799156188964844,70.299980163574219,21.398475646972656,24.501440048217773,63.099777221679687,8.8003520965576172,80.303611755371094,32.403282165527344,67.106086730957031,null,{"$f":"(A12-x!A10)^2","v":1.521478734503911E-6},{"$f":"(B12-x!B10)^2","v":4.8952642828226089E-8},{"$f":"(C12-x!C10)^2","v":1.8215278396363749E-6},{"$f":"(D12-x!D10)^2","v":7.1201706304666567E-7},{"$f":"(E12-x!E10)^2","v":3.9348378766228264E-10},{"$f":"(F12-x!F10)^2","v":2.3236521519677229E-6},{"$f":"(G12-x!G10)^2","v":2.0737388695124537E-6},{"$f":"(H12-x!H10)^2","v":4.9630180001892026E-8},{"$f":"(I12-x!I10)^2","v":1.2397198588537306E-7},{"$f":"(J12-x!J10)^2","v":1.3044776860645082E-5},{"$f":"(K12-x!K10)^2","v":1.0772610548893005E-5},{"$f":"(L12-x!L10)^2","v":3.7048293743351754E-5}]
[61.299201965332031,81.09906005859375,85.2991943359375,9.0999689102172852,63.899383544921875,69.100395202636719,11.698892593383789,73.499000549316406,67.599845886230469,70.297897338867188,19.898645401000977,30.700113296508789,null,{"$f":"(A13-x!A11)^2","v":6.3685933127545676E-7},{"$f":"(B13-x!B11)^2","v":8.8348984717254168E-7},{"$f":"(C13-x!C11)^2","v":6.4909458159942424E-7},{"$f":"(D13-x!D11)^2","v":9.6657458923410652E-10},{"$f":"(E13-x!E11)^2","v":3.8001686334434778E-7},{"$f":"(F13-x!F11)^2","v":1.5618512407394523E-7},{"$f":"(G13-x!G11)^2","v":1.226349413626185E-6},{"$f":"(H13-x!H11)^2","v":9.9890166893601418E-7},{"$f":"(I13-x!I11)^2","v":2.3751053957379171E-8},{"$f":"(J13-x!J11)^2","v":4.4211838394283933E-6},{"$f":"(K13-x!K11)^2","v":1.8349384481514488E-6},{"$f":"(L13-x!L11)^2","v":1.2836098903951121E-8}]
[93.999412536621094,46.901576995849609,19.401483535766602,58.199714660644531,-71.402610778808594,80.50286865234375,77.799911499023437,70.20001220703125,82.001213073730469,59.599605560302734,67.599372863769531,74.299163818359375,null,{"$f":"(A14-x!A12)^2","v":3.4511322155594826E-7},{"$f":"(B14-x!B12)^2","v":2.4869159096896765E-6},{"$f":"(C14-x!C12)^2","v":2.2008783707903021E-6},{"$f":"(D14-x!D12)^2","v":8.1418547780943632E-8},{"$f":"(E14-x!E12)^2","v":6.8161659873725196E-6},{"$f":"(F14-x!F12)^2","v":8.2291662693023682E-6},{"$f":"(G14-x!G12)^2","v":7.8324228520131047E-9},{"$f":"(H14-x!H12)^2","v":1.4901161186908762E-10},{"$f":"(I14-x!I12)^2","v":1.4715478755533695E-6},{"$f":"(J14-x!J12)^2","v":1.5558267478011897E-7},{"$f":"(K14-x!K12)^2","v":3.9329985155942338E-7},{"$f":"(L14-x!L12)^2","v":6.9919973611356352E-7}]
[66.896064758300781,51.300045013427734,9.5983123779296875,20.797079086303711,15.597603797912598,37.401165008544922,0.40161457657814026,78.498390197753906,11.003376960754395,63.898807525634766,79.897415161132812,81.599838256835938,null,{"$f":"(A15-x!A13)^2","v":1.5486127231314813E-5},{"$f":"(B15-x!B13)^2","v":2.0262086766536724E-9},{"$f":"(C15-x!C13)^2","v":2.8480682522046494E-6},{"$f":"(D15-x!D13)^2","v":8.531736821173184E-6},{"$f":"(E15-x!E13)^2","v":5.7417844436696467E-6},{"$f":"(F15-x!F13)^2","v":1.3572449097442955E-6},{"$f":"(G15-x!G13)^2","v":2.6068575266790357E-6},{"$f":"(H15-x!H13)^2","v":2.5914632715284824E-6},{"$f":"(I15-x!I13)^2","v":1.1403863936720882E-5},{"$f":"(J15-x!J13)^2","v":1.4219951117377363E-6},{"$f":"(K15-x!K13)^2","v":6.6813919693525445E-6},{"$f":"(L15-x!L13)^2","v":2.6160851119109985E-8}]
[31.800931930541992,97.399063110351563,57.699321746826172,5.0003337860107422,11.197263717651367,87.900367736816406,6.1996817588806152,47.601459503173828,53.794658660888672,95.594352722167969,88.100028991699219,70.398323059082031,null,{"$f":"(A16-x!A14)^2","v":8.6849453509652798E-7},{"$f":"(B16-x!B14)^2","v":8.7776221335999358E-7},{"$f":"(C16-x!C14)^2","v":4.6002736781178018E-7},{"$f":"(D16-x!D14)^2","v":1.1141310096718371E-7},{"$f":"(E16-x!E14)^2","v":7.4872410914356123E-6},{"$f":"(F16-x!F14)^2","v":1.3523036613642334E-7},{"$f":"(G16-x!G14)^2","v":1.0127741006738172E-7},{"$f":"(H16-x!H14)^2","v":2.1301495144102219E-6},{"$f":"(I16-x!I14)^2","v":2.8529903502173164E-5},{"$f":"(J16-x!J14)^2","v":3.1891746912087372E-5},{"$f":"(K16-x!K14)^2","v":8.4051862392006679E-10},{"$f":"(L16-x!L14)^2","v":2.8121308423769386E-6}]
[94.897987365722656,54.098522186279297,95.697334289550781,7.2960023880004883,8.5003442764282227,69.100273132324219,72.696556091308594,53.802791595458984,61.0008544921875,42.496929168701172,40.398384094238281,86.694534301757812,null,{"$f":"(A17-x!A15)^2","v":4.0506967343618798E-6},{"$f":"(B17-x!B15)^2","v":2.1839333931026141E-6},{"$f":"(C17-x!C15)^2","v":7.1060121990891825E-6},{"$f":"(D17-x!D15)^2","v":1.5980901698638661E-5},{"$f":"(E17-x!E15)^2","v":1.1852625902974978E-7},{"$f":"(F17-x!F15)^2","v":7.4601266536241517E-8},{"$f":"(G17-x!G15)^2","v":1.1860507074763085E-5},{"$f":"(H17-x!H15)^2","v":7.7930052066380515E-6},{"$f":"(I17-x!I15)^2","v":7.3015689849853516E-7},{"$f":"(J17-x!J15)^2","v":9.4300048658624291E-6},{"$f":"(K17-x!K15)^2","v":2.6111514307512609E-6},{"$f":"(L17-x!L15)^2","v":2.9873857274682598E-5}]
[66.295097351074219,75.299247741699219,-86.202285766601563,56.498920440673828,97.499320983886719,85.700584411621094,22.50048828125,22.799196243286133,34.800910949707031,36.499767303466797,99.89862060546875,21.398603439331055,null,{"$f":"(A18-x!A16)^2","v":2.4035966489436178E-5},{"$f":"(B18-x!B16)^2","v":5.6589255109001751E-7},{"$f":"(C18-x!C16)^2","v":5.2247289568055873E-6},{"$f":"(D18-x!D16)^2","v":1.1654483387246728E-6},{"$f":"(E18-x!E16)^2","v":4.6106288209557533E-7},{"$f":"(F18-x!F16)^2","v":3.4153694286610283E-7},{"$f":"(G18-x!G16)^2","v":2.384185791015625E-7},{"$f":"(H18-x!H16)^2","v":6.4602485508772211E-7},{"$f":"(I18-x!I16)^2","v":8.2982936874549836E-7},{"$f":"(J18-x!J16)^2","v":5.4147676564753056E-8},{"$f":"(K18-x!K16)^2","v":1.9027292728580892E-6},{"$f":"(L18-x!L16)^2","v":1.9503817020410094E-6}]
[53.299583435058594,74.899063110351563,30.597074508666992,30.996929168701172,13.000011444091797,46.601085662841797,98.299186706542969,50.803211212158203,61.001235961914063,7.8974370956420898,69.999664306640625,16.196552276611328,null,{"$f":"(A19-x!A17)^2","v":1.7352635040642461E-7},{"$f":"(B19-x!B17)^2","v":8.7776221335999358E-7},{"$f":"(C19-x!C17)^2","v":8.558499539512142E-6},{"$f":"(D19-x!D17)^2","v":9.4300048658624291E-6},{"$f":"(E19-x!E17)^2","v":1.3096723705530167E-10},{"$f":"(F19-x!F17)^2","v":1.1786638060553807E-6},{"$f":"(G19-x!G17)^2","v":6.6144624724521866E-7},{"$f":"(H19-x!H17)^2","v":1.0311883525009825E-5},{"$f":"(I19-x!I17)^2","v":1.5276018530130386E-6},{"$f":"(J19-x!J17)^2","v":6.5684787477966912E-6},{"$f":"(K19-x!K17)^2","v":1.126900315284729E-7},{"$f":"(L19-x!L17)^2","v":1.1886796564790177E-5}]
[16.899072647094727,18.99943733215332,8.7979555130004883,22.799165725708008,64.497604370117187,67.900787353515625,75.401084899902344,29.599340438842773,33.701004028320312,42.399154663085938,21.699426651000977,72.199630737304688,null,{"$f":"(A20-x!A18)^2","v":8.599834109164494E-7},{"$f":"(B20-x!B18)^2","v":3.1659510568715632E-7},{"$f":"(C20-x!C18)^2","v":4.1799270911753364E-6},{"$f":"(D20-x!D18)^2","v":6.9601359428025129E-7},{"$f":"(E20-x!E18)^2","v":5.7390425354242325E-6},{"$f":"(F20-x!F18)^2","v":6.1992555855809598E-7},{"$f":"(G20-x!G18)^2","v":1.1770077980931444E-6},{"$f":"(H20-x!H18)^2","v":4.3502092012391689E-7},{"$f":"(I20-x!I18)^2","v":1.0080728679838329E-6},{"$f":"(J20-x!J18)^2","v":7.1459449827430787E-7},{"$f":"(K20-x!K18)^2","v":3.2872907468036294E-7},{"$f":"(L20-x!L18)^2","v":1.3635493815155123E-7}]
[75.996803283691406,0.3979911208152771,85.396934509277344,33.295143127441406,59.197216033935547,99.60198974609375,36.298110961914063,37.398998260498047,39.302665710449219,82.994415283203125,83.395469665527344,86.4925537109375,null,{"$f":"(A21-x!A19)^2","v":1.0218995157629251E-5},{"$f":"(B21-x!B19)^2","v":4.0355955788130345E-6},{"$f":"(C21-x!C19)^2","v":9.3972333707263876E-6},{"$f":"(D21-x!D19)^2","v":2.3589211050393393E-5},{"$f":"(E21-x!E19)^2","v":7.7504670480424462E-6},{"$f":"(F21-x!F19)^2","v":3.9590895176160046E-6},{"$f":"(G21-x!G19)^2","v":3.5684648901116755E-6},{"$f":"(H21-x!H19)^2","v":1.0034820297704478E-6},{"$f":"(I21-x!I19)^2","v":7.1060121990891825E-6},{"$f":"(J21-x!J19)^2","v":3.118906170129776E-5},{"$f":"(K21-x!K19)^2","v":2.0523930434189086E-5},{"$f":"(L21-x!L19)^2","v":5.5447220802307129E-5}]
[98.596839904785156,-94.600700378417969,74.899070739746094,91.198844909667969,0.70020067691802979,8.9004268646240234,34.100601196289063,25.300846099853516,77.800186157226562,24.199197769165039,18.197334289550781,88.1978759765625,null,{"$f":"(A22-x!A20)^2","v":9.9862017668424395E-6},{"$f":"(B22-x!B20)^2","v":4.9052992836437149E-7},{"$f":"(C22-x!C20)^2","v":8.6352461950047272E-7},{"$f":"(D22-x!D20)^2","v":1.3342336751586293E-6},{"$f":"(E22-x!E20)^2","v":4.0271225429950932E-8},{"$f":"(F22-x!F20)^2","v":1.8221340724236735E-7},{"$f":"(G22-x!G20)^2","v":3.6143697798081236E-7},{"$f":"(H22-x!H20)^2","v":7.1588496211795969E-7},{"$f":"(I22-x!I20)^2","v":3.4654513002500139E-8},{"$f":"(J22-x!J20)^2","v":6.4357431256098289E-7},{"$f":"(K22-x!K20)^2","v":7.106012199070242E-6},{"$f":"(L22-x!L20)^2","v":4.5114755630613899E-6}]
[33.797550201416016,85.197532653808594,11.595043182373047,73.794845581054687,91.399276733398438,60.500343322753906,41.796237945556641,15.401795387268066,3.7012488842010498,52.393585205078125,30.393178939819336,87.388015747070313,null,{"$f":"(A23-x!A21)^2","v":6.0015131020779232E-6},{"$f":"(B23-x!B21)^2","v":6.0877972282609523E-6},{"$f":"(C23-x!C21)^2","v":2.4570040986869687E-5},{"$f":"(D23-x!D21)^2","v":2.6568034663767127E-5},{"$f":"(E23-x!E21)^2","v":5.2311457694399075E-7},{"$f":"(F23-x!F21)^2","v":1.178705133497715E-7},{"$f":"(G23-x!G21)^2","v":1.4153053634778632E-5},{"$f":"(H23-x!H21)^2","v":3.2234154423336779E-6},{"$f":"(I23-x!I21)^2","v":1.5597117476313652E-6},{"$f":"(J23-x!J21)^2","v":4.1149593889695053E-5},{"$f":"(K23-x!K21)^2","v":4.6526861988221464E-5},{"$f":"(L23-x!L21)^2","v":1.4362231828285966E-4}]
[66.402664184570313,5.1023750305175781,51.303695678710937,33.802352905273438,92.903778076171875,13.099604606628418,1.1019879579544067,4.7987422943115234,12.700141906738281,56.005496978759766,7.5042243003845215,68.505271911621094,null,{"$f":"(A24-x!A22)^2","v":7.097879424660912E-6},{"$f":"(B24-x!B22)^2","v":5.6407699594291037E-6},{"$f":"(C24-x!C22)^2","v":1.3658041134497669E-5},{"$f":"(D24-x!D22)^2","v":5.5361632257833712E-6},{"$f":"(E24-x!E22)^2","v":1.4273859560446702E-5},{"$f":"(F24-x!F22)^2","v":1.5633591829072529E-7},{"$f":"(G24-x!G22)^2","v":3.9519768284886701E-6},{"$f":"(H24-x!H22)^2","v":1.5818235988258572E-6},{"$f":"(I24-x!I22)^2","v":2.0137522369824846E-8},{"$f":"(J24-x!J22)^2","v":3.0216775485314429E-5},{"$f":"(K24-x!K22)^2","v":1.7844713738668361E-5},{"$f":"(L24-x!L22)^2","v":2.7793052140623331E-5}]
[88.600967407226563,60.600818634033203,9.6991682052612305,50.196674346923828,69.500595092773438,12.701249122619629,80.900222778320312,85.200653076171875,15.299450874328613,47.701141357421875,75.197067260742187,82.594825744628906,null,{"$f":"(A25-x!A23)^2","v":9.3587674201634639E-7},{"$f":"(B25-x!B23)^2","v":6.7016168031608842E-7},{"$f":"(C25-x!C23)^2","v":6.9188248744349067E-7},{"$f":"(D25-x!D23)^2","v":1.1059968383070359E-5},{"$f":"(E25-x!E23)^2","v":3.5413540899753571E-7},{"$f":"(F25-x!F23)^2","v":1.5603073188703564E-6},{"$f":"(G25-x!G23)^2","v":4.9630179998726155E-8},{"$f":"(H25-x!H23)^2","v":4.2650848626719224E-7},{"$f":"(I25-x!I23)^2","v":3.0153900297669497E-7},{"$f":"(J25-x!J23)^2","v":1.3026967644626589E-6},{"$f":"(K25-x!K23)^2","v":8.6009595543312838E-6},{"$f":"(L25-x!L23)^2","v":2.6772918645233695E-5}]
[90.602851867675781,23.600555419921875,30.501546859741211,80.099449157714844,84.298454284667969,47.398738861083984,82.900253295898437,31.898216247558594,98.597412109375,54.900096893310547,68.70086669921875,34.001544952392578,null,{"$f":"(A26-x!A24)^2","v":8.13314924019837E-6},{"$f":"(B26-x!B24)^2","v":3.0849128961405251E-7},{"$f":"(C26-x!C24)^2","v":2.3927750589791685E-6},{"$f":"(D26-x!D24)^2","v":3.0342722310989707E-7},{"$f":"(E26-x!E24)^2","v":2.3892358876676909E-6},{"$f":"(F26-x!F24)^2","v":1.5904713654854812E-6},{"$f":"(G26-x!G24)^2","v":6.4158812162380668E-8},{"$f":"(H26-x!H24)^2","v":3.1817727722176876E-6},{"$f":"(I26-x!I24)^2","v":6.6971778869334697E-6},{"$f":"(J26-x!J24)^2","v":9.3883136290085459E-9},{"$f":"(K26-x!K24)^2","v":7.5116753577693375E-7},{"$f":"(L26-x!L24)^2","v":2.3868778953328729E-6}]
[23.196689605712891,64.699455261230469,26.698509216308594,28.101825714111328,17.897672653198242,67.899574279785156,75.603378295898438,23.897573471069336,40.899951934814453,70.199012756347656,96.09844970703125,77.401298522949219,null,{"$f":"(A27-x!A25)^2","v":1.0958710336121682E-5},{"$f":"(B27-x!B25)^2","v":2.9674032703351679E-7},{"$f":"(C27-x!C25)^2","v":2.2224360145607266E-6},{"$f":"(D27-x!D25)^2","v":3.3332320162974562E-6},{"$f":"(E27-x!E25)^2","v":5.4165431356457043E-6},{"$f":"(F27-x!F25)^2","v":1.8123770133144854E-7},{"$f":"(G27-x!G25)^2","v":1.1412883177438041E-5},{"$f":"(H27-x!H25)^2","v":5.8880426513427824E-6},{"$f":"(I27-x!I25)^2","v":2.310262061518912E-9},{"$f":"(J27-x!J25)^2","v":9.7465002909863895E-7},{"$f":"(K27-x!K25)^2","v":2.4034082889380637E-6},{"$f":"(L27-x!L25)^2","v":1.6861618496329979E-6}]
[88.403160095214844,57.202850341796875,14.304558753967285,4.600459098815918,13.001805305480957,48.799259185791016,67.802619934082031,20.400369644165039,21.500335693359375,78.906044006347656,57.005233764648437,33.307231903076172,null,{"$f":"(A28-x!A26)^2","v":9.9862017668424395E-6},{"$f":"(B28-x!B26)^2","v":8.1244483589964012E-6},{"$f":"(C28-x!C26)^2","v":2.0782237734231673E-5},{"$f":"(D28-x!D26)^2","v":2.1077172277760716E-7},{"$f":"(E28-x!E26)^2","v":3.2591278795734979E-6},{"$f":"(F28-x!F26)^2","v":5.488056922289342E-7},{"$f":"(G28-x!G26)^2","v":6.864054594203821E-6},{"$f":"(H28-x!H26)^2","v":1.3663680874847627E-7},{"$f":"(I28-x!I26)^2","v":1.126900315284729E-7},{"$f":"(J28-x!J26)^2","v":3.653001273044033E-5},{"$f":"(K28-x!K26)^2","v":2.7392292395234108E-5},{"$f":"(L28-x!L26)^2","v":5.2300422103185335E-5}]
[99.202377319335938,73.800338745117188,53.301361083984375,61.303924560546875,69.100448608398438,-32.201114654541016,8.2011032104492187,38.100414276123047,15.297182083129883,31.604103088378906,18.801279067993164,32.109188079833984,null,{"$f":"(A29-x!A27)^2","v":5.6516472250088023E-6},{"$f":"(B29-x!B27)^2","v":1.1474825442029865E-7},{"$f":"(C29-x!C27)^2","v":1.8525496125298621E-6},{"$f":"(D29-x!D27)^2","v":1.5402175486110109E-5},{"$f":"(E29-x!E27)^2","v":2.0124949515375885E-7},{"$f":"(F29-x!F27)^2","v":1.2424547458004176E-6},{"$f":"(G29-x!G27)^2","v":1.217073295267004E-6},{"$f":"(H29-x!H27)^2","v":1.7162470612557207E-7},{"$f":"(I29-x!I27)^2","v":7.9406554868950501E-6},{"$f":"(J29-x!J27)^2","v":1.6835334245103858E-5},{"$f":"(K29-x!K27)^2","v":1.6360149311349247E-6},{"$f":"(L29-x!L27)^2","v":8.4420811035644224E-5}]
[17.903863906860352,59.201469421386719,20.503217697143555,60.80157470703125,-42.096511840820313,-90.100624084472656,95.199462890625,89.899696350097656,37.401573181152344,63.305435180664063,51.504764556884766,99.703720092773438,null,{"$f":"(A30-x!A28)^2","v":1.4929776225482851E-5},{"$f":"(B30-x!B28)^2","v":2.1591992117381013E-6},{"$f":"(C30-x!C28)^2","v":1.0353574907639995E-5},{"$f":"(D30-x!D28)^2","v":2.4797022342771394E-6},{"$f":"(E30-x!E28)^2","v":1.2167254462848086E-5},{"$f":"(F30-x!F28)^2","v":3.8948142901772465E-7},{"$f":"(G30-x!G28)^2","v":2.8848648071594375E-7},{"$f":"(H30-x!H28)^2","v":9.2203263196821006E-8},{"$f":"(I30-x!I28)^2","v":2.4748989380940803E-6},{"$f":"(J30-x!J28)^2","v":2.9541188851029775E-5},{"$f":"(K30-x!K28)^2","v":2.2701002308167517E-5},{"$f":"(L30-x!L28)^2","v":1.3839090242960764E-5}]
[98.401771545410156,98.002159118652344,36.703903198242188,14.00224494934082,91.201484680175781,94.699211120605469,80.601066589355469,64.900192260742188,54.399555206298828,24.405239105224609,94.803398132324219,99.505256652832031,null,{"$f":"(A31-x!A29)^2","v":3.1383731402255359E-6},{"$f":"(B31-x!B29)^2","v":4.6617933548986912E-6},{"$f":"(C31-x!C29)^2","v":1.5234956517793403E-5},{"$f":"(D31-x!D29)^2","v":5.0397975428495556E-6},{"$f":"(E31-x!E29)^2","v":2.2042752243494038E-6},{"$f":"(F31-x!F29)^2","v":6.2233069912047586E-7},{"$f":"(G31-x!G29)^2","v":1.1376128532113693E-6},{"$f":"(H31-x!H29)^2","v":3.6964192984302591E-8},{"$f":"(I31-x!I29)^2","v":1.9784143660091106E-7},{"$f":"(J31-x!J29)^2","v":2.7448223554544141E-5},{"$f":"(K31-x!K29)^2","v":1.154730329291964E-5},{"$f":"(L31-x!L29)^2","v":2.7632398996502161E-5}]
[87.202117919921875,78.498771667480469,65.899497985839844,14.203328132629395,80.800392150878906,40.699153900146484,46.600143432617188,82.402107238769531,85.991790771484375,61.596549987792969,87.899299621582031,1.0976881980895996,null,{"$f":"(A32-x!A30)^2","v":4.4855847954629669E-6},{"$f":"(B32-x!B30)^2","v":1.5088007785379887E-6},{"$f":"(C32-x!C30)^2","v":2.5201821700309225E-7},{"$f":"(D32-x!D30)^2","v":1.1076466798845285E-5},{"$f":"(E32-x!E30)^2","v":1.5378231182917348E-7},{"$f":"(F32-x!F30)^2","v":7.1588496212397161E-7},{"$f":"(G32-x!G30)^2","v":2.0572915672848259E-8},{"$f":"(H32-x!H30)^2","v":4.4404552317916201E-6},{"$f":"(I32-x!I30)^2","v":6.7391432821750641E-5},{"$f":"(J32-x!J30)^2","v":1.1902584228674442E-5},{"$f":"(K32-x!K30)^2","v":4.9052992836437149E-7},{"$f":"(L32-x!L30)^2","v":5.3444280729313062E-6}]
[33.602947235107422,21.001567840576172,58.903762817382813,0.10231715440750122,62.302837371826172,64.998016357421875,29.299079895019531,78.897125244140625,70.104598999023438,51.406581878662109,59.104438781738281,65.701499938964844,null,{"$f":"(A33-x!A31)^2","v":8.6861947784116541E-6},{"$f":"(B33-x!B31)^2","v":2.458124072290957E-6},{"$f":"(C33-x!C31)^2","v":1.4158794656406606E-5},{"$f":"(D33-x!D31)^2","v":5.3692045482023072E-6},{"$f":"(E33-x!E31)^2","v":8.0506788799700492E-6},{"$f":"(F33-x!F31)^2","v":3.9348378777503967E-6},{"$f":"(G33-x!G31)^2","v":8.4659317508470635E-7},{"$f":"(H33-x!H31)^2","v":8.2642212510435762E-6},{"$f":"(I33-x!I31)^2","v":2.1150792017631362E-5},{"$f":"(J33-x!J31)^2","v":4.3321126722749401E-5},{"$f":"(K33-x!K31)^2","v":1.9702783320086501E-5},{"$f":"(L33-x!L31)^2","v":2.2498168982480139E-6}]
[80.598411560058594,40.600933074951172,87.401458740234375,3.8011271953582764,48.899295806884766,-76.699363708496094,79.600540161132812,7.3003621101379395,61.103645324707031,82.301979064941406,59.102359771728516,32.202632904052734,null,{"$f":"(A34-x!A32)^2","v":2.5231414474366325E-6},{"$f":"(B34-x!B32)^2","v":8.7062886450174491E-7},{"$f":"(C34-x!C32)^2","v":2.127923071367846E-6},{"$f":"(D34-x!D32)^2","v":1.2705693757201882E-6},{"$f":"(E34-x!E32)^2","v":4.9588794354149226E-7},{"$f":"(F34-x!F32)^2","v":4.0486687794689427E-7},{"$f":"(G34-x!G32)^2","v":2.9177404940742417E-7},{"$f":"(H34-x!H32)^2","v":1.3112375199865841E-7},{"$f":"(I34-x!I32)^2","v":1.3288392219682108E-5},{"$f":"(J34-x!J32)^2","v":3.9166980423145732E-6},{"$f":"(K34-x!K32)^2","v":5.5685226106949141E-6},{"$f":"(L34-x!L32)^2","v":6.93218375089013E-6}]
[12.404023170471191,9.6017656326293945,72.402877807617187,34.301673889160156,31.002285003662109,69.698638916015625,6.3002791404724121,70.899169921875,7.9973807334899902,52.102203369140625,1.1022830009460449,-82.596160888671875,null,{"$f":"(A35-x!A33)^2","v":1.6185900640263623E-5},{"$f":"(B35-x!B33)^2","v":3.1174585819839006E-6},{"$f":"(C35-x!C33)^2","v":8.2817766815096788E-6},{"$f":"(D35-x!D33)^2","v":2.8019049204981107E-6},{"$f":"(E35-x!E33)^2","v":5.2212417358532548E-6},{"$f":"(F35-x!F33)^2","v":1.8525496125298621E-6},{"$f":"(G35-x!G33)^2","v":7.7919403338554772E-8},{"$f":"(H35-x!H33)^2","v":6.8902969361295255E-7},{"$f":"(I35-x!I33)^2","v":6.8605570504587376E-6},{"$f":"(J35-x!J33)^2","v":4.854835569852289E-6},{"$f":"(K35-x!K33)^2","v":5.2120933196416025E-6},{"$f":"(L35-x!L33)^2","v":1.4738775789694055E-5}]
[76.899703979492188,22.898672103881836,77.09796142578125,47.397815704345703,30.598333358764648,7.1003961563110352,17.798717498779297,61.402297973632813,66.197586059570313,31.994848251342773,81.498344421386719,69.893852233886719,null,{"$f":"(A36-x!A34)^2","v":8.7628141048935731E-8},{"$f":"(B36-x!B34)^2","v":1.7633081006314117E-6},{"$f":"(C36-x!C34)^2","v":4.155784845328997E-6},{"$f":"(D36-x!D34)^2","v":4.7711475053740055E-6},{"$f":"(E36-x!E34)^2","v":2.7776930073789192E-6},{"$f":"(F36-x!F34)^2","v":1.5693982277326494E-7},{"$f":"(G36-x!G34)^2","v":1.6448093811068284E-6},{"$f":"(H36-x!H34)^2","v":5.2806828171080102E-6},{"$f":"(I36-x!I34)^2","v":5.8271083980935936E-6},{"$f":"(J36-x!J34)^2","v":2.654051422723569E-5},{"$f":"(K36-x!K34)^2","v":2.7409405447542667E-6},{"$f":"(L36-x!L34)^2","v":3.7795028183679138E-5}]
[89.899124145507813,55.698143005371094,38.797672271728516,65.500701904296875,-57.500534057617188,88.599319458007812,34.998416900634766,3.2017526626586914,85.497993469238281,38.195461273193359,70.597587585449219,-20.303379058837891,null,{"$f":"(A37-x!A35)^2","v":7.6712109149498085E-7},{"$f":"(B37-x!B35)^2","v":3.4484290517972167E-6},{"$f":"(C37-x!C35)^2","v":5.4183189058544044E-6},{"$f":"(D37-x!D35)^2","v":4.9266964197158813E-7},{"$f":"(E37-x!E35)^2","v":2.852175384759903E-7},{"$f":"(F37-x!F35)^2","v":4.6313740312279443E-7},{"$f":"(G37-x!G35)^2","v":2.5062036002054811E-6},{"$f":"(H37-x!H35)^2","v":3.0718263951706061E-6},{"$f":"(I37-x!I35)^2","v":4.0261656977236271E-6},{"$f":"(J37-x!J35)^2","v":2.0600041025344007E-5},{"$f":"(K37-x!K35)^2","v":5.8197439647936743E-6},{"$f":"(L37-x!L35)^2","v":1.1418038629921939E-5}]
[10.29597282409668,20.29973030090332,96.798828125,62.500003814697266,3.1989264488220215,67.000816345214844,86.40008544921875,29.299095153808594,88.405204772949219,41.401470184326172,92.397506713867187,70.199539184570313,null,{"$f":"(A38-x!A36)^2","v":1.6218145756289497E-5},{"$f":"(B38-x!B36)^2","v":7.2737602750222691E-8},{"$f":"(C38-x!C36)^2","v":1.3732910156183387E-6},{"$f":"(D38-x!D36)^2","v":1.4551915228366852E-11},{"$f":"(E38-x!E36)^2","v":1.1525121317394399E-6},{"$f":"(F38-x!F36)^2","v":6.6641950979828835E-7},{"$f":"(G38-x!G36)^2","v":7.3015689840139064E-9},{"$f":"(H38-x!H36)^2","v":8.1874663010368186E-7},{"$f":"(I38-x!I36)^2","v":2.7089661452860073E-5},{"$f":"(J38-x!J36)^2","v":2.1614419529256286E-6},{"$f":"(K38-x!K36)^2","v":6.2164757401034568E-6},{"$f":"(L38-x!L36)^2","v":2.123508602406947E-7}]
[15.996542930603027,12.799544334411621,26.998403549194336,0.99828648567199707,93.498405456542969,14.601995468139648,46.200786590576172,93.200889587402344,39.402297973632812,38.199985504150391,4.8990416526794434,94.198898315429687,null,{"$f":"(A39-x!A37)^2","v":1.1951328815484885E-5},{"$f":"(B39-x!B37)^2","v":2.0763112843334235E-7},{"$f":"(C39-x!C37)^2","v":2.5486551749054343E-6},{"$f":"(D39-x!D37)^2","v":2.9361313522713317E-6},{"$f":"(E39-x!E37)^2","v":2.5425688363611698E-6},{"$f":"(F39-x!F37)^2","v":3.9818930963534138E-6},{"$f":"(G39-x!G37)^2","v":6.1872473451793105E-7},{"$f":"(H39-x!H37)^2","v":7.9136574640364423E-7},{"$f":"(I39-x!I37)^2","v":5.2806828171080102E-6},{"$f":"(J39-x!J37)^2","v":2.101296559800167E-10},{"$f":"(K39-x!K37)^2","v":9.1842958681877342E-7},{"$f":"(L39-x!L37)^2","v":1.2137088924709001E-6}]
[40.501605987548828,65.000038146972656,93.300407409667969,58.201541900634766,93.998527526855469,22.700351715087891,-97.499183654785156,29.998401641845703,33.794391632080078,98.897544860839844,37.999465942382813,4.5008726119995117,null,{"$f":"(A40-x!A38)^2","v":2.5791960069909692E-6},{"$f":"(B40-x!B38)^2","v":1.4551915228366852E-9},{"$f":"(C40-x!C38)^2","v":1.6598263755672298E-7},{"$f":"(D40-x!D38)^2","v":2.3774575674818724E-6},{"$f":"(E40-x!E38)^2","v":2.1681771613657475E-6},{"$f":"(F40-x!F38)^2","v":1.2370350305040987E-7},{"$f":"(G40-x!G38)^2","v":6.6641950979828835E-7},{"$f":"(H40-x!H38)^2","v":2.5547487894073129E-6},{"$f":"(I40-x!I38)^2","v":3.1453790725176937E-5},{"$f":"(J40-x!J38)^2","v":6.0277082957606483E-6},{"$f":"(K40-x!K38)^2","v":2.852175384759903E-7},{"$f":"(L40-x!L38)^2","v":7.6145170169183984E-7}]
[16.598505020141602,79.399215698242187,55.198253631591797,65.102851867675781,9.0999422073364258,33.299617767333984,68.001632690429688,3.9996118545532227,97.9969482421875,46.600227355957031,93.79669189453125,75.401435852050781,null,{"$f":"(A41-x!A39)^2","v":2.2349647770212612E-6},{"$f":"(B41-x!B39)^2","v":6.1512924731669392E-7},{"$f":"(C41-x!C39)^2","v":3.0498026171798434E-6},{"$f":"(D41-x!D39)^2","v":8.13314924019837E-6},{"$f":"(E41-x!E39)^2","v":3.3399919629617667E-9},{"$f":"(F41-x!F39)^2","v":1.4610181096723959E-7},{"$f":"(G41-x!G39)^2","v":2.6656780391931534E-6},{"$f":"(H41-x!H39)^2","v":1.5065688785398379E-7},{"$f":"(I41-x!I39)^2","v":9.3132257461547852E-6},{"$f":"(J41-x!J39)^2","v":5.1690731196949414E-8},{"$f":"(K41-x!K39)^2","v":1.0943561792354853E-5},{"$f":"(L41-x!L39)^2","v":2.0616711117163976E-6}]
[16.002773284912109,11.401535034179687,48.403614044189453,91.402763366699219,12.30024528503418,35.198528289794922,94.400894165039063,98.498443603515625,84.501289367675781,32.006229400634766,29.802572250366211,49.406475067138672,null,{"$f":"(A42-x!A40)^2","v":7.6911092037335038E-6},{"$f":"(B42-x!B40)^2","v":2.3563299328077852E-6},{"$f":"(C42-x!C40)^2","v":1.3061315403330167E-5},{"$f":"(D42-x!D40)^2","v":7.6361955143197129E-6},{"$f":"(E42-x!E40)^2","v":6.0164747992181895E-8},{"$f":"(F42-x!F40)^2","v":2.1659309277394622E-6},{"$f":"(G42-x!G40)^2","v":7.9953111707147671E-7},{"$f":"(H42-x!H40)^2","v":2.4223700165748596E-6},{"$f":"(I42-x!I40)^2","v":1.6624690033495426E-6},{"$f":"(J42-x!J40)^2","v":3.8805432268418372E-5},{"$f":"(K42-x!K40)^2","v":6.616471946468647E-6},{"$f":"(L42-x!L40)^2","v":4.1926494450326784E-5}]
[53.897560119628906,12.699123382568359,18.098121643066406,45.900108337402344,99.497833251953125,62.900535583496094,34.501441955566406,81.701606750488281,58.997577667236328,70.995498657226563,21.498903274536133,31.29871940612793,null,{"$f":"(A43-x!A41)^2","v":5.953016225241641E-6},{"$f":"(B43-x!B41)^2","v":7.6845812145496008E-7},{"$f":"(C43-x!C41)^2","v":3.5282247699850539E-6},{"$f":"(D43-x!D41)^2","v":1.1736992746899482E-8},{"$f":"(E43-x!E41)^2","v":4.6947970986366272E-6},{"$f":"(F43-x!F41)^2","v":2.8684968128952614E-7},{"$f":"(G43-x!G41)^2","v":2.0792358554899693E-6},{"$f":"(H43-x!H41)^2","v":2.5816471315829018E-6},{"$f":"(I43-x!I41)^2","v":5.8676960179582238E-6},{"$f":"(J43-x!J41)^2","v":2.0262086763978004E-5},{"$f":"(K43-x!K41)^2","v":1.2028067430946976E-6},{"$f":"(L43-x!L41)^2","v":1.6399206651858558E-6}]
[51.202278137207031,94.600013732910156,45.700839996337891,93.400352478027344,34.898738861083984,87.499649047851562,64.399299621582031,19.297962188720703,56.297950744628906,99.59918212890625,57.097278594970703,35.498481750488281,null,{"$f":"(A44-x!A42)^2","v":5.1899091340471945E-6},{"$f":"(B44-x!B42)^2","v":1.8859282151575951E-10},{"$f":"(C44-x!C42)^2","v":7.0559384766488623E-7},{"$f":"(D44-x!D42)^2","v":1.2424075975613417E-7},{"$f":"(E44-x!E42)^2","v":1.5904713654854812E-6},{"$f":"(F44-x!F42)^2","v":1.2316741049289703E-7},{"$f":"(G44-x!G42)^2","v":4.9052992836437149E-7},{"$f":"(H44-x!H42)^2","v":4.1526748100324625E-6},{"$f":"(I44-x!I42)^2","v":4.1994475759449342E-6},{"$f":"(J44-x!J42)^2","v":6.6891312598252321E-7},{"$f":"(K44-x!K42)^2","v":7.4060453334900601E-6},{"$f":"(L44-x!L42)^2","v":2.3050815798342228E-6}]
[54.601524353027344,86.000144958496094,29.500782012939453,76.200996398925781,47.70123291015625,59.800296783447266,30.899316787719727,72.499137878417969,56.402885437011719,26.50169563293457,98.102745056152344,19.90191650390625,null,{"$f":"(A45-x!A43)^2","v":2.3236521519677229E-6},{"$f":"(B45-x!B43)^2","v":2.1012965589761734E-8},{"$f":"(C45-x!C43)^2","v":6.1154423747211695E-7},{"$f":"(D45-x!D43)^2","v":9.9281081929236508E-7},{"$f":"(E45-x!E43)^2","v":1.5200674533773911E-6},{"$f":"(F45-x!F43)^2","v":8.8080414572555029E-8},{"$f":"(G45-x!G43)^2","v":4.6677901991448831E-7},{"$f":"(H45-x!H43)^2","v":7.4325362220406532E-7},{"$f":"(I45-x!I43)^2","v":8.3257467486046303E-6},{"$f":"(J45-x!J43)^2","v":2.8751710487995297E-6},{"$f":"(K45-x!K43)^2","v":7.5353332795514809E-6},{"$f":"(L45-x!L43)^2","v":3.6729872226769558E-6}]
[74.407180786132813,37.402008056640625,15.004484176635742,63.103878021240234,24.505121231079102,49.496982574462891,31.299198150634766,55.496437072753906,50.299137115478516,87.406501770019531,77.6031494140625,21.104904174804688,null,{"$f":"(A46-x!A44)^2","v":5.1563689485110662E-5},{"$f":"(B46-x!B44)^2","v":4.032291471963868E-6},{"$f":"(C46-x!C44)^2","v":2.0107840100536123E-5},{"$f":"(D46-x!D44)^2","v":1.5039048739697938E-5},{"$f":"(E46-x!E44)^2","v":2.6227007765555754E-5},{"$f":"(F46-x!F44)^2","v":9.1048568719998002E-6},{"$f":"(G46-x!G44)^2","v":6.429624045279096E-7},{"$f":"(H46-x!H44)^2","v":1.2694450560957193E-5},{"$f":"(I46-x!I44)^2","v":7.445696974124139E-7},{"$f":"(J46-x!J44)^2","v":4.2273013386801474E-5},{"$f":"(K46-x!K44)^2","v":9.9188089371085578E-6},{"$f":"(L46-x!L44)^2","v":2.4050930514917741E-5}]
[51.000812530517578,70.699371337890625,60.299278259277344,45.795219421386719,86.702980041503906,18.800140380859375,66.697158813476562,66.7022705078125,39.102031707763672,50.799537658691406,41.200016021728516,39.194454193115234,null,{"$f":"(A47-x!A45)^2","v":6.602058419957757E-7},{"$f":"(B47-x!B45)^2","v":3.95216047767398E-7},{"$f":"(C47-x!C45)^2","v":5.2090967073626337E-7},{"$f":"(D47-x!D45)^2","v":2.2853931877734906E-5},{"$f":"(E47-x!E45)^2","v":8.8806473649868845E-6},{"$f":"(F47-x!F45)^2","v":1.9706785678664033E-8},{"$f":"(G47-x!G45)^2","v":8.0723408609790178E-6},{"$f":"(H47-x!H45)^2","v":5.1552057266106286E-6},{"$f":"(I47-x!I45)^2","v":4.1278364369587974E-6},{"$f":"(J47-x!J45)^2","v":2.1375948562955307E-7},{"$f":"(K47-x!K45)^2","v":2.5669578453731828E-10},{"$f":"(L47-x!L45)^2","v":3.0755974003145329E-5}]
[31.497953414916992,14.200653076171875,89.300445556640625,-50.800079345703125,40.599090576171875,70.000045776367188,-15.299768447875977,74.098884582519531,93.902877807617187,53.600749969482422,2.1010525226593018,22.299877166748047,null,{"$f":"(A48-x!A46)^2","v":4.1885105019900948E-6},{"$f":"(B48-x!B46)^2","v":4.2650848627183261E-7},{"$f":"(C48-x!C46)^2","v":1.9852072000756811E-7},{"$f":"(D48-x!D46)^2","v":6.2957406048516631E-9},{"$f":"(E48-x!E46)^2","v":8.2705169916411423E-7},{"$f":"(F48-x!F46)^2","v":2.0954757928848267E-9},{"$f":"(G48-x!G46)^2","v":5.3616386140094438E-8},{"$f":"(H48-x!H46)^2","v":1.2441561557225735E-6},{"$f":"(I48-x!I46)^2","v":8.2817766815096788E-6},{"$f":"(J48-x!J46)^2","v":5.6245422456200348E-7},{"$f":"(K48-x!K46)^2","v":1.1078039483434572E-6},{"$f":"(L48-x!L46)^2","v":1.5088007785554444E-8}]
[46.198539733886719,82.79986572265625,70.400550842285156,76.200599670410156,48.401618957519531,93.600074768066406,93.499870300292969,76.399246215820312,82.603805541992188,91.800567626953125,81.803504943847656,91.401771545410156,null,{"$f":"(A49-x!A47)^2","v":2.1323771216058289E-6},{"$f":"(B49-x!B47)^2","v":1.8030405043792384E-8},{"$f":"(C49-x!C47)^2","v":3.0342722310989707E-7},{"$f":"(D49-x!D47)^2","v":3.5960460081355638E-7},{"$f":"(E49-x!E47)^2","v":2.621023450051379E-6},{"$f":"(F49-x!F47)^2","v":5.5902637549794243E-9},{"$f":"(G49-x!G47)^2","v":1.6822014003992081E-8},{"$f":"(H49-x!H47)^2","v":5.6819058955572686E-7},{"$f":"(I49-x!I47)^2","v":1.448214985434567E-5},{"$f":"(J49-x!J47)^2","v":3.2220035791719754E-7},{"$f":"(K49-x!K47)^2","v":1.2284631375243321E-5},{"$f":"(L49-x!L47)^2","v":3.1383731402255359E-6}]
[98.300994873046875,70.301292419433594,42.701801300048828,59.602401733398438,87.801986694335938,93.499114990234375,71.9010009765625,48.400848388671875,56.100963592529297,47.703109741210938,34.802085876464844,93.70367431640625,null,{"$f":"(A50-x!A48)^2","v":9.8977237940400115E-7},{"$f":"(B50-x!B48)^2","v":1.6703479923381361E-6},{"$f":"(C50-x!C48)^2","v":3.2446818658979661E-6},{"$f":"(D50-x!D48)^2","v":5.7683233171633174E-6},{"$f":"(E50-x!E48)^2","v":3.946954384457437E-6},{"$f":"(F50-x!F48)^2","v":7.8324228525161743E-7},{"$f":"(G50-x!G48)^2","v":1.0019540786629367E-6},{"$f":"(H50-x!H48)^2","v":7.1976333856823763E-7},{"$f":"(I50-x!I48)^2","v":9.2851056251401016E-7},{"$f":"(J50-x!J48)^2","v":9.6704903989853518E-6},{"$f":"(K50-x!K48)^2","v":4.3508806266009165E-6},{"$f":"(L50-x!L48)^2","v":1.3500601053217029E-5}]
[8.4998083114624023,90.698707580566406,-23.901956558227539,69.998512268066406,2.7992136478424072,90.4996337890625,8.4987277984619141,21.799751281738281,25.397727966308594,77.597373962402344,14.695502281188965,7.5954427719116211,null,{"$f":"(A51-x!A49)^2","v":3.6744495446328074E-8},{"$f":"(B51-x!B49)^2","v":1.6703479923381361E-6},{"$f":"(C51-x!C49)^2","v":3.8281200977563591E-6},{"$f":"(D51-x!D49)^2","v":2.2133463062345982E-6},{"$f":"(E51-x!E49)^2","v":6.1834971575053059E-7},{"$f":"(F51-x!F49)^2","v":1.3411045074462891E-7},{"$f":"(G51-x!G49)^2","v":1.6184967535082251E-6},{"$f":"(H51-x!H49)^2","v":6.1860773712750072E-8},{"$f":"(I51-x!I49)^2","v":5.1621370948786537E-6},{"$f":"(J51-x!J49)^2","v":6.8960734642743542E-6},{"$f":"(K51-x!K49)^2","v":2.0229474503133107E-5},{"$f":"(L51-x!L49)^2","v":2.0768327849506422E-5}]
[99.497573852539063,66.597557067871094,84.196121215820313,79.798187255859375,72.898521423339844,88.201316833496094,92.700187683105469,15.902521133422852,8.5975923538208008,26.294073104858398,82.1966552734375,63.493553161621094,null,{"$f":"(A52-x!A50)^2","v":5.8861915022134781E-6},{"$f":"(B52-x!B50)^2","v":5.96791738641465E-6},{"$f":"(C52-x!C50)^2","v":1.504496671261608E-5},{"$f":"(D52-x!D50)^2","v":3.2860413193599653E-6},{"$f":"(E52-x!E50)^2","v":2.1861889399756203E-6},{"$f":"(F52-x!F50)^2","v":1.734050456427003E-6},{"$f":"(G52-x!G50)^2","v":3.5224948077327083E-8},{"$f":"(H52-x!H50)^2","v":6.3561137358174439E-6},{"$f":"(I52-x!I50)^2","v":5.7967601242108857E-6},{"$f":"(J52-x!J50)^2","v":3.5128086019548628E-5},{"$f":"(K52-x!K50)^2","v":1.1187195777912079E-5},{"$f":"(L52-x!L50)^2","v":4.1561725083738565E-5}]
[95.798492431640625,20.498062133789062,23.196842193603516,99.099876403808594,18.898614883422852,87.00048828125,15.198556900024414,94.900535583496094,11.599905014038086,1.7955909967422485,98.897346496582031,92.895149230957031,null,{"$f":"(A53-x!A51)^2","v":2.2727623581800594E-6},{"$f":"(B53-x!B51)^2","v":3.7553254514932632E-6},{"$f":"(C53-x!C51)^2","v":9.9717412376731457E-6},{"$f":"(D53-x!D51)^2","v":1.5276018528725261E-8},{"$f":"(E53-x!E51)^2","v":1.9185479322874666E-6},{"$f":"(F53-x!F51)^2","v":2.384185791015625E-7},{"$f":"(G53-x!G51)^2","v":2.0825375395340825E-6},{"$f":"(H53-x!H51)^2","v":2.8684968128191502E-7},{"$f":"(I53-x!I51)^2","v":9.0223329606722403E-9},{"$f":"(J53-x!J51)^2","v":1.9439309726863421E-5},{"$f":"(K53-x!K51)^2","v":7.0410803892020056E-6},{"$f":"(L53-x!L51)^2","v":2.3529960308279109E-5}]
[74.202705383300781,17.501653671264648,35.103275299072266,91.700897216796875,10.500992774963379,35.099853515625,98.700843811035156,85.998298645019531,89.999237060546875,35.805034637451172,91.201766967773438,34.404407501220703,null,{"$f":"(A54-x!A52)^2","v":7.3190988041306729E-6},{"$f":"(B54-x!B52)^2","v":2.7346286515239626E-6},{"$f":"(C54-x!C52)^2","v":1.0727584012774754E-5},{"$f":"(D54-x!D52)^2","v":8.0499798058953493E-7},{"$f":"(E54-x!E52)^2","v":9.8560212791198865E-7},{"$f":"(F54-x!F52)^2","v":2.1457672119556957E-8},{"$f":"(G54-x!G52)^2","v":7.1201706304666567E-7},{"$f":"(H54-x!H52)^2","v":2.8946087695658207E-6},{"$f":"(I54-x!I52)^2","v":5.8207660913467407E-7},{"$f":"(J54-x!J52)^2","v":2.5347574264771054E-5},{"$f":"(K54-x!K52)^2","v":3.1221751123566321E-6},{"$f":"(L54-x!L52)^2","v":1.9426067010512065E-5}]
[11.09913158416748,18.499732971191406,54.500278472900391,70.599655151367187,17.099830627441406,70.700004577636719,25.100471496582031,18.001022338867188,26.599269866943359,98.899238586425781,14.199728012084961,73.800277709960938,null,{"$f":"(A55-x!A53)^2","v":7.5414605816997347E-7},{"$f":"(B55-x!B53)^2","v":7.1304384618997574E-8},{"$f":"(C55-x!C53)^2","v":7.7547156251966953E-8},{"$f":"(D55-x!D53)^2","v":1.1892057954872997E-7},{"$f":"(E55-x!E53)^2","v":2.8687063605074662E-8},{"$f":"(F55-x!F53)^2","v":2.0954757902827416E-11},{"$f":"(G55-x!G53)^2","v":2.2230902686581119E-7},{"$f":"(H55-x!H53)^2","v":1.0451767593622208E-6},{"$f":"(I55-x!I53)^2","v":5.3309428040145723E-7},{"$f":"(J55-x!J53)^2","v":5.7975063101322822E-7},{"$f":"(K55-x!K53)^2","v":7.3977425926909763E-8},{"$f":"(L55-x!L53)^2","v":7.7122822405486369E-8}]
[28.301313400268555,41.100940704345703,22.702842712402344,58.601383209228516,33.400218963623047,10.199305534362793,34.30023193359375,43.603012084960938,97.497550964355469,93.603302001953125,84.300621032714844,0.50288408994674683,null,{"$f":"(A56-x!A54)^2","v":1.7250202654376589E-6},{"$f":"(B56-x!B54)^2","v":8.8492466602207082E-7},{"$f":"(C56-x!C54)^2","v":8.0810138024430136E-6},{"$f":"(D56-x!D54)^2","v":1.9132677698468591E-6},{"$f":"(E56-x!E54)^2","v":4.7945068218436303E-8},{"$f":"(F56-x!F54)^2","v":4.8228252126038104E-7},{"$f":"(G56-x!G54)^2","v":5.3793191911108431E-8},{"$f":"(H56-x!H54)^2","v":9.0726558118972996E-6},{"$f":"(I56-x!I54)^2","v":5.9977755881845951E-6},{"$f":"(J56-x!J54)^2","v":1.0903216898478853E-5},{"$f":"(K56-x!K54)^2","v":3.8568163290972867E-7},{"$f":"(L56-x!L54)^2","v":8.3179748209261106E-6}]
[12.097542762756348,16.299718856811523,49.599155426025391,62.199264526367188,57.899692535400391,98.001052856445313,60.499382019042969,57.001483917236328,57.802463531494141,45.898834228515625,20.400663375854492,33.298427581787109,null,{"$f":"(A57-x!A55)^2","v":6.0380148715904217E-6},{"$f":"(B57-x!B55)^2","v":7.9041492427167474E-8},{"$f":"(C57-x!C55)^2","v":7.1330519858987758E-7},{"$f":"(D57-x!D55)^2","v":5.4092146456659677E-7},{"$f":"(E57-x!E55)^2","v":9.4534480012079417E-8},{"$f":"(F57-x!F55)^2","v":1.1085066944360733E-6},{"$f":"(G57-x!G55)^2","v":3.8190046325325966E-7},{"$f":"(H57-x!H55)^2","v":2.2020103642717004E-6},{"$f":"(I57-x!I55)^2","v":6.0689874226367436E-6},{"$f":"(J57-x!J55)^2","v":1.3590231537785775E-6},{"$f":"(K57-x!K55)^2","v":4.4006752432512535E-7},{"$f":"(L57-x!L55)^2","v":2.4724990362212085E-6}]
[67.994949340820313,15.397133827209473,85.094017028808594,90.297019958496094,47.497798919677734,14.902359008789063,19.299215316772461,28.603078842163086,79.999755859375,53.693851470947266,51.194534301757813,92.891616821289062,null,{"$f":"(A58-x!A56)^2","v":2.550915814936161E-5},{"$f":"(B58-x!B56)^2","v":8.2149464651613371E-6},{"$f":"(C58-x!C56)^2","v":3.5795944277129103E-5},{"$f":"(D58-x!D56)^2","v":8.8806473649868845E-6},{"$f":"(E58-x!E56)^2","v":4.8447545850649476E-6},{"$f":"(F58-x!F56)^2","v":5.5649224668724463E-6},{"$f":"(G58-x!G56)^2","v":6.1572776758223522E-7},{"$f":"(H58-x!H56)^2","v":9.4792690651869435E-6},{"$f":"(I58-x!I56)^2","v":5.9604644775390625E-8},{"$f":"(J58-x!J56)^2","v":3.7804409512353619E-5},{"$f":"(K58-x!K56)^2","v":2.9873857274682598E-5},{"$f":"(L58-x!L56)^2","v":7.0277685299611036E-5}]
[61.701103210449219,30.9007568359375,33.102279663085937,69.600990295410156,38.800552368164063,66.500251770019531,86.001426696777344,1.7003906965255737,72.999954223632813,99.902633666992188,60.503459930419922,20.604564666748047,null,{"$f":"(A59-x!A57)^2","v":1.2170732952591652E-6},{"$f":"(B59-x!B57)^2","v":5.7280063629365491E-7},{"$f":"(C59-x!C57)^2","v":5.1968637853796067E-6},{"$f":"(D59-x!D57)^2","v":9.806849993877938E-7},{"$f":"(E59-x!E57)^2","v":3.0511058867291677E-7},{"$f":"(F59-x!F57)^2","v":6.3388142734766006E-8},{"$f":"(G59-x!G57)^2","v":2.0354636944830418E-6},{"$f":"(H59-x!H57)^2","v":1.5264377509541932E-7},{"$f":"(I59-x!I57)^2","v":2.0954757928848267E-9},{"$f":"(J59-x!J57)^2","v":6.9362018257080119E-6},{"$f":"(K59-x!K57)^2","v":1.1971118510700762E-5},{"$f":"(L59-x!L57)^2","v":2.0836182520711861E-5}]
[68.801155090332031,49.101028442382813,33.003025054931641,32.901653289794922,19.200958251953125,67.1990966796875,25.100921630859375,-4.7020988464355469,4.6021418571472168,37.004470825195313,47.202396392822266,58.204555511474609,null,{"$f":"(A60-x!A58)^2","v":1.3342336751586293E-6},{"$f":"(B60-x!B58)^2","v":1.0576937347621297E-6},{"$f":"(C60-x!C58)^2","v":9.1509573394432664E-6},{"$f":"(D60-x!D58)^2","v":2.7333671459975144E-6},{"$f":"(E60-x!E58)^2","v":9.1824680566923894E-7},{"$f":"(F60-x!F58)^2","v":8.1598758698023245E-7},{"$f":"(G60-x!G58)^2","v":8.4940344094968154E-7},{"$f":"(H60-x!H58)^2","v":4.4051563600070768E-6},{"$f":"(I60-x!I58)^2","v":4.5875520390851972E-6},{"$f":"(J60-x!J58)^2","v":1.9988277927041054E-5},{"$f":"(K60-x!K58)^2","v":5.7426985585925853E-6},{"$f":"(L60-x!L58)^2","v":2.0752684795271789E-5}]
[31.700454711914063,23.400371551513672,64.7998046875,23.200681686401367,14.39949893951416,83.499137878417969,18.300205230712891,5.6010317802429199,43.899284362792969,60.799144744873047,47.600566864013672,77.100433349609375,null,{"$f":"(A61-x!A59)^2","v":2.0676292479102856E-7},{"$f":"(B61-x!B59)^2","v":1.3805052731291753E-7},{"$f":"(C61-x!C59)^2","v":3.8146972655139779E-8},{"$f":"(D61-x!D59)^2","v":4.6469634980991497E-7},{"$f":"(E61-x!E59)^2","v":2.5106161047041631E-7},{"$f":"(F61-x!F59)^2","v":7.4325362220406532E-7},{"$f":"(G61-x!G59)^2","v":4.2119645513302501E-8},{"$f":"(H61-x!H59)^2","v":1.0645704696806262E-6},{"$f":"(I61-x!I59)^2","v":5.1213661208545416E-7},{"$f":"(J61-x!J59)^2","v":7.3146133217474441E-7},{"$f":"(K61-x!K59)^2","v":3.2133480999457656E-7},{"$f":"(L61-x!L59)^2","v":1.8779188395039171E-7}]
[4.4015002250671387,54.299919128417969,64.800483703613281,33.401500701904297,35.700054168701172,58.499744415283203,62.599765777587891,67.098808288574219,20.698640823364258,56.39892578125,88.701103210449219,83.800918579101563,null,{"$f":"(A62-x!A60)^2","v":2.2506752520701664E-6},{"$f":"(B62-x!B60)^2","v":6.5402127797774964E-9},{"$f":"(C62-x!C60)^2","v":2.339691855040866E-7},{"$f":"(D62-x!D60)^2","v":2.2521062055645322E-6},{"$f":"(E62-x!E60)^2","v":2.9342481863399788E-9},{"$f":"(F62-x!F60)^2","v":6.5323547460138798E-8},{"$f":"(G62-x!G60)^2","v":5.4860138334999599E-8},{"$f":"(H62-x!H60)^2","v":1.4201761223240316E-6},{"$f":"(I62-x!I60)^2","v":1.8473611271455196E-6},{"$f":"(J62-x!J60)^2","v":1.1539459228485093E-6},{"$f":"(K62-x!K60)^2","v":1.2170732952591652E-6},{"$f":"(L62-x!L60)^2","v":8.4378756583259122E-7}]
[82.2000732421875,6.5995969772338867,82.29974365234375,27.200225830078125,21.800769805908203,57.700252532958984,74.599327087402344,72.699905395507813,99.700965881347656,99.100166320800781,6.3003582954406738,63.298671722412109,null,{"$f":"(A63-x!A61)^2","v":5.3644180293688228E-9},{"$f":"(B63-x!B61)^2","v":1.6242735000531423E-7},{"$f":"(C63-x!C61)^2","v":6.5714120863410992E-8},{"$f":"(D63-x!D61)^2","v":5.0999224186264528E-8},{"$f":"(E63-x!E61)^2","v":5.9260113630334414E-7},{"$f":"(F63-x!F61)^2","v":6.3772895371968538E-8},{"$f":"(G63-x!G61)^2","v":4.5281136407683204E-7},{"$f":"(H63-x!H61)^2","v":8.950009942592513E-9},{"$f":"(I63-x!I61)^2","v":9.3292677774476329E-7},{"$f":"(J63-x!J61)^2","v":2.76626087744071E-8},{"$f":"(K63-x!K61)^2","v":1.2837562280777997E-7},{"$f":"(L63-x!L61)^2","v":1.7643213504849866E-6}]
[79.397735595703125,9.1996440887451172,4.5996227264404297,88.898605346679688,30.899591445922852,86.60040283203125,0.29961612820625305,38.300731658935547,77.101913452148438,19.100042343139648,91.599334716796875,41.498977661132813,null,{"$f":"(A64-x!A62)^2","v":5.1275268197317065E-6},{"$f":"(B64-x!B62)^2","v":1.2667282135175253E-7},{"$f":"(C64-x!C62)^2","v":1.4233533875058606E-7},{"$f":"(D64-x!D62)^2","v":1.9450578838745361E-6},{"$f":"(E64-x!E62)^2","v":1.6691643395345024E-7},{"$f":"(F64-x!F62)^2","v":1.6227364540558065E-7},{"$f":"(G64-x!G62)^2","v":1.4735755403449106E-7},{"$f":"(H64-x!H62)^2","v":5.3532479796974519E-7},{"$f":"(I64-x!I62)^2","v":3.661299124381838E-6},{"$f":"(J64-x!J62)^2","v":1.7929414751667334E-9},{"$f":"(K64-x!K62)^2","v":4.426017403526966E-7},{"$f":"(L64-x!L62)^2","v":1.0451767593622208E-6}]
[99.1973876953125,-5.6012134552001953,92.297393798828125,47.098018646240234,39.097827911376953,37.60162353515625,16.499998092651367,40.401596069335938,70.499229431152344,70.895454406738281,61.597385406494141,29.295724868774414,null,{"$f":"(A65-x!A63)^2","v":6.8241357803493217E-6},{"$f":"(B65-x!B63)^2","v":1.4724735228819082E-6},{"$f":"(C65-x!C63)^2","v":6.7922845482678085E-6},{"$f":"(D65-x!D63)^2","v":3.9257627213430097E-6},{"$f":"(E65-x!E63)^2","v":4.7179689863758433E-6},{"$f":"(F65-x!F63)^2","v":2.6358664035750975E-6},{"$f":"(G65-x!G63)^2","v":3.637978807091713E-12},{"$f":"(H65-x!H63)^2","v":2.5474373251245085E-6},{"$f":"(I65-x!I63)^2","v":5.9377634897828102E-7},{"$f":"(J65-x!J63)^2","v":2.0662418101034581E-5},{"$f":"(K65-x!K63)^2","v":6.8360992008894491E-6},{"$f":"(L65-x!L63)^2","v":1.8276746995985995E-5}]
[29.096872329711914,27.098564147949219,29.695682525634766,24.498579025268555,58.300762176513672,7.6016731262207031,32.999202728271484,44.003273010253906,42.501106262207031,56.397747039794922,28.096723556518555,78.595291137695312,null,{"$f":"(A66-x!A64)^2","v":9.7823214309844602E-6},{"$f":"(B66-x!B64)^2","v":2.0616711117368022E-6},{"$f":"(C66-x!C64)^2","v":1.8640584894449833E-5},{"$f":"(D66-x!D64)^2","v":2.019169187406078E-6},{"$f":"(E66-x!E64)^2","v":5.8091303799734634E-7},{"$f":"(F66-x!F64)^2","v":2.7993513504055108E-6},{"$f":"(G66-x!G64)^2","v":6.3564220909029245E-7},{"$f":"(H66-x!H64)^2","v":1.0712596122175455E-5},{"$f":"(I66-x!I64)^2","v":1.2238160707056522E-6},{"$f":"(J66-x!J64)^2","v":5.0758296856592641E-6},{"$f":"(K66-x!K64)^2","v":1.0735081887114792E-5},{"$f":"(L66-x!L64)^2","v":2.217338420445334E-5}]
[99.09771728515625,44.199077606201172,67.79754638671875,35.598690032958984,80.699180603027344,99.200515747070313,79.798919677734375,18.802846908569336,17.598949432373047,-2.3028078079223633,41.397483825683594,60.096210479736328,null,{"$f":"(A67-x!A65)^2","v":5.2107870578506355E-6},{"$f":"(B67-x!B65)^2","v":8.5081032012182274E-7},{"$f":"(C67-x!C65)^2","v":6.0202181339124442E-6},{"$f":"(D67-x!D65)^2","v":1.7160136485509553E-6},{"$f":"(E67-x!E65)^2","v":6.7141139880288505E-7},{"$f":"(F67-x!F65)^2","v":2.6599504053299514E-7},{"$f":"(G67-x!G65)^2","v":1.1670961975989921E-6},{"$f":"(H67-x!H65)^2","v":8.1048884021543482E-6},{"$f":"(I67-x!I65)^2","v":1.1036923388049063E-6},{"$f":"(J67-x!J65)^2","v":7.8837853288870044E-6},{"$f":"(K67-x!K65)^2","v":6.3311331905353085E-6},{"$f":"(L67-x!L65)^2","v":1.4360463828790527E-5}]
[77.701469421386719,19.600677490234375,11.800854682922363,58.100517272949219,39.900886535644531,34.800128936767578,42.599456787109375,34.098274230957031,98.501396179199219,10.001039505004883,83.801078796386719,9.6990089416503906,null,{"$f":"(A68-x!A66)^2","v":2.1591992117381013E-6},{"$f":"(B68-x!B66)^2","v":4.5899301767156689E-7},{"$f":"(C68-x!C66)^2","v":7.3048289777822405E-7},{"$f":"(D68-x!D66)^2","v":2.6757130399199334E-7},{"$f":"(E68-x!E66)^2","v":7.8594544902695849E-7},{"$f":"(F68-x!F66)^2","v":1.6624690034228345E-8},{"$f":"(G68-x!G66)^2","v":2.9508024454271212E-7},{"$f":"(H68-x!H66)^2","v":2.9782787896741802E-6},{"$f":"(I68-x!I66)^2","v":1.94931635633111E-6},{"$f":"(J68-x!J66)^2","v":1.080570655176416E-6},{"$f":"(K68-x!K66)^2","v":1.1638016440035631E-6},{"$f":"(L68-x!L66)^2","v":9.8219665232904988E-7}]
[17.503765106201172,68.901748657226562,78.803451538085937,66.600959777832031,75.501289367675781,84.799545288085938,81.900993347167969,27.597040176391602,62.697860717773438,93.904861450195313,11.402318000793457,93.305450439453125,null,{"$f":"(A69-x!A67)^2","v":1.4176024706102908E-5},{"$f":"(B69-x!B67)^2","v":3.0578020959893746E-6},{"$f":"(C69-x!C67)^2","v":1.1913115158696721E-5},{"$f":"(D69-x!D67)^2","v":9.2117348686951778E-7},{"$f":"(E69-x!E67)^2","v":1.6624690033495426E-6},{"$f":"(F69-x!F67)^2","v":2.0676292478779766E-7},{"$f":"(G69-x!G67)^2","v":9.8673859610024301E-7},{"$f":"(H69-x!H67)^2","v":8.760555792841159E-6},{"$f":"(I69-x!I67)^2","v":4.5765284448983678E-6},{"$f":"(J69-x!J67)^2","v":2.3633698001448675E-5},{"$f":"(K69-x!K67)^2","v":5.3731276784657793E-6},{"$f":"(L69-x!L67)^2","v":2.9707290232212533E-5}]
[88.402778625488281,3.5005161762237549,73.301910400390625,89.001327514648438,38.398944854736328,52.798763275146484,6.4003124237060547,6.8972363471984863,80.6981201171875,5.6995220184326172,83.901443481445313,40.201427459716797,null,{"$f":"(A70-x!A68)^2","v":7.7207596040946249E-6},{"$f":"(B70-x!B68)^2","v":2.6643789396985085E-7},{"$f":"(C70-x!C68)^2","v":3.6496296525110118E-6},{"$f":"(D70-x!D68)^2","v":1.7622951418161392E-6},{"$f":"(E70-x!E68)^2","v":1.1133315274461917E-6},{"$f":"(F70-x!F68)^2","v":1.5294883632962142E-6},{"$f":"(G70-x!G68)^2","v":9.7608572104723785E-8},{"$f":"(H70-x!H68)^2","v":7.6377768073163306E-6},{"$f":"(I70-x!I68)^2","v":3.5339593887435958E-6},{"$f":"(J70-x!J68)^2","v":2.2846637875789993E-7},{"$f":"(K70-x!K68)^2","v":2.0836386829450535E-6},{"$f":"(L70-x!L68)^2","v":2.0376412430697002E-6}]
[75.299873352050781,80.900634765625,14.600991249084473,11.399650573730469,96.100776672363281,69.299537658691406,92.600448608398437,15.200322151184082,74.501220703125,30.402088165283203,79.000564575195313,60.300998687744141,null,{"$f":"(A71-x!A69)^2","v":1.6039703040595167E-8},{"$f":"(B71-x!B69)^2","v":4.0292739867442416E-7},{"$f":"(C71-x!C69)^2","v":9.8257474746858361E-7},{"$f":"(D71-x!D69)^2","v":1.2209871783877405E-7},{"$f":"(E71-x!E69)^2","v":6.0321995989371175E-7},{"$f":"(F71-x!F69)^2","v":2.1375948562955307E-7},{"$f":"(G71-x!G69)^2","v":2.0124949515375885E-7},{"$f":"(H71-x!H69)^2","v":1.0378138540591259E-7},{"$f":"(I71-x!I69)^2","v":1.4901161193847656E-6},{"$f":"(J71-x!J69)^2","v":4.3604342499807225E-6},{"$f":"(K71-x!K69)^2","v":3.1874515116214752E-7},{"$f":"(L71-x!L69)^2","v":9.9737721030236736E-7}]
[90.29718017578125,71.200630187988281,43.900501251220703,18.299982070922852,50.700824737548828,23.499128341674805,60.299728393554688,99.399345397949219,66.507041931152344,66.802978515625,16.901653289794922,71.701042175292969,null,{"$f":"(A72-x!A70)^2","v":7.9514086246330188E-6},{"$f":"(B72-x!B70)^2","v":3.9713690057038669E-7},{"$f":"(C72-x!C70)^2","v":2.5125278625779757E-7},{"$f":"(D72-x!D70)^2","v":3.2145180742010252E-10},{"$f":"(E72-x!E70)^2","v":6.8019202444233579E-7},{"$f":"(F72-x!F70)^2","v":7.5978823588229716E-7},{"$f":"(G72-x!G70)^2","v":7.3770061133748145E-8},{"$f":"(H72-x!H70)^2","v":4.2850384489446015E-7},{"$f":"(I72-x!I70)^2","v":4.9588794354349375E-5},{"$f":"(J72-x!J70)^2","v":8.8715553283860713E-6},{"$f":"(K72-x!K70)^2","v":2.7333671459975144E-6},{"$f":"(L72-x!L70)^2","v":1.0861293412685758E-6}]
[61.103668212890625,60.801704406738281,78.102996826171875,82.702224731445313,45.601505279541016,17.398509979248047,16.500734329223633,88.997177124023437,10.498922348022461,91.704025268554688,10.402819633483887,62.605434417724609,null,{"$f":"(A73-x!A71)^2","v":1.3455785810936992E-5},{"$f":"(B73-x!B71)^2","v":2.9050023295082177E-6},{"$f":"(C73-x!C71)^2","v":8.9809671044690362E-6},{"$f":"(D73-x!D71)^2","v":4.9494300037495988E-6},{"$f":"(E73-x!E71)^2","v":2.2658664965959324E-6},{"$f":"(F73-x!F71)^2","v":2.2201618412467211E-6},{"$f":"(G73-x!G71)^2","v":5.3923940868116915E-7},{"$f":"(H73-x!H71)^2","v":7.968628779053688E-6},{"$f":"(I73-x!I71)^2","v":1.1613337846938521E-6},{"$f":"(J73-x!J71)^2","v":1.6202786937333116E-5},{"$f":"(K73-x!K71)^2","v":7.9503329834531514E-6},{"$f":"(L73-x!L71)^2","v":2.9532896005533092E-5}]
[14.698569297790527,56.79925537109375,71.097419738769531,32.499580383300781,59.19976806640625,90.400543212890625,30.199268341064453,47.901481628417969,68.7999267578125,88.697624206542969,52.398544311523438,92.896858215332031,null,{"$f":"(A74-x!A72)^2","v":2.0469088121879071E-6},{"$f":"(B74-x!B72)^2","v":5.5447220801883857E-7},{"$f":"(C74-x!C72)^2","v":6.6577480174307737E-6},{"$f":"(D74-x!D72)^2","v":1.7607817426323891E-7},{"$f":"(E74-x!E72)^2","v":5.3793191911108431E-8},{"$f":"(F74-x!F72)^2","v":2.9508024453499258E-7},{"$f":"(G74-x!G72)^2","v":5.3532479796454642E-7},{"$f":"(H74-x!H72)^2","v":2.1952227689367919E-6},{"$f":"(I74-x!I72)^2","v":5.3644180293688228E-9},{"$f":"(J74-x!J72)^2","v":5.6443945504860026E-6},{"$f":"(K74-x!K72)^2","v":2.1190289407927147E-6},{"$f":"(L74-x!L72)^2","v":9.8708108999192258E-6}]
[83.001190185546875,51.600639343261719,11.901838302612305,87.401123046875,54.000988006591797,94.999618530273437,87.899223327636719,61.697410583496094,55.4019775390625,67.102241516113281,51.801979064941406,31.702262878417969,null,{"$f":"(A75-x!A73)^2","v":1.4165416359901428E-6},{"$f":"(B75-x!B73)^2","v":4.0875980630335294E-7},{"$f":"(C75-x!C73)^2","v":3.3793564944049319E-6},{"$f":"(D75-x!D73)^2","v":1.2612342834344981E-6},{"$f":"(E75-x!E73)^2","v":9.7615702543407679E-7},{"$f":"(F75-x!F73)^2","v":1.4551915228366852E-7},{"$f":"(G75-x!G73)^2","v":6.0321995989371175E-7},{"$f":"(H75-x!H73)^2","v":6.7050778307167853E-6},{"$f":"(I75-x!I73)^2","v":3.9106607437189998E-6},{"$f":"(J75-x!J73)^2","v":5.0243944861249647E-6},{"$f":"(K75-x!K73)^2","v":3.9166980423145732E-6},{"$f":"(L75-x!L73)^2","v":5.1206187345119689E-6}]
[37.30267333984375,64.800514221191406,65.701126098632812,28.600595474243164,6.1006221771240234,89.899711608886719,22.101118087768555,70.399749755859375,82.095863342285156,56.201290130615234,8.0003776550292969,80.502967834472656,null,{"$f":"(A76-x!A74)^2","v":7.1467459201964704E-6},{"$f":"(B76-x!B74)^2","v":2.6442343369418622E-7},{"$f":"(C76-x!C74)^2","v":1.2680981308157806E-6},{"$f":"(D76-x!D74)^2","v":3.545895742701206E-7},{"$f":"(E76-x!E74)^2","v":3.8710437365851804E-7},{"$f":"(F76-x!F74)^2","v":8.3169434222877392E-8},{"$f":"(G76-x!G74)^2","v":1.2501202581884226E-6},{"$f":"(H76-x!H74)^2","v":6.2622129919989716E-8},{"$f":"(I76-x!I74)^2","v":1.7111937049729287E-5},{"$f":"(J76-x!J74)^2","v":1.6644370043576934E-6},{"$f":"(K76-x!K74)^2","v":1.4262332115322351E-7},{"$f":"(L76-x!L74)^2","v":8.8080414570868015E-6}]
[69.302665710449219,-30.098609924316406,26.701898574829102,6.5003957748413086,78.801109313964844,9.4995584487915039,58.000789642333984,2.9979007244110107,54.900409698486328,78.403266906738281,95.901626586914063,10.002327919006348,null,{"$f":"(A77-x!A75)^2","v":7.1060121990891825E-6},{"$f":"(B77-x!B75)^2","v":1.9323104061225821E-6},{"$f":"(C77-x!C75)^2","v":3.6045863817007252E-6},{"$f":"(D77-x!D75)^2","v":1.5663772501284257E-7},{"$f":"(E77-x!E75)^2","v":1.2305774726036663E-6},{"$f":"(F77-x!F75)^2","v":1.9496746972436085E-7},{"$f":"(G77-x!G75)^2","v":6.2353501562029123E-7},{"$f":"(H77-x!H75)^2","v":4.4069579985261953E-6},{"$f":"(I77-x!I75)^2","v":1.6785284970072126E-7},{"$f":"(J77-x!J75)^2","v":1.0672679636590294E-5},{"$f":"(K77-x!K75)^2","v":2.6457849889808746E-6},{"$f":"(L77-x!L75)^2","v":5.4192069001146592E-6}]
[14.502161026000977,90.800186157226563,42.999839782714844,90.800514221191406,18.700237274169922,12.899913787841797,30.900028228759766,99.298690795898437,10.296563148498535,46.299686431884766,19.399204254150391,35.800975799560547,null,{"$f":"(A78-x!A76)^2","v":4.6700333768967539E-6},{"$f":"(B78-x!B76)^2","v":3.4654513002500139E-8},{"$f":"(C78-x!C76)^2","v":2.5669578462839127E-8},{"$f":"(D78-x!D76)^2","v":2.6442343369418622E-7},{"$f":"(E78-x!E76)^2","v":5.6299031712451998E-8},{"$f":"(F78-x!F76)^2","v":7.4325362221019108E-9},{"$f":"(G78-x!G76)^2","v":7.9686287798559982E-10},{"$f":"(H78-x!H76)^2","v":1.7140153795406309E-6},{"$f":"(I78-x!I76)^2","v":1.1811948243126034E-5},{"$f":"(J78-x!J76)^2","v":9.8324962889855846E-8},{"$f":"(K78-x!K76)^2","v":6.3321145716828436E-7},{"$f":"(L78-x!L76)^2","v":9.5218478236902116E-7}]
[1.9989172220230103,36.598964691162109,5.8983573913574219,52.997779846191406,59.299434661865234,98.399833679199219,33.398571014404297,58.497867584228516,21.502113342285156,56.896572113037109,22.598173141479492,78.895729064941406,null,{"$f":"(A79-x!A77)^2","v":1.1724081474540071E-6},{"$f":"(B79-x!B77)^2","v":1.0718643898173789E-6},{"$f":"(C79-x!C77)^2","v":2.6981631526735174E-6},{"$f":"(D79-x!D77)^2","v":4.9290829338133335E-6},{"$f":"(E79-x!E77)^2","v":3.1960720661706241E-7},{"$f":"(F79-x!F77)^2","v":2.76626087744071E-8},{"$f":"(G79-x!G77)^2","v":2.0419998327229535E-6},{"$f":"(H79-x!H77)^2","v":4.5471970224753022E-6},{"$f":"(I79-x!I77)^2","v":4.4662156142294407E-6},{"$f":"(J79-x!J77)^2","v":1.175040903034577E-5},{"$f":"(K79-x!K77)^2","v":3.3374120539571858E-6},{"$f":"(L79-x!L77)^2","v":1.8240886274773753E-5}]
[80.600479125976563,60.801239013671875,73.102874755859375,10.400629043579102,16.900842666625977,77.798957824707031,50.000274658203125,59.397380828857422,9.1031360626220703,42.50396728515625,40.302505493164063,48.003402709960938,null,{"$f":"(A80-x!A78)^2","v":2.2956170142241634E-7},{"$f":"(B80-x!B78)^2","v":1.5351548791002132E-6},{"$f":"(C80-x!C78)^2","v":8.2642212510435762E-6},{"$f":"(D80-x!D78)^2","v":3.9569582440845678E-7},{"$f":"(E80-x!E78)^2","v":7.1008704253711883E-7},{"$f":"(F80-x!F78)^2","v":1.0861293412685758E-6},{"$f":"(G80-x!G78)^2","v":7.543712854385376E-8},{"$f":"(H80-x!H78)^2","v":6.860057474106557E-6},{"$f":"(I80-x!I78)^2","v":9.8348887695487519E-6},{"$f":"(J80-x!J78)^2","v":1.5739351511001587E-5},{"$f":"(K80-x!K78)^2","v":6.2774959951781594E-6},{"$f":"(L80-x!L78)^2","v":1.1578435078263283E-5}]
[12.600862503051758,91.999221801757813,4.4991469383239746,95.500213623046875,18.399024963378906,60.200000762939453,73.0001220703125,24.099752426147461,71.897354125976563,48.896678924560547,32,88.499420166015625,null,{"$f":"(A81-x!A79)^2","v":7.439115142921526E-7},{"$f":"(B81-x!B79)^2","v":6.055925041437149E-7},{"$f":"(C81-x!C79)^2","v":7.2771422310324851E-7},{"$f":"(D81-x!D79)^2","v":4.5634806156158447E-8},{"$f":"(E81-x!E79)^2","v":9.5069641247114574E-7},{"$f":"(F81-x!F79)^2","v":5.8207660479786539E-13},{"$f":"(G81-x!G79)^2","v":1.4901161193847656E-8},{"$f":"(H81-x!H79)^2","v":6.1292812461737113E-8},{"$f":"(I81-x!I79)^2","v":7.0006493479314244E-6},{"$f":"(J81-x!J79)^2","v":1.1029542074529328E-5},{"$f":"(K81-x!K79)^2","v":0},{"$f":"(L81-x!L79)^2","v":3.3620744943618774E-7}]
[52.902084350585938,40.700225830078125,51.499500274658203,64.399040222167969,27.299221038818359,34.000293731689453,16.400514602661133,68.5009765625,39.294795989990234,63.697608947753906,60.098861694335938,54.298084259033203,null,{"$f":"(A82-x!A80)^2","v":4.344517365103924E-6},{"$f":"(B82-x!B80)^2","v":5.099922418465991E-8},{"$f":"(C82-x!C80)^2","v":2.4972541723400354E-7},{"$f":"(D82-x!D80)^2","v":9.2117348686951778E-7},{"$f":"(E82-x!E80)^2","v":6.0678052250406573E-7},{"$f":"(F82-x!F80)^2","v":8.6278305388987064E-8},{"$f":"(G82-x!G80)^2","v":2.6481589884643484E-7},{"$f":"(H82-x!H80)^2","v":9.5367431640625E-7},{"$f":"(I82-x!I80)^2","v":2.7081720181711241E-5},{"$f":"(J82-x!J80)^2","v":5.7171308435635582E-6},{"$f":"(K82-x!K80)^2","v":1.2957397848400043E-6},{"$f":"(L82-x!L80)^2","v":3.6700634518529354E-6}]
[50.903724670410156,69.101768493652344,68.001808166503906,60.100734710693359,27.501726150512695,80.29937744140625,52.500717163085938,40.900638580322266,10.497306823730469,95.802696228027344,15.600934982299805,40.602691650390625,null,{"$f":"(A83-x!A81)^2","v":1.3873169664304113E-5},{"$f":"(B83-x!B81)^2","v":3.127569798400242E-6},{"$f":"(C83-x!C81)^2","v":3.2694661058485508E-6},{"$f":"(D83-x!D81)^2","v":5.3979980293452534E-7},{"$f":"(E83-x!E81)^2","v":2.9795955924782902E-6},{"$f":"(F83-x!F81)^2","v":3.8757920264843871E-7},{"$f":"(G83-x!G81)^2","v":5.1432289183139801E-7},{"$f":"(H83-x!H81)^2","v":4.0778482798668444E-7},{"$f":"(I83-x!I81)^2","v":7.2531984187662601E-6},{"$f":"(J83-x!J81)^2","v":7.2696455754492956E-6},{"$f":"(K83-x!K81)^2","v":8.7419190094872685E-7},{"$f":"(L83-x!L81)^2","v":7.2449818253440653E-6}]
[6.5969104766845703,37.598934173583984,62.598365783691406,62.799079895019531,11.899354934692383,23.000709533691406,77.098731994628906,51.200050354003906,19.404037475585938,40.398502349853516,76.899124145507813,37.097305297851563,null,{"$f":"(A84-x!A82)^2","v":9.545154316581453E-6},{"$f":"(B84-x!B82)^2","v":1.1359859490797413E-6},{"$f":"(C84-x!C82)^2","v":2.6706629432784274E-6},{"$f":"(D84-x!D82)^2","v":8.4659317507816864E-7},{"$f":"(E84-x!E82)^2","v":4.1610925109171511E-7},{"$f":"(F84-x!F82)^2","v":5.0343805924057961E-7},{"$f":"(G84-x!G82)^2","v":1.6078376211081831E-6},{"$f":"(H84-x!H82)^2","v":2.5355257091044111E-9},{"$f":"(I84-x!I82)^2","v":1.6301209107052835E-5},{"$f":"(J84-x!J82)^2","v":2.2429559612604133E-6},{"$f":"(K84-x!K82)^2","v":7.6712109149498085E-7},{"$f":"(L84-x!L82)^2","v":7.2614196688013375E-6}]
[9.6989517211914062,39.600448608398438,95.601341247558594,93.901756286621094,50.300445556640625,83.799430847167969,0.19992972910404205,55.999301910400391,7.5038127899169922,82.201622009277344,92.202857971191406,31.30305290222168,null,{"$f":"(A85-x!A83)^2","v":1.0988884605452423E-6},{"$f":"(B85-x!B83)^2","v":2.0124949514738373E-7},{"$f":"(C85-x!C83)^2","v":1.7989450134489431E-6},{"$f":"(D85-x!D83)^2","v":3.0845426954129347E-6},{"$f":"(E85-x!E83)^2","v":1.9852072000756811E-7},{"$f":"(F85-x!F83)^2","v":3.2393494620595703E-7},{"$f":"(G85-x!G83)^2","v":4.9379988187341409E-9},{"$f":"(H85-x!H83)^2","v":4.873290890827775E-7},{"$f":"(I85-x!I83)^2","v":1.4537366951117292E-5},{"$f":"(J85-x!J83)^2","v":2.6309140957799738E-6},{"$f":"(K85-x!K83)^2","v":8.1679993308918142E-6},{"$f":"(L85-x!L83)^2","v":9.3202119751324328E-6}]
[58.800643920898438,2.7010955810546875,8.901768684387207,61.401191711425781,-6.8986911773681641,-26.300724029541016,5.2005953788757324,-6.2015066146850586,89.801979064941406,68.003692626953125,14.102766990661621,55.703483581542969,null,{"$f":"(A86-x!A84)^2","v":4.1463412344821746E-7},{"$f":"(B86-x!B84)^2","v":1.2002978473897856E-6},{"$f":"(C86-x!C84)^2","v":3.1282444615486548E-6},{"$f":"(D86-x!D84)^2","v":1.4201761223409667E-6},{"$f":"(E86-x!E84)^2","v":1.71301668160688E-6},{"$f":"(F86-x!F84)^2","v":5.2421877626226768E-7},{"$f":"(G86-x!G84)^2","v":3.5447600566819115E-7},{"$f":"(H86-x!H84)^2","v":2.2698878092336703E-6},{"$f":"(I86-x!I84)^2","v":3.9166980423145732E-6},{"$f":"(J86-x!J84)^2","v":1.3635493814945221E-5},{"$f":"(K86-x!K84)^2","v":7.6562373215003041E-6},{"$f":"(L86-x!L84)^2","v":1.2135340366492735E-5}]
[58.900539398193359,50.200664520263672,87.701988220214844,58.0009765625,8.9009065628051758,13.198747634887695,67.299491882324219,70.098495483398438,6.604121208190918,49.803047180175781,15.701831817626953,7.0019092559814453,null,{"$f":"(A87-x!A85)^2","v":2.9095041100089076E-7},{"$f":"(B87-x!B85)^2","v":4.4158718082676092E-7},{"$f":"(C87-x!C85)^2","v":3.9530196227020255E-6},{"$f":"(D87-x!D85)^2","v":9.5367431640625E-7},{"$f":"(E87-x!E85)^2","v":8.2185611972753733E-7},{"$f":"(F87-x!F85)^2","v":1.5684183745161529E-6},{"$f":"(G87-x!G85)^2","v":2.5818357243845119E-7},{"$f":"(H87-x!H85)^2","v":2.26357020436007E-6},{"$f":"(I87-x!I85)^2","v":1.6984356952892285E-5},{"$f":"(J87-x!J85)^2","v":9.2853070236915707E-6},{"$f":"(K87-x!K85)^2","v":3.3555558184187813E-6},{"$f":"(L87-x!L85)^2","v":3.6452584026847035E-6}]
[51.497650146484375,9.598240852355957,37.395931243896484,98.897148132324219,70.598808288574219,46.500553131103516,39.198535919189453,35.402912139892578,80.79925537109375,30.694042205810547,40.196891784667969,21.392696380615234,null,{"$f":"(A88-x!A86)^2","v":5.5218115448951721E-6},{"$f":"(B88-x!B86)^2","v":3.0946004335406774E-6},{"$f":"(C88-x!C86)^2","v":1.6554776229884088E-5},{"$f":"(D88-x!D86)^2","v":8.13314924019837E-6},{"$f":"(E88-x!E86)^2","v":1.4201761223240316E-6},{"$f":"(F88-x!F86)^2","v":3.0595401767641306E-7},{"$f":"(G88-x!G86)^2","v":2.1435326198199166E-6},{"$f":"(H88-x!H86)^2","v":8.4805587539532097E-6},{"$f":"(I88-x!I86)^2","v":5.5447220801883857E-7},{"$f":"(J88-x!J86)^2","v":3.5495311603872952E-5},{"$f":"(K88-x!K86)^2","v":9.6610025502918016E-6},{"$f":"(L88-x!L86)^2","v":5.3342856117503446E-5}]
[62.401962280273438,15.600849151611328,44.501422882080078,7.3007411956787109,4.1008100509643555,75.19940185546875,62.700878143310547,94.700454711914062,32.897392272949219,88.701202392578125,23.001428604125977,43.702529907226563,null,{"$f":"(A89-x!A87)^2","v":3.8505438715275273E-6},{"$f":"(B89-x!B87)^2","v":7.2105845902175439E-7},{"$f":"(C89-x!C87)^2","v":2.0245934138074517E-6},{"$f":"(D89-x!D87)^2","v":5.4937103414003058E-7},{"$f":"(E89-x!E87)^2","v":6.5618256485380045E-7},{"$f":"(F89-x!F87)^2","v":3.5777688026768229E-7},{"$f":"(G89-x!G87)^2","v":7.7113567385323369E-7},{"$f":"(H89-x!H87)^2","v":2.0676292478779766E-7},{"$f":"(I89-x!I87)^2","v":6.8002403713688648E-6},{"$f":"(J89-x!J87)^2","v":1.4457479119232494E-6},{"$f":"(K89-x!K87)^2","v":2.0409097487572581E-6},{"$f":"(L89-x!L87)^2","v":6.4004305749987796E-6}]
[34.499988555908203,48.798866271972656,9.998260498046875,19.399856567382813,81.899658203125,21.600011825561523,94.698646545410156,61.699729919433594,34.500858306884766,43.996738433837891,74.898880004882813,99.796928405761719,null,{"$f":"(A90-x!A88)^2","v":1.3096723705530167E-10},{"$f":"(B90-x!B88)^2","v":1.2853392399783063E-6},{"$f":"(C90-x!C88)^2","v":3.0258670449256897E-6},{"$f":"(D90-x!D88)^2","v":2.0572915672848259E-8},{"$f":"(E90-x!E88)^2","v":1.168251037636514E-7},{"$f":"(F90-x!F88)^2","v":1.3984390531099518E-10},{"$f":"(G90-x!G88)^2","v":1.831839326776807E-6},{"$f":"(H90-x!H88)^2","v":7.2943512351856042E-8},{"$f":"(I90-x!I88)^2","v":7.3669070843607187E-7},{"$f":"(J90-x!J88)^2","v":1.0637813829816878E-5},{"$f":"(K90-x!K88)^2","v":1.2543890625365748E-6},{"$f":"(L90-x!L88)^2","v":9.4346911646251122E-6}]
[-20.198307037353516,32.000522613525391,28.301694869995117,96.601272583007813,57.800151824951172,13.600009918212891,15.20148754119873,-13.699274063110352,53.996162414550781,40.401699066162109,49.700649261474609,79.704048156738281,null,{"$f":"(A91-x!A89)^2","v":2.8661225223889729E-6},{"$f":"(B91-x!B89)^2","v":2.7312489692121744E-7},{"$f":"(C91-x!C89)^2","v":2.8725843003461265E-6},{"$f":"(D91-x!D89)^2","v":1.6194675117875771E-6},{"$f":"(E91-x!E89)^2","v":2.3050815799205251E-8},{"$f":"(F91-x!F89)^2","v":9.8370946950807235E-11},{"$f":"(G91-x!G89)^2","v":2.2127788179225937E-6},{"$f":"(H91-x!H89)^2","v":5.2698436775141609E-7},{"$f":"(I91-x!I89)^2","v":1.4727062080055475E-5},{"$f":"(J91-x!J89)^2","v":2.88682582322991E-6},{"$f":"(K91-x!K89)^2","v":4.2154046240824948E-7},{"$f":"(L91-x!L89)^2","v":1.6387572977668879E-5}]
[88.897979736328125,37.898303985595703,83.897377014160156,59.499080657958984,73.598426818847656,38.100639343261719,12.098955154418945,17.001319885253906,4.3002090454101562,76.8955078125,19.698522567749023,63.296028137207031,null,{"$f":"(A92-x!A90)^2","v":4.0814653039208254E-6},{"$f":"(B92-x!B90)^2","v":2.8764648595776634E-6},{"$f":"(C92-x!C90)^2","v":6.8800547160506425E-6},{"$f":"(D92-x!D90)^2","v":8.4518978837877512E-7},{"$f":"(E92-x!E90)^2","v":2.4748989380717242E-6},{"$f":"(F92-x!F90)^2","v":4.0875980630335294E-7},{"$f":"(G92-x!G90)^2","v":1.0917022882487652E-6},{"$f":"(H92-x!H90)^2","v":1.742097083479166E-6},{"$f":"(I92-x!I90)^2","v":4.3699983507469058E-8},{"$f":"(J92-x!J90)^2","v":2.0179748535207319E-5},{"$f":"(K92-x!K90)^2","v":2.1828060562235727E-6},{"$f":"(L92-x!L90)^2","v":1.5775694046146943E-5}]
[98.700859069824219,2.3000819683074951,24.499828338623047,1.4001035690307617,84.799064636230469,39.199661254882813,9.2999086380004883,30.600105285644531,82.097274780273437,93.898216247558594,71.698638916015625,37.199699401855469,null,{"$f":"(A93-x!A91)^2","v":7.3800096287835079E-7},{"$f":"(B93-x!B91)^2","v":6.7188034336432055E-9},{"$f":"(C93-x!C91)^2","v":2.9467628337442875E-8},{"$f":"(D93-x!D91)^2","v":1.0726544132940242E-8},{"$f":"(E93-x!E91)^2","v":8.7490538134639245E-7},{"$f":"(F93-x!F91)^2","v":1.1474825442029865E-7},{"$f":"(G93-x!G91)^2","v":8.3470149549091309E-9},{"$f":"(H93-x!H91)^2","v":1.1085066944061494E-8},{"$f":"(I93-x!I91)^2","v":7.4268225580144051E-6},{"$f":"(J93-x!J91)^2","v":3.1817727722430363E-6},{"$f":"(K93-x!K91)^2","v":1.8525496125298621E-6},{"$f":"(L93-x!L91)^2","v":9.0359244497338962E-8}]
[59.199920654296875,13.099678039550781,40.800544738769531,55.900638580322266,39.29949951171875,20.999635696411133,50.898807525634766,18.197299957275391,0.10329532623291016,17.398527145385742,61.601081848144531,66.799064636230469,null,{"$f":"(A94-x!A92)^2","v":6.2957406048516631E-9},{"$f":"(B94-x!B92)^2","v":1.0365853086091053E-7},{"$f":"(C94-x!C92)^2","v":2.9674032703351679E-7},{"$f":"(D94-x!D92)^2","v":4.0778482798668444E-7},{"$f":"(E94-x!E92)^2","v":2.5048851966573416E-7},{"$f":"(F94-x!F92)^2","v":1.3271710486151278E-7},{"$f":"(G94-x!G92)^2","v":1.4219951117377363E-6},{"$f":"(H94-x!H92)^2","v":7.2902307147121806E-6},{"$f":"(I94-x!I92)^2","v":1.0859174981305804E-5},{"$f":"(J94-x!J92)^2","v":2.1693007147363435E-6},{"$f":"(K94-x!K92)^2","v":1.1703954078226335E-6},{"$f":"(L94-x!L92)^2","v":8.7490538134639245E-7}]
[-17.803804397583008,52.198379516601563,89.997238159179688,36.598125457763672,-79.401496887207031,40.500991821289063,27.999889373779297,28.102067947387695,92.202033996582031,44.497512817382813,-68.601181030273438,85.397064208984375,null,{"$f":"(A95-x!A93)^2","v":1.4473440969590279E-5},{"$f":"(B95-x!B93)^2","v":2.6259664446207606E-6},{"$f":"(C95-x!C93)^2","v":7.6277647167444229E-6},{"$f":"(D95-x!D93)^2","v":3.5139085957833758E-6},{"$f":"(E95-x!E93)^2","v":2.2406713105567987E-6},{"$f":"(F95-x!F93)^2","v":9.8370946943759918E-7},{"$f":"(G95-x!G93)^2","v":1.2238160707056522E-8},{"$f":"(H95-x!H93)^2","v":4.27640639826999E-6},{"$f":"(I95-x!I93)^2","v":4.1371420957032454E-6},{"$f":"(J95-x!J93)^2","v":6.1860773712396622E-6},{"$f":"(K95-x!K93)^2","v":1.3948325067892828E-6},{"$f":"(L95-x!L93)^2","v":8.6188688874578443E-6}]
[20.297605514526367,49.298484802246094,74.896415710449219,62.498065948486328,39.398674011230469,11.601224899291992,90.798851013183594,93.90350341796875,10.998567581176758,75.195426940917969,42.896957397460938,48.894783020019531,null,{"$f":"(A96-x!A94)^2","v":5.7335606834419575E-6},{"$f":"(B96-x!B94)^2","v":2.2958242334339318E-6},{"$f":"(C96-x!C94)^2","v":1.2847131583880403E-5},{"$f":"(D96-x!D94)^2","v":3.7405552575364709E-6},{"$f":"(E96-x!E94)^2","v":1.7582462169192297E-6},{"$f":"(F96-x!F94)^2","v":1.5003782755238326E-6},{"$f":"(G96-x!G94)^2","v":1.3201707042688384E-6},{"$f":"(H96-x!H94)^2","v":1.2273937463720546E-5},{"$f":"(I96-x!I94)^2","v":2.0518236851785332E-6},{"$f":"(J96-x!J94)^2","v":2.0912869367774495E-5},{"$f":"(K96-x!K94)^2","v":9.2574302107009238E-6},{"$f":"(L96-x!L94)^2","v":2.7216880116596893E-5}]
[63.395973205566406,68.79815673828125,18.096099853515625,94.496688842773438,-35.701045989990234,52.901119232177734,9.5979814529418945,0.99856442213058472,39.103549957275391,79.4954833984375,83.295974731445313,90.293144226074219,null,{"$f":"(A97-x!A95)^2","v":1.6215073410410166E-5},{"$f":"(B97-x!B95)^2","v":3.3976137637987262E-6},{"$f":"(C97-x!C95)^2","v":1.5211142599593757E-5},{"$f":"(D97-x!D95)^2","v":1.0963762179017067E-5},{"$f":"(E97-x!E95)^2","v":1.0940950596645622E-6},{"$f":"(F97-x!F95)^2","v":1.2526806676792126E-6},{"$f":"(G97-x!G95)^2","v":4.0745322257848082E-6},{"$f":"(H97-x!H95)^2","v":2.0608838191549239E-6},{"$f":"(I97-x!I95)^2","v":1.260219665708874E-5},{"$f":"(J97-x!J95)^2","v":2.0399689674377441E-5},{"$f":"(K97-x!K95)^2","v":1.6202786937333116E-5},{"$f":"(L97-x!L95)^2","v":4.700163612138308E-5}]
[18.601274490356445,60.300247192382813,82.700889587402344,51.801078796386719,90.201377868652344,79.999763488769531,9.5014219284057617,49.800975799560547,43.398216247558594,32.902591705322266,89.601570129394531,15.403104782104492,null,{"$f":"(A98-x!A96)^2","v":1.6243256686684773E-6},{"$f":"(B98-x!B96)^2","v":6.1104074121926667E-8},{"$f":"(C98-x!C96)^2","v":7.9136574640364423E-7},{"$f":"(D98-x!D96)^2","v":1.1638016440035631E-6},{"$f":"(E98-x!E96)^2","v":1.8985220231037495E-6},{"$f":"(F98-x!F96)^2","v":5.5937562137842178E-8},{"$f":"(G98-x!G96)^2","v":2.0218803911120631E-6},{"$f":"(H98-x!H96)^2","v":9.5218478236902116E-7},{"$f":"(I98-x!I96)^2","v":3.1817727722176876E-6},{"$f":"(J98-x!J96)^2","v":6.7169364774673336E-6},{"$f":"(K98-x!K96)^2","v":2.4653063155889201E-6},{"$f":"(L98-x!L96)^2","v":9.6396719163727305E-6}]
[15.20030689239502,17.499494552612305,96.598899841308594,96.899009704589844,39.599048614501953,43.100612640380859,44.800579071044922,30.001768112182617,48.896152496337891,70.798019409179687,41.098030090332031,43.498043060302734,null,{"$f":"(A99-x!A97)^2","v":9.418294212126013E-8},{"$f":"(B99-x!B97)^2","v":2.5547706172801554E-7},{"$f":"(C99-x!C97)^2","v":1.2103491462642051E-6},{"$f":"(D99-x!D97)^2","v":9.806849993877938E-7},{"$f":"(E99-x!E97)^2","v":9.0513436589660434E-7},{"$f":"(F99-x!F97)^2","v":3.7532823625777883E-7},{"$f":"(G99-x!G97)^2","v":3.3532327507020382E-7},{"$f":"(H99-x!H97)^2","v":3.1262206903193146E-6},{"$f":"(I99-x!I97)^2","v":1.4803284429934116E-5},{"$f":"(J99-x!J97)^2","v":3.9227399974948831E-6},{"$f":"(K99-x!K97)^2","v":3.8805440999623501E-6},{"$f":"(L99-x!L97)^2","v":3.829612978734076E-6}]
[7.5027084350585938,49.901401519775391,37.003166198730469,85.602622985839844,28.000009536743164,7.1986017227172852,81.89984130859375,71.199195861816406,59.0001220703125,4.2024993896484375,8.6020870208740234,37.103946685791016,null,{"$f":"(A100-x!A98)^2","v":7.33562046661973E-6},{"$f":"(B100-x!B98)^2","v":1.9642576808149713E-6},{"$f":"(C100-x!C98)^2","v":1.0024814400821924E-5},{"$f":"(D100-x!D98)^2","v":6.8800547160506425E-6},{"$f":"(E100-x!E98)^2","v":9.0949470177292824E-11},{"$f":"(F100-x!F98)^2","v":1.9551793593569038E-6},{"$f":"(G100-x!G98)^2","v":2.5182962419406652E-8},{"$f":"(H100-x!H98)^2","v":6.4663821831802659E-7},{"$f":"(I100-x!I98)^2","v":1.4901161193847656E-8},{"$f":"(J100-x!J98)^2","v":6.2469486147156419E-6},{"$f":"(K100-x!K98)^2","v":4.3556561286110358E-6},{"$f":"(L100-x!L98)^2","v":1.5576328732993414E-5}]
[79.599662780761719,39.001060485839844,2.5017910003662109,27.20033073425293,56.999866485595703,59.499549865722656,54.101001739501953,76.600654602050781,20.699752807617188,14.701542854309082,94.201469421386719,40.602848052978516,null,{"$f":"(A101-x!A99)^2","v":1.1371681466315272E-7},{"$f":"(B101-x!B99)^2","v":1.1246302165091038E-6},{"$f":"(C101-x!C99)^2","v":3.2076823117677122E-6},{"$f":"(D101-x!D99)^2","v":1.0938514606142851E-7},{"$f":"(E101-x!E99)^2","v":1.7826096154749393E-8},{"$f":"(F101-x!F99)^2","v":2.0262086763978004E-7},{"$f":"(G101-x!G99)^2","v":1.0034820297704478E-6},{"$f":"(H101-x!H99)^2","v":4.2850384489446015E-7},{"$f":"(I101-x!I99)^2","v":6.1104074120170264E-8},{"$f":"(J101-x!J99)^2","v":2.3803994190551844E-6},{"$f":"(K101-x!K99)^2","v":2.1591992117381013E-6},{"$f":"(L101-x!L99)^2","v":8.111405768423628E-6}]
[65.200607299804688,69.899177551269531,84.398704528808594,49.098670959472656,51.59918212890625,71.499588012695313,10.999444007873535,75.501670837402344,9.896153450012207,66.696662902832031,-78.801254272460937,78.898048400878906,null,{"$f":"(A102-x!A100)^2","v":3.6881305277002356E-7},{"$f":"(B102-x!B100)^2","v":6.7642191425900878E-7},{"$f":"(C102-x!C100)^2","v":1.6782456077782567E-6},{"$f":"(D102-x!D100)^2","v":1.7663487233259304E-6},{"$f":"(E102-x!E100)^2","v":6.6891312599414577E-7},{"$f":"(F102-x!F100)^2","v":1.6973353922367096E-7},{"$f":"(G102-x!G100)^2","v":3.0912724469089881E-7},{"$f":"(H102-x!H100)^2","v":2.7916976250708103E-6},{"$f":"(I102-x!I100)^2","v":1.4795946808592821E-5},{"$f":"(J102-x!J100)^2","v":1.1136217508484021E-5},{"$f":"(K102-x!K100)^2","v":1.5731994062733422E-6},{"$f":"(L102-x!L100)^2","v":3.8087391294760846E-6}]
[]
[null,null,null,null,null,null,null,null,null,null,null,null,null,{"$f":"SQRT(SUM(N3:N102)/100)","v":2.4499128584829374E-3},{"$f":"SQRT(SUM(O3:O102)/100)","v":1.2807081963423163E-3},{"$f":"SQRT(SUM(P3:P102)/100)","v":2.4698428490314141E-3},2.097970443622285E-3,1.5562297270157227E-3,1.1880051267804527E-3,1.2213869627656635E-3,1.7486660887022127E-3,2.7022366428700148E-3,3.4116223452262226E-3,2.4710896780792469E-3,4.1849466431882493E-3]

{"sheet":"SNP","index":9,"n_rows":104,"n_cols":25,"rows_kept":104,"cut":false,"hidden":false,"merged":[[0,0,0,11],[0,13,0,24]]}
["Solution Vectors, x, for Each Input b Vector Using Excel Minverse",null,null,null,null,null,null,null,null,null,null,null,null,"Square of the Error for Each Solution Value in Each x Solution Using Excel Minverse"]
["x1","x2","x3","x4","x5","x6","x7","x8","x9","x10","x11","x12",null,"Esqd1","Esqd2","Esqd3","Esqd4","Esqd5","Esqd6","Esqd7","Esqd8","Esqd9","Esqd10","Esqd11","Esqd12"]
[{"$f":"gaussianSNP(A,b)","v":32.373031616210938},80.087013244628906,63.190502166748047,84.098617553710938,92.401077270507813,63.704128265380859,14.680424690246582,39.911525726318359,48.899288177490234,26.387052536010742,79.998908996582031,65.215919494628906,null,{"$f":"(A3-x!A1)^2","v":7.2729372419409245E-4},{"$f":"(B3-x!B1)^2","v":1.6865581506848471E-4},{"$f":"(C3-x!C1)^2","v":9.0208836481960467E-5},{"$f":"(D3-x!D1)^2","v":1.9111577421269607E-6},{"$f":"(E3-x!E1)^2","v":1.1605117469903545E-6},{"$f":"(F3-x!F1)^2","v":1.7042575054778536E-5},{"$f":"(G3-x!G1)^2","v":3.8319275194223284E-4},{"$f":"(H3-x!H1)^2","v":1.3284236716575471E-4},{"$f":"(I3-x!I1)^2","v":5.0669128540701013E-7},{"$f":"(J3-x!J1)^2","v":1.6763682375309103E-4},{"$f":"(K3-x!K1)^2","v":1.190288458019495E-6},{"$f":"(L3-x!L1)^2","v":2.5343030923968444E-4}]
[5.1018199920654297,15.998715400695801,58.500965118408203,77.844589233398438,34.583789825439453,51.995719909667969,84.528312683105469,56.899543762207031,50.723133087158203,58.897117614746094,96.418746948242188,75.368362426757813,null,{"$f":"(A4-x!A2)^2","v":3.312371118228313E-6},{"$f":"(B4-x!B2)^2","v":1.650195372349117E-6},{"$f":"(C4-x!C2)^2","v":9.3145354185253382E-7},{"$f":"(D4-x!D2)^2","v":1.9881997350605879E-3},{"$f":"(E4-x!E2)^2","v":2.6276975928344714E-4},{"$f":"(F4-x!F2)^2","v":1.8319173250347376E-5},{"$f":"(G4-x!G2)^2","v":8.0160802463069558E-4},{"$f":"(H4-x!H2)^2","v":2.0815292373169928E-7},{"$f":"(I4-x!I2)^2","v":5.3513972146889083E-4},{"$f":"(J4-x!J2)^2","v":8.3081447519280046E-6},{"$f":"(K4-x!K2)^2","v":3.5144806839504389E-4},{"$f":"(L4-x!L2)^2","v":1.0009360406551381E-3}]
[64.811065673828125,92.1905517578125,85.496536254882813,73.311431884765625,85.496345520019531,34.803325653076172,-18.892301559448242,14.393570899963379,53.296371459960938,76.787345886230469,68.102508544921875,34.186023712158203,null,{"$f":"(A5-x!A3)^2","v":1.2244913727051348E-4},{"$f":"(B5-x!B3)^2","v":8.9269280433708497E-5},{"$f":"(C5-x!C3)^2","v":1.1997530236840248E-5},{"$f":"(D5-x!D3)^2","v":1.3068798929459394E-4},{"$f":"(E5-x!E3)^2","v":1.3355223927646875E-5},{"$f":"(F5-x!F3)^2","v":1.1059968383070359E-5},{"$f":"(G5-x!G3)^2","v":5.926598692892725E-5},{"$f":"(H5-x!H3)^2","v":4.1333327280885917E-5},{"$f":"(I5-x!I3)^2","v":1.3166302815059063E-5},{"$f":"(J5-x!J3)^2","v":1.6012659529216844E-4},{"$f":"(K5-x!K3)^2","v":6.2927976250933687E-6},{"$f":"(L5-x!L3)^2","v":1.9533662183683859E-4}]
[4.0228133201599121,25.618425369262695,74.2479248046875,63.714874267578125,87.717681884765625,86.523941040039063,84.017631530761719,25.010011672973633,68.703147888183594,74.625022888183594,50.031147003173828,95.013519287109375,null,{"$f":"(A6-x!A4)^2","v":5.2044757671865227E-4},{"$f":"(B6-x!B4)^2","v":3.3949423246662486E-4},{"$f":"(C6-x!C4)^2","v":2.2967869043347498E-3},{"$f":"(D6-x!D4)^2","v":2.2124383598557599E-4},{"$f":"(E6-x!E4)^2","v":3.1264904886474094E-4},{"$f":"(F6-x!F4)^2","v":5.7317339815199375E-4},{"$f":"(G6-x!G4)^2","v":3.1087087700143456E-4},{"$f":"(H6-x!H4)^2","v":1.0023359573096968E-4},{"$f":"(I6-x!I4)^2","v":9.9092000163912648E-6},{"$f":"(J6-x!J4)^2","v":6.2614493304892016E-4},{"$f":"(K6-x!K4)^2","v":9.7013580671045929E-4},{"$f":"(L6-x!L4)^2","v":1.8277112394571304E-4}]
[39.915634155273438,83.22698974609375,9.9115257263183594,23.648641586303711,58.427932739257813,95.875648498535156,23.201555252075195,64.383865356445313,80.881988525390625,26.635414123535156,-10.108953475952148,-16.786741256713867,null,{"$f":"(A7-x!A5)^2","v":2.4442681111399802E-4},{"$f":"(B7-x!B5)^2","v":7.2844639420493996E-4},{"$f":"(C7-x!C5)^2","v":1.3284236716571375E-4},{"$f":"(D7-x!D5)^2","v":2.6376866573990989E-3},{"$f":"(E7-x!E5)^2","v":7.8023792244501906E-4},{"$f":"(F7-x!F5)^2","v":5.9299562359256411E-4},{"$f":"(G7-x!G5)^2","v":2.418809017401536E-6},{"$f":"(H7-x!H5)^2","v":2.6032672263700233E-4},{"$f":"(I7-x!I5)^2","v":3.244132176043651E-4},{"$f":"(J7-x!J5)^2","v":1.2541601457632071E-3},{"$f":"(K7-x!K5)^2","v":8.0164731625706728E-5},{"$f":"(L7-x!L5)^2","v":1.7579427352759077E-4}]
[60.064193725585938,34.229499816894531,44.171806335449219,39.099372863769531,70.970291137695312,3.2050786018371582,13.700442314147949,88.200706481933594,71.20684814453125,78.725868225097656,21.79071044921875,99.109672546386719,null,{"$f":"(A8-x!A6)^2","v":1.2820892874152486E-3},{"$f":"(B8-x!B6)^2","v":8.7023919681070367E-4},{"$f":"(C8-x!C6)^2","v":7.9488272080213956E-4},{"$f":"(D8-x!D6)^2","v":3.9329985156833555E-7},{"$f":"(E8-x!E6)^2","v":8.8261649943888187E-4},{"$f":"(F8-x!F6)^2","v":2.5792196620384873E-5},{"$f":"(G8-x!G6)^2","v":1.9564180547667193E-7},{"$f":"(H8-x!H6)^2","v":4.9911672249034791E-7},{"$f":"(I8-x!I6)^2","v":4.6897083520850353E-5},{"$f":"(J8-x!J6)^2","v":6.6916506970286565E-4},{"$f":"(K8-x!K6)^2","v":8.6295753717435686E-5},{"$f":"(L8-x!L6)^2","v":9.3558153603335917E-5}]
[-46.095352172851563,96.898117065429688,1.8957756757736206,88.015037536621094,85.092750549316406,43.411533355712891,86.503692626953125,28.402835845947266,64.506523132324219,36.790821075439453,42.896312713623047,76.38824462890625,null,{"$f":"(A9-x!A7)^2","v":2.1602297201765874E-5},{"$f":"(B9-x!B7)^2","v":3.5454425960993255E-6},{"$f":"(C9-x!C7)^2","v":1.7844915169575119E-5},{"$f":"(D9-x!D7)^2","v":2.2612750763073564E-4},{"$f":"(E9-x!E7)^2","v":5.2554535213775472E-5},{"$f":"(F9-x!F7)^2","v":1.3301829400009959E-4},{"$f":"(G9-x!G7)^2","v":1.3635493814945221E-5},{"$f":"(H9-x!H7)^2","v":8.0420222366309295E-6},{"$f":"(I9-x!I7)^2","v":4.2551255319267511E-5},{"$f":"(J9-x!J7)^2","v":8.4252656088158471E-5},{"$f":"(K9-x!K7)^2","v":1.3596080825653623E-5},{"$f":"(L9-x!L7)^2","v":1.3818874955190671E-4}]
[67.105255126953125,79.183250427246094,3.370455265045166,43.882801055908203,3.5944473743438721,15.867656707763672,30.398445129394531,68.093780517578125,9.9003324508666992,6.4965786933898926,89.175849914550781,56.988842010498047,null,{"$f":"(A10-x!A8)^2","v":2.7616359293520589E-5},{"$f":"(B10-x!B8)^2","v":2.805481874384938E-4},{"$f":"(C10-x!C8)^2","v":8.7289136355138386E-4},{"$f":"(D10-x!D8)^2","v":2.9580367787270575E-4},{"$f":"(E10-x!E8)^2","v":3.0831651677091105E-5},{"$f":"(F10-x!F8)^2","v":1.0460885526845461E-3},{"$f":"(G10-x!G8)^2","v":2.417622599746338E-6},{"$f":"(H10-x!H8)^2","v":3.8681961595941407E-5},{"$f":"(I10-x!I8)^2","v":1.1052357876882549E-7},{"$f":"(J10-x!J8)^2","v":1.1705338920364738E-5},{"$f":"(K10-x!K8)^2","v":5.8322662720470446E-4},{"$f":"(L10-x!L8)^2","v":1.2450072972569615E-4}]
[61.290359497070313,72.096435546875,67.314262390136719,39.795040130615234,96.11376953125,98.791282653808594,19.689786911010742,90.634597778320313,74.40362548828125,27.436801910400391,51.795818328857422,62.915008544921875,null,{"$f":"(A11-x!A9)^2","v":9.2939296737258476E-5},{"$f":"(B11-x!B9)^2","v":1.2705326080281742E-5},{"$f":"(C11-x!C9)^2","v":2.0341577241205335E-4},{"$f":"(D11-x!D9)^2","v":2.4600304313907147E-5},{"$f":"(E11-x!E9)^2","v":1.895999908448831E-4},{"$f":"(F11-x!F9)^2","v":7.5992124620775505E-5},{"$f":"(G11-x!G9)^2","v":1.0430718670248465E-4},{"$f":"(H11-x!H9)^2","v":1.1970062647018789E-3},{"$f":"(I11-x!I9)^2","v":1.3144165277439861E-5},{"$f":"(J11-x!J9)^2","v":1.3543806091184842E-3},{"$f":"(K11-x!K9)^2","v":1.7486373544646873E-5},{"$f":"(L11-x!L9)^2","v":2.252564206719825E-4}]
[9.6031713485717773,18.503082275390625,8.8039941787719727,85.818695068359375,70.295028686523438,21.409610748291016,24.502529144287109,63.088645935058594,8.8010263442993164,80.28271484375,32.413772583007812,67.085273742675781,null,{"$f":"(A12-x!A10)^2","v":1.0057451763716451E-5},{"$f":"(B12-x!B10)^2","v":9.5004215836524963E-6},{"$f":"(C12-x!C10)^2","v":1.595346406247132E-5},{"$f":"(D12-x!D10)^2","v":3.4950558096181051E-4},{"$f":"(E12-x!E10)^2","v":2.4713957682223673E-5},{"$f":"(F12-x!F10)^2","v":9.236648271328707E-5},{"$f":"(G12-x!G10)^2","v":6.3965708250179887E-6},{"$f":"(H12-x!H10)^2","v":1.2891479069370278E-4},{"$f":"(I12-x!I10)^2","v":1.0533826207378265E-6},{"$f":"(J12-x!J10)^2","v":2.987766265868158E-4},{"$f":"(K12-x!K10)^2","v":1.8968404270712475E-4},{"$f":"(L12-x!L10)^2","v":2.1686265477893895E-4}]
[61.297637939453125,81.087272644042969,85.296707153320313,9.1013994216918945,63.893440246582031,69.104301452636719,11.692509651184082,73.494667053222656,67.596702575683594,70.286376953125,19.911251068115234,30.698545455932617,null,{"$f":"(A13-x!A11)^2","v":5.5793300270899971E-6},{"$f":"(B13-x!B11)^2","v":1.6198558965683414E-4},{"$f":"(C13-x!C11)^2","v":1.0842839255910275E-5},{"$f":"(D13-x!D11)^2","v":1.9583810717459466E-6},{"$f":"(E13-x!E11)^2","v":4.3030364904534052E-5},{"$f":"(F13-x!F11)^2","v":1.8502494785983588E-5},{"$f":"(G13-x!G11)^2","v":5.6105325384113072E-5},{"$f":"(H13-x!H11)^2","v":2.8440321329981089E-5},{"$f":"(I13-x!I11)^2","v":1.0873007122389737E-5},{"$f":"(J13-x!J11)^2","v":1.8558740615836982E-4},{"$f":"(K13-x!K11)^2","v":1.2658653373367557E-4},{"$f":"(L13-x!L11)^2","v":2.1156984439564686E-6}]
[93.992584228515625,46.891185760498047,19.386013031005859,58.202312469482422,-71.397689819335937,80.465400695800781,77.804916381835938,70.206817626953125,82.01641845703125,59.608810424804688,67.592514038085938,74.2799072265625,null,{"$f":"(A14-x!A12)^2","v":5.4993666708469391E-5},{"$f":"(B14-x!B12)^2","v":7.7690817997765819E-5},{"$f":"(C14-x!C12)^2","v":1.9563530164301145E-4},{"$f":"(D14-x!D12)^2","v":5.3475151071193494E-6},{"$f":"(E14-x!E12)^2","v":5.3369347006345172E-6},{"$f":"(F14-x!F12)^2","v":1.1971118510700762E-3},{"$f":"(G14-x!G12)^2","v":2.4170810356764131E-5},{"$f":"(H14-x!H12)^2","v":4.6480037271937715E-5},{"$f":"(I14-x!I12)^2","v":2.6956573128700256E-4},{"$f":"(J14-x!J12)^2","v":7.762358523902773E-5},{"$f":"(K14-x!K12)^2","v":5.6039625778709182E-5},{"$f":"(L14-x!L12)^2","v":4.0371954441059134E-4}]
[66.881210327148438,51.291172027587891,9.5875997543334961,20.789165496826172,15.59511661529541,37.40997314453125,0.38817068934440613,78.486701965332031,10.994511604309082,63.87799072265625,79.893836975097656,81.604202270507812,null,{"$f":"(A15-x!A13)^2","v":3.5305180586895848E-4},{"$f":"(B15-x!B13)^2","v":7.793309690891404E-5},{"$f":"(C15-x!C13)^2","v":1.5376609258964009E-4},{"$f":"(D15-x!D13)^2","v":1.1738645902370711E-4},{"$f":"(E15-x!E13)^2","v":2.3847446173018566E-5},{"$f":"(F15-x!F13)^2","v":9.9463611841230125E-5},{"$f":"(G15-x!G13)^2","v":1.3993259058654725E-4},{"$f":"(H15-x!H13)^2","v":1.7683772603049874E-4},{"$f":"(I15-x!I13)^2","v":3.0122487260086928E-5},{"$f":"(J15-x!J13)^2","v":4.844082891940445E-4},{"$f":"(K15-x!K13)^2","v":3.7982875946979254E-5},{"$f":"(L15-x!L13)^2","v":1.76590774208785E-5}]
[31.818292617797852,97.372314453125,57.682186126708984,5.0035419464111328,11.195802688598633,87.875320434570313,6.200706958770752,47.587917327880859,53.802017211914062,95.568473815917969,88.095024108886719,70.370330810546875,null,{"$f":"(A16-x!A14)^2","v":3.3461986589824978E-4},{"$f":"(B16-x!B14)^2","v":7.6648950576813698E-4},{"$f":"(C16-x!C14)^2","v":3.1733408162846111E-4},{"$f":"(D16-x!D14)^2","v":1.254538437933661E-5},{"$f":"(E16-x!E14)^2","v":1.7617423000041018E-5},{"$f":"(F16-x!F14)^2","v":6.090809497985069E-4},{"$f":"(G16-x!G14)^2","v":4.9979070354286142E-7},{"$f":"(H16-x!H14)^2","v":1.4599096553869254E-4},{"$f":"(I16-x!I14)^2","v":4.0691439062471612E-6},{"$f":"(J16-x!J14)^2","v":9.9390028277376212E-4},{"$f":"(K16-x!K14)^2","v":2.4759492371174747E-5},{"$f":"(L16-x!L14)^2","v":8.80260802805761E-4}]
[94.869430541992188,54.094280242919922,95.697944641113281,7.2718162536621094,8.5050516128540039,69.10150146484375,72.679794311523438,53.823177337646484,60.986438751220703,42.533176422119141,40.390090942382813,86.729202270507813,null,{"$f":"(A17-x!A15)^2","v":9.3449176289175928E-4},{"$f":"(B17-x!B15)^2","v":3.2715621055120093E-5},{"$f":"(C17-x!C15)^2","v":4.2245001532254226E-6},{"$f":"(D17-x!D15)^2","v":7.9432355763855316E-4},{"$f":"(E17-x!E15)^2","v":2.5518792426737491E-5},{"$f":"(F17-x!F15)^2","v":2.2543966770342816E-6},{"$f":"(G17-x!G15)^2","v":4.0826984681200545E-4},{"$f":"(H17-x!H15)^2","v":5.3718898037927361E-4},{"$f":"(I17-x!I15)^2","v":1.8390746845398098E-4},{"$f":"(J17-x!J15)^2","v":1.1006749846274033E-3},{"$f":"(K17-x!K15)^2","v":9.818942286071345E-5},{"$f":"(L17-x!L15)^2","v":8.5277260281128972E-4}]
[66.257621765136719,75.304008483886719,-86.203468322753906,56.509914398193359,97.484825134277344,85.729438781738281,22.495569229125977,22.789346694946289,34.803104400634766,36.496604919433594,99.920379638671875,21.4178466796875,null,{"$f":"(A18-x!A16)^2","v":1.7959147901271855E-3},{"$f":"(B18-x!B16)^2","v":1.6067943070106644E-5},{"$f":"(C18-x!C16)^2","v":1.2029262725244119E-5},{"$f":"(D18-x!D16)^2","v":9.8295291536487639E-5},{"$f":"(E18-x!E16)^2","v":2.3027654970064759E-4},{"$f":"(F18-x!F16)^2","v":8.6664187023399427E-4},{"$f":"(G18-x!G16)^2","v":1.9631730538094416E-5},{"$f":"(H18-x!H16)^2","v":1.1349290856743814E-4},{"$f":"(I18-x!I16)^2","v":9.6373033011508617E-6},{"$f":"(J18-x!J16)^2","v":1.1526572052389383E-5},{"$f":"(K18-x!K16)^2","v":4.1532967239595134E-4},{"$f":"(L18-x!L16)^2","v":3.1850397586827582E-4}]
[53.293285369873047,74.888946533203125,30.592031478881836,30.962310791015625,13.01072883605957,46.612751007080078,98.272994995117187,50.788799285888672,60.976036071777344,7.8669905662536621,69.982681274414063,16.213218688964844,null,{"$f":"(A19-x!A17)^2","v":4.5086257741748369E-5},{"$f":"(B19-x!B17)^2","v":1.2217912822974373E-4},{"$f":"(C19-x!C17)^2","v":6.3497328810649287E-5},{"$f":"(D19-x!D17)^2","v":1.4204764738678932E-3},{"$f":"(E19-x!E17)^2","v":1.1510792319313623E-4},{"$f":"(F19-x!F17)^2","v":1.6258818155616623E-4},{"$f":"(G19-x!G17)^2","v":7.2927028872057345E-4},{"$f":"(H19-x!H17)^2","v":1.2545599660364131E-4},{"$f":"(I19-x!I17)^2","v":5.7426985586062074E-4},{"$f":"(J19-x!J17)^2","v":1.0896227162538942E-3},{"$f":"(K19-x!K17)^2","v":2.999382559210062E-4},{"$f":"(L19-x!L17)^2","v":1.7473373794930073E-4}]
[16.912025451660156,18.991249084472656,8.8160686492919922,22.83753776550293,64.492515563964844,67.919807434082031,75.422714233398438,29.601221084594727,33.70733642578125,42.378284454345703,21.712854385375977,72.178916931152344,null,{"$f":"(A20-x!A18)^2","v":1.4461148763078889E-4},{"$f":"(B20-x!B18)^2","v":7.6578522566705942E-5},{"$f":"(C20-x!C18)^2","v":2.5820149006901819E-4},{"$f":"(D20-x!D18)^2","v":1.4090838389528848E-3},{"$f":"(E20-x!E18)^2","v":5.6016782764345407E-5},{"$f":"(F20-x!F18)^2","v":3.9233444491378798E-4},{"$f":"(G20-x!G18)^2","v":5.1593639887843531E-4},{"$f":"(H20-x!H18)^2","v":1.4910475874750628E-6},{"$f":"(I20-x!I18)^2","v":5.3823143243747968E-5},{"$f":"(J20-x!J18)^2","v":4.7156492306379017E-4},{"$f":"(K20-x!K18)^2","v":1.6523522339413838E-4},{"$f":"(L20-x!L18)^2","v":4.4449579203513327E-4}]
[75.983871459960938,0.37261700630187988,85.383773803710938,33.278099060058594,59.19989013671875,99.596244812011719,36.278999328613281,37.400524139404297,39.293041229248047,82.995567321777344,83.384521484375,86.513587951660156,null,{"$f":"(A21-x!A19)^2","v":2.6012980379164219E-4},{"$f":"(B21-x!B19)^2","v":7.4982834387128726E-4},{"$f":"(C21-x!C19)^2","v":2.6328944601137014E-4},{"$f":"(D21-x!D19)^2","v":4.796511703169591E-4},{"$f":"(E21-x!E19)^2","v":1.2069940567641102E-8},{"$f":"(F21-x!F19)^2","v":1.4101436827289089E-5},{"$f":"(G21-x!G19)^2","v":4.4102819869282824E-4},{"$f":"(H21-x!H19)^2","v":2.7472211513817268E-7},{"$f":"(I21-x!I19)^2","v":4.8424490378198703E-5},{"$f":"(J21-x!J19)^2","v":1.9648636225610971E-5},{"$f":"(K21-x!K19)^2","v":2.395844459535451E-4},{"$f":"(L21-x!L19)^2","v":1.8463243031874299E-4}]
[98.594757080078125,-94.598960876464844,74.900871276855469,91.178451538085938,0.70860457420349121,8.8849878311157227,34.096298217773437,25.331693649291992,77.802970886230469,24.238283157348633,18.184341430664063,88.218528747558594,null,{"$f":"(A22-x!A20)^2","v":2.748820930713415E-5},{"$f":"(B22-x!B20)^2","v":1.0797777213038089E-6},{"$f":"(C22-x!C20)^2","v":7.5912335886560784E-7},{"$f":"(D22-x!D20)^2","v":4.6433621086192458E-4},{"$f":"(E22-x!E20)^2","v":7.4038697223387177E-5},{"$f":"(F22-x!F20)^2","v":2.2536521461007553E-4},{"$f":"(G22-x!G20)^2","v":1.3703191652904541E-5},{"$f":"(H22-x!H20)^2","v":1.0044874054437518E-3},{"$f":"(I22-x!I20)^2","v":8.8261649944057061E-6},{"$f":"(J22-x!J20)^2","v":1.4656001365802329E-3},{"$f":"(K22-x!K20)^2","v":2.4519079364833992E-4},{"$f":"(L22-x!L20)^2","v":3.4331448608998852E-4}]
[33.781536102294922,85.178512573242188,11.594971656799316,73.762733459472656,91.409271240234375,60.522342681884766,41.765003204345703,15.400060653686523,3.6697506904602051,52.379623413085937,30.379064559936523,87.426239013671875,null,{"$f":"(A23-x!A21)^2","v":3.4091551846348429E-4},{"$f":"(B23-x!B21)^2","v":4.6170950867247874E-4},{"$f":"(C23-x!C21)^2","v":2.5284235343857355E-5},{"$f":"(D23-x!D21)^2","v":1.3887950428759423E-3},{"$f":"(E23-x!E21)^2","v":8.5955895483388409E-5},{"$f":"(F23-x!F21)^2","v":4.9919543380383402E-4},{"$f":"(G23-x!G21)^2","v":1.2247757060684138E-3},{"$f":"(H23-x!H21)^2","v":3.6788696888403269E-9},{"$f":"(I23-x!I21)^2","v":9.1502072763433885E-4},{"$f":"(J23-x!J21)^2","v":4.152052942662852E-4},{"$f":"(K23-x!K21)^2","v":4.3829265065136006E-4},{"$f":"(L23-x!L21)^2","v":6.8848583847254483E-4}]
[66.402740478515625,5.1074643135070801,51.284748077392578,33.783271789550781,92.902931213378906,13.070618629455566,1.0927096605300903,4.7923598289489746,12.706205368041992,56.013908386230469,7.4831037521362305,68.500740051269531,null,{"$f":"(A24-x!A22)^2","v":7.5102224945710478E-6},{"$f":"(B24-x!B22)^2","v":5.5715976131983401E-5},{"$f":"(C24-x!C22)^2","v":2.3262114322269978E-4},{"$f":"(D24-x!D22)^2","v":2.7983302483325628E-4},{"$f":"(E24-x!E22)^2","v":8.5920118726456703E-6},{"$f":"(F24-x!F22)^2","v":8.6326493506928912E-4},{"$f":"(G24-x!G22)^2","v":5.3149049586524071E-5},{"$f":"(H24-x!H22)^2","v":5.8372213688923709E-5},{"$f":"(I24-x!I22)^2","v":3.8506592536586773E-5},{"$f":"(J24-x!J22)^2","v":1.9344320753589272E-4},{"$f":"(K24-x!K22)^2","v":2.8548319187393645E-4},{"$f":"(L24-x!L22)^2","v":5.4767588153481483E-7}]
[88.601173400878906,60.586585998535156,9.7033052444458008,50.197883605957031,69.506111145019531,12.699222564697266,80.881874084472656,85.193641662597656,15.290938377380371,47.682586669921875,75.190742492675781,82.598403930664062,null,{"$f":"(A25-x!A23)^2","v":1.3768696226313E-6},{"$f":"(B25-x!B23)^2","v":1.7993543529886839E-4},{"$f":"(C25-x!C23)^2","v":1.092464084650161E-5},{"$f":"(D25-x!D23)^2","v":4.4791237451256413E-6},{"$f":"(E25-x!E23)^2","v":3.7346093449741602E-5},{"$f":"(F25-x!F23)^2","v":6.0440564993658449E-7},{"$f":"(G25-x!G23)^2","v":3.2854881370460734E-4},{"$f":"(H25-x!H23)^2","v":4.0428454522079608E-5},{"$f":"(I25-x!I23)^2","v":8.2113004500583125E-5},{"$f":"(J25-x!J23)^2","v":3.0322406440983179E-4},{"$f":"(K25-x!K23)^2","v":8.5701441858016428E-5},{"$f":"(L25-x!L23)^2","v":2.5474373251018271E-6}]
[90.622077941894531,23.590919494628906,30.49553108215332,80.096420288085938,84.308921813964844,47.374710083007813,82.901763916015625,31.885599136352539,98.597244262695312,54.882808685302734,68.675056457519531,33.974742889404297,null,{"$f":"(A26-x!A24)^2","v":4.8743551829854914E-4},{"$f":"(B26-x!B24)^2","v":8.2455577794488249E-5},{"$f":"(C26-x!C24)^2","v":1.9971226720372215E-5},{"$f":"(D26-x!D24)^2","v":1.281433738764031E-5},{"$f":"(E26-x!E24)^2","v":7.9598764423331674E-5},{"$f":"(F26-x!F24)^2","v":6.3957990147166222E-4},{"$f":"(G26-x!G24)^2","v":3.1113997101583219E-6},{"$f":"(H26-x!H24)^2","v":2.07384873792721E-4},{"$f":"(I26-x!I24)^2","v":7.5940880924149981E-6},{"$f":"(J26-x!J24)^2","v":2.9554130102037222E-4},{"$f":"(K26-x!K24)^2","v":6.221803114750909E-4},{"$f":"(L26-x!L24)^2","v":6.3792163564357907E-4}]
[23.213972091674805,64.696365356445313,26.700326919555664,28.091882705688477,17.904256820678711,67.882858276367188,75.597846984863281,23.899330139160156,40.893749237060547,70.188613891601563,96.07940673828125,77.383216857910156,null,{"$f":"(A27-x!A25)^2","v":1.9521934576916631E-4},{"$f":"(B27-x!B25)^2","v":1.3210633769652046E-5},{"$f":"(C27-x!C25)^2","v":1.0687639587605264E-7},{"$f":"(D27-x!D25)^2","v":6.5890466939913826E-5},{"$f":"(E27-x!E25)^2","v":1.8120522290713146E-5},{"$f":"(F27-x!F25)^2","v":2.9383868910391747E-4},{"$f":"(G27-x!G25)^2","v":4.6354741789155808E-6},{"$f":"(H27-x!H25)^2","v":4.4871354475427023E-7},{"$f":"(I27-x!I25)^2","v":3.9072037325222904E-5},{"$f":"(J27-x!J25)^2","v":1.2964346446103369E-4},{"$f":"(K27-x!K25)^2","v":4.2408242821670011E-4},{"$f":"(L27-x!L25)^2","v":2.8167385840807566E-4}]
[88.434738159179688,57.218299865722656,14.313870429992676,4.6281008720397949,12.99474048614502,48.802753448486328,67.828475952148437,20.387090682983398,21.509212493896484,78.8936767578125,57.008369445800781,33.281856536865234,null,{"$f":"(A28-x!A26)^2","v":1.206739703192912E-3},{"$f":"(B28-x!B26)^2","v":3.3488508546714512E-4},{"$f":"(C28-x!C26)^2","v":1.9238882818170015E-4},{"$f":"(D28-x!D26)^2","v":7.8965900939694802E-4},{"$f":"(E28-x!E26)^2","v":2.7662485990731511E-5},{"$f":"(F28-x!F26)^2","v":7.5814785668782941E-6},{"$f":"(G28-x!G26)^2","v":8.1087985076026413E-4},{"$f":"(H28-x!H26)^2","v":1.6665046583508197E-4},{"$f":"(I28-x!I26)^2","v":8.4870043792761862E-5},{"$f":"(J28-x!J26)^2","v":3.9983391761851671E-5},{"$f":"(K28-x!K26)^2","v":7.0047623012214899E-5},{"$f":"(L28-x!L26)^2","v":3.2918525452249614E-4}]
[99.202033996582031,73.818115234375,53.307182312011719,61.293060302734375,69.105201721191406,-32.189128875732422,8.1890583038330078,38.083713531494141,15.292270660400391,31.595611572265625,18.805326461791992,32.112709045410156,null,{"$f":"(A29-x!A27)^2","v":4.1371420957032454E-6},{"$f":"(B29-x!B27)^2","v":3.2816171646128461E-4},{"$f":"(C29-x!C27)^2","v":5.1585605833720262E-5},{"$f":"(D29-x!D27)^2","v":4.8159398138483652E-5},{"$f":"(E29-x!E27)^2","v":2.7057903353183993E-5},{"$f":"(F29-x!F27)^2","v":1.1818134284118782E-4},{"$f":"(G29-x!G27)^2","v":1.1972071501075598E-4},{"$f":"(H29-x!H27)^2","v":2.6524905639239559E-4},{"$f":"(I29-x!I27)^2","v":5.9742690646100597E-5},{"$f":"(J29-x!J27)^2","v":1.9258297979844169E-5},{"$f":"(K29-x!K27)^2","v":2.8371195221545055E-5},{"$f":"(L29-x!L27)^2","v":1.6151983523737752E-4}]
[17.902359008789063,59.219852447509766,20.503896713256836,60.808464050292969,-42.110469818115234,-90.092819213867188,95.212394714355469,89.896469116210938,37.408515930175781,63.317123413085937,51.507381439208984,99.70159912109375,null,{"$f":"(A30-x!A28)^2","v":5.5649224668808277E-6},{"$f":"(B30-x!B28)^2","v":3.9411967212788651E-4},{"$f":"(C30-x!C28)^2","v":1.5184374206000939E-5},{"$f":"(D30-x!D28)^2","v":7.16401473619525E-5},{"$f":"(E30-x!E28)^2","v":1.0961709136606012E-4},{"$f":"(F30-x!F28)^2","v":5.1563689485110662E-5},{"$f":"(G30-x!G28)^2","v":1.5362894395359265E-4},{"$f":"(H30-x!H28)^2","v":1.2467140331904498E-5},{"$f":"(I30-x!I28)^2","v":7.2521066758805873E-5},{"$f":"(J30-x!J28)^2","v":2.9321127571175294E-4},{"$f":"(K30-x!K28)^2","v":5.4485644795931876E-5},{"$f":"(L30-x!L28)^2","v":2.5571882724671061E-6}]
[98.394050598144531,98.022209167480469,36.701076507568359,14.004036903381348,91.193626403808594,94.709571838378906,80.60009765625,64.880599975585937,54.401683807373047,24.402317047119141,94.815467834472656,99.513877868652344,null,{"$f":"(A31-x!A29)^2","v":3.5395382437922641E-5},{"$f":"(B31-x!B29)^2","v":4.9324712017551064E-4},{"$f":"(C31-x!C29)^2","v":1.1588685447288952E-6},{"$f":"(D31-x!D29)^2","v":1.6296588910336141E-5},{"$f":"(E31-x!E29)^2","v":4.0622728411144483E-5},{"$f":"(F31-x!F29)^2","v":9.1620089951848223E-5},{"$f":"(G31-x!G29)^2","v":9.5367431651727238E-9},{"$f":"(H31-x!H29)^2","v":3.7636094726644162E-4},{"$f":"(I31-x!I29)^2","v":2.8352072695318037E-6},{"$f":"(J31-x!J29)^2","v":5.3687073523244555E-6},{"$f":"(K31-x!K29)^2","v":2.3925390327358097E-4},{"$f":"(L31-x!L29)^2","v":1.9259523833170533E-4}]
[87.215499877929688,78.4964599609375,65.89190673828125,14.191707611083984,80.813316345214844,40.661899566650391,46.595569610595703,82.405616760253906,86.005279541015625,61.6064453125,87.890617370605469,1.0947544574737549,null,{"$f":"(A32-x!A30)^2","v":2.4024621583512555E-4},{"$f":"(B32-x!B30)^2","v":1.2531876564025879E-5},{"$f":"(C32-x!C30)^2","v":6.550088524827622E-5},{"$f":"(D32-x!D30)^2","v":6.8763713934447007E-5},{"$f":"(E32-x!E30)^2","v":1.7732504988096772E-4},{"$f":"(F32-x!F30)^2","v":1.4516430214282429E-3},{"$f":"(G32-x!G30)^2","v":1.9628350273718612E-5},{"$f":"(H32-x!H30)^2","v":3.1547995749797146E-5},{"$f":"(I32-x!I30)^2","v":2.7873553335666656E-5},{"$f":"(J32-x!J30)^2","v":4.1542053222637929E-5},{"$f":"(K32-x!K30)^2","v":8.8033734355228525E-5},{"$f":"(L32-x!L30)^2","v":2.7515716394646936E-5}]
[33.587699890136719,21.027647018432617,58.9036865234375,0.1080375462770462,62.283252716064453,65.0108642578125,29.308269500732422,78.896682739257813,70.108451843261719,51.431724548339844,59.109626770019531,65.712791442871094,null,{"$f":"(A33-x!A31)^2","v":1.5129270264882365E-4},{"$f":"(B33-x!B31)^2","v":7.6435762821347453E-4},{"$f":"(C33-x!C31)^2","v":1.3590455055247294E-5},{"$f":"(D33-x!D31)^2","v":6.4602150155659204E-5},{"$f":"(E33-x!E31)^2","v":2.8047151921773122E-4},{"$f":"(F33-x!F31)^2","v":1.1803209781646729E-4},{"$f":"(G33-x!G31)^2","v":6.8384642363514175E-5},{"$f":"(H33-x!H31)^2","v":1.1004218831696075E-5},{"$f":"(I33-x!I31)^2","v":7.1433654520756731E-5},{"$f":"(J33-x!J31)^2","v":1.0064469673671729E-3},{"$f":"(K33-x!K31)^2","v":9.267470100891834E-5},{"$f":"(L33-x!L31)^2","v":1.636210107243824E-4}]
[80.594963073730469,40.620441436767578,87.422187805175781,3.8195939064025879,48.89642333984375,-76.665260314941406,79.617042541503906,7.313992977142334,61.108356475830078,82.316734313964844,59.141231536865234,32.216194152832031,null,{"$f":"(A34-x!A32)^2","v":2.537062624463673E-5},{"$f":"(B34-x!B32)^2","v":4.1785233712283672E-4},{"$f":"(C34-x!C32)^2","v":4.9229869851817295E-4},{"$f":"(D34-x!D32)^2","v":3.8392116811338168E-4},{"$f":"(E34-x!E32)^2","v":1.2792497873296108E-5},{"$f":"(F34-x!F32)^2","v":1.2068457179704793E-3},{"$f":"(G34-x!G32)^2","v":2.9044822091256088E-4},{"$f":"(H34-x!H32)^2","v":1.9580340930588634E-4},{"$f":"(I34-x!I32)^2","v":6.9830688298656136E-5},{"$f":"(J34-x!J32)^2","v":2.8003726387405966E-4},{"$f":"(K34-x!K32)^2","v":1.7000396322690641E-3},{"$f":"(L34-x!L32)^2","v":2.6225058594709369E-4}]
[12.430779457092285,9.6002540588378906,72.390068054199219,34.291042327880859,30.997171401977539,69.681427001953125,6.3139491081237793,70.88702392578125,7.998593807220459,52.090911865234375,1.079674243927002,-82.617095947265625,null,{"$f":"(A35-x!A33)^2","v":9.4737497889580118E-4},{"$f":"(B35-x!B33)^2","v":6.454589311051539E-8},{"$f":"(C35-x!C33)^2","v":9.8643547389769224E-5},{"$f":"(D35-x!D33)^2","v":8.0239889793978382E-5},{"$f":"(E35-x!E33)^2","v":8.0009667726699263E-6},{"$f":"(F35-x!F33)^2","v":3.4495625644932813E-4},{"$f":"(G35-x!G33)^2","v":1.9457761744889052E-4},{"$f":"(H35-x!H33)^2","v":1.6837850213065594E-4},{"$f":"(I35-x!I33)^2","v":1.9773781332332874E-6},{"$f":"(J35-x!J33)^2","v":8.2594193518187602E-5},{"$f":"(K35-x!K33)^2","v":4.1313635993902057E-4},{"$f":"(L35-x!L33)^2","v":2.9227141290922529E-4}]
[76.90362548828125,22.885377883911133,77.097274780273438,47.388046264648438,30.616880416870117,7.0890717506408691,17.791292190551758,61.409397125244141,66.193206787109375,31.995594024658203,81.48876953125,69.900871276855469,null,{"$f":"(A36-x!A34)^2","v":1.3144165277439861E-5},{"$f":"(B36-x!B34)^2","v":2.138062789162671E-4},{"$f":"(C36-x!C34)^2","v":7.4268225580144051E-6},{"$f":"(D36-x!D34)^2","v":1.4289178885516107E-4},{"$f":"(E36-x!E34)^2","v":2.8494847370888899E-4},{"$f":"(F36-x!F34)^2","v":1.1942663405533628E-4},{"$f":"(G36-x!G34)^2","v":7.5825945386908284E-5},{"$f":"(H36-x!H34)^2","v":8.8305962854091707E-5},{"$f":"(I36-x!I34)^2","v":4.6147741377392281E-5},{"$f":"(J36-x!J34)^2","v":1.9412618712522089E-5},{"$f":"(K36-x!K34)^2","v":1.2612342834472656E-4},{"$f":"(L36-x!L34)^2","v":7.5912335886560784E-7}]
[89.915420532226563,55.703773498535156,38.827476501464844,65.522018432617187,-57.501590728759766,88.634353637695313,35.008384704589844,3.2105264663696289,85.498359680175781,38.187305450439453,70.618949890136719,-20.29254150390625,null,{"$f":"(A37-x!A35)^2","v":2.377928141502773E-4},{"$f":"(B37-x!B35)^2","v":1.4239291194804914E-5},{"$f":"(C37-x!C35)^2","v":7.5495813274771692E-4},{"$f":"(D37-x!D35)^2","v":4.8481137491762638E-4},{"$f":"(E37-x!E35)^2","v":2.5304179871454835E-6},{"$f":"(F37-x!F35)^2","v":1.1801724229011865E-3},{"$f":"(G37-x!G35)^2","v":7.0303271058946848E-5},{"$f":"(H37-x!H35)^2","v":1.1080649423092463E-4},{"$f":"(I37-x!I35)^2","v":2.6906491257250309E-6},{"$f":"(J37-x!J35)^2","v":1.6115158854525301E-4},{"$f":"(K37-x!K35)^2","v":3.5909833619392602E-4},{"$f":"(L37-x!L35)^2","v":5.5629163980494607E-5}]
[10.28459358215332,20.310337066650391,96.818290710449219,62.49969482421875,3.1964321136474609,67.019630432128906,86.397857666015625,29.325838088989258,88.403175354003906,41.434913635253906,92.412841796875,70.217788696289063,null,{"$f":"(A38-x!A36)^2","v":2.3735771086651227E-4},{"$f":"(B38-x!B36)^2","v":1.0685494693460337E-4},{"$f":"(C38-x!C36)^2","v":3.3455008873726393E-4},{"$f":"(D38-x!D36)^2","v":9.3132257461547852E-8},{"$f":"(E38-x!E36)^2","v":1.2729813024635764E-5},{"$f":"(F38-x!F36)^2","v":3.8535386556759477E-4},{"$f":"(G38-x!G36)^2","v":4.5895949006324183E-6},{"$f":"(H38-x!H36)^2","v":6.6760684261676906E-4},{"$f":"(I38-x!I36)^2","v":1.0082873050087353E-5},{"$f":"(J38-x!J36)^2","v":1.2189619266429045E-3},{"$f":"(K38-x!K36)^2","v":1.6491174697861376E-4},{"$f":"(L38-x!L36)^2","v":3.1643771566440483E-4}]
[15.976052284240723,12.794973373413086,27.011987686157227,1.0182538032531738,93.493934631347656,14.634966850280762,46.193302154541016,93.197715759277344,39.396732330322266,38.186336517333984,4.9169979095458984,94.208061218261719,null,{"$f":"(A39-x!A37)^2","v":5.7349309008714044E-4},{"$f":"(B39-x!B37)^2","v":2.526697484427846E-5},{"$f":"(C39-x!C37)^2","v":1.4370461940416135E-4},{"$f":"(D39-x!D37)^2","v":3.3320133320557943E-4},{"$f":"(E39-x!E37)^2","v":3.6788696888834238E-5},{"$f":"(F39-x!F37)^2","v":1.2226806185572307E-3},{"$f":"(G39-x!G37)^2","v":4.4861133792475684E-5},{"$f":"(H39-x!H37)^2","v":5.2177556790541314E-6},{"$f":"(I39-x!I37)^2","v":1.0677665122775386E-5},{"$f":"(J39-x!J37)^2","v":1.8669075856458711E-4},{"$f":"(K39-x!K37)^2","v":2.8892892893053317E-4},{"$f":"(L39-x!L37)^2","v":6.4983239863022048E-5}]
[40.530010223388672,64.982162475585937,93.281600952148438,58.185684204101562,94.00115966796875,22.670736312866211,-97.502174377441406,29.978673934936523,33.795684814453125,98.8643798828125,37.976367950439453,4.478644847869873,null,{"$f":"(A40-x!A38)^2","v":9.0061350783798844E-4},{"$f":"(B40-x!B38)^2","v":3.1817727722227573E-4},{"$f":"(C40-x!C38)^2","v":3.3852496184398205E-4},{"$f":"(D40-x!D38)^2","v":2.0494201220580132E-4},{"$f":"(E40-x!E38)^2","v":1.344829797744751E-6},{"$f":"(F40-x!F38)^2","v":8.5636338466424996E-4},{"$f":"(G40-x!G38)^2","v":4.7279172576963902E-6},{"$f":"(H40-x!H38)^2","v":4.548010510916356E-4},{"$f":"(I40-x!I38)^2","v":1.8620826303934365E-5},{"$f":"(J40-x!J38)^2","v":1.2687927484516378E-3},{"$f":"(K40-x!K38)^2","v":5.5847376643214375E-4},{"$f":"(L40-x!L38)^2","v":4.5604252250086574E-4}]
[16.596303939819336,79.396759033203125,55.196224212646484,65.08868408203125,9.1035165786743164,33.284877777099609,67.989570617675781,4.0028510093688965,98.001449584960938,46.602695465087891,93.787948608398438,75.39874267578125,null,{"$f":"(A41-x!A39)^2","v":1.3660860859100967E-5},{"$f":"(B41-x!B39)^2","v":1.0503865778483042E-5},{"$f":"(C41-x!C39)^2","v":1.425657013898999E-5},{"$f":"(D41-x!D39)^2","v":1.2804999947535047E-4},{"$f":"(E41-x!E39)^2","v":1.2366325572659432E-5},{"$f":"(F41-x!F39)^2","v":2.2868162544901268E-4},{"$f":"(G41-x!G39)^2","v":1.087720156647265E-4},{"$f":"(H41-x!H39)^2","v":8.1282544215355301E-6},{"$f":"(I41-x!I39)^2","v":2.1012965589761734E-6},{"$f":"(J41-x!J39)^2","v":7.2655320400295542E-6},{"$f":"(K41-x!K39)^2","v":1.4523603953414265E-4},{"$f":"(L41-x!L39)^2","v":1.580864191069592E-6}]
[16.006223678588867,11.42587947845459,48.409141540527344,91.419090270996094,12.29738712310791,35.212886810302734,94.410675048828125,98.491279602050781,84.505615234375,32.002540588378906,29.813396453857422,49.395767211914063,null,{"$f":"(A42-x!A40)^2","v":3.8734175177523866E-5},{"$f":"(B42-x!B40)^2","v":6.6974740508156155E-4},{"$f":"(C42-x!C40)^2","v":8.3567763213094226E-5},{"$f":"(D42-x!D40)^2","v":3.6443844670408125E-4},{"$f":"(E42-x!E40)^2","v":6.8271256532207944E-6},{"$f":"(F42-x!F40)^2","v":1.6606987977858757E-4},{"$f":"(G42-x!G40)^2","v":1.1395666748273158E-4},{"$f":"(H42-x!H40)^2","v":7.6045340392738581E-5},{"$f":"(I42-x!I40)^2","v":3.1530857086181641E-5},{"$f":"(J42-x!J40)^2","v":6.4545893110334873E-6},{"$f":"(K42-x!K40)^2","v":1.7946497595401441E-4},{"$f":"(L42-x!L40)^2","v":1.7916494980442416E-5}]
[53.920093536376953,12.691346168518066,18.116691589355469,45.909744262695312,99.513191223144531,62.913776397705078,34.503677368164063,81.700698852539063,58.994670867919922,70.975387573242188,21.504890441894531,31.293085098266602,null,{"$f":"(A43-x!A41)^2","v":4.0375020413199562E-4},{"$f":"(B43-x!B41)^2","v":7.4888799317692688E-5},{"$f":"(C43-x!C41)^2","v":2.7860915521155024E-4},{"$f":"(D43-x!D41)^2","v":9.495065547528652E-5},{"$f":"(E43-x!E41)^2","v":1.7400836804881692E-4},{"$f":"(F43-x!F41)^2","v":1.8978913372852098E-4},{"$f":"(G43-x!G41)^2","v":1.3523036614060402E-5},{"$f":"(H43-x!H41)^2","v":4.8839487135013058E-7},{"$f":"(I43-x!I41)^2","v":2.8399648726917803E-5},{"$f":"(J43-x!J41)^2","v":6.0577155090868473E-4},{"$f":"(K43-x!K41)^2","v":2.3916421923786402E-5},{"$f":"(L43-x!L41)^2","v":4.7815865982566542E-5}]
[51.212497711181641,94.587905883789063,45.696720123291016,93.408477783203125,34.896629333496094,87.504722595214844,64.393730163574219,19.276517868041992,56.292289733886719,99.556015014648438,57.09735107421875,35.482818603515625,null,{"$f":"(A44-x!A42)^2","v":1.5619278477963406E-4},{"$f":"(B44-x!B42)^2","v":1.4626764692352373E-4},{"$f":"(C44-x!C42)^2","v":1.0757591226156818E-5},{"$f":"(D44-x!D42)^2","v":7.187280803909201E-5},{"$f":"(E44-x!E42)^2","v":1.1361392680546002E-5},{"$f":"(F44-x!F42)^2","v":2.2302905563265085E-5},{"$f":"(G44-x!G42)^2","v":3.9310848806124679E-5},{"$f":"(H44-x!H42)^2","v":5.5141052129332525E-4},{"$f":"(I44-x!I42)^2","v":5.9448203537569324E-5},{"$f":"(J44-x!J42)^2","v":1.9346789363766676E-3},{"$f":"(K44-x!K42)^2","v":7.0168077945784519E-6},{"$f":"(L44-x!L42)^2","v":2.9520038515329361E-4}]
[54.607723236083984,86.002204895019531,29.504919052124023,76.213859558105469,47.686279296875,59.825061798095703,30.907968521118164,72.493400573730469,56.399509429931641,26.482486724853516,98.110305786132812,19.893148422241211,null,{"$f":"(A45-x!A43)^2","v":5.9648375608936351E-5},{"$f":"(B45-x!B43)^2","v":4.8615620471537113E-6},{"$f":"(C45-x!C43)^2","v":2.4197073798859492E-5},{"$f":"(D45-x!D43)^2","v":1.9208735087878574E-4},{"$f":"(E45-x!E43)^2","v":1.8825769424446275E-4},{"$f":"(F45-x!F43)^2","v":6.2809372378993123E-4},{"$f":"(G45-x!G43)^2","v":6.3497328810649287E-5},{"$f":"(H45-x!H43)^2","v":4.3552427086979151E-5},{"$f":"(I45-x!I43)^2","v":2.4065899196872758E-7},{"$f":"(J45-x!J43)^2","v":3.0671480635646731E-4},{"$f":"(K45-x!K43)^2","v":1.0620922781538759E-4},{"$f":"(L45-x!L43)^2","v":4.6944117784713477E-5}]
[74.410758972167969,37.415328979492188,14.97874641418457,63.085113525390625,24.49098014831543,49.455787658691406,31.306880950927734,55.482322692871094,50.295169830322266,87.421188354492188,77.576980590820313,21.087215423583984,null,{"$f":"(A46-x!A44)^2","v":1.1575548211100388E-4},{"$f":"(B46-x!B44)^2","v":2.3497761227194851E-4},{"$f":"(C46-x!C44)^2","v":4.5171491001383401E-4},{"$f":"(D46-x!D44)^2","v":2.2160712629560887E-4},{"$f":"(E46-x!E44)^2","v":8.1357724411645904E-5},{"$f":"(F46-x!F44)^2","v":1.9547311239875853E-3},{"$f":"(G46-x!G44)^2","v":4.7347485669878777E-5},{"$f":"(H46-x!H44)^2","v":3.1248718732967973E-4},{"$f":"(I46-x!I44)^2","v":2.3330539115677141E-5},{"$f":"(J46-x!J44)^2","v":4.4894636608636135E-4},{"$f":"(K46-x!K44)^2","v":5.2989319898161941E-4},{"$f":"(L46-x!L44)^2","v":1.6344539413697926E-4}]
[50.991294860839844,70.690597534179688,60.298912048339844,45.801570892333984,86.700210571289063,18.812751770019531,66.698905944824219,66.706031799316406,39.093147277832031,50.7996826171875,41.204311370849609,39.210609436035156,null,{"$f":"(A47-x!A45)^2","v":7.5779447797685862E-5},{"$f":"(B47-x!B45)^2","v":8.8406363502198265E-5},{"$f":"(C47-x!C45)^2","v":1.1836388148305562E-6},{"$f":"(D47-x!D45)^2","v":2.4677027249798065E-6},{"$f":"(E47-x!E45)^2","v":4.4340267776245975E-8},{"$f":"(F47-x!F45)^2","v":1.6260763863099791E-4},{"$f":"(G47-x!G45)^2","v":1.1969567276599608E-6},{"$f":"(H47-x!H45)^2","v":3.6382602993364616E-5},{"$f":"(I47-x!I45)^2","v":4.69598011113898E-5},{"$f":"(J47-x!J45)^2","v":1.0073184966860604E-7},{"$f":"(K47-x!K45)^2","v":1.8587918602836958E-5},{"$f":"(L47-x!L45)^2","v":1.1256013298401167E-4}]
[31.493741989135742,14.203904151916504,89.313018798828125,-50.776748657226563,40.593883514404297,70.03070068359375,-15.296419143676758,74.08892822265625,93.8988037109375,53.581169128417969,2.1176087856292725,22.304630279541016,null,{"$f":"(A48-x!A46)^2","v":3.9162699977168813E-5},{"$f":"(B48-x!B46)^2","v":1.5242402187146672E-5},{"$f":"(C48-x!C46)^2","v":1.6948912292726287E-4},{"$f":"(D48-x!D46)^2","v":5.4062494076775208E-4},{"$f":"(E48-x!E46)^2","v":3.7411396042461194E-5},{"$f":"(F48-x!F46)^2","v":9.4253197312355042E-4},{"$f":"(G48-x!G46)^2","v":1.2822532007708646E-5},{"$f":"(H48-x!H46)^2","v":1.2258425354944993E-4},{"$f":"(I48-x!I46)^2","v":1.4311075210707292E-6},{"$f":"(J48-x!J46)^2","v":3.5460172453900563E-4},{"$f":"(K48-x!K46)^2","v":3.1006933133766922E-4},{"$f":"(L48-x!L46)^2","v":2.1439488627941286E-5}]
[46.193347930908203,82.81085205078125,70.403083801269531,76.205032348632813,48.390735626220703,93.616714477539063,93.511138916015625,76.408973693847656,82.607505798339844,91.814552307128906,81.814010620117187,91.40728759765625,null,{"$f":"(A49-x!A47)^2","v":4.4250023202077112E-5},{"$f":"(B49-x!B47)^2","v":1.1776700615889043E-4},{"$f":"(C49-x!C47)^2","v":9.5098302699274896E-6},{"$f":"(D49-x!D47)^2","v":2.5324532762141234E-5},{"$f":"(E49-x!E47)^2","v":8.582862152249713E-5},{"$f":"(F49-x!F47)^2","v":2.7937375940401485E-4},{"$f":"(G49-x!G47)^2","v":1.2407545000314713E-4},{"$f":"(H49-x!H47)^2","v":8.0527181271361619E-5},{"$f":"(I49-x!I47)^2","v":5.6337008718486524E-5},{"$f":"(J49-x!J47)^2","v":2.1176964277409838E-4},{"$f":"(K49-x!K47)^2","v":1.9629747606821871E-4},{"$f":"(L49-x!L47)^2","v":5.3109079599297642E-5}]
[98.298782348632813,70.320945739746094,42.714073181152344,59.615165710449219,87.803062438964844,93.511726379394531,71.915863037109375,48.403842926025391,56.108467102050781,47.716320037841797,34.827121734619141,93.712211608886719,null,{"$f":"(A50-x!A48)^2","v":1.4826748520066664E-6},{"$f":"(B50-x!B48)^2","v":4.3872401351121052E-4},{"$f":"(C50-x!C48)^2","v":1.9805442774660335E-4},{"$f":"(D50-x!D48)^2","v":2.2999877342949967E-4},{"$f":"(E50-x!E48)^2","v":9.3785324134106668E-6},{"$f":"(F50-x!F48)^2","v":1.3750797370448709E-4},{"$f":"(G50-x!G48)^2","v":2.5163594633322803E-4},{"$f":"(H50-x!H48)^2","v":1.4768080436635508E-5},{"$f":"(I50-x!I48)^2","v":7.1691817138319982E-5},{"$f":"(J50-x!J48)^2","v":2.6634363515758922E-4},{"$f":"(K50-x!K48)^2","v":7.3558848875124522E-4},{"$f":"(L50-x!L48)^2","v":1.4912339160211893E-4}]
[8.4947395324707031,90.685798645019531,-23.900714874267578,69.99456787109375,2.806046724319458,90.4964599609375,8.4823226928710937,21.800634384155273,25.390575408935547,77.589019775390625,14.68706226348877,7.5955052375793457,null,{"$f":"(A51-x!A49)^2","v":2.7672518626786768E-5},{"$f":"(B51-x!B49)^2","v":2.0167848328136529E-4},{"$f":"(C51-x!C49)^2","v":5.110452184473924E-7},{"$f":"(D51-x!D49)^2","v":2.9508024454116821E-5},{"$f":"(E51-x!E49)^2","v":3.6562874995527056E-5},{"$f":"(F51-x!F49)^2","v":1.2531876564025879E-5},{"$f":"(G51-x!G49)^2","v":3.1248718732967973E-4},{"$f":"(H51-x!H49)^2","v":4.0244325646109133E-7},{"$f":"(I51-x!I49)^2","v":8.8822916732142899E-5},{"$f":"(J51-x!J49)^2","v":1.2056533247219955E-4},{"$f":"(K51-x!K49)^2","v":1.6738502603400756E-4},{"$f":"(L51-x!L49)^2","v":2.0202889218122882E-5}]
[99.495613098144531,66.578971862792969,84.199409484863281,79.793197631835938,72.911468505859375,88.197113037109375,92.69049072265625,15.91495418548584,8.5973539352416992,26.288536071777344,82.198860168457031,63.50323486328125,null,{"$f":"(A52-x!A50)^2","v":1.9244907889515162E-5},{"$f":"(B52-x!B50)^2","v":4.4218255439749298E-4},{"$f":"(C52-x!C50)^2","v":3.487081266973207E-7},{"$f":"(D52-x!D50)^2","v":4.6272212639412358E-5},{"$f":"(E52-x!E50)^2","v":1.3152662664638832E-4},{"$f":"(F52-x!F50)^2","v":8.334554731862266E-6},{"$f":"(G52-x!G50)^2","v":9.0426355600411115E-5},{"$f":"(H52-x!H50)^2","v":2.2362766354489243E-4},{"$f":"(I52-x!I50)^2","v":7.0016587051194916E-6},{"$f":"(J52-x!J50)^2","v":1.3142165029423079E-4},{"$f":"(K52-x!K50)^2","v":1.2992159463530006E-6},{"$f":"(L52-x!L50)^2","v":1.0464340448379517E-5}]
[95.7935791015625,20.489889144897461,23.201601028442383,99.095726013183594,18.907072067260742,87.00140380859375,15.196903228759766,94.916885375976563,11.60129451751709,1.8059147596359253,98.897933959960938,92.903556823730469,null,{"$f":"(A53-x!A51)^2","v":4.1227936744653441E-5},{"$f":"(B53-x!B51)^2","v":1.022293909045402E-4},{"$f":"(C53-x!C51)^2","v":2.5632920733210098E-6},{"$f":"(D53-x!D51)^2","v":1.8266963306765842E-5},{"$f":"(E53-x!E51)^2","v":5.0014135340481605E-5},{"$f":"(F53-x!F51)^2","v":1.9706785678863525E-6},{"$f":"(G53-x!G51)^2","v":9.5899921143383478E-6},{"$f":"(H53-x!H51)^2","v":2.8511592186968206E-4},{"$f":"(I53-x!I51)^2","v":1.6757756020533738E-6},{"$f":"(J53-x!J51)^2","v":3.4984381550770582E-5},{"$f":"(K53-x!K51)^2","v":4.2685214430328647E-6},{"$f":"(L53-x!L51)^2","v":1.2650995049585198E-5}]
[74.201911926269531,17.511472702026367,35.102005004882813,91.706504821777344,10.496574401855469,35.100509643554687,98.701286315917969,85.982437133789063,90.003509521484375,35.799331665039063,91.208732604980469,34.401615142822266,null,{"$f":"(A54-x!A52)^2","v":3.6554620601128138E-6},{"$f":"(B54-x!B52)^2","v":1.3162289178580977E-4},{"$f":"(C54-x!C52)^2","v":4.0200445800962687E-6},{"$f":"(D54-x!D52)^2","v":4.2312706354968525E-5},{"$f":"(E54-x!E52)^2","v":1.1734722647815943E-5},{"$f":"(F54-x!F52)^2","v":2.5973655283306231E-7},{"$f":"(G54-x!G52)^2","v":1.6546086408124761E-6},{"$f":"(H54-x!H52)^2","v":3.0845426954329014E-4},{"$f":"(I54-x!I52)^2","v":1.2316741049289703E-5},{"$f":"(J54-x!J52)^2","v":4.4667162000753061E-7},{"$f":"(K54-x!K52)^2","v":7.6258389744857983E-5},{"$f":"(L54-x!L52)^2","v":2.6086863363207588E-6}]
[11.09725284576416,18.501031875610352,54.502254486083984,70.605964660644531,17.097450256347656,70.699455261230469,25.097955703735352,17.999837875366211,26.599115371704102,98.904335021972656,14.203171730041504,73.798858642578125,null,{"$f":"(A55-x!A53)^2","v":7.5468563954908437E-6},{"$f":"(B55-x!B53)^2","v":1.0647672752384096E-6},{"$f":"(C55-x!C53)^2","v":5.0827075028792024E-6},{"$f":"(D55-x!D53)^2","v":3.5577176604487756E-5},{"$f":"(E55-x!E53)^2","v":6.501192692674493E-6},{"$f":"(F55-x!F53)^2","v":2.9674032703351679E-7},{"$f":"(G55-x!G53)^2","v":4.179147217661365E-6},{"$f":"(H55-x!H53)^2","v":2.6284396881237626E-8},{"$f":"(I55-x!I53)^2","v":7.8256722190668771E-7},{"$f":"(J55-x!J53)^2","v":1.8792415503363201E-5},{"$f":"(K55-x!K53)^2","v":1.0059871456182878E-5},{"$f":"(L55-x!L53)^2","v":1.3026967644626589E-6}]
[28.295143127441406,41.126628875732422,22.725278854370117,58.617355346679688,33.407421112060547,10.208294868469238,34.307167053222656,43.614158630371094,97.51312255859375,93.624298095703125,84.331504821777344,0.50964552164077759,null,{"$f":"(A56-x!A54)^2","v":2.3589211050427901E-5},{"$f":"(B56-x!B54)^2","v":7.0909702277269096E-4},{"$f":"(C56-x!C54)^2","v":6.3902047826562872E-4},{"$f":"(D56-x!D54)^2","v":3.012080583720906E-4},{"$f":"(E56-x!E54)^2","v":5.5072904215215375E-5},{"$f":"(F56-x!F54)^2","v":6.8804842921975221E-5},{"$f":"(G56-x!G54)^2","v":5.1366651896428077E-5},{"$f":"(H56-x!H54)^2","v":2.004668139852181E-4},{"$f":"(I56-x!I54)^2","v":1.7220154404640198E-4},{"$f":"(J56-x!J54)^2","v":5.9039745479849779E-4},{"$f":"(K56-x!K54)^2","v":9.9255379522237208E-4},{"$f":"(L56-x!L54)^2","v":9.3036087722708771E-5}]
[12.091041564941406,16.305036544799805,49.615901947021484,62.211330413818359,57.902881622314453,98.020484924316406,60.506557464599609,57.015926361083984,57.80340576171875,45.918815612792969,20.415336608886719,33.317226409912109,null,{"$f":"(A57-x!A55)^2","v":8.0253558699035243E-5},{"$f":"(B57-x!B55)^2","v":2.5366783520432482E-5},{"$f":"(C57-x!C55)^2","v":2.5287191907405059E-4},{"$f":"(D57-x!D55)^2","v":1.2837827729520466E-4},{"$f":"(E57-x!E55)^2","v":8.3037471631623744E-6},{"$f":"(F57-x!F55)^2","v":4.1963212424889207E-4},{"$f":"(G57-x!G55)^2","v":4.3000341975130141E-5},{"$f":"(H57-x!H55)^2","v":2.5364897737745196E-4},{"$f":"(I57-x!I55)^2","v":1.1599212884922313E-5},{"$f":"(J57-x!J55)^2","v":3.5402728477498276E-4},{"$f":"(K57-x!K55)^2","v":2.3521157214422412E-4},{"$f":"(L57-x!L55)^2","v":2.9674919846011804E-4}]
[67.973976135253906,15.383111000061035,85.107437133789063,90.299560546875,47.504093170166016,14.916916847229004,19.281454086303711,28.621347427368164,80.001312255859375,53.69989013671875,51.205127716064453,92.915802001953125,null,{"$f":"(A58-x!A56)^2","v":6.7724153632298112E-4},{"$f":"(B58-x!B56)^2","v":2.8523831893836649E-4},{"$f":"(C58-x!C56)^2","v":5.5310958996499688E-5},{"$f":"(D58-x!D56)^2","v":1.9311904906976763E-7},{"$f":"(E58-x!E56)^2","v":1.6754042007960379E-5},{"$f":"(F58-x!F56)^2","v":2.8617972016944514E-4},{"$f":"(G58-x!G56)^2","v":3.4395091483022859E-4},{"$f":"(H58-x!H56)^2","v":4.5571265523897938E-4},{"$f":"(I58-x!I56)^2","v":1.7220154404640198E-6},{"$f":"(J58-x!J56)^2","v":1.2069940567641102E-8},{"$f":"(K58-x!K56)^2","v":2.6293472037621499E-5},{"$f":"(L58-x!L56)^2","v":2.4970326572638669E-4}]
[61.708026885986328,30.908498764038086,33.106864929199219,69.609146118164063,38.799026489257813,66.504219055175781,86.012214660644531,1.6971187591552734,73.006904602050781,99.908676147460938,60.508541107177734,20.605663299560547,null,{"$f":"(A59-x!A57)^2","v":6.4430898637465213E-5},{"$f":"(B59-x!B57)^2","v":7.2228990175086943E-5},{"$f":"(C59-x!C57)^2","v":4.7127252910266675E-5},{"$f":"(D59-x!D57)^2","v":8.3651477471097981E-5},{"$f":"(E59-x!E57)^2","v":9.4772316514892333E-7},{"$f":"(F59-x!F57)^2","v":1.7800426576286554E-5},{"$f":"(G59-x!G57)^2","v":1.4919793466106057E-4},{"$f":"(H59-x!H57)^2","v":8.3015488053203792E-6},{"$f":"(I59-x!I57)^2","v":4.7673529479652643E-5},{"$f":"(J59-x!J57)^2","v":7.5275534763833598E-5},{"$f":"(K59-x!K57)^2","v":7.295051182154566E-5},{"$f":"(L59-x!L57)^2","v":3.2072961912474329E-5}]
[68.802421569824219,49.1175537109375,33.005702972412109,32.912551879882812,19.19151496887207,67.20916748046875,25.112010955810547,-4.7049837112426758,4.6036829948425293,37.010078430175781,47.211387634277344,58.204757690429687,null,{"$f":"(A60-x!A58)^2","v":5.8640004135805926E-6},{"$f":"(B60-x!B58)^2","v":3.0813276767725724E-4},{"$f":"(C60-x!C58)^2","v":3.2523894333280623E-5},{"$f":"(D60-x!D58)^2","v":1.5754968859258881E-4},{"$f":"(E60-x!E58)^2","v":7.1995753241923686E-5},{"$f":"(F60-x!F58)^2","v":8.4042698144860614E-5},{"$f":"(G60-x!G58)^2","v":1.442630594828756E-4},{"$f":"(H60-x!H58)^2","v":2.4837377750371208E-5},{"$f":"(I60-x!I58)^2","v":1.3564451010100017E-5},{"$f":"(J60-x!J58)^2","v":1.0157475480809808E-4},{"$f":"(K60-x!K58)^2","v":1.2967821443446957E-4},{"$f":"(L60-x!L58)^2","v":2.2635618224712986E-5}]
[31.707406997680664,23.400432586669922,64.797149658203125,23.202278137207031,14.403907775878906,83.494453430175781,18.301767349243164,5.6020364761352539,43.898170471191406,60.798183441162109,47.602638244628906,77.09619140625,null,{"$f":"(A61-x!A59)^2","v":5.4863614641373327E-5},{"$f":"(B61-x!B59)^2","v":1.8713122699532672E-7},{"$f":"(C61-x!C59)^2","v":8.1244483589964012E-6},{"$f":"(D61-x!D59)^2","v":5.1899091340633822E-6},{"$f":"(E61-x!E59)^2","v":1.5270712319758738E-5},{"$f":"(F61-x!F59)^2","v":3.0764436814934015E-5},{"$f":"(G61-x!G59)^2","v":3.1235233473100728E-6},{"$f":"(H61-x!H59)^2","v":4.1472350494601331E-6},{"$f":"(I61-x!I59)^2","v":3.3471756614692664E-6},{"$f":"(J61-x!J59)^2","v":3.2998860115082119E-6},{"$f":"(K61-x!K59)^2","v":6.9603347219451788E-6},{"$f":"(L61-x!L59)^2","v":1.4505386352495763E-5}]
[4.4134440422058105,54.295608520507813,64.786895751953125,33.388542175292969,35.694362640380859,58.480861663818359,62.599250793457031,67.094924926757812,20.70274543762207,56.393741607666016,88.685791015625,83.784233093261719,null,{"$f":"(A62-x!A60)^2","v":1.8074227083160577E-4},{"$f":"(B62-x!B60)^2","v":1.9285092130278422E-5},{"$f":"(C62-x!C60)^2","v":1.7172131687395275E-4},{"$f":"(D62-x!D60)^2","v":1.3128174701702318E-4},{"$f":"(E62-x!E60)^2","v":3.1779823475549375E-5},{"$f":"(F62-x!F60)^2","v":3.6627591180149466E-4},{"$f":"(G62-x!G60)^2","v":5.6131044402931476E-7},{"$f":"(H62-x!H60)^2","v":2.5756368413509845E-5},{"$f":"(I62-x!I60)^2","v":7.5374277366829939E-6},{"$f":"(J62-x!J60)^2","v":3.9167474606056603E-5},{"$f":"(K62-x!K60)^2","v":2.018952369690749E-4},{"$f":"(L62-x!L60)^2","v":2.4859534809356905E-4}]
[82.192276000976563,6.6020150184631348,82.302719116210938,27.198661804199219,21.802833557128906,57.704166412353516,74.593833923339844,72.711006164550781,99.699333190917969,99.107757568359375,6.3020024299621582,63.301830291748047,null,{"$f":"(A63-x!A61)^2","v":5.9660160914107358E-5},{"$f":"(B63-x!B61)^2","v":4.0602994067754244E-6},{"$f":"(C63-x!C61)^2","v":7.3935929685985632E-6},{"$f":"(D63-x!D61)^2","v":1.7907680012266693E-6},{"$f":"(E63-x!E61)^2","v":8.0290460027714034E-6},{"$f":"(F63-x!F61)^2","v":1.7358991899503928E-5},{"$f":"(G63-x!G61)^2","v":3.8020501378853554E-5},{"$f":"(H63-x!H61)^2","v":1.2113565811881128E-4},{"$f":"(I63-x!I61)^2","v":4.4463435188314867E-7},{"$f":"(J63-x!J61)^2","v":6.0179866850464322E-5},{"$f":"(K63-x!K61)^2","v":4.0097257533496142E-6},{"$f":"(L63-x!L61)^2","v":3.3499678829788892E-6}]
[79.391387939453125,9.2014474868774414,4.6113986968994141,88.906982421875,30.905414581298828,86.61865234375,0.29941365122795105,38.308628082275391,77.099365234375,19.109508514404297,91.607421875,41.514656066894531,null,{"$f":"(A64-x!A62)^2","v":7.4167586863138838E-5},{"$f":"(B64-x!B62)^2","v":2.0952182603671295E-6},{"$f":"(C64-x!C62)^2","v":1.2993029100471986E-4},{"$f":"(D64-x!D62)^2","v":4.8754215240399134E-5},{"$f":"(E64-x!E62)^2","v":2.9317690641634655E-5},{"$f":"(F64-x!F62)^2","v":3.4790992736837613E-4},{"$f":"(G64-x!G62)^2","v":3.4380488248329876E-7},{"$f":"(H64-x!H62)^2","v":7.4443803750958915E-5},{"$f":"(I64-x!I62)^2","v":4.0292739867442416E-7},{"$f":"(J64-x!J62)^2","v":9.0411846176694129E-5},{"$f":"(K64-x!K62)^2","v":5.5084228515709376E-5},{"$f":"(L64-x!L62)^2","v":2.1480029681697488E-4}]
[99.195037841796875,-5.6146750450134277,92.299514770507813,47.099903106689453,39.106048583984375,37.60345458984375,16.496221542358398,40.404552459716797,70.501373291015625,70.893013000488281,61.602027893066406,29.306114196777344,null,{"$f":"(A65-x!A63)^2","v":2.4623014032868937E-5},{"$f":"(B65-x!B63)^2","v":2.1535694614614064E-4},{"$f":"(C65-x!C63)^2","v":2.3544766008578092E-7},{"$f":"(D65-x!D63)^2","v":9.3883136290085459E-9},{"$f":"(E65-x!E63)^2","v":3.6585368216020557E-5},{"$f":"(F65-x!F63)^2","v":1.193419098853083E-5},{"$f":"(G65-x!G63)^2","v":1.4276742149377242E-5},{"$f":"(H65-x!H63)^2","v":2.0724889473071223E-5},{"$f":"(I65-x!I63)^2","v":1.885928213596344E-6},{"$f":"(J65-x!J63)^2","v":4.8818162176837483E-5},{"$f":"(K65-x!K63)^2","v":4.1123502887727802E-6},{"$f":"(L65-x!L63)^2","v":3.7383402232072009E-5}]
[29.092708587646484,27.084049224853516,29.702747344970703,24.492244720458984,58.310218811035156,7.6127171516418457,32.980777740478516,44.016750335693359,42.497299194335938,56.393173217773437,28.10499382019043,78.610038757324219,null,{"$f":"(A66-x!A64)^2","v":5.3164694109020987E-5},{"$f":"(B66-x!B64)^2","v":2.5442722777374897E-4},{"$f":"(C66-x!C64)^2","v":7.5479043880516593E-6},{"$f":"(D66-x!D64)^2","v":6.0144360759295523E-5},{"$f":"(E66-x!E64)^2","v":1.0442409897228924E-4},{"$f":"(F66-x!F64)^2","v":1.6172594588170791E-4},{"$f":"(G66-x!G64)^2","v":3.6949526111129671E-4},{"$f":"(H66-x!H64)^2","v":2.8057374584022909E-4},{"$f":"(I66-x!I64)^2","v":7.2943512350320816E-6},{"$f":"(J66-x!J64)^2","v":4.660495556889024E-5},{"$f":"(K66-x!K64)^2","v":2.4938240094329008E-5},{"$f":"(L66-x!L64)^2","v":1.0077664861466973E-4}]
[99.089042663574219,44.198017120361328,67.810165405273437,35.601509094238281,80.710479736328125,99.208549499511719,79.797950744628906,18.818059921264648,17.603118896484375,-2.2874479293823242,41.410003662109375,60.108306884765625,null,{"$f":"(A67-x!A65)^2","v":1.2006322154762805E-4},{"$f":"(B67-x!B65)^2","v":3.9318116614707767E-6},{"$f":"(C67-x!C65)^2","v":1.0333546437328872E-4},{"$f":"(D67-x!D65)^2","v":2.277365420009377E-6},{"$f":"(E67-x!E65)^2","v":1.0982487350696329E-4},{"$f":"(F67-x!F65)^2","v":7.3093941900830551E-5},{"$f":"(G67-x!G65)^2","v":4.1994475759449342E-6},{"$f":"(H67-x!H65)^2","v":3.2616075608527515E-4},{"$f":"(I67-x!I65)^2","v":9.7275152802378697E-6},{"$f":"(J67-x!J65)^2","v":1.575544767911152E-4},{"$f":"(K67-x!K65)^2","v":1.000732555985735E-4},{"$f":"(L67-x!L65)^2","v":6.9004334509349099E-5}]
[77.701004028320312,19.595195770263672,11.797510147094727,58.098953247070313,39.90093994140625,34.799163818359375,42.593441009521484,34.094715118408203,98.493476867675781,9.9933862686157227,83.792549133300781,9.6960792541503906,null,{"$f":"(A68-x!A66)^2","v":1.0080728679838329E-6},{"$f":"(B68-x!B66)^2","v":2.3080623359433061E-5},{"$f":"(C68-x!C66)^2","v":6.1993674899021159E-6},{"$f":"(D68-x!D66)^2","v":1.0956916958123393E-6},{"$f":"(E68-x!E66)^2","v":8.8348984718589896E-7},{"$f":"(F68-x!F66)^2","v":6.9919973611356352E-7},{"$f":"(G68-x!G66)^2","v":4.3020356097277267E-5},{"$f":"(H68-x!H66)^2","v":2.7929973439328493E-5},{"$f":"(I68-x!I66)^2","v":4.2551255319267511E-5},{"$f":"(J68-x!J66)^2","v":4.374144282337511E-5},{"$f":"(K68-x!K66)^2","v":5.5515414569484556E-5},{"$f":"(L68-x!L66)^2","v":1.5372248017223568E-5}]
[17.506196975708008,68.908409118652344,78.792640686035156,66.597694396972656,75.492584228515625,84.78631591796875,81.90142822265625,27.572399139404297,62.699825286865234,93.885917663574219,11.385431289672852,93.285903930664063,null,{"$f":"(A69-x!A67)^2","v":3.8402507925638929E-5},{"$f":"(B69-x!B67)^2","v":7.0713276509099972E-5},{"$f":"(C69-x!C67)^2","v":5.4159502033102401E-5},{"$f":"(D69-x!D67)^2","v":5.3158053196704532E-6},{"$f":"(E69-x!E67)^2","v":5.4993666708469391E-5},{"$f":"(F69-x!F67)^2","v":1.8725410103790133E-4},{"$f":"(G69-x!G67)^2","v":2.0398199558095687E-6},{"$f":"(H69-x!H67)^2","v":7.6180750562351591E-4},{"$f":"(I69-x!I67)^2","v":3.0524679460624574E-8},{"$f":"(J69-x!J67)^2","v":1.9831219920904552E-4},{"$f":"(K69-x!K67)^2","v":2.1224732059637189E-4},{"$f":"(L69-x!L67)^2","v":1.9869917072347734E-4}]
[88.417984008789063,3.4960412979125977,73.281181335449219,88.995834350585938,38.394222259521484,52.774974822998047,6.4008464813232422,6.8801517486572266,80.69952392578125,5.6848764419555664,83.882591247558594,40.180706024169922,null,{"$f":"(A70-x!A68)^2","v":3.2342457212487281E-4},{"$f":"(B70-x!B68)^2","v":1.5671322216803674E-5},{"$f":"(C70-x!C68)^2","v":3.5414213547472389E-4},{"$f":"(D70-x!D68)^2","v":1.735263504087925E-5},{"$f":"(E70-x!E68)^2","v":3.338228503706154E-5},{"$f":"(F70-x!F68)^2","v":6.2625948397894134E-4},{"$f":"(G70-x!G68)^2","v":7.1653063059724323E-7},{"$f":"(H70-x!H68)^2","v":3.9395308136592165E-4},{"$f":"(I70-x!I68)^2","v":2.2664666176112903E-7},{"$f":"(J70-x!J68)^2","v":2.2872200792335744E-4},{"$f":"(K70-x!K68)^2","v":3.03064661566366E-4},{"$f":"(L70-x!L68)^2","v":3.7225750333174854E-4}]
[75.293182373046875,80.907302856445313,14.608499526977539,11.404923439025879,96.100257873535156,69.311065673828125,92.601898193359375,15.199045181274414,74.499595642089844,30.403863906860352,79.006156921386719,60.307098388671875,null,{"$f":"(A71-x!A69)^2","v":4.6480037271937715E-5},{"$f":"(B71-x!B69)^2","v":5.3331712260759299E-5},{"$f":"(C71-x!C69)^2","v":7.2241958841920347E-5},{"$f":"(D71-x!D69)^2","v":2.4240251841543935E-5},{"$f":"(E71-x!E69)^2","v":6.6498760136913382E-8},{"$f":"(F71-x!F69)^2","v":1.2244913727051348E-4},{"$f":"(G71-x!G69)^2","v":3.6031380295969279E-6},{"$f":"(H71-x!H69)^2","v":9.1167879872819693E-7},{"$f":"(I71-x!I69)^2","v":1.6350531950592995E-7},{"$f":"(J71-x!J69)^2","v":1.4929776225482851E-5},{"$f":"(K71-x!K69)^2","v":3.7907680962234735E-5},{"$f":"(L71-x!L69)^2","v":5.0387121737043674E-5}]
[90.280342102050781,71.222366333007813,43.920013427734375,18.319623947143555,50.694358825683594,23.540088653564453,60.312740325927734,99.414260864257813,66.501617431640625,66.828315734863281,16.922998428344727,71.724006652832031,null,{"$f":"(A72-x!A70)^2","v":3.8643295178178699E-4},{"$f":"(B72-x!B70)^2","v":5.0025285221623581E-4},{"$f":"(C72-x!C70)^2","v":4.0053728967910732E-4},{"$f":"(D72-x!D70)^2","v":3.8509930149300029E-4},{"$f":"(E72-x!E70)^2","v":3.1822847668113586E-5},{"$f":"(F72-x!F70)^2","v":1.6071001446107402E-3},{"$f":"(G72-x!G70)^2","v":1.6231590474497317E-4},{"$f":"(H72-x!H70)^2","v":2.0337224937959193E-4},{"$f":"(I72-x!I70)^2","v":2.6160851120948792E-6},{"$f":"(J72-x!J70)^2","v":8.0178084084780218E-4},{"$f":"(K72-x!K70)^2","v":5.2892770632758756E-4},{"$f":"(L72-x!L70)^2","v":5.7631938019753757E-4}]
[61.118686676025391,60.798320770263672,78.08294677734375,82.688133239746094,45.589637756347656,17.377162933349609,16.495744705200195,88.976295471191406,10.49604320526123,91.683509826660156,10.377267837524414,62.578861236572266,null,{"$f":"(A73-x!A71)^2","v":3.4919186087785565E-4},{"$f":"(B73-x!B71)^2","v":2.8198125073590787E-6},{"$f":"(C73-x!C71)^2","v":2.9081240296344445E-4},{"$f":"(D73-x!D71)^2","v":1.4081999892375657E-4},{"$f":"(E73-x!E71)^2","v":1.0737609351056779E-4},{"$f":"(F73-x!F71)^2","v":5.2153161319431877E-4},{"$f":"(G73-x!G71)^2","v":1.8107533833244815E-5},{"$f":"(H73-x!H71)^2","v":5.6190468603745103E-4},{"$f":"(I73-x!I71)^2","v":1.5656224604754243E-5},{"$f":"(J73-x!J71)^2","v":2.719258167781873E-4},{"$f":"(K73-x!K71)^2","v":5.1675121081645357E-4},{"$f":"(L73-x!L71)^2","v":4.4684731925378042E-4}]
[14.698918342590332,56.791545867919922,71.099517822265625,32.492942810058594,59.208274841308594,90.401153564453125,30.197233200073242,47.910419464111328,68.797691345214844,88.698684692382812,52.399162292480469,92.898406982421875,null,{"$f":"(A74-x!A72)^2","v":1.1699827518880829E-6},{"$f":"(B74-x!B72)^2","v":7.1472349227358033E-5},{"$f":"(C74-x!C72)^2","v":2.3249536752152634E-7},{"$f":"(D74-x!D72)^2","v":4.980392986908555E-5},{"$f":"(E74-x!E72)^2","v":6.8472998682362493E-5},{"$f":"(F74-x!F72)^2","v":1.3307109475004658E-6},{"$f":"(G74-x!G72)^2","v":7.6551818347031042E-6},{"$f":"(H74-x!H72)^2","v":1.0856523236728441E-4},{"$f":"(I74-x!I72)^2","v":5.3298869170117275E-6},{"$f":"(J74-x!J72)^2","v":1.7300341278389357E-6},{"$f":"(K74-x!K72)^2","v":7.0175388827681864E-7},{"$f":"(L74-x!L72)^2","v":2.537705004233351E-6}]
[83.003578186035156,51.6048583984375,11.895605087280273,87.39501953125,53.993907928466797,95.000335693359375,87.901863098144531,61.697238922119141,55.399627685546875,67.101051330566406,51.796344757080078,31.695539474487305,null,{"$f":"(A75-x!A73)^2","v":1.2803415302187204E-5},{"$f":"(B75-x!B73)^2","v":2.3604035377488634E-5},{"$f":"(C75-x!C73)^2","v":1.9315257814017453E-5},{"$f":"(D75-x!D73)^2","v":2.4805068969783183E-5},{"$f":"(E75-x!E73)^2","v":3.7113335565663874E-5},{"$f":"(F75-x!F73)^2","v":1.126900315284729E-7},{"$f":"(G75-x!G73)^2","v":3.4711346961346056E-6},{"$f":"(H75-x!H73)^2","v":7.6235510641865917E-6},{"$f":"(I75-x!I73)^2","v":1.3861805200470964E-7},{"$f":"(J75-x!J73)^2","v":1.1052959598720387E-6},{"$f":"(K75-x!K73)^2","v":1.3360800803618217E-5},{"$f":"(L75-x!L73)^2","v":1.9896287849399441E-5}]
[37.314067840576172,64.79833984375,65.686721801757812,28.59467887878418,6.1014833450317383,89.877998352050781,22.09986686706543,70.382423400878906,82.099647521972656,56.18365478515625,7.9870901107788086,80.484031677246094,null,{"$f":"(A76-x!A74)^2","v":1.9790413847666779E-4},{"$f":"(B76-x!B74)^2","v":2.7561187744046254E-6},{"$f":"(C76-x!C74)^2","v":1.7631054855890668E-4},{"$f":"(D76-x!D74)^2","v":2.8314330993468165E-5},{"$f":"(E76-x!E74)^2","v":2.2003124831836965E-6},{"$f":"(F76-x!F74)^2","v":4.8407251248161178E-4},{"$f":"(G76-x!G74)^2","v":1.7724378267681495E-8},{"$f":"(H76-x!H74)^2","v":3.0893683666383343E-4},{"$f":"(I76-x!I74)^2","v":1.2424075975613417E-7},{"$f":"(J76-x!J74)^2","v":2.6716604828843824E-4},{"$f":"(K76-x!K74)^2","v":1.6666523970343405E-4},{"$f":"(L76-x!L74)^2","v":2.5498733157292008E-4}]
[69.306106567382812,-30.100608825683594,26.688226699829102,6.4969601631164551,78.798316955566406,9.49072265625,57.993011474609375,2.9753868579864502,54.891880035400391,78.384658813476563,95.888877868652344,9.9885540008544922,null,{"$f":"(A77-x!A75)^2","v":3.7290165200864216E-5},{"$f":"(B77-x!B75)^2","v":3.706687130016666E-7},{"$f":"(C77-x!C75)^2","v":1.3861059691406045E-4},{"$f":"(D77-x!D75)^2","v":9.2406082785601029E-6},{"$f":"(E77-x!E75)^2","v":2.8326385654413396E-6},{"$f":"(F77-x!F75)^2","v":8.6069107055664063E-5},{"$f":"(G77-x!G75)^2","v":4.8839487135410309E-5},{"$f":"(H77-x!H75)^2","v":6.0580675977917053E-4},{"$f":"(I77-x!I75)^2","v":6.5933825098886357E-5},{"$f":"(J77-x!J75)^2","v":2.3535200394707477E-4},{"$f":"(K77-x!K75)^2","v":1.2370180571464427E-4},{"$f":"(L77-x!L75)^2","v":1.3101089643896557E-4}]
[14.51283073425293,90.784400939941406,42.980724334716797,90.781700134277344,18.695041656494141,12.875205039978027,30.891090393066406,99.284469604492187,10.295377731323242,46.281051635742188,19.377546310424805,35.782451629638672,null,{"$f":"(A78-x!A76)^2","v":1.6462774146930315E-4},{"$f":"(B78-x!B76)^2","v":2.4333067471152617E-4},{"$f":"(C78-x!C76)^2","v":3.7155127211008221E-4},{"$f":"(D78-x!D76)^2","v":3.3488508546714512E-4},{"$f":"(E78-x!E76)^2","v":2.4585170322090791E-5},{"$f":"(F78-x!F76)^2","v":6.1479004249123984E-4},{"$f":"(G78-x!G76)^2","v":7.93810957111165E-5},{"$f":"(H78-x!H76)^2","v":2.4119318462899439E-4},{"$f":"(I78-x!I76)^2","v":2.1365367720142987E-5},{"$f":"(J78-x!J76)^2","v":3.5904050804663854E-4},{"$f":"(K78-x!K76)^2","v":5.0416817553917081E-4},{"$f":"(L78-x!L76)^2","v":3.0794530233823963E-4}]
[2.0044183731079102,36.583240509033203,5.889350414276123,52.988418579101563,59.295505523681641,98.398406982421875,33.402378082275391,58.500404357910156,21.488742828369141,56.887638092041016,22.585216522216797,78.897575378417969,null,{"$f":"(A79-x!A77)^2","v":1.9522020920703653E-5},{"$f":"(B79-x!B77)^2","v":2.8088053746619368E-4},{"$f":"(C79-x!C77)^2","v":1.1341367609021137E-4},{"$f":"(D79-x!D77)^2","v":1.3412931002676487E-4},{"$f":"(E79-x!E77)^2","v":2.0200317376267695E-5},{"$f":"(F79-x!F77)^2","v":2.537705004233351E-6},{"$f":"(G79-x!G77)^2","v":5.6552753085338117E-6},{"$f":"(H79-x!H77)^2","v":1.6350531950592995E-7},{"$f":"(I79-x!I77)^2","v":1.2672391312662512E-4},{"$f":"(J79-x!J77)^2","v":1.528167683863661E-4},{"$f":"(K79-x!K77)^2","v":2.185512153665024E-4},{"$f":"(L79-x!L77)^2","v":5.8787898160792864E-6}]
[80.591110229492187,60.816104888916016,73.106452941894531,10.409791946411133,16.890264511108398,77.811363220214844,50.004795074462891,59.391204833984375,9.1025762557983398,42.511909484863281,40.305530548095703,48.00250244140625,null,{"$f":"(A80-x!A78)^2","v":7.9028019681471855E-5},{"$f":"(B80-x!B78)^2","v":2.5936744699729447E-4},{"$f":"(C80-x!C78)^2","v":4.1640459094269919E-5},{"$f":"(D80-x!D78)^2","v":9.5882214518489806E-5},{"$f":"(E80-x!E78)^2","v":9.4779743958469748E-5},{"$f":"(F80-x!F78)^2","v":1.2912277365109822E-4},{"$f":"(G80-x!G78)^2","v":2.2992739104665816E-5},{"$f":"(H80-x!H78)^2","v":7.7354945242379938E-5},{"$f":"(I80-x!I78)^2","v":6.6370939384814961E-6},{"$f":"(J80-x!J78)^2","v":1.4183582970872521E-4},{"$f":"(K80-x!K78)^2","v":3.0586962238916898E-5},{"$f":"(L80-x!L78)^2","v":6.2622129917144775E-6}]
[12.614889144897461,91.986427307128906,4.4846358299255371,95.488243103027344,18.400949478149414,60.177299499511719,72.997566223144531,24.090333938598633,71.896575927734375,48.885414123535156,31.98052978515625,88.483261108398438,null,{"$f":"(A81-x!A79)^2","v":2.2168663577759766E-4},{"$f":"(B81-x!B79)^2","v":1.842179917730391E-4},{"$f":"(C81-x!C79)^2","v":2.3605772207702103E-4},{"$f":"(D81-x!D79)^2","v":1.382246264256537E-4},{"$f":"(E81-x!E79)^2","v":9.0150875621745132E-7},{"$f":"(F81-x!F79)^2","v":5.153127224185863E-4},{"$f":"(G81-x!G79)^2","v":5.9232697822153568E-6},{"$f":"(H81-x!H79)^2","v":9.3432743015028067E-5},{"$f":"(I81-x!I79)^2","v":1.1724270880261247E-5},{"$f":"(J81-x!J79)^2","v":2.1274779224764135E-4},{"$f":"(K81-x!K79)^2","v":3.7908926606178284E-4},{"$f":"(L81-x!L79)^2","v":2.801904920488596E-4}]
[52.913776397705078,40.682880401611328,51.482646942138672,64.389167785644531,27.314271926879883,33.970954895019531,16.392440795898438,68.479408264160156,39.292476654052734,63.670173645019531,60.081695556640625,54.283905029296875,null,{"$f":"(A82-x!A80)^2","v":1.8978913372852098E-4},{"$f":"(B82-x!B80)^2","v":2.9308064898951396E-4},{"$f":"(C82-x!C80)^2","v":3.0112861713860184E-4},{"$f":"(D82-x!D80)^2","v":1.1733686784294642E-4},{"$f":"(E82-x!E80)^2","v":2.0368789686470127E-4},{"$f":"(F82-x!F80)^2","v":8.4361812332645059E-4},{"$f":"(G82-x!G80)^2","v":5.7141566649057836E-5},{"$f":"(H82-x!H80)^2","v":4.2401958489790559E-4},{"$f":"(I82-x!I80)^2","v":5.6600734242195337E-5},{"$f":"(J82-x!J80)^2","v":8.8961145142110254E-4},{"$f":"(K82-x!K80)^2","v":3.3505264669661956E-4},{"$f":"(L82-x!L80)^2","v":2.5904808193436056E-4}]
[50.915718078613281,69.099853515625,67.996566772460938,60.091800689697266,27.506107330322266,80.284873962402344,52.498058319091797,40.886806488037109,10.499031066894531,95.788223266601563,15.59550666809082,40.589202880859375,null,{"$f":"(A83-x!A81)^2","v":2.4705799529333409E-4},{"$f":"(B83-x!B81)^2","v":2.1457672117475291E-8},{"$f":"(C83-x!C81)^2","v":1.178705133497715E-5},{"$f":"(D83-x!D81)^2","v":6.722868944054937E-5},{"$f":"(E83-x!E81)^2","v":3.7299483665265143E-5},{"$f":"(F83-x!F81)^2","v":2.2879701340562447E-4},{"$f":"(G83-x!G81)^2","v":3.7701247492805123E-6},{"$f":"(H83-x!H81)^2","v":1.7406875791490053E-4},{"$f":"(I83-x!I81)^2","v":9.3883136287331581E-7},{"$f":"(J83-x!J81)^2","v":1.3869144953780632E-4},{"$f":"(K83-x!K81)^2","v":2.0190031646049183E-5},{"$f":"(L83-x!L81)^2","v":1.1657778173688142E-4}]
[6.5853619575500488,37.602451324462891,62.609470367431641,62.808799743652344,11.896597862243652,23.024829864501953,77.104522705078125,51.217094421386719,19.399110794067383,40.4144287109375,76.914253234863281,37.117568969726563,null,{"$f":"(A84-x!A82)^2","v":2.142722867665621E-4},{"$f":"(B84-x!B82)^2","v":6.0089916223590444E-6},{"$f":"(C84-x!C82)^2","v":8.9687859290252529E-5},{"$f":"(D84-x!D82)^2","v":7.7435488347014146E-5},{"$f":"(E84-x!E82)^2","v":1.1574541313168682E-5},{"$f":"(F84-x!F82)^2","v":6.1652217118535191E-4},{"$f":"(G84-x!G82)^2","v":2.0454861223749079E-5},{"$f":"(H84-x!H82)^2","v":2.9221924254661021E-4},{"$f":"(I84-x!I82)^2","v":7.9068719059907487E-7},{"$f":"(J84-x!J82)^2","v":2.0818769931797314E-4},{"$f":"(K84-x!K82)^2","v":2.0315470406769403E-4},{"$f":"(L84-x!L82)^2","v":3.0866869725281967E-4}]
[9.6989498138427734,39.618583679199219,95.606369018554688,93.909439086914063,50.292720794677734,83.814292907714844,0.21880601346492767,56.009597778320312,7.5115022659301758,82.223869323730469,92.218963623046875,31.308616638183594,null,{"$f":"(A85-x!A83)^2","v":1.1028909648288019E-6},{"$f":"(B85-x!B83)^2","v":3.4535313257942282E-4},{"$f":"(C85-x!C83)^2","v":4.0564397350026058E-5},{"$f":"(D85-x!D83)^2","v":8.9096361771118625E-5},{"$f":"(E85-x!E83)^2","v":5.2986830123658822E-5},{"$f":"(F85-x!F83)^2","v":2.0428721094512122E-4},{"$f":"(G85-x!G83)^2","v":3.5366614244304053E-4},{"$f":"(H85-x!H83)^2","v":9.2117348685860634E-5},{"$f":"(I85-x!I83)^2","v":1.3230212152848253E-4},{"$f":"(J85-x!J83)^2","v":5.6974461534978291E-4},{"$f":"(K85-x!K83)^2","v":3.5961899906386085E-4},{"$f":"(L85-x!L83)^2","v":7.4246453586953554E-5}]
[58.798427581787109,2.7091274261474609,8.9023160934448242,61.404376983642578,-6.9082465171813965,-26.295026779174805,5.2000842094421387,-6.2029623985290527,89.80352783203125,68.007247924804688,14.10319995880127,55.698974609375,null,{"$f":"(A86-x!A84)^2","v":2.4724990362212085E-6},{"$f":"(B86-x!B84)^2","v":8.3309908077350373E-5},{"$f":"(C86-x!C84)^2","v":5.3642888451560706E-6},{"$f":"(D86-x!D84)^2","v":1.9157985807408913E-5},{"$f":"(E86-x!E84)^2","v":6.8005045623061559E-5},{"$f":"(F86-x!F84)^2","v":2.4732925376163412E-5},{"$f":"(G86-x!G84)^2","v":7.0912301452764093E-9},{"$f":"(H86-x!H84)^2","v":8.7758050449327518E-6},{"$f":"(I86-x!I84)^2","v":1.2445598840733554E-5},{"$f":"(J86-x!J84)^2","v":5.2532413974404335E-5},{"$f":"(K86-x!K84)^2","v":1.0239736329824609E-5},{"$f":"(L86-x!L84)^2","v":1.0514259338437193E-6}]
[58.885997772216797,50.219249725341797,87.711166381835938,58.011940002441406,8.8896589279174805,13.216404914855957,67.306640625,70.105201721191406,6.6015491485595703,49.819625854492188,15.710117340087891,7.0071630477905273,null,{"$f":"(A87-x!A85)^2","v":1.960623828926657E-4},{"$f":"(B87-x!B85)^2","v":3.7055192573450739E-4},{"$f":"(C87-x!C85)^2","v":1.2468808330589145E-4},{"$f":"(D87-x!D85)^2","v":1.4256365830078721E-4},{"$f":"(E87-x!E85)^2","v":1.0693777181587218E-4},{"$f":"(F87-x!F85)^2","v":2.6912123143122302E-4},{"$f":"(G87-x!G85)^2","v":4.4097900390662746E-5},{"$f":"(H87-x!H85)^2","v":2.7057903353183993E-5},{"$f":"(I87-x!I85)^2","v":2.3998612596198747E-6},{"$f":"(J87-x!J85)^2","v":3.8517416454862782E-4},{"$f":"(K87-x!K85)^2","v":1.0236057045405306E-4},{"$f":"(L87-x!L85)^2","v":5.1309253649378661E-5}]
[51.499641418457031,9.5784778594970703,37.401630401611328,98.891502380371094,70.615684509277344,46.499233245849609,39.187408447265625,35.411514282226562,80.791038513183594,30.69163703918457,40.196201324462891,21.402667999267578,null,{"$f":"(A88-x!A86)^2","v":1.285807229578495E-7},{"$f":"(B88-x!B86)^2","v":4.6320253182783125E-4},{"$f":"(C88-x!C86)^2","v":2.6582094142259802E-6},{"$f":"(D88-x!D86)^2","v":7.2209539357669407E-5},{"$f":"(E88-x!E86)^2","v":2.4600383127126049E-4},{"$f":"(F88-x!F86)^2","v":5.8791192714124918E-7},{"$f":"(G88-x!G86)^2","v":1.5854720026261811E-4},{"$f":"(H88-x!H86)^2","v":1.3257869519296581E-4},{"$f":"(I88-x!I86)^2","v":8.0308245960572091E-5},{"$f":"(J88-x!J86)^2","v":6.9939113600400499E-5},{"$f":"(K88-x!K86)^2","v":1.4429935836254791E-5},{"$f":"(L88-x!L86)^2","v":7.1182200918049947E-6}]
[62.409881591796875,15.604677200317383,44.498580932617188,7.2983560562133789,4.1056652069091797,75.187713623046875,62.701904296875,94.692527770996094,32.900016784667969,88.696235656738281,22.998014450073242,43.692890167236328,null,{"$f":"(A89-x!A87)^2","v":9.7645856440095374E-5},{"$f":"(B89-x!B87)^2","v":2.1876202808929205E-5},{"$f":"(C89-x!C87)^2","v":2.0137522369623184E-6},{"$f":"(D89-x!D87)^2","v":2.7025511735695161E-6},{"$f":"(E89-x!E87)^2","v":3.2094569323821297E-5},{"$f":"(F89-x!F87)^2","v":1.5095505863435099E-4},{"$f":"(G89-x!G87)^2","v":3.6263465881239407E-6},{"$f":"(H89-x!H87)^2","v":5.5834206286860262E-5},{"$f":"(I89-x!I87)^2","v":2.8172507886888714E-10},{"$f":"(J89-x!J87)^2","v":1.4170280192068755E-5},{"$f":"(K89-x!K87)^2","v":3.9424085116479546E-6},{"$f":"(L89-x!L87)^2","v":5.0549721927422465E-5}]
[34.502880096435547,48.786758422851563,9.9870710372924805,19.386224746704102,81.89874267578125,21.591640472412109,94.696815490722656,61.707313537597656,34.491123199462891,43.990932464599609,74.888931274414063,99.790878295898437,null,{"$f":"(A90-x!A88)^2","v":8.2949554780498147E-6},{"$f":"(B90-x!B88)^2","v":1.7533936537794692E-4},{"$f":"(C90-x!C88)^2","v":1.6715807669243077E-4},{"$f":"(D90-x!D88)^2","v":1.8975760336612161E-4},{"$f":"(E90-x!E88)^2","v":1.580864191069592E-6},{"$f":"(F90-x!F88)^2","v":6.9881701492728208E-5},{"$f":"(G90-x!G88)^2","v":1.0141099337506514E-5},{"$f":"(H90-x!H88)^2","v":5.3487832192289978E-5},{"$f":"(I90-x!I88)^2","v":7.8797587775625288E-5},{"$f":"(J90-x!J88)^2","v":8.2220198237337172E-5},{"$f":"(K90-x!K88)^2","v":1.2251668609691328E-4},{"$f":"(L90-x!L88)^2","v":8.3205485716410289E-5}]
[-20.186002731323242,32.004798889160156,28.299230575561523,96.599403381347656,57.801807403564453,13.586553573608398,15.205928802490234,-13.705927848815918,54.006950378417969,40.396701812744141,49.699714660644531,79.69451904296875,null,{"$f":"(A91-x!A89)^2","v":1.9592353040932551E-4},{"$f":"(B91-x!B89)^2","v":2.3029337171465158E-5},{"$f":"(C91-x!C89)^2","v":5.9201396652606692E-7},{"$f":"(D91-x!D89)^2","v":3.5595381631768964E-7},{"$f":"(E91-x!E89)^2","v":3.2667076448081353E-6},{"$f":"(F91-x!F89)^2","v":1.8080638270474947E-4},{"$f":"(G91-x!G89)^2","v":3.5150698968217751E-5},{"$f":"(H91-x!H89)^2","v":3.5139391584388488E-5},{"$f":"(I91-x!I89)^2","v":4.8307760152965784E-5},{"$f":"(J91-x!J89)^2","v":1.087803917470382E-5},{"$f":"(K91-x!K89)^2","v":8.1418547780943632E-8},{"$f":"(L91-x!L89)^2","v":3.0040889978439971E-5}]
[88.893096923828125,37.8946533203125,83.904342651367188,59.500717163085937,73.602371215820313,38.104564666748047,12.096168518066406,17.01606559753418,4.2998809814453125,76.904777526855469,19.701963424682617,63.307106018066406,null,{"$f":"(A92-x!A90)^2","v":4.7652460634786883E-5},{"$f":"(B92-x!B90)^2","v":2.8586983680709903E-5},{"$f":"(C92-x!C90)^2","v":1.8858620896886092E-5},{"$f":"(D92-x!D90)^2","v":5.1432289183139801E-7},{"$f":"(E92-x!E90)^2","v":5.6226644665272399E-6},{"$f":"(F92-x!F90)^2","v":2.0836182520711861E-5},{"$f":"(G92-x!G90)^2","v":1.4680253807452579E-5},{"$f":"(H92-x!H90)^2","v":2.5810342413024046E-4},{"$f":"(I92-x!I90)^2","v":1.4165416359859144E-8},{"$f":"(J92-x!J90)^2","v":2.2824762854670807E-5},{"$f":"(K92-x!K90)^2","v":3.855036484313194E-6},{"$f":"(L92-x!L90)^2","v":5.0495492760132411E-5}]
[98.709548950195313,2.2928421497344971,24.490842819213867,1.3905364274978638,84.796440124511719,39.183696746826172,9.3026323318481445,30.595438003540039,82.101272583007812,93.895240783691406,71.689781188964844,37.191349029541016,null,{"$f":"(A93-x!A91)^2","v":9.1182449832504357E-5},{"$f":"(B93-x!B91)^2","v":5.1234820423357815E-5},{"$f":"(C93-x!C91)^2","v":8.3853959949919954E-5},{"$f":"(D93-x!D91)^2","v":8.9559204503187307E-5},{"$f":"(E93-x!E91)^2","v":1.2672713492045432E-5},{"$f":"(F93-x!F91)^2","v":2.657960640500295E-4},{"$f":"(G93-x!G91)^2","v":6.9291709587522631E-6},{"$f":"(H93-x!H91)^2","v":2.0811811700709093E-5},{"$f":"(I93-x!I91)^2","v":1.6194675117875771E-6},{"$f":"(J93-x!J91)^2","v":2.2650139872038825E-5},{"$f":"(K93-x!K91)^2","v":1.0442409897228924E-4},{"$f":"(L93-x!L91)^2","v":7.4839289882269508E-5}]
[59.200691223144531,13.105307579040527,40.796241760253906,55.899250030517578,39.288867950439453,21.002513885498047,50.915908813476563,18.20440673828125,0.10178512334823608,17.405904769897461,61.600578308105469,66.7987060546875,null,{"$f":"(A94-x!A92)^2","v":4.7778943553174019E-7},{"$f":"(B94-x!B92)^2","v":2.817039527144893E-5},{"$f":"(C94-x!C92)^2","v":1.4124365989097451E-5},{"$f":"(D94-x!D92)^2","v":5.6245422456200348E-7},{"$f":"(E94-x!E92)^2","v":1.2392252741840859E-4},{"$f":"(F94-x!F92)^2","v":6.3196202972903848E-6},{"$f":"(G94-x!G92)^2","v":2.5309034623210183E-4},{"$f":"(H94-x!H92)^2","v":1.9419342279440466E-5},{"$f":"(I94-x!I92)^2","v":3.1866653684175873E-6},{"$f":"(J94-x!J92)^2","v":3.4866307541977631E-5},{"$f":"(K94-x!K92)^2","v":3.3444026484921123E-7},{"$f":"(L94-x!L92)^2","v":1.6742944717333674E-6}]
[-17.822494506835938,52.204250335693359,90.016105651855469,36.614253997802734,-79.396919250488281,40.522598266601563,27.991466522216797,28.116230010986328,92.201744079589844,44.517650604248047,-68.582870483398438,85.419502258300781,null,{"$f":"(A95-x!A93)^2","v":5.0600283779200696E-4},{"$f":"(B95-x!B93)^2","v":1.806535350622056E-5},{"$f":"(C95-x!C93)^2","v":2.5939202168956399E-4},{"$f":"(D95-x!D93)^2","v":2.0317645336031588E-4},{"$f":"(E95-x!E93)^2","v":9.4910175539903398E-6},{"$f":"(F95-x!F93)^2","v":5.1068165339529514E-4},{"$f":"(G95-x!G93)^2","v":7.282024307642132E-5},{"$f":"(H95-x!H93)^2","v":2.6341325661628551E-4},{"$f":"(I95-x!I93)^2","v":3.0418136156996291E-6},{"$f":"(J95-x!J93)^2","v":3.1154383032117039E-4},{"$f":"(K95-x!K93)^2","v":2.9342033900301058E-4},{"$f":"(L95-x!L93)^2","v":3.8033807883016947E-4}]
[20.296121597290039,49.290153503417969,74.909866333007813,62.496994018554688,39.410568237304688,11.605371475219727,90.792877197265625,93.918174743652344,10.998181343078613,75.20416259765625,42.905387878417969,48.908496856689453,null,{"$f":"(A96-x!A94)^2","v":1.5042007580637855E-5},{"$f":"(B96-x!B94)^2","v":9.6953494939897123E-5},{"$f":"(C96-x!C94)^2","v":9.7344527020938292E-5},{"$f":"(D96-x!D94)^2","v":9.0359244495630264E-6},{"$f":"(E96-x!E94)^2","v":1.1168763972821855E-4},{"$f":"(F96-x!F94)^2","v":2.8852746036140339E-5},{"$f":"(G96-x!G94)^2","v":5.0734318792779486E-5},{"$f":"(H96-x!H94)^2","v":3.3032130682820283E-4},{"$f":"(I96-x!I94)^2","v":3.3075129977078177E-6},{"$f":"(J96-x!J94)^2","v":1.7327219247794333E-5},{"$f":"(K96-x!K94)^2","v":2.9029233846828755E-5},{"$f":"(L96-x!L94)^2","v":7.2196573601128466E-5}]
[63.380409240722656,68.778350830078125,18.092983245849609,94.48931884765625,-35.708225250244141,52.913463592529297,9.5922946929931641,1.0078240633010864,39.091777801513672,79.49359130859375,83.291763305664063,90.310798645019531,null,{"$f":"(A97-x!A95)^2","v":3.8379784906277453E-4},{"$f":"(B97-x!B95)^2","v":4.6868655830609412E-4},{"$f":"(C97-x!C95)^2","v":4.9234838807044002E-5},{"$f":"(D97-x!D95)^2","v":1.1408701539039612E-4},{"$f":"(E97-x!E95)^2","v":6.7654741578688661E-5},{"$f":"(F97-x!F95)^2","v":1.8126832379497689E-4},{"$f":"(G97-x!G95)^2","v":5.9371756069589522E-5},{"$f":"(H97-x!H95)^2","v":6.1215966539407418E-5},{"$f":"(I97-x!I95)^2","v":6.7604547948599877E-5},{"$f":"(J97-x!J95)^2","v":4.1071325540542603E-5},{"$f":"(K97-x!K95)^2","v":6.7843133583618079E-5},{"$f":"(L97-x!L95)^2","v":1.1661073425790846E-4}]
[18.599004745483398,60.305805206298828,82.700668334960937,51.801502227783203,90.20355224609375,79.992996215820313,9.4918355941772461,49.793300628662109,43.404136657714844,32.902229309082031,89.604827880859375,15.396330833435059,null,{"$f":"(A98-x!A96)^2","v":9.9053155281863848E-7},{"$f":"(B98-x!B96)^2","v":3.3700420171986735E-5},{"$f":"(C98-x!C96)^2","v":4.4667162000753061E-7},{"$f":"(D98-x!D96)^2","v":2.2566883126359141E-6},{"$f":"(E98-x!E96)^2","v":1.2618452310541941E-5},{"$f":"(F98-x!F96)^2","v":4.9052992835640907E-5},{"$f":"(G98-x!G96)^2","v":6.6657522438617889E-5},{"$f":"(H98-x!H96)^2","v":4.4881576322912339E-5},{"$f":"(I98-x!I96)^2","v":1.7111937049788074E-5},{"$f":"(J98-x!J96)^2","v":4.969818983233351E-6},{"$f":"(K98-x!K96)^2","v":2.3308433592374374E-5},{"$f":"(L98-x!L96)^2","v":1.3462783281286526E-5}]
[15.201913833618164,17.489898681640625,96.6002197265625,96.894783020019531,39.606182098388672,43.090988159179688,44.792472839355469,29.999593734741211,48.897903442382813,70.788742065429688,41.091659545898438,43.494464874267578,null,{"$f":"(A99-x!A97)^2","v":3.6627591180176662E-6},{"$f":"(B99-x!B97)^2","v":1.0203663259744644E-4},{"$f":"(C99-x!C97)^2","v":4.8279762270564409E-8},{"$f":"(D99-x!D97)^2","v":2.7216880116671029E-5},{"$f":"(E99-x!E97)^2","v":3.8218340487201821E-5},{"$f":"(F99-x!F97)^2","v":8.1213274970676284E-5},{"$f":"(G99-x!G97)^2","v":5.6658147368537314E-5},{"$f":"(H99-x!H97)^2","v":1.6505146049894392E-7},{"$f":"(I99-x!I97)^2","v":4.3955538421809694E-6},{"$f":"(J99-x!J97)^2","v":1.2674109078937329E-4},{"$f":"(K99-x!K97)^2","v":6.9563174620294432E-5},{"$f":"(L99-x!L97)^2","v":3.0637616873718798E-5}]
[7.5166020393371582,49.918373107910156,37.000370025634766,85.606231689453125,27.998979568481445,7.1951656341552734,81.920013427734375,71.198318481445313,59.009323120117188,4.2092175483703613,8.6046047210693359,37.095191955566406,null,{"$f":"(A100-x!A98)^2","v":2.7562771015254839E-4},{"$f":"(B100-x!B98)^2","v":3.3757109427829838E-4},{"$f":"(C100-x!C98)^2","v":1.3691897038370371E-7},{"$f":"(D100-x!D98)^2","v":3.8833953440260207E-5},{"$f":"(E100-x!E98)^2","v":1.0412804840598255E-6},{"$f":"(F100-x!F98)^2","v":2.3371093120660489E-5},{"$f":"(G100-x!G98)^2","v":4.0053728967882294E-4},{"$f":"(H100-x!H98)^2","v":2.8275046497678971E-6},{"$f":"(I100-x!I98)^2","v":8.6920568719506264E-5},{"$f":"(J100-x!J98)^2","v":8.4963197959947499E-5},{"$f":"(K100-x!K98)^2","v":2.1203456126389571E-5},{"$f":"(L100-x!L98)^2","v":2.3117291275425511E-5}]
[79.594345092773438,39.014785766601563,2.5077633857727051,27.214969635009766,57.000717163085938,59.507266998291016,54.107883453369141,76.597732543945313,20.70881462097168,14.709196090698242,94.215301513671875,40.605400085449219,null,{"$f":"(A101-x!A99)^2","v":3.1977975740964496E-5},{"$f":"(B101-x!B99)^2","v":2.1861889399588108E-4},{"$f":"(C101-x!C99)^2","v":6.0270158655839623E-5},{"$f":"(D101-x!D99)^2","v":2.2408997232562197E-4},{"$f":"(E101-x!E99)^2","v":5.1432289183139801E-7},{"$f":"(F101-x!F99)^2","v":5.2809264161624014E-5},{"$f":"(G101-x!G99)^2","v":6.2148837023392263E-5},{"$f":"(H101-x!H99)^2","v":5.141356959913225E-6},{"$f":"(I101-x!I99)^2","v":7.7697542874387884E-5},{"$f":"(J101-x!J99)^2","v":8.4568084130309552E-5},{"$f":"(K101-x!K99)^2","v":2.3413632065049056E-4},{"$f":"(L101-x!L99)^2","v":2.9160922858848722E-5}]
[65.210433959960938,69.892196655273438,84.39776611328125,49.095916748046875,51.612857818603516,71.482627868652344,11.0009765625,75.497909545898438,9.8947572708129883,66.6920166015625,-78.81072998046875,78.893951416015625,null,{"$f":"(A102-x!A100)^2","v":1.0886752046638757E-4},{"$f":"(B102-x!B100)^2","v":6.0892188921659491E-5},{"$f":"(C102-x!C100)^2","v":4.990249872233038E-6},{"$f":"(D102-x!D100)^2","v":1.6672946512710734E-5},{"$f":"(E102-x!E100)^2","v":1.6532349924087595E-4},{"$f":"(F102-x!F100)^2","v":3.0179094756022096E-4},{"$f":"(G102-x!G100)^2","v":9.5367431640625E-7},{"$f":"(H102-x!H100)^2","v":4.3699983507394791E-6},{"$f":"(I102-x!I100)^2","v":2.7486209328348282E-5},{"$f":"(J102-x!J100)^2","v":6.3734650611922827E-5},{"$f":"(K102-x!K100)^2","v":1.1513248085981747E-4},{"$f":"(L102-x!L100)^2","v":3.6585368216106514E-5}]
[]
[null,null,null,null,null,null,null,null,null,null,null,null,null,{"$f":"SQRT(SUM(N3:N102)/100)","v":1.3993789348605625E-2},{"$f":"SQRT(SUM(O3:O102)/100)","v":1.3542867811466132E-2},{"$f":"SQRT(SUM(P3:P102)/100)","v":1.2179628607716124E-2},1.4483592406613392E-2,8.6695445969114781E-3,1.7679012174452047E-2,1.0952562328656967E-2,1.28483081227454E-2,7.3864682295379288E-3,1.6934911145449635E-2,1.4013587794012074E-2,1.303222591807505E-2]

{"sheet":"GJ","index":10,"n_rows":104,"n_cols":25,"rows_kept":104,"cut":false,"hidden":false,"merged":[[0,0,0,11],[0,13,0,24]]}
["Solution Vectors, x, for Each Input b Vector Using Gauss-Jordan Routine",null,null,null,null,null,null,null,null,null,null,null,null,"Square of the Error for Each Solution Value in Each x Solution Using Excel Minverse"]
["x1","x2","x3","x4","x5","x6","x7","x8","x9","x10","x11","x12",null,"Esqd1","Esqd2","Esqd3","Esqd4","Esqd5","Esqd6","Esqd7","Esqd8","Esqd9","Esqd10","Esqd11","Esqd12"]
[{"$f":"gaussJordanAB(A,b)","v":{"$error":"#NAME?"}},{"$error":"#NAME?"},{"$error":"#NAME?"},{"$error":"#NAME?"},{"$error":"#NAME?"},{"$error":"#NAME?"},{"$error":"#NAME?"},{"$error":"#NAME?"},{"$error":"#NAME?"},{"$error":"#NAME?"},{"$error":"#NAME?"},{"$error":"#NAME?"},null,{"$f":"(A3-x!A1)^2","v":{"$error":"#NAME?"}},{"$f":"(B3-x!B1)^2","v":{"$error":"#NAME?"}},{"$f":"(C3-x!C1)^2","v":{"$error":"#NAME?"}},{"$f":"(D3-x!D1)^2","v":{"$error":"#NAME?"}},{"$f":"(E3-x!E1)^2","v":{"$error":"#NAME?"}},{"$f":"(F3-x!F1)^2","v":{"$error":"#NAME?"}},{"$f":"(G3-x!G1)^2","v":{"$error":"#NAME?"}},{"$f":"(H3-x!H1)^2","v":{"$error":"#NAME?"}},{"$f":"(I3-x!I1)^2","v":{"$error":"#NAME?"}},{"$f":"(J3-x!J1)^2","v":{"$error":"#NAME?"}},{"$f":"(K3-x!K1)^2","v":{"$error":"#NAME?"}},{"$f":"(L3-x!L1)^2","v":{"$error":"#NAME?"}}]
[{"$error":"#NAME?"},{"$error":"#NAME?"},{"$error":"#NAME?"},{"$error":"#NAME?"},{"$error":"#NAME?"},{"$error":"#NAME?"},{"$error":"#NAME?"},{"$error":"#NAME?"},{"$error":"#NAME?"},{"$error":"#NAME?"},{"$error":"#NAME?"},{"$error":"#NAME?"},null,{"$f":"(A4-x!A2)^2","v":{"$error":"#NAME?"}},{"$f":"(B4-x!B2)^2","v":{"$error":"#NAME?"}},{"$f":"(C4-x!C2)^2","v":{"$error":"#NAME?"}},{"$f":"(D4-x!D2)^2","v":{"$error":"#NAME?"}},{"$f":"(E4-x!E2)^2","v":{"$error":"#NAME?"}},{"$f":"(F4-x!F2)^2","v":{"$error":"#NAME?"}},{"$f":"(G4-x!G2)^2","v":{"$error":"#NAME?"}},{"$f":"(H4-x!H2)^2","v":{"$error":"#NAME?"}},{"$f":"(I4-x!I2)^2","v":{"$error":"#NAME?"}},{"$f":"(J4-x!J2)^2","v":{"$error":"#NAME?"}},{"$f":"(K4-x!K2)^2","v":{"$error":"#NAME?"}},{"$f":"(L4-x!L2)^2","v":{"$error":"#NAME?"}}]
[{"$error":"#NAME?"},{"$error":"#NAME?"},{"$error":"#NAME?"},{"$error":"#NAME?"},{"$error":"#NAME?"},{"$error":"#NAME?"},{"$error":"#NAME?"},{"$error":"#NAME?"},{"$error":"#NAME?"},{"$error":"#NAME?"},{"$error":"#NAME?"},{"$error":"#NAME?"},null,{"$f":"(A5-x!A3)^2","v":{"$error":"#NAME?"}},{"$f":"(B5-x!B3)^2","v":{"$error":"#NAME?"}},{"$f":"(C5-x!C3)^2","v":{"$error":"#NAME?"}},{"$f":"(D5-x!D3)^2","v":{"$error":"#NAME?"}},{"$f":"(E5-x!E3)^2","v":{"$error":"#NAME?"}},{"$f":"(F5-x!F3)^2","v":{"$error":"#NAME?"}},{"$f":"(G5-x!G3)^2","v":{"$error":"#NAME?"}},{"$f":"(H5-x!H3)^2","v":{"$error":"#NAME?"}},{"$f":"(I5-x!I3)^2","v":{"$error":"#NAME?"}},{"$f":"(J5-x!J3)^2","v":{"$error":"#NAME?"}},{"$f":"(K5-x!K3)^2","v":{"$error":"#NAME?"}},{"$f":"(L5-x!L3)^2","v":{"$error":"#NAME?"}}]
[{"$error":"#NAME?"},{"$error":"#NAME?"},{"$error":"#NAME?"},{"$error":"#NAME?"},{"$error":"#NAME?"},{"$error":"#NAME?"},{"$error":"#NAME?"},{"$error":"#NAME?"},{"$error":"#NAME?"},{"$error":"#NAME?"},{"$error":"#NAME?"},{"$error":"#NAME?"},null,{"$f":"(A6-x!A4)^2","v":{"$error":"#NAME?"}},{"$f":"(B6-x!B4)^2","v":{"$error":"#NAME?"}},{"$f":"(C6-x!C4)^2","v":{"$error":"#NAME?"}},{"$f":"(D6-x!D4)^2","v":{"$error":"#NAME?"}},{"$f":"(E6-x!E4)^2","v":{"$error":"#NAME?"}},{"$f":"(F6-x!F4)^2","v":{"$error":"#NAME?"}},{"$f":"(G6-x!G4)^2","v":{"$error":"#NAME?"}},{"$f":"(H6-x!H4)^2","v":{"$error":"#NAME?"}},{"$f":"(I6-x!I4)^2","v":{"$error":"#NAME?"}},{"$f":"(J6-x!J4)^2","v":{"$error":"#NAME?"}},{"$f":"(K6-x!K4)^2","v":{"$error":"#NAME?"}},{"$f":"(L6-x!L4)^2","v":{"$error":"#NAME?"}}]
[{"$error":"#NAME?"},{"$error":"#NAME?"},{"$error":"#NAME?"},{"$error":"#NAME?"},{"$error":"#NAME?"},{"$error":"#NAME?"},{"$error":"#NAME?"},{"$error":"#NAME?"},{"$error":"#NAME?"},{"$error":"#NAME?"},{"$error":"#NAME?"},{"$error":"#NAME?"},null,{"$f":"(A7-x!A5)^2","v":{"$error":"#NAME?"}},{"$f":"(B7-x!B5)^2","v":{"$error":"#NAME?"}},{"$f":"(C7-x!C5)^2","v":{"$error":"#NAME?"}},{"$f":"(D7-x!D5)^2","v":{"$error":"#NAME?"}},{"$f":"(E7-x!E5)^2","v":{"$error":"#NAME?"}},{"$f":"(F7-x!F5)^2","v":{"$error":"#NAME?"}},{"$f":"(G7-x!G5)^2","v":{"$error":"#NAME?"}},{"$f":"(H7-x!H5)^2","v":{"$error":"#NAME?"}},{"$f":"(I7-x!I5)^2","v":{"$error":"#NAME?"}},{"$f":"(J7-x!J5)^2","v":{"$error":"#NAME?"}},{"$f":"(K7-x!K5)^2","v":{"$error":"#NAME?"}},{"$f":"(L7-x!L5)^2","v":{"$error":"#NAME?"}}]
[{"$error":"#NAME?"},{"$error":"#NAME?"},{"$error":"#NAME?"},{"$error":"#NAME?"},{"$error":"#NAME?"},{"$error":"#NAME?"},{"$error":"#NAME?"},{"$error":"#NAME?"},{"$error":"#NAME?"},{"$error":"#NAME?"},{"$error":"#NAME?"},{"$error":"#NAME?"},null,{"$f":"(A8-x!A6)^2","v":{"$error":"#NAME?"}},{"$f":"(B8-x!B6)^2","v":{"$error":"#NAME?"}},{"$f":"(C8-x!C6)^2","v":{"$error":"#NAME?"}},{"$f":"(D8-x!D6)^2","v":{"$error":"#NAME?"}},{"$f":"(E8-x!E6)^2","v":{"$error":"#NAME?"}},{"$f":"(F8-x!F6)^2","v":{"$error":"#NAME?"}},{"$f":"(G8-x!G6)^2","v":{"$error":"#NAME?"}},{"$f":"(H8-x!H6)^2","v":{"$error":"#NAME?"}},{"$f":"(I8-x!I6)^2","v":{"$error":"#NAME?"}},{"$f":"(J8-x!J6)^2","v":{"$error":"#NAME?"}},{"$f":"(K8-x!K6)^2","v":{"$error":"#NAME?"}},{"$f":"(L8-x!L6)^2","v":{"$error":"#NAME?"}}]
[{"$error":"#NAME?"},{"$error":"#NAME?"},{"$error":"#NAME?"},{"$error":"#NAME?"},{"$error":"#NAME?"},{"$error":"#NAME?"},{"$error":"#NAME?"},{"$error":"#NAME?"},{"$error":"#NAME?"},{"$error":"#NAME?"},{"$error":"#NAME?"},{"$error":"#NAME?"},null,{"$f":"(A9-x!A7)^2","v":{"$error":"#NAME?"}},{"$f":"(B9-x!B7)^2","v":{"$error":"#NAME?"}},{"$f":"(C9-x!C7)^2","v":{"$error":"#NAME?"}},{"$f":"(D9-x!D7)^2","v":{"$error":"#NAME?"}},{"$f":"(E9-x!E7)^2","v":{"$error":"#NAME?"}},{"$f":"(F9-x!F7)^2","v":{"$error":"#NAME?"}},{"$f":"(G9-x!G7)^2","v":{"$error":"#NAME?"}},{"$f":"(H9-x!H7)^2","v":{"$error":"#NAME?"}},{"$f":"(I9-x!I7)^2","v":{"$error":"#NAME?"}},{"$f":"(J9-x!J7)^2","v":{"$error":"#NAME?"}},{"$f":"(K9-x!K7)^2","v":{"$error":"#NAME?"}},{"$f":"(L9-x!L7)^2","v":{"$error":"#NAME?"}}]
[{"$error":"#NAME?"},{"$error":"#NAME?"},{"$error":"#NAME?"},{"$error":"#NAME?"},{"$error":"#NAME?"},{"$error":"#NAME?"},{"$error":"#NAME?"},{"$error":"#NAME?"},{"$error":"#NAME?"},{"$error":"#NAME?"},{"$error":"#NAME?"},{"$error":"#NAME?"},null,{"$f":"(A10-x!A8)^2","v":{"$error":"#NAME?"}},{"$f":"(B10-x!B8)^2","v":{"$error":"#NAME?"}},{"$f":"(C10-x!C8)^2","v":{"$error":"#NAME?"}},{"$f":"(D10-x!D8)^2","v":{"$error":"#NAME?"}},{"$f":"(E10-x!E8)^2","v":{"$error":"#NAME?"}},{"$f":"(F10-x!F8)^2","v":{"$error":"#NAME?"}},{"$f":"(G10-x!G8)^2","v":{"$error":"#NAME?"}},{"$f":"(H10-x!H8)^2","v":{"$error":"#NAME?"}},{"$f":"(I10-x!I8)^2","v":{"$error":"#NAME?"}},{"$f":"(J10-x!J8)^2","v":{"$error":"#NAME?"}},{"$f":"(K10-x!K8)^2","v":{"$error":"#NAME?"}},{"$f":"(L10-x!L8)^2","v":{"$error":"#NAME?"}}]
[{"$error":"#NAME?"},{"$error":"#NAME?"},{"$error":"#NAME?"},{"$error":"#NAME?"},{"$error":"#NAME?"},{"$error":"#NAME?"},{"$error":"#NAME?"},{"$error":"#NAME?"},{"$error":"#NAME?"},{"$error":"#NAME?"},{"$error":"#NAME?"},{"$error":"#NAME?"},null,{"$f":"(A11-x!A9)^2","v":{"$error":"#NAME?"}},{"$f":"(B11-x!B9)^2","v":{"$error":"#NAME?"}},{"$f":"(C11-x!C9)^2","v":{"$error":"#NAME?"}},{"$f":"(D11-x!D9)^2","v":{"$error":"#NAME?"}},{"$f":"(E11-x!E9)^2","v":{"$error":"#NAME?"}},{"$f":"(F11-x!F9)^2","v":{"$error":"#NAME?"}},{"$f":"(G11-x!G9)^2","v":{"$error":"#NAME?"}},{"$f":"(H11-x!H9)^2","v":{"$error":"#NAME?"}},{"$f":"(I11-x!I9)^2","v":{"$error":"#NAME?"}},{"$f":"(J11-x!J9)^2","v":{"$error":"#NAME?"}},{"$f":"(K11-x!K9)^2","v":{"$error":"#NAME?"}},{"$f":"(L11-x!L9)^2","v":{"$error":"#NAME?"}}]
[{"$error":"#NAME?"},{"$error":"#NAME?"},{"$error":"#NAME?"},{"$error":"#NAME?"},{"$error":"#NAME?"},{"$error":"#NAME?"},{"$error":"#NAME?"},{"$error":"#NAME?"},{"$error":"#NAME?"},{"$error":"#NAME?"},{"$error":"#NAME?"},{"$error":"#NAME?"},null,{"$f":"(A12-x!A10)^2","v":{"$error":"#NAME?"}},{"$f":"(B12-x!B10)^2","v":{"$error":"#NAME?"}},{"$f":"(C12-x!C10)^2","v":{"$error":"#NAME?"}},{"$f":"(D12-x!D10)^2","v":{"$error":"#NAME?"}},{"$f":"(E12-x!E10)^2","v":{"$error":"#NAME?"}},{"$f":"(F12-x!F10)^2","v":{"$error":"#NAME?"}},{"$f":"(G12-x!G10)^2","v":{"$error":"#NAME?"}},{"$f":"(H12-x!H10)^2","v":{"$error":"#NAME?"}},{"$f":"(I12-x!I10)^2","v":{"$error":"#NAME?"}},{"$f":"(J12-x!J10)^2","v":{"$error":"#NAME?"}},{"$f":"(K12-x!K10)^2","v":{"$error":"#NAME?"}},{"$f":"(L12-x!L10)^2","v":{"$error":"#NAME?"}}]
[{"$error":"#NAME?"},{"$error":"#NAME?"},{"$error":"#NAME?"},{"$error":"#NAME?"},{"$error":"#NAME?"},{"$error":"#NAME?"},{"$error":"#NAME?"},{"$error":"#NAME?"},{"$error":"#NAME?"},{"$error":"#NAME?"},{"$error":"#NAME?"},{"$error":"#NAME?"},null,{"$f":"(A13-x!A11)^2","v":{"$error":"#NAME?"}},{"$f":"(B13-x!B11)^2","v":{"$error":"#NAME?"}},{"$f":"(C13-x!C11)^2","v":{"$error":"#NAME?"}},{"$f":"(D13-x!D11)^2","v":{"$error":"#NAME?"}},{"$f":"(E13-x!E11)^2","v":{"$error":"#NAME?"}},{"$f":"(F13-x!F11)^2","v":{"$error":"#NAME?"}},{"$f":"(G13-x!G11)^2","v":{"$error":"#NAME?"}},{"$f":"(H13-x!H11)^2","v":{"$error":"#NAME?"}},{"$f":"(I13-x!I11)^2","v":{"$error":"#NAME?"}},{"$f":"(J13-x!J11)^2","v":{"$error":"#NAME?"}},{"$f":"(K13-x!K11)^2","v":{"$error":"#NAME?"}},{"$f":"(L13-x!L11)^2","v":{"$error":"#NAME?"}}]
[{"$error":"#NAME?"},{"$error":"#NAME?"},{"$error":"#NAME?"},{"$error":"#NAME?"},{"$error":"#NAME?"},{"$error":"#NAME?"},{"$error":"#NAME?"},{"$error":"#NAME?"},{"$error":"#NAME?"},{"$error":"#NAME?"},{"$error":"#NAME?"},{"$error":"#NAME?"},null,{"$f":"(A14-x!A12)^2","v":{"$error":"#NAME?"}},{"$f":"(B14-x!B12)^2","v":{"$error":"#NAME?"}},{"$f":"(C14-x!C12)^2","v":{"$error":"#NAME?"}},{"$f":"(D14-x!D12)^2","v":{"$error":"#NAME?"}},{"$f":"(E14-x!E12)^2","v":{"$error":"#NAME?"}},{"$f":"(F14-x!F12)^2","v":{"$error":"#NAME?"}},{"$f":"(G14-x!G12)^2","v":{"$error":"#NAME?"}},{"$f":"(H14-x!H12)^2","v":{"$error":"#NAME?"}},{"$f":"(I14-x!I12)^2","v":{"$error":"#NAME?"}},{"$f":"(J14-x!J12)^2","v":{"$error":"#NAME?"}},{"$f":"(K14-x!K12)^2","v":{"$error":"#NAME?"}},{"$f":"(L14-x!L12)^2","v":{"$error":"#NAME?"}}]
[{"$error":"#NAME?"},{"$error":"#NAME?"},{"$error":"#NAME?"},{"$error":"#NAME?"},{"$error":"#NAME?"},{"$error":"#NAME?"},{"$error":"#NAME?"},{"$error":"#NAME?"},{"$error":"#NAME?"},{"$error":"#NAME?"},{"$error":"#NAME?"},{"$error":"#NAME?"},null,{"$f":"(A15-x!A13)^2","v":{"$error":"#NAME?"}},{"$f":"(B15-x!B13)^2","v":{"$error":"#NAME?"}},{"$f":"(C15-x!C13)^2","v":{"$error":"#NAME?"}},{"$f":"(D15-x!D13)^2","v":{"$error":"#NAME?"}},{"$f":"(E15-x!E13)^2","v":{"$error":"#NAME?"}},{"$f":"(F15-x!F13)^2","v":{"$error":"#NAME?"}},{"$f":"(G15-x!G13)^2","v":{"$error":"#NAME?"}},{"$f":"(H15-x!H13)^2","v":{"$error":"#NAME?"}},{"$f":"(I15-x!I13)^2","v":{"$error":"#NAME?"}},{"$f":"(J15-x!J13)^2","v":{"$error":"#NAME?"}},{"$f":"(K15-x!K13)^2","v":{"$error":"#NAME?"}},{"$f":"(L15-x!L13)^2","v":{"$error":"#NAME?"}}]
[{"$error":"#NAME?"},{"$error":"#NAME?"},{"$error":"#NAME?"},{"$error":"#NAME?"},{"$error":"#NAME?"},{"$error":"#NAME?"},{"$error":"#NAME?"},{"$error":"#NAME?"},{"$error":"#NAME?"},{"$error":"#NAME?"},{"$error":"#NAME?"},{"$error":"#NAME?"},null,{"$f":"(A16-x!A14)^2","v":{"$error":"#NAME?"}},{"$f":"(B16-x!B14)^2","v":{"$error":"#NAME?"}},{"$f":"(C16-x!C14)^2","v":{"$error":"#NAME?"}},{"$f":"(D16-x!D14)^2","v":{"$error":"#NAME?"}},{"$f":"(E16-x!E14)^2","v":{"$error":"#NAME?"}},{"$f":"(F16-x!F14)^2","v":{"$error":"#NAME?"}},{"$f":"(G16-x!G14)^2","v":{"$error":"#NAME?"}},{"$f":"(H16-x!H14)^2","v":{"$error":"#NAME?"}},{"$f":"(I16-x!I14)^2","v":{"$error":"#NAME?"}},{"$f":"(J16-x!J14)^2","v":{"$error":"#NAME?"}},{"$f":"(K16-x!K14)^2","v":{"$error":"#NAME?"}},{"$f":"(L16-x!L14)^2","v":{"$error":"#NAME?"}}]
[{"$error":"#NAME?"},{"$error":"#NAME?"},{"$error":"#NAME?"},{"$error":"#NAME?"},{"$error":"#NAME?"},{"$error":"#NAME?"},{"$error":"#NAME?"},{"$error":"#NAME?"},{"$error":"#NAME?"},{"$error":"#NAME?"},{"$error":"#NAME?"},{"$error":"#NAME?"},null,{"$f":"(A17-x!A15)^2","v":{"$error":"#NAME?"}},{"$f":"(B17-x!B15)^2","v":{"$error":"#NAME?"}},{"$f":"(C17-x!C15)^2","v":{"$error":"#NAME?"}},{"$f":"(D17-x!D15)^2","v":{"$error":"#NAME?"}},{"$f":"(E17-x!E15)^2","v":{"$error":"#NAME?"}},{"$f":"(F17-x!F15)^2","v":{"$error":"#NAME?"}},{"$f":"(G17-x!G15)^2","v":{"$error":"#NAME?"}},{"$f":"(H17-x!H15)^2","v":{"$error":"#NAME?"}},{"$f":"(I17-x!I15)^2","v":{"$error":"#NAME?"}},{"$f":"(J17-x!J15)^2","v":{"$error":"#NAME?"}},{"$f":"(K17-x!K15)^2","v":{"$error":"#NAME?"}},{"$f":"(L17-x!L15)^2","v":{"$error":"#NAME?"}}]
[{"$error":"#NAME?"},{"$error":"#NAME?"},{"$error":"#NAME?"},{"$error":"#NAME?"},{"$error":"#NAME?"},{"$error":"#NAME?"},{"$error":"#NAME?"},{"$error":"#NAME?"},{"$error":"#NAME?"},{"$error":"#NAME?"},{"$error":"#NAME?"},{"$error":"#NAME?"},null,{"$f":"(A18-x!A16)^2","v":{"$error":"#NAME?"}},{"$f":"(B18-x!B16)^2","v":{"$error":"#NAME?"}},{"$f":"(C18-x!C16)^2","v":{"$error":"#NAME?"}},{"$f":"(D18-x!D16)^2","v":{"$error":"#NAME?"}},{"$f":"(E18-x!E16)^2","v":{"$error":"#NAME?"}},{"$f":"(F18-x!F16)^2","v":{"$error":"#NAME?"}},{"$f":"(G18-x!G16)^2","v":{"$error":"#NAME?"}},{"$f":"(H18-x!H16)^2","v":{"$error":"#NAME?"}},{"$f":"(I18-x!I16)^2","v":{"$error":"#NAME?"}},{"$f":"(J18-x!J16)^2","v":{"$error":"#NAME?"}},{"$f":"(K18-x!K16)^2","v":{"$error":"#NAME?"}},{"$f":"(L18-x!L16)^2","v":{"$error":"#NAME?"}}]
[{"$error":"#NAME?"},{"$error":"#NAME?"},{"$error":"#NAME?"},{"$error":"#NAME?"},{"$error":"#NAME?"},{"$error":"#NAME?"},{"$error":"#NAME?"},{"$error":"#NAME?"},{"$error":"#NAME?"},{"$error":"#NAME?"},{"$error":"#NAME?"},{"$error":"#NAME?"},null,{"$f":"(A19-x!A17)^2","v":{"$error":"#NAME?"}},{"$f":"(B19-x!B17)^2","v":{"$error":"#NAME?"}},{"$f":"(C19-x!C17)^2","v":{"$error":"#NAME?"}},{"$f":"(D19-x!D17)^2","v":{"$error":"#NAME?"}},{"$f":"(E19-x!E17)^2","v":{"$error":"#NAME?"}},{"$f":"(F19-x!F17)^2","v":{"$error":"#NAME?"}},{"$f":"(G19-x!G17)^2","v":{"$error":"#NAME?"}},{"$f":"(H19-x!H17)^2","v":{"$error":"#NAME?"}},{"$f":"(I19-x!I17)^2","v":{"$error":"#NAME?"}},{"$f":"(J19-x!J17)^2","v":{"$error":"#NAME?"}},{"$f":"(K19-x!K17)^2","v":{"$error":"#NAME?"}},{"$f":"(L19-x!L17)^2","v":{"$error":"#NAME?"}}]
[{"$error":"#NAME?"},{"$error":"#NAME?"},{"$error":"#NAME?"},{"$error":"#NAME?"},{"$error":"#NAME?"},{"$error":"#NAME?"},{"$error":"#NAME?"},{"$error":"#NAME?"},{"$error":"#NAME?"},{"$error":"#NAME?"},{"$error":"#NAME?"},{"$error":"#NAME?"},null,{"$f":"(A20-x!A18)^2","v":{"$error":"#NAME?"}},{"$f":"(B20-x!B18)^2","v":{"$error":"#NAME?"}},{"$f":"(C20-x!C18)^2","v":{"$error":"#NAME?"}},{"$f":"(D20-x!D18)^2","v":{"$error":"#NAME?"}},{"$f":"(E20-x!E18)^2","v":{"$error":"#NAME?"}},{"$f":"(F20-x!F18)^2","v":{"$error":"#NAME?"}},{"$f":"(G20-x!G18)^2","v":{"$error":"#NAME?"}},{"$f":"(H20-x!H18)^2","v":{"$error":"#NAME?"}},{"$f":"(I20-x!I18)^2","v":{"$error":"#NAME?"}},{"$f":"(J20-x!J18)^2","v":{"$error":"#NAME?"}},{"$f":"(K20-x!K18)^2","v":{"$error":"#NAME?"}},{"$f":"(L20-x!L18)^2","v":{"$error":"#NAME?"}}]
[{"$error":"#NAME?"},{"$error":"#NAME?"},{"$error":"#NAME?"},{"$error":"#NAME?"},{"$error":"#NAME?"},{"$error":"#NAME?"},{"$error":"#NAME?"},{"$error":"#NAME?"},{"$error":"#NAME?"},{"$error":"#NAME?"},{"$error":"#NAME?"},{"$error":"#NAME?"},null,{"$f":"(A21-x!A19)^2","v":{"$error":"#NAME?"}},{"$f":"(B21-x!B19)^2","v":{"$error":"#NAME?"}},{"$f":"(C21-x!C19)^2","v":{"$error":"#NAME?"}},{"$f":"(D21-x!D19)^2","v":{"$error":"#NAME?"}},{"$f":"(E21-x!E19)^2","v":{"$error":"#NAME?"}},{"$f":"(F21-x!F19)^2","v":{"$error":"#NAME?"}},{"$f":"(G21-x!G19)^2","v":{"$error":"#NAME?"}},{"$f":"(H21-x!H19)^2","v":{"$error":"#NAME?"}},{"$f":"(I21-x!I19)^2","v":{"$error":"#NAME?"}},{"$f":"(J21-x!J19)^2","v":{"$error":"#NAME?"}},{"$f":"(K21-x!K19)^2","v":{"$error":"#NAME?"}},{"$f":"(L21-x!L19)^2","v":{"$error":"#NAME?"}}]
[{"$error":"#NAME?"},{"$error":"#NAME?"},{"$error":"#NAME?"},{"$error":"#NAME?"},{"$error":"#NAME?"},{"$error":"#NAME?"},{"$error":"#NAME?"},{"$error":"#NAME?"},{"$error":"#NAME?"},{"$error":"#NAME?"},{"$error":"#NAME?"},{"$error":"#NAME?"},null,{"$f":"(A22-x!A20)^2","v":{"$error":"#NAME?"}},{"$f":"(B22-x!B20)^2","v":{"$error":"#NAME?"}},{"$f":"(C22-x!C20)^2","v":{"$error":"#NAME?"}},{"$f":"(D22-x!D20)^2","v":{"$error":"#NAME?"}},{"$f":"(E22-x!E20)^2","v":{"$error":"#NAME?"}},{"$f":"(F22-x!F20)^2","v":{"$error":"#NAME?"}},{"$f":"(G22-x!G20)^2","v":{"$error":"#NAME?"}},{"$f":"(H22-x!H20)^2","v":{"$error":"#NAME?"}},{"$f":"(I22-x!I20)^2","v":{"$error":"#NAME?"}},{"$f":"(J22-x!J20)^2","v":{"$error":"#NAME?"}},{"$f":"(K22-x!K20)^2","v":{"$error":"#NAME?"}},{"$f":"(L22-x!L20)^2","v":{"$error":"#NAME?"}}]
[{"$error":"#NAME?"},{"$error":"#NAME?"},{"$error":"#NAME?"},{"$error":"#NAME?"},{"$error":"#NAME?"},{"$error":"#NAME?"},{"$error":"#NAME?"},{"$error":"#NAME?"},{"$error":"#NAME?"},{"$error":"#NAME?"},{"$error":"#NAME?"},{"$error":"#NAME?"},null,{"$f":"(A23-x!A21)^2","v":{"$error":"#NAME?"}},{"$f":"(B23-x!B21)^2","v":{"$error":"#NAME?"}},{"$f":"(C23-x!C21)^2","v":{"$error":"#NAME?"}},{"$f":"(D23-x!D21)^2","v":{"$error":"#NAME?"}},{"$f":"(E23-x!E21)^2","v":{"$error":"#NAME?"}},{"$f":"(F23-x!F21)^2","v":{"$error":"#NAME?"}},{"$f":"(G23-x!G21)^2","v":{"$error":"#NAME?"}},{"$f":"(H23-x!H21)^2","v":{"$error":"#NAME?"}},{"$f":"(I23-x!I21)^2","v":{"$error":"#NAME?"}},{"$f":"(J23-x!J21)^2","v":{"$error":"#NAME?"}},{"$f":"(K23-x!K21)^2","v":{"$error":"#NAME?"}},{"$f":"(L23-x!L21)^2","v":{"$error":"#NAME?"}}]
[{"$error":"#NAME?"},{"$error":"#NAME?"},{"$error":"#NAME?"},{"$error":"#NAME?"},{"$error":"#NAME?"},{"$error":"#NAME?"},{"$error":"#NAME?"},{"$error":"#NAME?"},{"$error":"#NAME?"},{"$error":"#NAME?"},{"$error":"#NAME?"},{"$error":"#NAME?"},null,{"$f":"(A24-x!A22)^2","v":{"$error":"#NAME?"}},{"$f":"(B24-x!B22)^2","v":{"$error":"#NAME?"}},{"$f":"(C24-x!C22)^2","v":{"$error":"#NAME?"}},{"$f":"(D24-x!D22)^2","v":{"$error":"#NAME?"}},{"$f":"(E24-x!E22)^2","v":{"$error":"#NAME?"}},{"$f":"(F24-x!F22)^2","v":{"$error":"#NAME?"}},{"$f":"(G24-x!G22)^2","v":{"$error":"#NAME?"}},{"$f":"(H24-x!H22)^2","v":{"$error":"#NAME?"}},{"$f":"(I24-x!I22)^2","v":{"$error":"#NAME?"}},{"$f":"(J24-x!J22)^2","v":{"$error":"#NAME?"}},{"$f":"(K24-x!K22)^2","v":{"$error":"#NAME?"}},{"$f":"(L24-x!L22)^2","v":{"$error":"#NAME?"}}]
[{"$error":"#NAME?"},{"$error":"#NAME?"},{"$error":"#NAME?"},{"$error":"#NAME?"},{"$error":"#NAME?"},{"$error":"#NAME?"},{"$error":"#NAME?"},{"$error":"#NAME?"},{"$error":"#NAME?"},{"$error":"#NAME?"},{"$error":"#NAME?"},{"$error":"#NAME?"},null,{"$f":"(A25-x!A23)^2","v":{"$error":"#NAME?"}},{"$f":"(B25-x!B23)^2","v":{"$error":"#NAME?"}},{"$f":"(C25-x!C23)^2","v":{"$error":"#NAME?"}},{"$f":"(D25-x!D23)^2","v":{"$error":"#NAME?"}},{"$f":"(E25-x!E23)^2","v":{"$error":"#NAME?"}},{"$f":"(F25-x!F23)^2","v":{"$error":"#NAME?"}},{"$f":"(G25-x!G23)^2","v":{"$error":"#NAME?"}},{"$f":"(H25-x!H23)^2","v":{"$error":"#NAME?"}},{"$f":"(I25-x!I23)^2","v":{"$error":"#NAME?"}},{"$f":"(J25-x!J23)^2","v":{"$error":"#NAME?"}},{"$f":"(K25-x!K23)^2","v":{"$error":"#NAME?"}},{"$f":"(L25-x!L23)^2","v":{"$error":"#NAME?"}}]
[{"$error":"#NAME?"},{"$error":"#NAME?"},{"$error":"#NAME?"},{"$error":"#NAME?"},{"$error":"#NAME?"},{"$error":"#NAME?"},{"$error":"#NAME?"},{"$error":"#NAME?"},{"$error":"#NAME?"},{"$error":"#NAME?"},{"$error":"#NAME?"},{"$error":"#NAME?"},null,{"$f":"(A26-x!A24)^2","v":{"$error":"#NAME?"}},{"$f":"(B26-x!B24)^2","v":{"$error":"#NAME?"}},{"$f":"(C26-x!C24)^2","v":{"$error":"#NAME?"}},{"$f":"(D26-x!D24)^2","v":{"$error":"#NAME?"}},{"$f":"(E26-x!E24)^2","v":{"$error":"#NAME?"}},{"$f":"(F26-x!F24)^2","v":{"$error":"#NAME?"}},{"$f":"(G26-x!G24)^2","v":{"$error":"#NAME?"}},{"$f":"(H26-x!H24)^2","v":{"$error":"#NAME?"}},{"$f":"(I26-x!I24)^2","v":{"$error":"#NAME?"}},{"$f":"(J26-x!J24)^2","v":{"$error":"#NAME?"}},{"$f":"(K26-x!K24)^2","v":{"$error":"#NAME?"}},{"$f":"(L26-x!L24)^2","v":{"$error":"#NAME?"}}]
[{"$error":"#NAME?"},{"$error":"#NAME?"},{"$error":"#NAME?"},{"$error":"#NAME?"},{"$error":"#NAME?"},{"$error":"#NAME?"},{"$error":"#NAME?"},{"$error":"#NAME?"},{"$error":"#NAME?"},{"$error":"#NAME?"},{"$error":"#NAME?"},{"$error":"#NAME?"},null,{"$f":"(A27-x!A25)^2","v":{"$error":"#NAME?"}},{"$f":"(B27-x!B25)^2","v":{"$error":"#NAME?"}},{"$f":"(C27-x!C25)^2","v":{"$error":"#NAME?"}},{"$f":"(D27-x!D25)^2","v":{"$error":"#NAME?"}},{"$f":"(E27-x!E25)^2","v":{"$error":"#NAME?"}},{"$f":"(F27-x!F25)^2","v":{"$error":"#NAME?"}},{"$f":"(G27-x!G25)^2","v":{"$error":"#NAME?"}},{"$f":"(H27-x!H25)^2","v":{"$error":"#NAME?"}},{"$f":"(I27-x!I25)^2","v":{"$error":"#NAME?"}},{"$f":"(J27-x!J25)^2","v":{"$error":"#NAME?"}},{"$f":"(K27-x!K25)^2","v":{"$error":"#NAME?"}},{"$f":"(L27-x!L25)^2","v":{"$error":"#NAME?"}}]
[{"$error":"#NAME?"},{"$error":"#NAME?"},{"$error":"#NAME?"},{"$error":"#NAME?"},{"$error":"#NAME?"},{"$error":"#NAME?"},{"$error":"#NAME?"},{"$error":"#NAME?"},{"$error":"#NAME?"},{"$error":"#NAME?"},{"$error":"#NAME?"},{"$error":"#NAME?"},null,{"$f":"(A28-x!A26)^2","v":{"$error":"#NAME?"}},{"$f":"(B28-x!B26)^2","v":{"$error":"#NAME?"}},{"$f":"(C28-x!C26)^2","v":{"$error":"#NAME?"}},{"$f":"(D28-x!D26)^2","v":{"$error":"#NAME?"}},{"$f":"(E28-x!E26)^2","v":{"$error":"#NAME?"}},{"$f":"(F28-x!F26)^2","v":{"$error":"#NAME?"}},{"$f":"(G28-x!G26)^2","v":{"$error":"#NAME?"}},{"$f":"(H28-x!H26)^2","v":{"$error":"#NAME?"}},{"$f":"(I28-x!I26)^2","v":{"$error":"#NAME?"}},{"$f":"(J28-x!J26)^2","v":{"$error":"#NAME?"}},{"$f":"(K28-x!K26)^2","v":{"$error":"#NAME?"}},{"$f":"(L28-x!L26)^2","v":{"$error":"#NAME?"}}]
[{"$error":"#NAME?"},{"$error":"#NAME?"},{"$error":"#NAME?"},{"$error":"#NAME?"},{"$error":"#NAME?"},{"$error":"#NAME?"},{"$error":"#NAME?"},{"$error":"#NAME?"},{"$error":"#NAME?"},{"$error":"#NAME?"},{"$error":"#NAME?"},{"$error":"#NAME?"},null,{"$f":"(A29-x!A27)^2","v":{"$error":"#NAME?"}},{"$f":"(B29-x!B27)^2","v":{"$error":"#NAME?"}},{"$f":"(C29-x!C27)^2","v":{"$error":"#NAME?"}},{"$f":"(D29-x!D27)^2","v":{"$error":"#NAME?"}},{"$f":"(E29-x!E27)^2","v":{"$error":"#NAME?"}},{"$f":"(F29-x!F27)^2","v":{"$error":"#NAME?"}},{"$f":"(G29-x!G27)^2","v":{"$error":"#NAME?"}},{"$f":"(H29-x!H27)^2","v":{"$error":"#NAME?"}},{"$f":"(I29-x!I27)^2","v":{"$error":"#NAME?"}},{"$f":"(J29-x!J27)^2","v":{"$error":"#NAME?"}},{"$f":"(K29-x!K27)^2","v":{"$error":"#NAME?"}},{"$f":"(L29-x!L27)^2","v":{"$error":"#NAME?"}}]
[{"$error":"#NAME?"},{"$error":"#NAME?"},{"$error":"#NAME?"},{"$error":"#NAME?"},{"$error":"#NAME?"},{"$error":"#NAME?"},{"$error":"#NAME?"},{"$error":"#NAME?"},{"$error":"#NAME?"},{"$error":"#NAME?"},{"$error":"#NAME?"},{"$error":"#NAME?"},null,{"$f":"(A30-x!A28)^2","v":{"$error":"#NAME?"}},{"$f":"(B30-x!B28)^2","v":{"$error":"#NAME?"}},{"$f":"(C30-x!C28)^2","v":{"$error":"#NAME?"}},{"$f":"(D30-x!D28)^2","v":{"$error":"#NAME?"}},{"$f":"(E30-x!E28)^2","v":{"$error":"#NAME?"}},{"$f":"(F30-x!F28)^2","v":{"$error":"#NAME?"}},{"$f":"(G30-x!G28)^2","v":{"$error":"#NAME?"}},{"$f":"(H30-x!H28)^2","v":{"$error":"#NAME?"}},{"$f":"(I30-x!I28)^2","v":{"$error":"#NAME?"}},{"$f":"(J30-x!J28)^2","v":{"$error":"#NAME?"}},{"$f":"(K30-x!K28)^2","v":{"$error":"#NAME?"}},{"$f":"(L30-x!L28)^2","v":{"$error":"#NAME?"}}]
[{"$error":"#NAME?"},{"$error":"#NAME?"},{"$error":"#NAME?"},{"$error":"#NAME?"},{"$error":"#NAME?"},{"$error":"#NAME?"},{"$error":"#NAME?"},{"$error":"#NAME?"},{"$error":"#NAME?"},{"$error":"#NAME?"},{"$error":"#NAME?"},{"$error":"#NAME?"},null,{"$f":"(A31-x!A29)^2","v":{"$error":"#NAME?"}},{"$f":"(B31-x!B29)^2","v":{"$error":"#NAME?"}},{"$f":"(C31-x!C29)^2","v":{"$error":"#NAME?"}},{"$f":"(D31-x!D29)^2","v":{"$error":"#NAME?"}},{"$f":"(E31-x!E29)^2","v":{"$error":"#NAME?"}},{"$f":"(F31-x!F29)^2","v":{"$error":"#NAME?"}},{"$f":"(G31-x!G29)^2","v":{"$error":"#NAME?"}},{"$f":"(H31-x!H29)^2","v":{"$error":"#NAME?"}},{"$f":"(I31-x!I29)^2","v":{"$error":"#NAME?"}},{"$f":"(J31-x!J29)^2","v":{"$error":"#NAME?"}},{"$f":"(K31-x!K29)^2","v":{"$error":"#NAME?"}},{"$f":"(L31-x!L29)^2","v":{"$error":"#NAME?"}}]
[{"$error":"#NAME?"},{"$error":"#NAME?"},{"$error":"#NAME?"},{"$error":"#NAME?"},{"$error":"#NAME?"},{"$error":"#NAME?"},{"$error":"#NAME?"},{"$error":"#NAME?"},{"$error":"#NAME?"},{"$error":"#NAME?"},{"$error":"#NAME?"},{"$error":"#NAME?"},null,{"$f":"(A32-x!A30)^2","v":{"$error":"#NAME?"}},{"$f":"(B32-x!B30)^2","v":{"$error":"#NAME?"}},{"$f":"(C32-x!C30)^2","v":{"$error":"#NAME?"}},{"$f":"(D32-x!D30)^2","v":{"$error":"#NAME?"}},{"$f":"(E32-x!E30)^2","v":{"$error":"#NAME?"}},{"$f":"(F32-x!F30)^2","v":{"$error":"#NAME?"}},{"$f":"(G32-x!G30)^2","v":{"$error":"#NAME?"}},{"$f":"(H32-x!H30)^2","v":{"$error":"#NAME?"}},{"$f":"(I32-x!I30)^2","v":{"$error":"#NAME?"}},{"$f":"(J32-x!J30)^2","v":{"$error":"#NAME?"}},{"$f":"(K32-x!K30)^2","v":{"$error":"#NAME?"}},{"$f":"(L32-x!L30)^2","v":{"$error":"#NAME?"}}]
[{"$error":"#NAME?"},{"$error":"#NAME?"},{"$error":"#NAME?"},{"$error":"#NAME?"},{"$error":"#NAME?"},{"$error":"#NAME?"},{"$error":"#NAME?"},{"$error":"#NAME?"},{"$error":"#NAME?"},{"$error":"#NAME?"},{"$error":"#NAME?"},{"$error":"#NAME?"},null,{"$f":"(A33-x!A31)^2","v":{"$error":"#NAME?"}},{"$f":"(B33-x!B31)^2","v":{"$error":"#NAME?"}},{"$f":"(C33-x!C31)^2","v":{"$error":"#NAME?"}},{"$f":"(D33-x!D31)^2","v":{"$error":"#NAME?"}},{"$f":"(E33-x!E31)^2","v":{"$error":"#NAME?"}},{"$f":"(F33-x!F31)^2","v":{"$error":"#NAME?"}},{"$f":"(G33-x!G31)^2","v":{"$error":"#NAME?"}},{"$f":"(H33-x!H31)^2","v":{"$error":"#NAME?"}},{"$f":"(I33-x!I31)^2","v":{"$error":"#NAME?"}},{"$f":"(J33-x!J31)^2","v":{"$error":"#NAME?"}},{"$f":"(K33-x!K31)^2","v":{"$error":"#NAME?"}},{"$f":"(L33-x!L31)^2","v":{"$error":"#NAME?"}}]
[{"$error":"#NAME?"},{"$error":"#NAME?"},{"$error":"#NAME?"},{"$error":"#NAME?"},{"$error":"#NAME?"},{"$error":"#NAME?"},{"$error":"#NAME?"},{"$error":"#NAME?"},{"$error":"#NAME?"},{"$error":"#NAME?"},{"$error":"#NAME?"},{"$error":"#NAME?"},null,{"$f":"(A34-x!A32)^2","v":{"$error":"#NAME?"}},{"$f":"(B34-x!B32)^2","v":{"$error":"#NAME?"}},{"$f":"(C34-x!C32)^2","v":{"$error":"#NAME?"}},{"$f":"(D34-x!D32)^2","v":{"$error":"#NAME?"}},{"$f":"(E34-x!E32)^2","v":{"$error":"#NAME?"}},{"$f":"(F34-x!F32)^2","v":{"$error":"#NAME?"}},{"$f":"(G34-x!G32)^2","v":{"$error":"#NAME?"}},{"$f":"(H34-x!H32)^2","v":{"$error":"#NAME?"}},{"$f":"(I34-x!I32)^2","v":{"$error":"#NAME?"}},{"$f":"(J34-x!J32)^2","v":{"$error":"#NAME?"}},{"$f":"(K34-x!K32)^2","v":{"$error":"#NAME?"}},{"$f":"(L34-x!L32)^2","v":{"$error":"#NAME?"}}]
[{"$error":"#NAME?"},{"$error":"#NAME?"},{"$error":"#NAME?"},{"$error":"#NAME?"},{"$error":"#NAME?"},{"$error":"#NAME?"},{"$error":"#NAME?"},{"$error":"#NAME?"},{"$error":"#NAME?"},{"$error":"#NAME?"},{"$error":"#NAME?"},{"$error":"#NAME?"},null,{"$f":"(A35-x!A33)^2","v":{"$error":"#NAME?"}},{"$f":"(B35-x!B33)^2","v":{"$error":"#NAME?"}},{"$f":"(C35-x!C33)^2","v":{"$error":"#NAME?"}},{"$f":"(D35-x!D33)^2","v":{"$error":"#NAME?"}},{"$f":"(E35-x!E33)^2","v":{"$error":"#NAME?"}},{"$f":"(F35-x!F33)^2","v":{"$error":"#NAME?"}},{"$f":"(G35-x!G33)^2","v":{"$error":"#NAME?"}},{"$f":"(H35-x!H33)^2","v":{"$error":"#NAME?"}},{"$f":"(I35-x!I33)^2","v":{"$error":"#NAME?"}},{"$f":"(J35-x!J33)^2","v":{"$error":"#NAME?"}},{"$f":"(K35-x!K33)^2","v":{"$error":"#NAME?"}},{"$f":"(L35-x!L33)^2","v":{"$error":"#NAME?"}}]
[{"$error":"#NAME?"},{"$error":"#NAME?"},{"$error":"#NAME?"},{"$error":"#NAME?"},{"$error":"#NAME?"},{"$error":"#NAME?"},{"$error":"#NAME?"},{"$error":"#NAME?"},{"$error":"#NAME?"},{"$error":"#NAME?"},{"$error":"#NAME?"},{"$error":"#NAME?"},null,{"$f":"(A36-x!A34)^2","v":{"$error":"#NAME?"}},{"$f":"(B36-x!B34)^2","v":{"$error":"#NAME?"}},{"$f":"(C36-x!C34)^2","v":{"$error":"#NAME?"}},{"$f":"(D36-x!D34)^2","v":{"$error":"#NAME?"}},{"$f":"(E36-x!E34)^2","v":{"$error":"#NAME?"}},{"$f":"(F36-x!F34)^2","v":{"$error":"#NAME?"}},{"$f":"(G36-x!G34)^2","v":{"$error":"#NAME?"}},{"$f":"(H36-x!H34)^2","v":{"$error":"#NAME?"}},{"$f":"(I36-x!I34)^2","v":{"$error":"#NAME?"}},{"$f":"(J36-x!J34)^2","v":{"$error":"#NAME?"}},{"$f":"(K36-x!K34)^2","v":{"$error":"#NAME?"}},{"$f":"(L36-x!L34)^2","v":{"$error":"#NAME?"}}]
[{"$error":"#NAME?"},{"$error":"#NAME?"},{"$error":"#NAME?"},{"$error":"#NAME?"},{"$error":"#NAME?"},{"$error":"#NAME?"},{"$error":"#NAME?"},{"$error":"#NAME?"},{"$error":"#NAME?"},{"$error":"#NAME?"},{"$error":"#NAME?"},{"$error":"#NAME?"},null,{"$f":"(A37-x!A35)^2","v":{"$error":"#NAME?"}},{"$f":"(B37-x!B35)^2","v":{"$error":"#NAME?"}},{"$f":"(C37-x!C35)^2","v":{"$error":"#NAME?"}},{"$f":"(D37-x!D35)^2","v":{"$error":"#NAME?"}},{"$f":"(E37-x!E35)^2","v":{"$error":"#NAME?"}},{"$f":"(F37-x!F35)^2","v":{"$error":"#NAME?"}},{"$f":"(G37-x!G35)^2","v":{"$error":"#NAME?"}},{"$f":"(H37-x!H35)^2","v":{"$error":"#NAME?"}},{"$f":"(I37-x!I35)^2","v":{"$error":"#NAME?"}},{"$f":"(J37-x!J35)^2","v":{"$error":"#NAME?"}},{"$f":"(K37-x!K35)^2","v":{"$error":"#NAME?"}},{"$f":"(L37-x!L35)^2","v":{"$error":"#NAME?"}}]
[{"$error":"#NAME?"},{"$error":"#NAME?"},{"$error":"#NAME?"},{"$error":"#NAME?"},{"$error":"#NAME?"},{"$error":"#NAME?"},{"$error":"#NAME?"},{"$error":"#NAME?"},{"$error":"#NAME?"},{"$error":"#NAME?"},{"$error":"#NAME?"},{"$error":"#NAME?"},null,{"$f":"(A38-x!A36)^2","v":{"$error":"#NAME?"}},{"$f":"(B38-x!B36)^2","v":{"$error":"#NAME?"}},{"$f":"(C38-x!C36)^2","v":{"$error":"#NAME?"}},{"$f":"(D38-x!D36)^2","v":{"$error":"#NAME?"}},{"$f":"(E38-x!E36)^2","v":{"$error":"#NAME?"}},{"$f":"(F38-x!F36)^2","v":{"$error":"#NAME?"}},{"$f":"(G38-x!G36)^2","v":{"$error":"#NAME?"}},{"$f":"(H38-x!H36)^2","v":{"$error":"#NAME?"}},{"$f":"(I38-x!I36)^2","v":{"$error":"#NAME?"}},{"$f":"(J38-x!J36)^2","v":{"$error":"#NAME?"}},{"$f":"(K38-x!K36)^2","v":{"$error":"#NAME?"}},{"$f":"(L38-x!L36)^2","v":{"$error":"#NAME?"}}]
[{"$error":"#NAME?"},{"$error":"#NAME?"},{"$error":"#NAME?"},{"$error":"#NAME?"},{"$error":"#NAME?"},{"$error":"#NAME?"},{"$error":"#NAME?"},{"$error":"#NAME?"},{"$error":"#NAME?"},{"$error":"#NAME?"},{"$error":"#NAME?"},{"$error":"#NAME?"},null,{"$f":"(A39-x!A37)^2","v":{"$error":"#NAME?"}},{"$f":"(B39-x!B37)^2","v":{"$error":"#NAME?"}},{"$f":"(C39-x!C37)^2","v":{"$error":"#NAME?"}},{"$f":"(D39-x!D37)^2","v":{"$error":"#NAME?"}},{"$f":"(E39-x!E37)^2","v":{"$error":"#NAME?"}},{"$f":"(F39-x!F37)^2","v":{"$error":"#NAME?"}},{"$f":"(G39-x!G37)^2","v":{"$error":"#NAME?"}},{"$f":"(H39-x!H37)^2","v":{"$error":"#NAME?"}},{"$f":"(I39-x!I37)^2","v":{"$error":"#NAME?"}},{"$f":"(J39-x!J37)^2","v":{"$error":"#NAME?"}},{"$f":"(K39-x!K37)^2","v":{"$error":"#NAME?"}},{"$f":"(L39-x!L37)^2","v":{"$error":"#NAME?"}}]
[{"$error":"#NAME?"},{"$error":"#NAME?"},{"$error":"#NAME?"},{"$error":"#NAME?"},{"$error":"#NAME?"},{"$error":"#NAME?"},{"$error":"#NAME?"},{"$error":"#NAME?"},{"$error":"#NAME?"},{"$error":"#NAME?"},{"$error":"#NAME?"},{"$error":"#NAME?"},null,{"$f":"(A40-x!A38)^2","v":{"$error":"#NAME?"}},{"$f":"(B40-x!B38)^2","v":{"$error":"#NAME?"}},{"$f":"(C40-x!C38)^2","v":{"$error":"#NAME?"}},{"$f":"(D40-x!D38)^2","v":{"$error":"#NAME?"}},{"$f":"(E40-x!E38)^2","v":{"$error":"#NAME?"}},{"$f":"(F40-x!F38)^2","v":{"$error":"#NAME?"}},{"$f":"(G40-x!G38)^2","v":{"$error":"#NAME?"}},{"$f":"(H40-x!H38)^2","v":{"$error":"#NAME?"}},{"$f":"(I40-x!I38)^2","v":{"$error":"#NAME?"}},{"$f":"(J40-x!J38)^2","v":{"$error":"#NAME?"}},{"$f":"(K40-x!K38)^2","v":{"$error":"#NAME?"}},{"$f":"(L40-x!L38)^2","v":{"$error":"#NAME?"}}]
[{"$error":"#NAME?"},{"$error":"#NAME?"},{"$error":"#NAME?"},{"$error":"#NAME?"},{"$error":"#NAME?"},{"$error":"#NAME?"},{"$error":"#NAME?"},{"$error":"#NAME?"},{"$error":"#NAME?"},{"$error":"#NAME?"},{"$error":"#NAME?"},{"$error":"#NAME?"},null,{"$f":"(A41-x!A39)^2","v":{"$error":"#NAME?"}},{"$f":"(B41-x!B39)^2","v":{"$error":"#NAME?"}},{"$f":"(C41-x!C39)^2","v":{"$error":"#NAME?"}},{"$f":"(D41-x!D39)^2","v":{"$error":"#NAME?"}},{"$f":"(E41-x!E39)^2","v":{"$error":"#NAME?"}},{"$f":"(F41-x!F39)^2","v":{"$error":"#NAME?"}},{"$f":"(G41-x!G39)^2","v":{"$error":"#NAME?"}},{"$f":"(H41-x!H39)^2","v":{"$error":"#NAME?"}},{"$f":"(I41-x!I39)^2","v":{"$error":"#NAME?"}},{"$f":"(J41-x!J39)^2","v":{"$error":"#NAME?"}},{"$f":"(K41-x!K39)^2","v":{"$error":"#NAME?"}},{"$f":"(L41-x!L39)^2","v":{"$error":"#NAME?"}}]
[{"$error":"#NAME?"},{"$error":"#NAME?"},{"$error":"#NAME?"},{"$error":"#NAME?"},{"$error":"#NAME?"},{"$error":"#NAME?"},{"$error":"#NAME?"},{"$error":"#NAME?"},{"$error":"#NAME?"},{"$error":"#NAME?"},{"$error":"#NAME?"},{"$error":"#NAME?"},null,{"$f":"(A42-x!A40)^2","v":{"$error":"#NAME?"}},{"$f":"(B42-x!B40)^2","v":{"$error":"#NAME?"}},{"$f":"(C42-x!C40)^2","v":{"$error":"#NAME?"}},{"$f":"(D42-x!D40)^2","v":{"$error":"#NAME?"}},{"$f":"(E42-x!E40)^2","v":{"$error":"#NAME?"}},{"$f":"(F42-x!F40)^2","v":{"$error":"#NAME?"}},{"$f":"(G42-x!G40)^2","v":{"$error":"#NAME?"}},{"$f":"(H42-x!H40)^2","v":{"$error":"#NAME?"}},{"$f":"(I42-x!I40)^2","v":{"$error":"#NAME?"}},{"$f":"(J42-x!J40)^2","v":{"$error":"#NAME?"}},{"$f":"(K42-x!K40)^2","v":{"$error":"#NAME?"}},{"$f":"(L42-x!L40)^2","v":{"$error":"#NAME?"}}]
[{"$error":"#NAME?"},{"$error":"#NAME?"},{"$error":"#NAME?"},{"$error":"#NAME?"},{"$error":"#NAME?"},{"$error":"#NAME?"},{"$error":"#NAME?"},{"$error":"#NAME?"},{"$error":"#NAME?"},{"$error":"#NAME?"},{"$error":"#NAME?"},{"$error":"#NAME?"},null,{"$f":"(A43-x!A41)^2","v":{"$error":"#NAME?"}},{"$f":"(B43-x!B41)^2","v":{"$error":"#NAME?"}},{"$f":"(C43-x!C41)^2","v":{"$error":"#NAME?"}},{"$f":"(D43-x!D41)^2","v":{"$error":"#NAME?"}},{"$f":"(E43-x!E41)^2","v":{"$error":"#NAME?"}},{"$f":"(F43-x!F41)^2","v":{"$error":"#NAME?"}},{"$f":"(G43-x!G41)^2","v":{"$error":"#NAME?"}},{"$f":"(H43-x!H41)^2","v":{"$error":"#NAME?"}},{"$f":"(I43-x!I41)^2","v":{"$error":"#NAME?"}},{"$f":"(J43-x!J41)^2","v":{"$error":"#NAME?"}},{"$f":"(K43-x!K41)^2","v":{"$error":"#NAME?"}},{"$f":"(L43-x!L41)^2","v":{"$error":"#NAME?"}}]
[{"$error":"#NAME?"},{"$error":"#NAME?"},{"$error":"#NAME?"},{"$error":"#NAME?"},{"$error":"#NAME?"},{"$error":"#NAME?"},{"$error":"#NAME?"},{"$error":"#NAME?"},{"$error":"#NAME?"},{"$error":"#NAME?"},{"$error":"#NAME?"},{"$error":"#NAME?"},null,{"$f":"(A44-x!A42)^2","v":{"$error":"#NAME?"}},{"$f":"(B44-x!B42)^2","v":{"$error":"#NAME?"}},{"$f":"(C44-x!C42)^2","v":{"$error":"#NAME?"}},{"$f":"(D44-x!D42)^2","v":{"$error":"#NAME?"}},{"$f":"(E44-x!E42)^2","v":{"$error":"#NAME?"}},{"$f":"(F44-x!F42)^2","v":{"$error":"#NAME?"}},{"$f":"(G44-x!G42)^2","v":{"$error":"#NAME?"}},{"$f":"(H44-x!H42)^2","v":{"$error":"#NAME?"}},{"$f":"(I44-x!I42)^2","v":{"$error":"#NAME?"}},{"$f":"(J44-x!J42)^2","v":{"$error":"#NAME?"}},{"$f":"(K44-x!K42)^2","v":{"$error":"#NAME?"}},{"$f":"(L44-x!L42)^2","v":{"$error":"#NAME?"}}]
[{"$error":"#NAME?"},{"$error":"#NAME?"},{"$error":"#NAME?"},{"$error":"#NAME?"},{"$error":"#NAME?"},{"$error":"#NAME?"},{"$error":"#NAME?"},{"$error":"#NAME?"},{"$error":"#NAME?"},{"$error":"#NAME?"},{"$error":"#NAME?"},{"$error":"#NAME?"},null,{"$f":"(A45-x!A43)^2","v":{"$error":"#NAME?"}},{"$f":"(B45-x!B43)^2","v":{"$error":"#NAME?"}},{"$f":"(C45-x!C43)^2","v":{"$error":"#NAME?"}},{"$f":"(D45-x!D43)^2","v":{"$error":"#NAME?"}},{"$f":"(E45-x!E43)^2","v":{"$error":"#NAME?"}},{"$f":"(F45-x!F43)^2","v":{"$error":"#NAME?"}},{"$f":"(G45-x!G43)^2","v":{"$error":"#NAME?"}},{"$f":"(H45-x!H43)^2","v":{"$error":"#NAME?"}},{"$f":"(I45-x!I43)^2","v":{"$error":"#NAME?"}},{"$f":"(J45-x!J43)^2","v":{"$error":"#NAME?"}},{"$f":"(K45-x!K43)^2","v":{"$error":"#NAME?"}},{"$f":"(L45-x!L43)^2","v":{"$error":"#NAME?"}}]
[{"$error":"#NAME?"},{"$error":"#NAME?"},{"$error":"#NAME?"},{"$error":"#NAME?"},{"$error":"#NAME?"},{"$error":"#NAME?"},{"$error":"#NAME?"},{"$error":"#NAME?"},{"$error":"#NAME?"},{"$error":"#NAME?"},{"$error":"#NAME?"},{"$error":"#NAME?"},null,{"$f":"(A46-x!A44)^2","v":{"$error":"#NAME?"}},{"$f":"(B46-x!B44)^2","v":{"$error":"#NAME?"}},{"$f":"(C46-x!C44)^2","v":{"$error":"#NAME?"}},{"$f":"(D46-x!D44)^2","v":{"$error":"#NAME?"}},{"$f":"(E46-x!E44)^2","v":{"$error":"#NAME?"}},{"$f":"(F46-x!F44)^2","v":{"$error":"#NAME?"}},{"$f":"(G46-x!G44)^2","v":{"$error":"#NAME?"}},{"$f":"(H46-x!H44)^2","v":{"$error":"#NAME?"}},{"$f":"(I46-x!I44)^2","v":{"$error":"#NAME?"}},{"$f":"(J46-x!J44)^2","v":{"$error":"#NAME?"}},{"$f":"(K46-x!K44)^2","v":{"$error":"#NAME?"}},{"$f":"(L46-x!L44)^2","v":{"$error":"#NAME?"}}]
[{"$error":"#NAME?"},{"$error":"#NAME?"},{"$error":"#NAME?"},{"$error":"#NAME?"},{"$error":"#NAME?"},{"$error":"#NAME?"},{"$error":"#NAME?"},{"$error":"#NAME?"},{"$error":"#NAME?"},{"$error":"#NAME?"},{"$error":"#NAME?"},{"$error":"#NAME?"},null,{"$f":"(A47-x!A45)^2","v":{"$error":"#NAME?"}},{"$f":"(B47-x!B45)^2","v":{"$error":"#NAME?"}},{"$f":"(C47-x!C45)^2","v":{"$error":"#NAME?"}},{"$f":"(D47-x!D45)^2","v":{"$error":"#NAME?"}},{"$f":"(E47-x!E45)^2","v":{"$error":"#NAME?"}},{"$f":"(F47-x!F45)^2","v":{"$error":"#NAME?"}},{"$f":"(G47-x!G45)^2","v":{"$error":"#NAME?"}},{"$f":"(H47-x!H45)^2","v":{"$error":"#NAME?"}},{"$f":"(I47-x!I45)^2","v":{"$error":"#NAME?"}},{"$f":"(J47-x!J45)^2","v":{"$error":"#NAME?"}},{"$f":"(K47-x!K45)^2","v":{"$error":"#NAME?"}},{"$f":"(L47-x!L45)^2","v":{"$error":"#NAME?"}}]
[{"$error":"#NAME?"},{"$error":"#NAME?"},{"$error":"#NAME?"},{"$error":"#NAME?"},{"$error":"#NAME?"},{"$error":"#NAME?"},{"$error":"#NAME?"},{"$error":"#NAME?"},{"$error":"#NAME?"},{"$error":"#NAME?"},{"$error":"#NAME?"},{"$error":"#NAME?"},null,{"$f":"(A48-x!A46)^2","v":{"$error":"#NAME?"}},{"$f":"(B48-x!B46)^2","v":{"$error":"#NAME?"}},{"$f":"(C48-x!C46)^2","v":{"$error":"#NAME?"}},{"$f":"(D48-x!D46)^2","v":{"$error":"#NAME?"}},{"$f":"(E48-x!E46)^2","v":{"$error":"#NAME?"}},{"$f":"(F48-x!F46)^2","v":{"$error":"#NAME?"}},{"$f":"(G48-x!G46)^2","v":{"$error":"#NAME?"}},{"$f":"(H48-x!H46)^2","v":{"$error":"#NAME?"}},{"$f":"(I48-x!I46)^2","v":{"$error":"#NAME?"}},{"$f":"(J48-x!J46)^2","v":{"$error":"#NAME?"}},{"$f":"(K48-x!K46)^2","v":{"$error":"#NAME?"}},{"$f":"(L48-x!L46)^2","v":{"$error":"#NAME?"}}]
[{"$error":"#NAME?"},{"$error":"#NAME?"},{"$error":"#NAME?"},{"$error":"#NAME?"},{"$error":"#NAME?"},{"$error":"#NAME?"},{"$error":"#NAME?"},{"$error":"#NAME?"},{"$error":"#NAME?"},{"$error":"#NAME?"},{"$error":"#NAME?"},{"$error":"#NAME?"},null,{"$f":"(A49-x!A47)^2","v":{"$error":"#NAME?"}},{"$f":"(B49-x!B47)^2","v":{"$error":"#NAME?"}},{"$f":"(C49-x!C47)^2","v":{"$error":"#NAME?"}},{"$f":"(D49-x!D47)^2","v":{"$error":"#NAME?"}},{"$f":"(E49-x!E47)^2","v":{"$error":"#NAME?"}},{"$f":"(F49-x!F47)^2","v":{"$error":"#NAME?"}},{"$f":"(G49-x!G47)^2","v":{"$error":"#NAME?"}},{"$f":"(H49-x!H47)^2","v":{"$error":"#NAME?"}},{"$f":"(I49-x!I47)^2","v":{"$error":"#NAME?"}},{"$f":"(J49-x!J47)^2","v":{"$error":"#NAME?"}},{"$f":"(K49-x!K47)^2","v":{"$error":"#NAME?"}},{"$f":"(L49-x!L47)^2","v":{"$error":"#NAME?"}}]
[{"$error":"#NAME?"},{"$error":"#NAME?"},{"$error":"#NAME?"},{"$error":"#NAME?"},{"$error":"#NAME?"},{"$error":"#NAME?"},{"$error":"#NAME?"},{"$error":"#NAME?"},{"$error":"#NAME?"},{"$error":"#NAME?"},{"$error":"#NAME?"},{"$error":"#NAME?"},null,{"$f":"(A50-x!A48)^2","v":{"$error":"#NAME?"}},{"$f":"(B50-x!B48)^2","v":{"$error":"#NAME?"}},{"$f":"(C50-x!C48)^2","v":{"$error":"#NAME?"}},{"$f":"(D50-x!D48)^2","v":{"$error":"#NAME?"}},{"$f":"(E50-x!E48)^2","v":{"$error":"#NAME?"}},{"$f":"(F50-x!F48)^2","v":{"$error":"#NAME?"}},{"$f":"(G50-x!G48)^2","v":{"$error":"#NAME?"}},{"$f":"(H50-x!H48)^2","v":{"$error":"#NAME?"}},{"$f":"(I50-x!I48)^2","v":{"$error":"#NAME?"}},{"$f":"(J50-x!J48)^2","v":{"$error":"#NAME?"}},{"$f":"(K50-x!K48)^2","v":{"$error":"#NAME?"}},{"$f":"(L50-x!L48)^2","v":{"$error":"#NAME?"}}]
[{"$error":"#NAME?"},{"$error":"#NAME?"},{"$error":"#NAME?"},{"$error":"#NAME?"},{"$error":"#NAME?"},{"$error":"#NAME?"},{"$error":"#NAME?"},{"$error":"#NAME?"},{"$error":"#NAME?"},{"$error":"#NAME?"},{"$error":"#NAME?"},{"$error":"#NAME?"},null,{"$f":"(A51-x!A49)^2","v":{"$error":"#NAME?"}},{"$f":"(B51-x!B49)^2","v":{"$error":"#NAME?"}},{"$f":"(C51-x!C49)^2","v":{"$error":"#NAME?"}},{"$f":"(D51-x!D49)^2","v":{"$error":"#NAME?"}},{"$f":"(E51-x!E49)^2","v":{"$error":"#NAME?"}},{"$f":"(F51-x!F49)^2","v":{"$error":"#NAME?"}},{"$f":"(G51-x!G49)^2","v":{"$error":"#NAME?"}},{"$f":"(H51-x!H49)^2","v":{"$error":"#NAME?"}},{"$f":"(I51-x!I49)^2","v":{"$error":"#NAME?"}},{"$f":"(J51-x!J49)^2","v":{"$error":"#NAME?"}},{"$f":"(K51-x!K49)^2","v":{"$error":"#NAME?"}},{"$f":"(L51-x!L49)^2","v":{"$error":"#NAME?"}}]
[{"$error":"#NAME?"},{"$error":"#NAME?"},{"$error":"#NAME?"},{"$error":"#NAME?"},{"$error":"#NAME?"},{"$error":"#NAME?"},{"$error":"#NAME?"},{"$error":"#NAME?"},{"$error":"#NAME?"},{"$error":"#NAME?"},{"$error":"#NAME?"},{"$error":"#NAME?"},null,{"$f":"(A52-x!A50)^2","v":{"$error":"#NAME?"}},{"$f":"(B52-x!B50)^2","v":{"$error":"#NAME?"}},{"$f":"(C52-x!C50)^2","v":{"$error":"#NAME?"}},{"$f":"(D52-x!D50)^2","v":{"$error":"#NAME?"}},{"$f":"(E52-x!E50)^2","v":{"$error":"#NAME?"}},{"$f":"(F52-x!F50)^2","v":{"$error":"#NAME?"}},{"$f":"(G52-x!G50)^2","v":{"$error":"#NAME?"}},{"$f":"(H52-x!H50)^2","v":{"$error":"#NAME?"}},{"$f":"(I52-x!I50)^2","v":{"$error":"#NAME?"}},{"$f":"(J52-x!J50)^2","v":{"$error":"#NAME?"}},{"$f":"(K52-x!K50)^2","v":{"$error":"#NAME?"}},{"$f":"(L52-x!L50)^2","v":{"$error":"#NAME?"}}]
[{"$error":"#NAME?"},{"$error":"#NAME?"},{"$error":"#NAME?"},{"$error":"#NAME?"},{"$error":"#NAME?"},{"$error":"#NAME?"},{"$error":"#NAME?"},{"$error":"#NAME?"},{"$error":"#NAME?"},{"$error":"#NAME?"},{"$error":"#NAME?"},{"$error":"#NAME?"},null,{"$f":"(A53-x!A51)^2","v":{"$error":"#NAME?"}},{"$f":"(B53-x!B51)^2","v":{"$error":"#NAME?"}},{"$f":"(C53-x!C51)^2","v":{"$error":"#NAME?"}},{"$f":"(D53-x!D51)^2","v":{"$error":"#NAME?"}},{"$f":"(E53-x!E51)^2","v":{"$error":"#NAME?"}},{"$f":"(F53-x!F51)^2","v":{"$error":"#NAME?"}},{"$f":"(G53-x!G51)^2","v":{"$error":"#NAME?"}},{"$f":"(H53-x!H51)^2","v":{"$error":"#NAME?"}},{"$f":"(I53-x!I51)^2","v":{"$error":"#NAME?"}},{"$f":"(J53-x!J51)^2","v":{"$error":"#NAME?"}},{"$f":"(K53-x!K51)^2","v":{"$error":"#NAME?"}},{"$f":"(L53-x!L51)^2","v":{"$error":"#NAME?"}}]
[{"$error":"#NAME?"},{"$error":"#NAME?"},{"$error":"#NAME?"},{"$error":"#NAME?"},{"$error":"#NAME?"},{"$error":"#NAME?"},{"$error":"#NAME?"},{"$error":"#NAME?"},{"$error":"#NAME?"},{"$error":"#NAME?"},{"$error":"#NAME?"},{"$error":"#NAME?"},null,{"$f":"(A54-x!A52)^2","v":{"$error":"#NAME?"}},{"$f":"(B54-x!B52)^2","v":{"$error":"#NAME?"}},{"$f":"(C54-x!C52)^2","v":{"$error":"#NAME?"}},{"$f":"(D54-x!D52)^2","v":{"$error":"#NAME?"}},{"$f":"(E54-x!E52)^2","v":{"$error":"#NAME?"}},{"$f":"(F54-x!F52)^2","v":{"$error":"#NAME?"}},{"$f":"(G54-x!G52)^2","v":{"$error":"#NAME?"}},{"$f":"(H54-x!H52)^2","v":{"$error":"#NAME?"}},{"$f":"(I54-x!I52)^2","v":{"$error":"#NAME?"}},{"$f":"(J54-x!J52)^2","v":{"$error":"#NAME?"}},{"$f":"(K54-x!K52)^2","v":{"$error":"#NAME?"}},{"$f":"(L54-x!L52)^2","v":{"$error":"#NAME?"}}]
[{"$error":"#NAME?"},{"$error":"#NAME?"},{"$error":"#NAME?"},{"$error":"#NAME?"},{"$error":"#NAME?"},{"$error":"#NAME?"},{"$error":"#NAME?"},{"$error":"#NAME?"},{"$error":"#NAME?"},{"$error":"#NAME?"},{"$error":"#NAME?"},{"$error":"#NAME?"},null,{"$f":"(A55-x!A53)^2","v":{"$error":"#NAME?"}},{"$f":"(B55-x!B53)^2","v":{"$error":"#NAME?"}},{"$f":"(C55-x!C53)^2","v":{"$error":"#NAME?"}},{"$f":"(D55-x!D53)^2","v":{"$error":"#NAME?"}},{"$f":"(E55-x!E53)^2","v":{"$error":"#NAME?"}},{"$f":"(F55-x!F53)^2","v":{"$error":"#NAME?"}},{"$f":"(G55-x!G53)^2","v":{"$error":"#NAME?"}},{"$f":"(H55-x!H53)^2","v":{"$error":"#NAME?"}},{"$f":"(I55-x!I53)^2","v":{"$error":"#NAME?"}},{"$f":"(J55-x!J53)^2","v":{"$error":"#NAME?"}},{"$f":"(K55-x!K53)^2","v":{"$error":"#NAME?"}},{"$f":"(L55-x!L53)^2","v":{"$error":"#NAME?"}}]
[{"$error":"#NAME?"},{"$error":"#NAME?"},{"$error":"#NAME?"},{"$error":"#NAME?"},{"$error":"#NAME?"},{"$error":"#NAME?"},{"$error":"#NAME?"},{"$error":"#NAME?"},{"$error":"#NAME?"},{"$error":"#NAME?"},{"$error":"#NAME?"},{"$error":"#NAME?"},null,{"$f":"(A56-x!A54)^2","v":{"$error":"#NAME?"}},{"$f":"(B56-x!B54)^2","v":{"$error":"#NAME?"}},{"$f":"(C56-x!C54)^2","v":{"$error":"#NAME?"}},{"$f":"(D56-x!D54)^2","v":{"$error":"#NAME?"}},{"$f":"(E56-x!E54)^2","v":{"$error":"#NAME?"}},{"$f":"(F56-x!F54)^2","v":{"$error":"#NAME?"}},{"$f":"(G56-x!G54)^2","v":{"$error":"#NAME?"}},{"$f":"(H56-x!H54)^2","v":{"$error":"#NAME?"}},{"$f":"(I56-x!I54)^2","v":{"$error":"#NAME?"}},{"$f":"(J56-x!J54)^2","v":{"$error":"#NAME?"}},{"$f":"(K56-x!K54)^2","v":{"$error":"#NAME?"}},{"$f":"(L56-x!L54)^2","v":{"$error":"#NAME?"}}]
[{"$error":"#NAME?"},{"$error":"#NAME?"},{"$error":"#NAME?"},{"$error":"#NAME?"},{"$error":"#NAME?"},{"$error":"#NAME?"},{"$error":"#NAME?"},{"$error":"#NAME?"},{"$error":"#NAME?"},{"$error":"#NAME?"},{"$error":"#NAME?"},{"$error":"#NAME?"},null,{"$f":"(A57-x!A55)^2","v":{"$error":"#NAME?"}},{"$f":"(B57-x!B55)^2","v":{"$error":"#NAME?"}},{"$f":"(C57-x!C55)^2","v":{"$error":"#NAME?"}},{"$f":"(D57-x!D55)^2","v":{"$error":"#NAME?"}},{"$f":"(E57-x!E55)^2","v":{"$error":"#NAME?"}},{"$f":"(F57-x!F55)^2","v":{"$error":"#NAME?"}},{"$f":"(G57-x!G55)^2","v":{"$error":"#NAME?"}},{"$f":"(H57-x!H55)^2","v":{"$error":"#NAME?"}},{"$f":"(I57-x!I55)^2","v":{"$error":"#NAME?"}},{"$f":"(J57-x!J55)^2","v":{"$error":"#NAME?"}},{"$f":"(K57-x!K55)^2","v":{"$error":"#NAME?"}},{"$f":"(L57-x!L55)^2","v":{"$error":"#NAME?"}}]
[{"$error":"#NAME?"},{"$error":"#NAME?"},{"$error":"#NAME?"},{"$error":"#NAME?"},{"$error":"#NAME?"},{"$error":"#NAME?"},{"$error":"#NAME?"},{"$error":"#NAME?"},{"$error":"#NAME?"},{"$error":"#NAME?"},{"$error":"#NAME?"},{"$error":"#NAME?"},null,{"$f":"(A58-x!A56)^2","v":{"$error":"#NAME?"}},{"$f":"(B58-x!B56)^2","v":{"$error":"#NAME?"}},{"$f":"(C58-x!C56)^2","v":{"$error":"#NAME?"}},{"$f":"(D58-x!D56)^2","v":{"$error":"#NAME?"}},{"$f":"(E58-x!E56)^2","v":{"$error":"#NAME?"}},{"$f":"(F58-x!F56)^2","v":{"$error":"#NAME?"}},{"$f":"(G58-x!G56)^2","v":{"$error":"#NAME?"}},{"$f":"(H58-x!H56)^2","v":{"$error":"#NAME?"}},{"$f":"(I58-x!I56)^2","v":{"$error":"#NAME?"}},{"$f":"(J58-x!J56)^2","v":{"$error":"#NAME?"}},{"$f":"(K58-x!K56)^2","v":{"$error":"#NAME?"}},{"$f":"(L58-x!L56)^2","v":{"$error":"#NAME?"}}]
[{"$error":"#NAME?"},{"$error":"#NAME?"},{"$error":"#NAME?"},{"$error":"#NAME?"},{"$error":"#NAME?"},{"$error":"#NAME?"},{"$error":"#NAME?"},{"$error":"#NAME?"},{"$error":"#NAME?"},{"$error":"#NAME?"},{"$error":"#NAME?"},{"$error":"#NAME?"},null,{"$f":"(A59-x!A57)^2","v":{"$error":"#NAME?"}},{"$f":"(B59-x!B57)^2","v":{"$error":"#NAME?"}},{"$f":"(C59-x!C57)^2","v":{"$error":"#NAME?"}},{"$f":"(D59-x!D57)^2","v":{"$error":"#NAME?"}},{"$f":"(E59-x!E57)^2","v":{"$error":"#NAME?"}},{"$f":"(F59-x!F57)^2","v":{"$error":"#NAME?"}},{"$f":"(G59-x!G57)^2","v":{"$error":"#NAME?"}},{"$f":"(H59-x!H57)^2","v":{"$error":"#NAME?"}},{"$f":"(I59-x!I57)^2","v":{"$error":"#NAME?"}},{"$f":"(J59-x!J57)^2","v":{"$error":"#NAME?"}},{"$f":"(K59-x!K57)^2","v":{"$error":"#NAME?"}},{"$f":"(L59-x!L57)^2","v":{"$error":"#NAME?"}}]
[{"$error":"#NAME?"},{"$error":"#NAME?"},{"$error":"#NAME?"},{"$error":"#NAME?"},{"$error":"#NAME?"},{"$error":"#NAME?"},{"$error":"#NAME?"},{"$error":"#NAME?"},{"$error":"#NAME?"},{"$error":"#NAME?"},{"$error":"#NAME?"},{"$error":"#NAME?"},null,{"$f":"(A60-x!A58)^2","v":{"$error":"#NAME?"}},{"$f":"(B60-x!B58)^2","v":{"$error":"#NAME?"}},{"$f":"(C60-x!C58)^2","v":{"$error":"#NAME?"}},{"$f":"(D60-x!D58)^2","v":{"$error":"#NAME?"}},{"$f":"(E60-x!E58)^2","v":{"$error":"#NAME?"}},{"$f":"(F60-x!F58)^2","v":{"$error":"#NAME?"}},{"$f":"(G60-x!G58)^2","v":{"$error":"#NAME?"}},{"$f":"(H60-x!H58)^2","v":{"$error":"#NAME?"}},{"$f":"(I60-x!I58)^2","v":{"$error":"#NAME?"}},{"$f":"(J60-x!J58)^2","v":{"$error":"#NAME?"}},{"$f":"(K60-x!K58)^2","v":{"$error":"#NAME?"}},{"$f":"(L60-x!L58)^2","v":{"$error":"#NAME?"}}]
[{"$error":"#NAME?"},{"$error":"#NAME?"},{"$error":"#NAME?"},{"$error":"#NAME?"},{"$error":"#NAME?"},{"$error":"#NAME?"},{"$error":"#NAME?"},{"$error":"#NAME?"},{"$error":"#NAME?"},{"$error":"#NAME?"},{"$error":"#NAME?"},{"$error":"#NAME?"},null,{"$f":"(A61-x!A59)^2","v":{"$error":"#NAME?"}},{"$f":"(B61-x!B59)^2","v":{"$error":"#NAME?"}},{"$f":"(C61-x!C59)^2","v":{"$error":"#NAME?"}},{"$f":"(D61-x!D59)^2","v":{"$error":"#NAME?"}},{"$f":"(E61-x!E59)^2","v":{"$error":"#NAME?"}},{"$f":"(F61-x!F59)^2","v":{"$error":"#NAME?"}},{"$f":"(G61-x!G59)^2","v":{"$error":"#NAME?"}},{"$f":"(H61-x!H59)^2","v":{"$error":"#NAME?"}},{"$f":"(I61-x!I59)^2","v":{"$error":"#NAME?"}},{"$f":"(J61-x!J59)^2","v":{"$error":"#NAME?"}},{"$f":"(K61-x!K59)^2","v":{"$error":"#NAME?"}},{"$f":"(L61-x!L59)^2","v":{"$error":"#NAME?"}}]
[{"$error":"#NAME?"},{"$error":"#NAME?"},{"$error":"#NAME?"},{"$error":"#NAME?"},{"$error":"#NAME?"},{"$error":"#NAME?"},{"$error":"#NAME?"},{"$error":"#NAME?"},{"$error":"#NAME?"},{"$error":"#NAME?"},{"$error":"#NAME?"},{"$error":"#NAME?"},null,{"$f":"(A62-x!A60)^2","v":{"$error":"#NAME?"}},{"$f":"(B62-x!B60)^2","v":{"$error":"#NAME?"}},{"$f":"(C62-x!C60)^2","v":{"$error":"#NAME?"}},{"$f":"(D62-x!D60)^2","v":{"$error":"#NAME?"}},{"$f":"(E62-x!E60)^2","v":{"$error":"#NAME?"}},{"$f":"(F62-x!F60)^2","v":{"$error":"#NAME?"}},{"$f":"(G62-x!G60)^2","v":{"$error":"#NAME?"}},{"$f":"(H62-x!H60)^2","v":{"$error":"#NAME?"}},{"$f":"(I62-x!I60)^2","v":{"$error":"#NAME?"}},{"$f":"(J62-x!J60)^2","v":{"$error":"#NAME?"}},{"$f":"(K62-x!K60)^2","v":{"$error":"#NAME?"}},{"$f":"(L62-x!L60)^2","v":{"$error":"#NAME?"}}]
[{"$error":"#NAME?"},{"$error":"#NAME?"},{"$error":"#NAME?"},{"$error":"#NAME?"},{"$error":"#NAME?"},{"$error":"#NAME?"},{"$error":"#NAME?"},{"$error":"#NAME?"},{"$error":"#NAME?"},{"$error":"#NAME?"},{"$error":"#NAME?"},{"$error":"#NAME?"},null,{"$f":"(A63-x!A61)^2","v":{"$error":"#NAME?"}},{"$f":"(B63-x!B61)^2","v":{"$error":"#NAME?"}},{"$f":"(C63-x!C61)^2","v":{"$error":"#NAME?"}},{"$f":"(D63-x!D61)^2","v":{"$error":"#NAME?"}},{"$f":"(E63-x!E61)^2","v":{"$error":"#NAME?"}},{"$f":"(F63-x!F61)^2","v":{"$error":"#NAME?"}},{"$f":"(G63-x!G61)^2","v":{"$error":"#NAME?"}},{"$f":"(H63-x!H61)^2","v":{"$error":"#NAME?"}},{"$f":"(I63-x!I61)^2","v":{"$error":"#NAME?"}},{"$f":"(J63-x!J61)^2","v":{"$error":"#NAME?"}},{"$f":"(K63-x!K61)^2","v":{"$error":"#NAME?"}},{"$f":"(L63-x!L61)^2","v":{"$error":"#NAME?"}}]
[{"$error":"#NAME?"},{"$error":"#NAME?"},{"$error":"#NAME?"},{"$error":"#NAME?"},{"$error":"#NAME?"},{"$error":"#NAME?"},{"$error":"#NAME?"},{"$error":"#NAME?"},{"$error":"#NAME?"},{"$error":"#NAME?"},{"$error":"#NAME?"},{"$error":"#NAME?"},null,{"$f":"(A64-x!A62)^2","v":{"$error":"#NAME?"}},{"$f":"(B64-x!B62)^2","v":{"$error":"#NAME?"}},{"$f":"(C64-x!C62)^2","v":{"$error":"#NAME?"}},{"$f":"(D64-x!D62)^2","v":{"$error":"#NAME?"}},{"$f":"(E64-x!E62)^2","v":{"$error":"#NAME?"}},{"$f":"(F64-x!F62)^2","v":{"$error":"#NAME?"}},{"$f":"(G64-x!G62)^2","v":{"$error":"#NAME?"}},{"$f":"(H64-x!H62)^2","v":{"$error":"#NAME?"}},{"$f":"(I64-x!I62)^2","v":{"$error":"#NAME?"}},{"$f":"(J64-x!J62)^2","v":{"$error":"#NAME?"}},{"$f":"(K64-x!K62)^2","v":{"$error":"#NAME?"}},{"$f":"(L64-x!L62)^2","v":{"$error":"#NAME?"}}]
[{"$error":"#NAME?"},{"$error":"#NAME?"},{"$error":"#NAME?"},{"$error":"#NAME?"},{"$error":"#NAME?"},{"$error":"#NAME?"},{"$error":"#NAME?"},{"$error":"#NAME?"},{"$error":"#NAME?"},{"$error":"#NAME?"},{"$error":"#NAME?"},{"$error":"#NAME?"},null,{"$f":"(A65-x!A63)^2","v":{"$error":"#NAME?"}},{"$f":"(B65-x!B63)^2","v":{"$error":"#NAME?"}},{"$f":"(C65-x!C63)^2","v":{"$error":"#NAME?"}},{"$f":"(D65-x!D63)^2","v":{"$error":"#NAME?"}},{"$f":"(E65-x!E63)^2","v":{"$error":"#NAME?"}},{"$f":"(F65-x!F63)^2","v":{"$error":"#NAME?"}},{"$f":"(G65-x!G63)^2","v":{"$error":"#NAME?"}},{"$f":"(H65-x!H63)^2","v":{"$error":"#NAME?"}},{"$f":"(I65-x!I63)^2","v":{"$error":"#NAME?"}},{"$f":"(J65-x!J63)^2","v":{"$error":"#NAME?"}},{"$f":"(K65-x!K63)^2","v":{"$error":"#NAME?"}},{"$f":"(L65-x!L63)^2","v":{"$error":"#NAME?"}}]
[{"$error":"#NAME?"},{"$error":"#NAME?"},{"$error":"#NAME?"},{"$error":"#NAME?"},{"$error":"#NAME?"},{"$error":"#NAME?"},{"$error":"#NAME?"},{"$error":"#NAME?"},{"$error":"#NAME?"},{"$error":"#NAME?"},{"$error":"#NAME?"},{"$error":"#NAME?"},null,{"$f":"(A66-x!A64)^2","v":{"$error":"#NAME?"}},{"$f":"(B66-x!B64)^2","v":{"$error":"#NAME?"}},{"$f":"(C66-x!C64)^2","v":{"$error":"#NAME?"}},{"$f":"(D66-x!D64)^2","v":{"$error":"#NAME?"}},{"$f":"(E66-x!E64)^2","v":{"$error":"#NAME?"}},{"$f":"(F66-x!F64)^2","v":{"$error":"#NAME?"}},{"$f":"(G66-x!G64)^2","v":{"$error":"#NAME?"}},{"$f":"(H66-x!H64)^2","v":{"$error":"#NAME?"}},{"$f":"(I66-x!I64)^2","v":{"$error":"#NAME?"}},{"$f":"(J66-x!J64)^2","v":{"$error":"#NAME?"}},{"$f":"(K66-x!K64)^2","v":{"$error":"#NAME?"}},{"$f":"(L66-x!L64)^2","v":{"$error":"#NAME?"}}]
[{"$error":"#NAME?"},{"$error":"#NAME?"},{"$error":"#NAME?"},{"$error":"#NAME?"},{"$error":"#NAME?"},{"$error":"#NAME?"},{"$error":"#NAME?"},{"$error":"#NAME?"},{"$error":"#NAME?"},{"$error":"#NAME?"},{"$error":"#NAME?"},{"$error":"#NAME?"},null,{"$f":"(A67-x!A65)^2","v":{"$error":"#NAME?"}},{"$f":"(B67-x!B65)^2","v":{"$error":"#NAME?"}},{"$f":"(C67-x!C65)^2","v":{"$error":"#NAME?"}},{"$f":"(D67-x!D65)^2","v":{"$error":"#NAME?"}},{"$f":"(E67-x!E65)^2","v":{"$error":"#NAME?"}},{"$f":"(F67-x!F65)^2","v":{"$error":"#NAME?"}},{"$f":"(G67-x!G65)^2","v":{"$error":"#NAME?"}},{"$f":"(H67-x!H65)^2","v":{"$error":"#NAME?"}},{"$f":"(I67-x!I65)^2","v":{"$error":"#NAME?"}},{"$f":"(J67-x!J65)^2","v":{"$error":"#NAME?"}},{"$f":"(K67-x!K65)^2","v":{"$error":"#NAME?"}},{"$f":"(L67-x!L65)^2","v":{"$error":"#NAME?"}}]
[{"$error":"#NAME?"},{"$error":"#NAME?"},{"$error":"#NAME?"},{"$error":"#NAME?"},{"$error":"#NAME?"},{"$error":"#NAME?"},{"$error":"#NAME?"},{"$error":"#NAME?"},{"$error":"#NAME?"},{"$error":"#NAME?"},{"$error":"#NAME?"},{"$error":"#NAME?"},null,{"$f":"(A68-x!A66)^2","v":{"$error":"#NAME?"}},{"$f":"(B68-x!B66)^2","v":{"$error":"#NAME?"}},{"$f":"(C68-x!C66)^2","v":{"$error":"#NAME?"}},{"$f":"(D68-x!D66)^2","v":{"$error":"#NAME?"}},{"$f":"(E68-x!E66)^2","v":{"$error":"#NAME?"}},{"$f":"(F68-x!F66)^2","v":{"$error":"#NAME?"}},{"$f":"(G68-x!G66)^2","v":{"$error":"#NAME?"}},{"$f":"(H68-x!H66)^2","v":{"$error":"#NAME?"}},{"$f":"(I68-x!I66)^2","v":{"$error":"#NAME?"}},{"$f":"(J68-x!J66)^2","v":{"$error":"#NAME?"}},{"$f":"(K68-x!K66)^2","v":{"$error":"#NAME?"}},{"$f":"(L68-x!L66)^2","v":{"$error":"#NAME?"}}]
[{"$error":"#NAME?"},{"$error":"#NAME?"},{"$error":"#NAME?"},{"$error":"#NAME?"},{"$error":"#NAME?"},{"$error":"#NAME?"},{"$error":"#NAME?"},{"$error":"#NAME?"},{"$error":"#NAME?"},{"$error":"#NAME?"},{"$error":"#NAME?"},{"$error":"#NAME?"},null,{"$f":"(A69-x!A67)^2","v":{"$error":"#NAME?"}},{"$f":"(B69-x!B67)^2","v":{"$error":"#NAME?"}},{"$f":"(C69-x!C67)^2","v":{"$error":"#NAME?"}},{"$f":"(D69-x!D67)^2","v":{"$error":"#NAME?"}},{"$f":"(E69-x!E67)^2","v":{"$error":"#NAME?"}},{"$f":"(F69-x!F67)^2","v":{"$error":"#NAME?"}},{"$f":"(G69-x!G67)^2","v":{"$error":"#NAME?"}},{"$f":"(H69-x!H67)^2","v":{"$error":"#NAME?"}},{"$f":"(I69-x!I67)^2","v":{"$error":"#NAME?"}},{"$f":"(J69-x!J67)^2","v":{"$error":"#NAME?"}},{"$f":"(K69-x!K67)^2","v":{"$error":"#NAME?"}},{"$f":"(L69-x!L67)^2","v":{"$error":"#NAME?"}}]
[{"$error":"#NAME?"},{"$error":"#NAME?"},{"$error":"#NAME?"},{"$error":"#NAME?"},{"$error":"#NAME?"},{"$error":"#NAME?"},{"$error":"#NAME?"},{"$error":"#NAME?"},{"$error":"#NAME?"},{"$error":"#NAME?"},{"$error":"#NAME?"},{"$error":"#NAME?"},null,{"$f":"(A70-x!A68)^2","v":{"$error":"#NAME?"}},{"$f":"(B70-x!B68)^2","v":{"$error":"#NAME?"}},{"$f":"(C70-x!C68)^2","v":{"$error":"#NAME?"}},{"$f":"(D70-x!D68)^2","v":{"$error":"#NAME?"}},{"$f":"(E70-x!E68)^2","v":{"$error":"#NAME?"}},{"$f":"(F70-x!F68)^2","v":{"$error":"#NAME?"}},{"$f":"(G70-x!G68)^2","v":{"$error":"#NAME?"}},{"$f":"(H70-x!H68)^2","v":{"$error":"#NAME?"}},{"$f":"(I70-x!I68)^2","v":{"$error":"#NAME?"}},{"$f":"(J70-x!J68)^2","v":{"$error":"#NAME?"}},{"$f":"(K70-x!K68)^2","v":{"$error":"#NAME?"}},{"$f":"(L70-x!L68)^2","v":{"$error":"#NAME?"}}]
[{"$error":"#NAME?"},{"$error":"#NAME?"},{"$error":"#NAME?"},{"$error":"#NAME?"},{"$error":"#NAME?"},{"$error":"#NAME?"},{"$error":"#NAME?"},{"$error":"#NAME?"},{"$error":"#NAME?"},{"$error":"#NAME?"},{"$error":"#NAME?"},{"$error":"#NAME?"},null,{"$f":"(A71-x!A69)^2","v":{"$error":"#NAME?"}},{"$f":"(B71-x!B69)^2","v":{"$error":"#NAME?"}},{"$f":"(C71-x!C69)^2","v":{"$error":"#NAME?"}},{"$f":"(D71-x!D69)^2","v":{"$error":"#NAME?"}},{"$f":"(E71-x!E69)^2","v":{"$error":"#NAME?"}},{"$f":"(F71-x!F69)^2","v":{"$error":"#NAME?"}},{"$f":"(G71-x!G69)^2","v":{"$error":"#NAME?"}},{"$f":"(H71-x!H69)^2","v":{"$error":"#NAME?"}},{"$f":"(I71-x!I69)^2","v":{"$error":"#NAME?"}},{"$f":"(J71-x!J69)^2","v":{"$error":"#NAME?"}},{"$f":"(K71-x!K69)^2","v":{"$error":"#NAME?"}},{"$f":"(L71-x!L69)^2","v":{"$error":"#NAME?"}}]
[{"$error":"#NAME?"},{"$error":"#NAME?"},{"$error":"#NAME?"},{"$error":"#NAME?"},{"$error":"#NAME?"},{"$error":"#NAME?"},{"$error":"#NAME?"},{"$error":"#NAME?"},{"$error":"#NAME?"},{"$error":"#NAME?"},{"$error":"#NAME?"},{"$error":"#NAME?"},null,{"$f":"(A72-x!A70)^2","v":{"$error":"#NAME?"}},{"$f":"(B72-x!B70)^2","v":{"$error":"#NAME?"}},{"$f":"(C72-x!C70)^2","v":{"$error":"#NAME?"}},{"$f":"(D72-x!D70)^2","v":{"$error":"#NAME?"}},{"$f":"(E72-x!E70)^2","v":{"$error":"#NAME?"}},{"$f":"(F72-x!F70)^2","v":{"$error":"#NAME?"}},{"$f":"(G72-x!G70)^2","v":{"$error":"#NAME?"}},{"$f":"(H72-x!H70)^2","v":{"$error":"#NAME?"}},{"$f":"(I72-x!I70)^2","v":{"$error":"#NAME?"}},{"$f":"(J72-x!J70)^2","v":{"$error":"#NAME?"}},{"$f":"(K72-x!K70)^2","v":{"$error":"#NAME?"}},{"$f":"(L72-x!L70)^2","v":{"$error":"#NAME?"}}]
[{"$error":"#NAME?"},{"$error":"#NAME?"},{"$error":"#NAME?"},{"$error":"#NAME?"},{"$error":"#NAME?"},{"$error":"#NAME?"},{"$error":"#NAME?"},{"$error":"#NAME?"},{"$error":"#NAME?"},{"$error":"#NAME?"},{"$error":"#NAME?"},{"$error":"#NAME?"},null,{"$f":"(A73-x!A71)^2","v":{"$error":"#NAME?"}},{"$f":"(B73-x!B71)^2","v":{"$error":"#NAME?"}},{"$f":"(C73-x!C71)^2","v":{"$error":"#NAME?"}},{"$f":"(D73-x!D71)^2","v":{"$error":"#NAME?"}},{"$f":"(E73-x!E71)^2","v":{"$error":"#NAME?"}},{"$f":"(F73-x!F71)^2","v":{"$error":"#NAME?"}},{"$f":"(G73-x!G71)^2","v":{"$error":"#NAME?"}},{"$f":"(H73-x!H71)^2","v":{"$error":"#NAME?"}},{"$f":"(I73-x!I71)^2","v":{"$error":"#NAME?"}},{"$f":"(J73-x!J71)^2","v":{"$error":"#NAME?"}},{"$f":"(K73-x!K71)^2","v":{"$error":"#NAME?"}},{"$f":"(L73-x!L71)^2","v":{"$error":"#NAME?"}}]
[{"$error":"#NAME?"},{"$error":"#NAME?"},{"$error":"#NAME?"},{"$error":"#NAME?"},{"$error":"#NAME?"},{"$error":"#NAME?"},{"$error":"#NAME?"},{"$error":"#NAME?"},{"$error":"#NAME?"},{"$error":"#NAME?"},{"$error":"#NAME?"},{"$error":"#NAME?"},null,{"$f":"(A74-x!A72)^2","v":{"$error":"#NAME?"}},{"$f":"(B74-x!B72)^2","v":{"$error":"#NAME?"}},{"$f":"(C74-x!C72)^2","v":{"$error":"#NAME?"}},{"$f":"(D74-x!D72)^2","v":{"$error":"#NAME?"}},{"$f":"(E74-x!E72)^2","v":{"$error":"#NAME?"}},{"$f":"(F74-x!F72)^2","v":{"$error":"#NAME?"}},{"$f":"(G74-x!G72)^2","v":{"$error":"#NAME?"}},{"$f":"(H74-x!H72)^2","v":{"$error":"#NAME?"}},{"$f":"(I74-x!I72)^2","v":{"$error":"#NAME?"}},{"$f":"(J74-x!J72)^2","v":{"$error":"#NAME?"}},{"$f":"(K74-x!K72)^2","v":{"$error":"#NAME?"}},{"$f":"(L74-x!L72)^2","v":{"$error":"#NAME?"}}]
[{"$error":"#NAME?"},{"$error":"#NAME?"},{"$error":"#NAME?"},{"$error":"#NAME?"},{"$error":"#NAME?"},{"$error":"#NAME?"},{"$error":"#NAME?"},{"$error":"#NAME?"},{"$error":"#NAME?"},{"$error":"#NAME?"},{"$error":"#NAME?"},{"$error":"#NAME?"},null,{"$f":"(A75-x!A73)^2","v":{"$error":"#NAME?"}},{"$f":"(B75-x!B73)^2","v":{"$error":"#NAME?"}},{"$f":"(C75-x!C73)^2","v":{"$error":"#NAME?"}},{"$f":"(D75-x!D73)^2","v":{"$error":"#NAME?"}},{"$f":"(E75-x!E73)^2","v":{"$error":"#NAME?"}},{"$f":"(F75-x!F73)^2","v":{"$error":"#NAME?"}},{"$f":"(G75-x!G73)^2","v":{"$error":"#NAME?"}},{"$f":"(H75-x!H73)^2","v":{"$error":"#NAME?"}},{"$f":"(I75-x!I73)^2","v":{"$error":"#NAME?"}},{"$f":"(J75-x!J73)^2","v":{"$error":"#NAME?"}},{"$f":"(K75-x!K73)^2","v":{"$error":"#NAME?"}},{"$f":"(L75-x!L73)^2","v":{"$error":"#NAME?"}}]
[{"$error":"#NAME?"},{"$error":"#NAME?"},{"$error":"#NAME?"},{"$error":"#NAME?"},{"$error":"#NAME?"},{"$error":"#NAME?"},{"$error":"#NAME?"},{"$error":"#NAME?"},{"$error":"#NAME?"},{"$error":"#NAME?"},{"$error":"#NAME?"},{"$error":"#NAME?"},null,{"$f":"(A76-x!A74)^2","v":{"$error":"#NAME?"}},{"$f":"(B76-x!B74)^2","v":{"$error":"#NAME?"}},{"$f":"(C76-x!C74)^2","v":{"$error":"#NAME?"}},{"$f":"(D76-x!D74)^2","v":{"$error":"#NAME?"}},{"$f":"(E76-x!E74)^2","v":{"$error":"#NAME?"}},{"$f":"(F76-x!F74)^2","v":{"$error":"#NAME?"}},{"$f":"(G76-x!G74)^2","v":{"$error":"#NAME?"}},{"$f":"(H76-x!H74)^2","v":{"$error":"#NAME?"}},{"$f":"(I76-x!I74)^2","v":{"$error":"#NAME?"}},{"$f":"(J76-x!J74)^2","v":{"$error":"#NAME?"}},{"$f":"(K76-x!K74)^2","v":{"$error":"#NAME?"}},{"$f":"(L76-x!L74)^2","v":{"$error":"#NAME?"}}]
[{"$error":"#NAME?"},{"$error":"#NAME?"},{"$error":"#NAME?"},{"$error":"#NAME?"},{"$error":"#NAME?"},{"$error":"#NAME?"},{"$error":"#NAME?"},{"$error":"#NAME?"},{"$error":"#NAME?"},{"$error":"#NAME?"},{"$error":"#NAME?"},{"$error":"#NAME?"},null,{"$f":"(A77-x!A75)^2","v":{"$error":"#NAME?"}},{"$f":"(B77-x!B75)^2","v":{"$error":"#NAME?"}},{"$f":"(C77-x!C75)^2","v":{"$error":"#NAME?"}},{"$f":"(D77-x!D75)^2","v":{"$error":"#NAME?"}},{"$f":"(E77-x!E75)^2","v":{"$error":"#NAME?"}},{"$f":"(F77-x!F75)^2","v":{"$error":"#NAME?"}},{"$f":"(G77-x!G75)^2","v":{"$error":"#NAME?"}},{"$f":"(H77-x!H75)^2","v":{"$error":"#NAME?"}},{"$f":"(I77-x!I75)^2","v":{"$error":"#NAME?"}},{"$f":"(J77-x!J75)^2","v":{"$error":"#NAME?"}},{"$f":"(K77-x!K75)^2","v":{"$error":"#NAME?"}},{"$f":"(L77-x!L75)^2","v":{"$error":"#NAME?"}}]
[{"$error":"#NAME?"},{"$error":"#NAME?"},{"$error":"#NAME?"},{"$error":"#NAME?"},{"$error":"#NAME?"},{"$error":"#NAME?"},{"$error":"#NAME?"},{"$error":"#NAME?"},{"$error":"#NAME?"},{"$error":"#NAME?"},{"$error":"#NAME?"},{"$error":"#NAME?"},null,{"$f":"(A78-x!A76)^2","v":{"$error":"#NAME?"}},{"$f":"(B78-x!B76)^2","v":{"$error":"#NAME?"}},{"$f":"(C78-x!C76)^2","v":{"$error":"#NAME?"}},{"$f":"(D78-x!D76)^2","v":{"$error":"#NAME?"}},{"$f":"(E78-x!E76)^2","v":{"$error":"#NAME?"}},{"$f":"(F78-x!F76)^2","v":{"$error":"#NAME?"}},{"$f":"(G78-x!G76)^2","v":{"$error":"#NAME?"}},{"$f":"(H78-x!H76)^2","v":{"$error":"#NAME?"}},{"$f":"(I78-x!I76)^2","v":{"$error":"#NAME?"}},{"$f":"(J78-x!J76)^2","v":{"$error":"#NAME?"}},{"$f":"(K78-x!K76)^2","v":{"$error":"#NAME?"}},{"$f":"(L78-x!L76)^2","v":{"$error":"#NAME?"}}]
[{"$error":"#NAME?"},{"$error":"#NAME?"},{"$error":"#NAME?"},{"$error":"#NAME?"},{"$error":"#NAME?"},{"$error":"#NAME?"},{"$error":"#NAME?"},{"$error":"#NAME?"},{"$error":"#NAME?"},{"$error":"#NAME?"},{"$error":"#NAME?"},{"$error":"#NAME?"},null,{"$f":"(A79-x!A77)^2","v":{"$error":"#NAME?"}},{"$f":"(B79-x!B77)^2","v":{"$error":"#NAME?"}},{"$f":"(C79-x!C77)^2","v":{"$error":"#NAME?"}},{"$f":"(D79-x!D77)^2","v":{"$error":"#NAME?"}},{"$f":"(E79-x!E77)^2","v":{"$error":"#NAME?"}},{"$f":"(F79-x!F77)^2","v":{"$error":"#NAME?"}},{"$f":"(G79-x!G77)^2","v":{"$error":"#NAME?"}},{"$f":"(H79-x!H77)^2","v":{"$error":"#NAME?"}},{"$f":"(I79-x!I77)^2","v":{"$error":"#NAME?"}},{"$f":"(J79-x!J77)^2","v":{"$error":"#NAME?"}},{"$f":"(K79-x!K77)^2","v":{"$error":"#NAME?"}},{"$f":"(L79-x!L77)^2","v":{"$error":"#NAME?"}}]
[{"$error":"#NAME?"},{"$error":"#NAME?"},{"$error":"#NAME?"},{"$error":"#NAME?"},{"$error":"#NAME?"},{"$error":"#NAME?"},{"$error":"#NAME?"},{"$error":"#NAME?"},{"$error":"#NAME?"},{"$error":"#NAME?"},{"$error":"#NAME?"},{"$error":"#NAME?"},null,{"$f":"(A80-x!A78)^2","v":{"$error":"#NAME?"}},{"$f":"(B80-x!B78)^2","v":{"$error":"#NAME?"}},{"$f":"(C80-x!C78)^2","v":{"$error":"#NAME?"}},{"$f":"(D80-x!D78)^2","v":{"$error":"#NAME?"}},{"$f":"(E80-x!E78)^2","v":{"$error":"#NAME?"}},{"$f":"(F80-x!F78)^2","v":{"$error":"#NAME?"}},{"$f":"(G80-x!G78)^2","v":{"$error":"#NAME?"}},{"$f":"(H80-x!H78)^2","v":{"$error":"#NAME?"}},{"$f":"(I80-x!I78)^2","v":{"$error":"#NAME?"}},{"$f":"(J80-x!J78)^2","v":{"$error":"#NAME?"}},{"$f":"(K80-x!K78)^2","v":{"$error":"#NAME?"}},{"$f":"(L80-x!L78)^2","v":{"$error":"#NAME?"}}]
[{"$error":"#NAME?"},{"$error":"#NAME?"},{"$error":"#NAME?"},{"$error":"#NAME?"},{"$error":"#NAME?"},{"$error":"#NAME?"},{"$error":"#NAME?"},{"$error":"#NAME?"},{"$error":"#NAME?"},{"$error":"#NAME?"},{"$error":"#NAME?"},{"$error":"#NAME?"},null,{"$f":"(A81-x!A79)^2","v":{"$error":"#NAME?"}},{"$f":"(B81-x!B79)^2","v":{"$error":"#NAME?"}},{"$f":"(C81-x!C79)^2","v":{"$error":"#NAME?"}},{"$f":"(D81-x!D79)^2","v":{"$error":"#NAME?"}},{"$f":"(E81-x!E79)^2","v":{"$error":"#NAME?"}},{"$f":"(F81-x!F79)^2","v":{"$error":"#NAME?"}},{"$f":"(G81-x!G79)^2","v":{"$error":"#NAME?"}},{"$f":"(H81-x!H79)^2","v":{"$error":"#NAME?"}},{"$f":"(I81-x!I79)^2","v":{"$error":"#NAME?"}},{"$f":"(J81-x!J79)^2","v":{"$error":"#NAME?"}},{"$f":"(K81-x!K79)^2","v":{"$error":"#NAME?"}},{"$f":"(L81-x!L79)^2","v":{"$error":"#NAME?"}}]
[{"$error":"#NAME?"},{"$error":"#NAME?"},{"$error":"#NAME?"},{"$error":"#NAME?"},{"$error":"#NAME?"},{"$error":"#NAME?"},{"$error":"#NAME?"},{"$error":"#NAME?"},{"$error":"#NAME?"},{"$error":"#NAME?"},{"$error":"#NAME?"},{"$error":"#NAME?"},null,{"$f":"(A82-x!A80)^2","v":{"$error":"#NAME?"}},{"$f":"(B82-x!B80)^2","v":{"$error":"#NAME?"}},{"$f":"(C82-x!C80)^2","v":{"$error":"#NAME?"}},{"$f":"(D82-x!D80)^2","v":{"$error":"#NAME?"}},{"$f":"(E82-x!E80)^2","v":{"$error":"#NAME?"}},{"$f":"(F82-x!F80)^2","v":{"$error":"#NAME?"}},{"$f":"(G82-x!G80)^2","v":{"$error":"#NAME?"}},{"$f":"(H82-x!H80)^2","v":{"$error":"#NAME?"}},{"$f":"(I82-x!I80)^2","v":{"$error":"#NAME?"}},{"$f":"(J82-x!J80)^2","v":{"$error":"#NAME?"}},{"$f":"(K82-x!K80)^2","v":{"$error":"#NAME?"}},{"$f":"(L82-x!L80)^2","v":{"$error":"#NAME?"}}]
[{"$error":"#NAME?"},{"$error":"#NAME?"},{"$error":"#NAME?"},{"$error":"#NAME?"},{"$error":"#NAME?"},{"$error":"#NAME?"},{"$error":"#NAME?"},{"$error":"#NAME?"},{"$error":"#NAME?"},{"$error":"#NAME?"},{"$error":"#NAME?"},{"$error":"#NAME?"},null,{"$f":"(A83-x!A81)^2","v":{"$error":"#NAME?"}},{"$f":"(B83-x!B81)^2","v":{"$error":"#NAME?"}},{"$f":"(C83-x!C81)^2","v":{"$error":"#NAME?"}},{"$f":"(D83-x!D81)^2","v":{"$error":"#NAME?"}},{"$f":"(E83-x!E81)^2","v":{"$error":"#NAME?"}},{"$f":"(F83-x!F81)^2","v":{"$error":"#NAME?"}},{"$f":"(G83-x!G81)^2","v":{"$error":"#NAME?"}},{"$f":"(H83-x!H81)^2","v":{"$error":"#NAME?"}},{"$f":"(I83-x!I81)^2","v":{"$error":"#NAME?"}},{"$f":"(J83-x!J81)^2","v":{"$error":"#NAME?"}},{"$f":"(K83-x!K81)^2","v":{"$error":"#NAME?"}},{"$f":"(L83-x!L81)^2","v":{"$error":"#NAME?"}}]
[{"$error":"#NAME?"},{"$error":"#NAME?"},{"$error":"#NAME?"},{"$error":"#NAME?"},{"$error":"#NAME?"},{"$error":"#NAME?"},{"$error":"#NAME?"},{"$error":"#NAME?"},{"$error":"#NAME?"},{"$error":"#NAME?"},{"$error":"#NAME?"},{"$error":"#NAME?"},null,{"$f":"(A84-x!A82)^2","v":{"$error":"#NAME?"}},{"$f":"(B84-x!B82)^2","v":{"$error":"#NAME?"}},{"$f":"(C84-x!C82)^2","v":{"$error":"#NAME?"}},{"$f":"(D84-x!D82)^2","v":{"$error":"#NAME?"}},{"$f":"(E84-x!E82)^2","v":{"$error":"#NAME?"}},{"$f":"(F84-x!F82)^2","v":{"$error":"#NAME?"}},{"$f":"(G84-x!G82)^2","v":{"$error":"#NAME?"}},{"$f":"(H84-x!H82)^2","v":{"$error":"#NAME?"}},{"$f":"(I84-x!I82)^2","v":{"$error":"#NAME?"}},{"$f":"(J84-x!J82)^2","v":{"$error":"#NAME?"}},{"$f":"(K84-x!K82)^2","v":{"$error":"#NAME?"}},{"$f":"(L84-x!L82)^2","v":{"$error":"#NAME?"}}]
[{"$error":"#NAME?"},{"$error":"#NAME?"},{"$error":"#NAME?"},{"$error":"#NAME?"},{"$error":"#NAME?"},{"$error":"#NAME?"},{"$error":"#NAME?"},{"$error":"#NAME?"},{"$error":"#NAME?"},{"$error":"#NAME?"},{"$error":"#NAME?"},{"$error":"#NAME?"},null,{"$f":"(A85-x!A83)^2","v":{"$error":"#NAME?"}},{"$f":"(B85-x!B83)^2","v":{"$error":"#NAME?"}},{"$f":"(C85-x!C83)^2","v":{"$error":"#NAME?"}},{"$f":"(D85-x!D83)^2","v":{"$error":"#NAME?"}},{"$f":"(E85-x!E83)^2","v":{"$error":"#NAME?"}},{"$f":"(F85-x!F83)^2","v":{"$error":"#NAME?"}},{"$f":"(G85-x!G83)^2","v":{"$error":"#NAME?"}},{"$f":"(H85-x!H83)^2","v":{"$error":"#NAME?"}},{"$f":"(I85-x!I83)^2","v":{"$error":"#NAME?"}},{"$f":"(J85-x!J83)^2","v":{"$error":"#NAME?"}},{"$f":"(K85-x!K83)^2","v":{"$error":"#NAME?"}},{"$f":"(L85-x!L83)^2","v":{"$error":"#NAME?"}}]
[{"$error":"#NAME?"},{"$error":"#NAME?"},{"$error":"#NAME?"},{"$error":"#NAME?"},{"$error":"#NAME?"},{"$error":"#NAME?"},{"$error":"#NAME?"},{"$error":"#NAME?"},{"$error":"#NAME?"},{"$error":"#NAME?"},{"$error":"#NAME?"},{"$error":"#NAME?"},null,{"$f":"(A86-x!A84)^2","v":{"$error":"#NAME?"}},{"$f":"(B86-x!B84)^2","v":{"$error":"#NAME?"}},{"$f":"(C86-x!C84)^2","v":{"$error":"#NAME?"}},{"$f":"(D86-x!D84)^2","v":{"$error":"#NAME?"}},{"$f":"(E86-x!E84)^2","v":{"$error":"#NAME?"}},{"$f":"(F86-x!F84)^2","v":{"$error":"#NAME?"}},{"$f":"(G86-x!G84)^2","v":{"$error":"#NAME?"}},{"$f":"(H86-x!H84)^2","v":{"$error":"#NAME?"}},{"$f":"(I86-x!I84)^2","v":{"$error":"#NAME?"}},{"$f":"(J86-x!J84)^2","v":{"$error":"#NAME?"}},{"$f":"(K86-x!K84)^2","v":{"$error":"#NAME?"}},{"$f":"(L86-x!L84)^2","v":{"$error":"#NAME?"}}]
[{"$error":"#NAME?"},{"$error":"#NAME?"},{"$error":"#NAME?"},{"$error":"#NAME?"},{"$error":"#NAME?"},{"$error":"#NAME?"},{"$error":"#NAME?"},{"$error":"#NAME?"},{"$error":"#NAME?"},{"$error":"#NAME?"},{"$error":"#NAME?"},{"$error":"#NAME?"},null,{"$f":"(A87-x!A85)^2","v":{"$error":"#NAME?"}},{"$f":"(B87-x!B85)^2","v":{"$error":"#NAME?"}},{"$f":"(C87-x!C85)^2","v":{"$error":"#NAME?"}},{"$f":"(D87-x!D85)^2","v":{"$error":"#NAME?"}},{"$f":"(E87-x!E85)^2","v":{"$error":"#NAME?"}},{"$f":"(F87-x!F85)^2","v":{"$error":"#NAME?"}},{"$f":"(G87-x!G85)^2","v":{"$error":"#NAME?"}},{"$f":"(H87-x!H85)^2","v":{"$error":"#NAME?"}},{"$f":"(I87-x!I85)^2","v":{"$error":"#NAME?"}},{"$f":"(J87-x!J85)^2","v":{"$error":"#NAME?"}},{"$f":"(K87-x!K85)^2","v":{"$error":"#NAME?"}},{"$f":"(L87-x!L85)^2","v":{"$error":"#NAME?"}}]
[{"$error":"#NAME?"},{"$error":"#NAME?"},{"$error":"#NAME?"},{"$error":"#NAME?"},{"$error":"#NAME?"},{"$error":"#NAME?"},{"$error":"#NAME?"},{"$error":"#NAME?"},{"$error":"#NAME?"},{"$error":"#NAME?"},{"$error":"#NAME?"},{"$error":"#NAME?"},null,{"$f":"(A88-x!A86)^2","v":{"$error":"#NAME?"}},{"$f":"(B88-x!B86)^2","v":{"$error":"#NAME?"}},{"$f":"(C88-x!C86)^2","v":{"$error":"#NAME?"}},{"$f":"(D88-x!D86)^2","v":{"$error":"#NAME?"}},{"$f":"(E88-x!E86)^2","v":{"$error":"#NAME?"}},{"$f":"(F88-x!F86)^2","v":{"$error":"#NAME?"}},{"$f":"(G88-x!G86)^2","v":{"$error":"#NAME?"}},{"$f":"(H88-x!H86)^2","v":{"$error":"#NAME?"}},{"$f":"(I88-x!I86)^2","v":{"$error":"#NAME?"}},{"$f":"(J88-x!J86)^2","v":{"$error":"#NAME?"}},{"$f":"(K88-x!K86)^2","v":{"$error":"#NAME?"}},{"$f":"(L88-x!L86)^2","v":{"$error":"#NAME?"}}]
[{"$error":"#NAME?"},{"$error":"#NAME?"},{"$error":"#NAME?"},{"$error":"#NAME?"},{"$error":"#NAME?"},{"$error":"#NAME?"},{"$error":"#NAME?"},{"$error":"#NAME?"},{"$error":"#NAME?"},{"$error":"#NAME?"},{"$error":"#NAME?"},{"$error":"#NAME?"},null,{"$f":"(A89-x!A87)^2","v":{"$error":"#NAME?"}},{"$f":"(B89-x!B87)^2","v":{"$error":"#NAME?"}},{"$f":"(C89-x!C87)^2","v":{"$error":"#NAME?"}},{"$f":"(D89-x!D87)^2","v":{"$error":"#NAME?"}},{"$f":"(E89-x!E87)^2","v":{"$error":"#NAME?"}},{"$f":"(F89-x!F87)^2","v":{"$error":"#NAME?"}},{"$f":"(G89-x!G87)^2","v":{"$error":"#NAME?"}},{"$f":"(H89-x!H87)^2","v":{"$error":"#NAME?"}},{"$f":"(I89-x!I87)^2","v":{"$error":"#NAME?"}},{"$f":"(J89-x!J87)^2","v":{"$error":"#NAME?"}},{"$f":"(K89-x!K87)^2","v":{"$error":"#NAME?"}},{"$f":"(L89-x!L87)^2","v":{"$error":"#NAME?"}}]
[{"$error":"#NAME?"},{"$error":"#NAME?"},{"$error":"#NAME?"},{"$error":"#NAME?"},{"$error":"#NAME?"},{"$error":"#NAME?"},{"$error":"#NAME?"},{"$error":"#NAME?"},{"$error":"#NAME?"},{"$error":"#NAME?"},{"$error":"#NAME?"},{"$error":"#NAME?"},null,{"$f":"(A90-x!A88)^2","v":{"$error":"#NAME?"}},{"$f":"(B90-x!B88)^2","v":{"$error":"#NAME?"}},{"$f":"(C90-x!C88)^2","v":{"$error":"#NAME?"}},{"$f":"(D90-x!D88)^2","v":{"$error":"#NAME?"}},{"$f":"(E90-x!E88)^2","v":{"$error":"#NAME?"}},{"$f":"(F90-x!F88)^2","v":{"$error":"#NAME?"}},{"$f":"(G90-x!G88)^2","v":{"$error":"#NAME?"}},{"$f":"(H90-x!H88)^2","v":{"$error":"#NAME?"}},{"$f":"(I90-x!I88)^2","v":{"$error":"#NAME?"}},{"$f":"(J90-x!J88)^2","v":{"$error":"#NAME?"}},{"$f":"(K90-x!K88)^2","v":{"$error":"#NAME?"}},{"$f":"(L90-x!L88)^2","v":{"$error":"#NAME?"}}]
[{"$error":"#NAME?"},{"$error":"#NAME?"},{"$error":"#NAME?"},{"$error":"#NAME?"},{"$error":"#NAME?"},{"$error":"#NAME?"},{"$error":"#NAME?"},{"$error":"#NAME?"},{"$error":"#NAME?"},{"$error":"#NAME?"},{"$error":"#NAME?"},{"$error":"#NAME?"},null,{"$f":"(A91-x!A89)^2","v":{"$error":"#NAME?"}},{"$f":"(B91-x!B89)^2","v":{"$error":"#NAME?"}},{"$f":"(C91-x!C89)^2","v":{"$error":"#NAME?"}},{"$f":"(D91-x!D89)^2","v":{"$error":"#NAME?"}},{"$f":"(E91-x!E89)^2","v":{"$error":"#NAME?"}},{"$f":"(F91-x!F89)^2","v":{"$error":"#NAME?"}},{"$f":"(G91-x!G89)^2","v":{"$error":"#NAME?"}},{"$f":"(H91-x!H89)^2","v":{"$error":"#NAME?"}},{"$f":"(I91-x!I89)^2","v":{"$error":"#NAME?"}},{"$f":"(J91-x!J89)^2","v":{"$error":"#NAME?"}},{"$f":"(K91-x!K89)^2","v":{"$error":"#NAME?"}},{"$f":"(L91-x!L89)^2","v":{"$error":"#NAME?"}}]
[{"$error":"#NAME?"},{"$error":"#NAME?"},{"$error":"#NAME?"},{"$error":"#NAME?"},{"$error":"#NAME?"},{"$error":"#NAME?"},{"$error":"#NAME?"},{"$error":"#NAME?"},{"$error":"#NAME?"},{"$error":"#NAME?"},{"$error":"#NAME?"},{"$error":"#NAME?"},null,{"$f":"(A92-x!A90)^2","v":{"$error":"#NAME?"}},{"$f":"(B92-x!B90)^2","v":{"$error":"#NAME?"}},{"$f":"(C92-x!C90)^2","v":{"$error":"#NAME?"}},{"$f":"(D92-x!D90)^2","v":{"$error":"#NAME?"}},{"$f":"(E92-x!E90)^2","v":{"$error":"#NAME?"}},{"$f":"(F92-x!F90)^2","v":{"$error":"#NAME?"}},{"$f":"(G92-x!G90)^2","v":{"$error":"#NAME?"}},{"$f":"(H92-x!H90)^2","v":{"$error":"#NAME?"}},{"$f":"(I92-x!I90)^2","v":{"$error":"#NAME?"}},{"$f":"(J92-x!J90)^2","v":{"$error":"#NAME?"}},{"$f":"(K92-x!K90)^2","v":{"$error":"#NAME?"}},{"$f":"(L92-x!L90)^2","v":{"$error":"#NAME?"}}]
[{"$error":"#NAME?"},{"$error":"#NAME?"},{"$error":"#NAME?"},{"$error":"#NAME?"},{"$error":"#NAME?"},{"$error":"#NAME?"},{"$error":"#NAME?"},{"$error":"#NAME?"},{"$error":"#NAME?"},{"$error":"#NAME?"},{"$error":"#NAME?"},{"$error":"#NAME?"},null,{"$f":"(A93-x!A91)^2","v":{"$error":"#NAME?"}},{"$f":"(B93-x!B91)^2","v":{"$error":"#NAME?"}},{"$f":"(C93-x!C91)^2","v":{"$error":"#NAME?"}},{"$f":"(D93-x!D91)^2","v":{"$error":"#NAME?"}},{"$f":"(E93-x!E91)^2","v":{"$error":"#NAME?"}},{"$f":"(F93-x!F91)^2","v":{"$error":"#NAME?"}},{"$f":"(G93-x!G91)^2","v":{"$error":"#NAME?"}},{"$f":"(H93-x!H91)^2","v":{"$error":"#NAME?"}},{"$f":"(I93-x!I91)^2","v":{"$error":"#NAME?"}},{"$f":"(J93-x!J91)^2","v":{"$error":"#NAME?"}},{"$f":"(K93-x!K91)^2","v":{"$error":"#NAME?"}},{"$f":"(L93-x!L91)^2","v":{"$error":"#NAME?"}}]
[{"$error":"#NAME?"},{"$error":"#NAME?"},{"$error":"#NAME?"},{"$error":"#NAME?"},{"$error":"#NAME?"},{"$error":"#NAME?"},{"$error":"#NAME?"},{"$error":"#NAME?"},{"$error":"#NAME?"},{"$error":"#NAME?"},{"$error":"#NAME?"},{"$error":"#NAME?"},null,{"$f":"(A94-x!A92)^2","v":{"$error":"#NAME?"}},{"$f":"(B94-x!B92)^2","v":{"$error":"#NAME?"}},{"$f":"(C94-x!C92)^2","v":{"$error":"#NAME?"}},{"$f":"(D94-x!D92)^2","v":{"$error":"#NAME?"}},{"$f":"(E94-x!E92)^2","v":{"$error":"#NAME?"}},{"$f":"(F94-x!F92)^2","v":{"$error":"#NAME?"}},{"$f":"(G94-x!G92)^2","v":{"$error":"#NAME?"}},{"$f":"(H94-x!H92)^2","v":{"$error":"#NAME?"}},{"$f":"(I94-x!I92)^2","v":{"$error":"#NAME?"}},{"$f":"(J94-x!J92)^2","v":{"$error":"#NAME?"}},{"$f":"(K94-x!K92)^2","v":{"$error":"#NAME?"}},{"$f":"(L94-x!L92)^2","v":{"$error":"#NAME?"}}]
[{"$error":"#NAME?"},{"$error":"#NAME?"},{"$error":"#NAME?"},{"$error":"#NAME?"},{"$error":"#NAME?"},{"$error":"#NAME?"},{"$error":"#NAME?"},{"$error":"#NAME?"},{"$error":"#NAME?"},{"$error":"#NAME?"},{"$error":"#NAME?"},{"$error":"#NAME?"},null,{"$f":"(A95-x!A93)^2","v":{"$error":"#NAME?"}},{"$f":"(B95-x!B93)^2","v":{"$error":"#NAME?"}},{"$f":"(C95-x!C93)^2","v":{"$error":"#NAME?"}},{"$f":"(D95-x!D93)^2","v":{"$error":"#NAME?"}},{"$f":"(E95-x!E93)^2","v":{"$error":"#NAME?"}},{"$f":"(F95-x!F93)^2","v":{"$error":"#NAME?"}},{"$f":"(G95-x!G93)^2","v":{"$error":"#NAME?"}},{"$f":"(H95-x!H93)^2","v":{"$error":"#NAME?"}},{"$f":"(I95-x!I93)^2","v":{"$error":"#NAME?"}},{"$f":"(J95-x!J93)^2","v":{"$error":"#NAME?"}},{"$f":"(K95-x!K93)^2","v":{"$error":"#NAME?"}},{"$f":"(L95-x!L93)^2","v":{"$error":"#NAME?"}}]
[{"$error":"#NAME?"},{"$error":"#NAME?"},{"$error":"#NAME?"},{"$error":"#NAME?"},{"$error":"#NAME?"},{"$error":"#NAME?"},{"$error":"#NAME?"},{"$error":"#NAME?"},{"$error":"#NAME?"},{"$error":"#NAME?"},{"$error":"#NAME?"},{"$error":"#NAME?"},null,{"$f":"(A96-x!A94)^2","v":{"$error":"#NAME?"}},{"$f":"(B96-x!B94)^2","v":{"$error":"#NAME?"}},{"$f":"(C96-x!C94)^2","v":{"$error":"#NAME?"}},{"$f":"(D96-x!D94)^2","v":{"$error":"#NAME?"}},{"$f":"(E96-x!E94)^2","v":{"$error":"#NAME?"}},{"$f":"(F96-x!F94)^2","v":{"$error":"#NAME?"}},{"$f":"(G96-x!G94)^2","v":{"$error":"#NAME?"}},{"$f":"(H96-x!H94)^2","v":{"$error":"#NAME?"}},{"$f":"(I96-x!I94)^2","v":{"$error":"#NAME?"}},{"$f":"(J96-x!J94)^2","v":{"$error":"#NAME?"}},{"$f":"(K96-x!K94)^2","v":{"$error":"#NAME?"}},{"$f":"(L96-x!L94)^2","v":{"$error":"#NAME?"}}]
[{"$error":"#NAME?"},{"$error":"#NAME?"},{"$error":"#NAME?"},{"$error":"#NAME?"},{"$error":"#NAME?"},{"$error":"#NAME?"},{"$error":"#NAME?"},{"$error":"#NAME?"},{"$error":"#NAME?"},{"$error":"#NAME?"},{"$error":"#NAME?"},{"$error":"#NAME?"},null,{"$f":"(A97-x!A95)^2","v":{"$error":"#NAME?"}},{"$f":"(B97-x!B95)^2","v":{"$error":"#NAME?"}},{"$f":"(C97-x!C95)^2","v":{"$error":"#NAME?"}},{"$f":"(D97-x!D95)^2","v":{"$error":"#NAME?"}},{"$f":"(E97-x!E95)^2","v":{"$error":"#NAME?"}},{"$f":"(F97-x!F95)^2","v":{"$error":"#NAME?"}},{"$f":"(G97-x!G95)^2","v":{"$error":"#NAME?"}},{"$f":"(H97-x!H95)^2","v":{"$error":"#NAME?"}},{"$f":"(I97-x!I95)^2","v":{"$error":"#NAME?"}},{"$f":"(J97-x!J95)^2","v":{"$error":"#NAME?"}},{"$f":"(K97-x!K95)^2","v":{"$error":"#NAME?"}},{"$f":"(L97-x!L95)^2","v":{"$error":"#NAME?"}}]
[{"$error":"#NAME?"},{"$error":"#NAME?"},{"$error":"#NAME?"},{"$error":"#NAME?"},{"$error":"#NAME?"},{"$error":"#NAME?"},{"$error":"#NAME?"},{"$error":"#NAME?"},{"$error":"#NAME?"},{"$error":"#NAME?"},{"$error":"#NAME?"},{"$error":"#NAME?"},null,{"$f":"(A98-x!A96)^2","v":{"$error":"#NAME?"}},{"$f":"(B98-x!B96)^2","v":{"$error":"#NAME?"}},{"$f":"(C98-x!C96)^2","v":{"$error":"#NAME?"}},{"$f":"(D98-x!D96)^2","v":{"$error":"#NAME?"}},{"$f":"(E98-x!E96)^2","v":{"$error":"#NAME?"}},{"$f":"(F98-x!F96)^2","v":{"$error":"#NAME?"}},{"$f":"(G98-x!G96)^2","v":{"$error":"#NAME?"}},{"$f":"(H98-x!H96)^2","v":{"$error":"#NAME?"}},{"$f":"(I98-x!I96)^2","v":{"$error":"#NAME?"}},{"$f":"(J98-x!J96)^2","v":{"$error":"#NAME?"}},{"$f":"(K98-x!K96)^2","v":{"$error":"#NAME?"}},{"$f":"(L98-x!L96)^2","v":{"$error":"#NAME?"}}]
[{"$error":"#NAME?"},{"$error":"#NAME?"},{"$error":"#NAME?"},{"$error":"#NAME?"},{"$error":"#NAME?"},{"$error":"#NAME?"},{"$error":"#NAME?"},{"$error":"#NAME?"},{"$error":"#NAME?"},{"$error":"#NAME?"},{"$error":"#NAME?"},{"$error":"#NAME?"},null,{"$f":"(A99-x!A97)^2","v":{"$error":"#NAME?"}},{"$f":"(B99-x!B97)^2","v":{"$error":"#NAME?"}},{"$f":"(C99-x!C97)^2","v":{"$error":"#NAME?"}},{"$f":"(D99-x!D97)^2","v":{"$error":"#NAME?"}},{"$f":"(E99-x!E97)^2","v":{"$error":"#NAME?"}},{"$f":"(F99-x!F97)^2","v":{"$error":"#NAME?"}},{"$f":"(G99-x!G97)^2","v":{"$error":"#NAME?"}},{"$f":"(H99-x!H97)^2","v":{"$error":"#NAME?"}},{"$f":"(I99-x!I97)^2","v":{"$error":"#NAME?"}},{"$f":"(J99-x!J97)^2","v":{"$error":"#NAME?"}},{"$f":"(K99-x!K97)^2","v":{"$error":"#NAME?"}},{"$f":"(L99-x!L97)^2","v":{"$error":"#NAME?"}}]
[{"$error":"#NAME?"},{"$error":"#NAME?"},{"$error":"#NAME?"},{"$error":"#NAME?"},{"$error":"#NAME?"},{"$error":"#NAME?"},{"$error":"#NAME?"},{"$error":"#NAME?"},{"$error":"#NAME?"},{"$error":"#NAME?"},{"$error":"#NAME?"},{"$error":"#NAME?"},null,{"$f":"(A100-x!A98)^2","v":{"$error":"#NAME?"}},{"$f":"(B100-x!B98)^2","v":{"$error":"#NAME?"}},{"$f":"(C100-x!C98)^2","v":{"$error":"#NAME?"}},{"$f":"(D100-x!D98)^2","v":{"$error":"#NAME?"}},{"$f":"(E100-x!E98)^2","v":{"$error":"#NAME?"}},{"$f":"(F100-x!F98)^2","v":{"$error":"#NAME?"}},{"$f":"(G100-x!G98)^2","v":{"$error":"#NAME?"}},{"$f":"(H100-x!H98)^2","v":{"$error":"#NAME?"}},{"$f":"(I100-x!I98)^2","v":{"$error":"#NAME?"}},{"$f":"(J100-x!J98)^2","v":{"$error":"#NAME?"}},{"$f":"(K100-x!K98)^2","v":{"$error":"#NAME?"}},{"$f":"(L100-x!L98)^2","v":{"$error":"#NAME?"}}]
[{"$error":"#NAME?"},{"$error":"#NAME?"},{"$error":"#NAME?"},{"$error":"#NAME?"},{"$error":"#NAME?"},{"$error":"#NAME?"},{"$error":"#NAME?"},{"$error":"#NAME?"},{"$error":"#NAME?"},{"$error":"#NAME?"},{"$error":"#NAME?"},{"$error":"#NAME?"},null,{"$f":"(A101-x!A99)^2","v":{"$error":"#NAME?"}},{"$f":"(B101-x!B99)^2","v":{"$error":"#NAME?"}},{"$f":"(C101-x!C99)^2","v":{"$error":"#NAME?"}},{"$f":"(D101-x!D99)^2","v":{"$error":"#NAME?"}},{"$f":"(E101-x!E99)^2","v":{"$error":"#NAME?"}},{"$f":"(F101-x!F99)^2","v":{"$error":"#NAME?"}},{"$f":"(G101-x!G99)^2","v":{"$error":"#NAME?"}},{"$f":"(H101-x!H99)^2","v":{"$error":"#NAME?"}},{"$f":"(I101-x!I99)^2","v":{"$error":"#NAME?"}},{"$f":"(J101-x!J99)^2","v":{"$error":"#NAME?"}},{"$f":"(K101-x!K99)^2","v":{"$error":"#NAME?"}},{"$f":"(L101-x!L99)^2","v":{"$error":"#NAME?"}}]
[{"$error":"#NAME?"},{"$error":"#NAME?"},{"$error":"#NAME?"},{"$error":"#NAME?"},{"$error":"#NAME?"},{"$error":"#NAME?"},{"$error":"#NAME?"},{"$error":"#NAME?"},{"$error":"#NAME?"},{"$error":"#NAME?"},{"$error":"#NAME?"},{"$error":"#NAME?"},null,{"$f":"(A102-x!A100)^2","v":{"$error":"#NAME?"}},{"$f":"(B102-x!B100)^2","v":{"$error":"#NAME?"}},{"$f":"(C102-x!C100)^2","v":{"$error":"#NAME?"}},{"$f":"(D102-x!D100)^2","v":{"$error":"#NAME?"}},{"$f":"(E102-x!E100)^2","v":{"$error":"#NAME?"}},{"$f":"(F102-x!F100)^2","v":{"$error":"#NAME?"}},{"$f":"(G102-x!G100)^2","v":{"$error":"#NAME?"}},{"$f":"(H102-x!H100)^2","v":{"$error":"#NAME?"}},{"$f":"(I102-x!I100)^2","v":{"$error":"#NAME?"}},{"$f":"(J102-x!J100)^2","v":{"$error":"#NAME?"}},{"$f":"(K102-x!K100)^2","v":{"$error":"#NAME?"}},{"$f":"(L102-x!L100)^2","v":{"$error":"#NAME?"}}]
[]
[null,null,null,null,null,null,null,null,null,null,null,null,null,{"$f":"SQRT(SUM(N3:N102)/100)","v":{"$error":"#NAME?"}},{"$f":"SQRT(SUM(O3:O102)/100)","v":{"$error":"#NAME?"}},{"$f":"SQRT(SUM(P3:P102)/100)","v":{"$error":"#NAME?"}},{"$error":"#NAME?"},{"$error":"#NAME?"},{"$error":"#NAME?"},{"$error":"#NAME?"},{"$error":"#NAME?"},{"$error":"#NAME?"},{"$error":"#NAME?"},{"$error":"#NAME?"},{"$error":"#NAME?"}]

{"sheet":"Excel Inverse","index":11,"n_rows":101,"n_cols":201,"rows_kept":101,"cut":false,"hidden":false,"merged":[]}
["Inverse by Excel mInverse function",null,null,null,null,null,null,null,null,null,null,null,null,null,null,null,null,null,null,null,null,null,null,null,null,null,null,null,null,null,null,null,null,null,null,null,null,null,null,null,null,null,null,null,null,null,null,null,null,null,null,null,null,null,null,null,null,null,null,null,null,null,null,null,null,null,null,null,null,null,null,null,null,null,null,null,null,null,null,null,null,null,null,null,null,null,null,null,null,null,null,null,null,null,null,null,null,null,null,null,null,"Errors in product of matrix and its inverse"]
[{"$f":"MINVERSE(A)","v":-5.1136084760945817E-3},-4.1472859778149589E-3,1.1361901639202279E-3,3.0305400493156917E-3,-3.288512143790816E-3,3.2485370953160521E-3,-6.5647414406044624E-3,-3.6085372950851891E-3,2.4707214817115486E-3,3.5486817162510417E-3,-4.9101846914363265E-4,7.4083793833265828E-3,4.7299553487747609E-3,7.1403917097169166E-3,-6.9999415031488923E-4,-9.3018602629086906E-4,-4.2760698471418839E-3,3.912975316839401E-3,-2.2904373444249553E-3,-5.8747006363744903E-4,2.3541173863857396E-3,2.6315960504251089E-4,-3.9137339436692842E-3,-3.8235639285291948E-3,-2.3674204826338117E-3,3.2048993815356388E-3,-1.8573394105473144E-3,-7.5309581142534463E-4,-3.4796700569389482E-3,4.4774655153870024E-4,-2.9739390535862462E-4,-3.0561524715467564E-3,1.820679859546646E-5,1.0084953029619269E-3,-2.0828688148929711E-3,-3.1775504863663958E-3,-7.677300950575199E-4,-3.641721991618213E-3,5.7202560192665657E-3,6.9465729234675384E-3,3.9375599291980408E-3,-4.4833834935270123E-4,6.5390752701719951E-3,-2.9843680094314288E-4,-1.4143015426760349E-3,6.0012466410241756E-3,-2.0658695088495737E-3,2.8320173679600821E-3,5.2552842999483039E-3,-2.3477185465512829E-3,6.815484111369599E-4,2.9992296734181146E-3,-1.0406945221418697E-3,-1.4693483098897058E-3,-3.8342715101702335E-3,-4.1662267482056158E-3,-2.1044794059901922E-3,3.627924378638279E-3,1.0914440459680397E-3,4.0704263131248796E-3,3.0064990122516742E-3,-1.1767792147283618E-3,-2.6084425042765158E-3,4.3213004312728596E-3,3.0645906108340668E-3,-1.7441936449310955E-3,2.9793012348263725E-3,-5.3356222605284477E-3,1.3972848955101796E-3,2.1337896264724959E-3,-5.8378557236229865E-3,-3.5818532770593345E-3,-4.6792856924430669E-4,-1.064799020985349E-3,-1.1258177535919585E-3,5.0040575261044943E-3,2.4522655336105576E-3,-1.2441690386258077E-3,2.2797101393782757E-3,3.1349955927314271E-3,8.9388762533945914E-4,-1.3542270937866065E-3,-4.1861804649028734E-3,-3.2996741074668985E-3,1.7574277288689506E-3,-4.5267245250921627E-3,9.7609093606099595E-4,-7.2746007027004083E-3,-4.2633704077994577E-4,-5.1341935674627691E-3,-3.4989782116562973E-3,8.4457029909955534E-4,-4.3216297009056161E-3,-8.2841551218829415E-4,1.7837872218132466E-3,4.0102094688854902E-3,3.7130255507507345E-3,7.9613822443418342E-4,-4.5169715182505181E-4,-1.7488500918850857E-4,null,{"$f":"MMULT(A,A2:CV101)-unitMatrix(100)","v":-1.1102230246251565E-16},-1.6930901125533637E-15,2.1371793224034263E-15,8.0491169285323849E-16,1.5543122344752192E-15,2.9698465908722937E-15,-1.27675647831893E-15,-1.6792123247455493E-15,3.8302694349567901E-15,1.2490009027033011E-15,-1.1102230246251565E-16,2.5673907444456745E-15,6.1617377866696188E-15,7.716050021144838E-15,-9.7144514654701197E-17,-1.4988010832439613E-15,-2.9698465908722937E-15,3.4972025275692431E-15,-1.0200174038743626E-15,3.0531133177191805E-15,5.5511151231257827E-17,1.2351231148954867E-15,-8.6042284408449632E-16,-2.6645352591003757E-15,-2.4980018054066022E-16,-1.1796119636642288E-15,-1.3739009929736312E-15,-5.9674487573602164E-16,-7.4940054162198066E-16,2.2204460492503131E-16,-3.2890357104520263E-15,-2.9976021664879227E-15,-9.9920072216264089E-16,-4.3021142204224816E-15,7.3552275381416621E-16,-2.6784130469081902E-15,-2.8310687127941492E-15,-8.6042284408449632E-16,4.9404924595819466E-15,6.6890937233665682E-15,1.6375789613221059E-15,-6.3143934525555778E-16,7.8825834748386114E-15,-4.3021142204224816E-16,-5.9587751399803324E-16,2.7755575615628914E-16,-1.457167719820518E-16,1.1193303228740348E-15,3.6359804056473877E-15,-1.3183898417423734E-15,6.106226635438361E-16,3.2474023470285829E-15,8.8817841970012523E-16,-2.3592239273284576E-16,-1.7763568394002505E-15,-3.6914915568786455E-15,-8.6042284408449632E-16,4.5241588253475129E-15,1.2628786905111156E-15,1.8735013540549517E-15,-5.5511151231257827E-16,-9.9920072216264089E-16,-2.2204460492503131E-16,4.0800696154974503E-15,5.9188765000328658E-15,-3.327199626923516E-15,4.1147640850169864E-15,-2.2620794126737565E-15,2.3973878437999474E-15,1.3656610564627414E-15,-8.1462614431870861E-15,-2.8033131371785203E-15,4.7184478546569153E-16,2.94469310047063E-16,-9.7144514654701197E-16,3.677613769070831E-15,3.9968028886505635E-15,-3.0253577421035516E-15,2.8033131371785203E-15,1.6653345369377348E-16,-1.119764003743029E-15,-7.6327832942979512E-17,-1.2490009027033011E-15,-7.2858385991025898E-16,-1.1379786002407855E-15,4.9960036108132044E-15,2.0261570199409107E-15,-5.6794846603480664E-15,-2.1094237467877974E-15,-3.2890357104520263E-15,-2.7755575615628914E-16,4.9960036108132044E-16,-1.3322676295501878E-15,-1.0824674490095276E-15,6.3837823915946501E-16,1.5543122344752192E-15,2.4286128663675299E-15,-2.5673907444456745E-16,-6.106226635438361E-16,-1.609823385706477E-15]
[1.5241851242831072E-3,1.767194147028812E-3,-2.075080958723737E-4,-4.07947298395494E-4,1.2948332866326482E-3,-1.7833818210883337E-3,3.8086697852459939E-3,7.3177996765564583E-4,-1.8263063005571065E-4,-1.7551786477219484E-3,4.4211471708350978E-4,-3.2167406549741301E-3,-2.6622844993173535E-3,-1.4351119305453677E-3,1.496637730695881E-4,7.3563150693220578E-4,7.0060551809203171E-4,-1.6332851265951998E-3,8.2800174284087342E-4,1.3713438956769045E-3,-4.5251916573554798E-4,6.5763687406002744E-4,1.1665842399801998E-3,2.3074380357812133E-3,-3.8012415644891309E-4,-2.3071421979664548E-4,2.4666409485972056E-4,5.1993804635528827E-4,8.3197683955526331E-4,-4.4057245589578328E-4,-5.7097195826875003E-4,1.969912728309538E-3,1.2250305105087902E-3,2.7678825690860055E-4,6.8671136662461327E-4,4.3907004190307575E-4,-1.0633590909379156E-4,1.2148504340173214E-3,-2.4048185317004441E-3,-1.0165634833260839E-3,-4.2370842538148559E-5,-8.9231037950274596E-4,-1.609202824398576E-3,1.9195222384618156E-4,4.7447982091298053E-4,-2.8885786549731874E-3,6.6579975126336132E-4,3.4896652671115758E-4,-1.3327333496546676E-3,9.3877159977956285E-4,8.8476308117466215E-4,-7.8727012839842629E-4,-9.229057529877395E-5,9.5907807084254302E-4,1.7837327066503198E-4,1.8509606008637596E-3,2.1131469633875206E-3,-1.5785755258741158E-3,-1.8139447884872343E-4,-1.0591936157776575E-3,-3.6849704389962121E-4,2.1753788566197967E-3,1.0655907879912323E-3,-1.4305960588621033E-3,-1.4042506284360616E-3,1.8542136825242713E-4,-4.1173163634320548E-4,2.8019294328775418E-3,-1.2838433392532076E-3,-5.4043985138932903E-4,1.8010876753127628E-3,1.0005336523291038E-3,-4.2491583402130058E-4,1.0268995795962399E-3,-3.9484650112444746E-4,-2.4358617932961762E-3,-1.5779518027871811E-3,4.2635454071542419E-4,3.6287186903626582E-4,-1.3801833784541793E-3,-9.578020110005168E-4,3.7750321111359131E-5,1.4101770824570153E-3,-1.0779341508118915E-4,-6.3374510808323617E-4,2.3350096062078871E-3,-1.0101252426902535E-3,2.6436769896701342E-3,2.4875900476109074E-6,4.9987310415898663E-4,7.7831858171634779E-4,-1.1739247992139101E-3,6.9397126510260354E-4,-1.4177774604690577E-3,-9.5605150180468515E-5,-2.1218576591663023E-3,-1.1252851718825779E-5,-1.8177110537721068E-4,-5.0259960281931351E-4,-5.8560834153316638E-4,null,-1.5681900222830336E-15,-8.8817841970012523E-16,4.4408920985006262E-16,-2.0816681711721685E-16,1.27675647831893E-15,9.1593399531575415E-16,4.9960036108132044E-16,3.0531133177191805E-16,2.0539125955565396E-15,6.9388939039072284E-17,-8.3266726846886741E-17,-2.7755575615628914E-17,-1.1102230246251565E-16,1.4988010832439613E-15,-1.3877787807814457E-16,8.8817841970012523E-16,-5.5511151231257827E-16,7.2164496600635175E-16,-1.3739009929736312E-15,1.6653345369377348E-16,-8.7430063189231078E-16,3.0531133177191805E-16,6.2450045135165055E-16,7.2164496600635175E-16,-9.1593399531575415E-16,-2.2759572004815709E-15,-1.4710455076283324E-15,5.5511151231257827E-16,1.3877787807814457E-15,1.0824674490095276E-15,-1.9428902930940239E-16,4.4408920985006262E-16,-5.5511151231257827E-17,-1.6653345369377348E-16,1.3877787807814457E-16,-1.3877787807814457E-16,-1.3600232051658168E-15,-3.0531133177191805E-16,1.5543122344752192E-15,-2.8033131371785203E-15,1.4432899320127035E-15,-5.2735593669694936E-16,-1.8318679906315083E-15,-3.8857805861880479E-16,-4.2739249639378585E-16,-1.4432899320127035E-15,4.649058915617843E-16,8.3266726846886741E-16,-2.2759572004815709E-15,1.8041124150158794E-16,-6.9388939039072284E-16,-5.8286708792820718E-16,9.1593399531575415E-16,7.6327832942979512E-16,4.8572257327350599E-17,-3.3306690738754696E-16,-3.6082248300317588E-16,-1.6653345369377348E-16,-4.5796699765787707E-16,-1.5681900222830336E-15,-1.3877787807814457E-15,-4.4408920985006262E-16,-2.2204460492503131E-16,-1.0547118733938987E-15,7.0776717819853729E-16,5.134781488891349E-16,1.8041124150158794E-16,-1.6653345369377348E-16,-1.1206313654810174E-15,-9.8272084914086122E-16,-1.4432899320127035E-15,-3.6082248300317588E-16,-1.2212453270876722E-15,9.1550031444675994E-16,3.0531133177191805E-16,-2.1094237467877974E-15,1.6653345369377348E-16,-2.3592239273284576E-16,1.9428902930940239E-15,1.1657341758564144E-15,-6.123573870198129E-16,1.6653345369377348E-16,1.27675647831893E-15,-1.3600232051658168E-15,-1.1379786002407855E-15,-1.6653345369377348E-16,-4.163336342344337E-17,1.2559397966072083E-15,-5.5511151231257827E-16,1.0269562977782698E-15,5.2735593669694936E-16,-5.5511151231257827E-17,-1.1102230246251565E-16,3.8857805861880479E-16,-8.0491169285323849E-16,-1.1657341758564144E-15,-3.3306690738754696E-16,-8.0491169285323849E-16,2.7755575615628914E-16,-9.7144514654701197E-16]
[1.9564296894985693E-3,-1.6187792501272703E-3,1.2083685494351988E-3,9.8924866439361659E-4,8.6968472972068816E-5,1.7809541657159143E-4,-2.4287331229965185E-4,8.6169711339238036E-4,4.1886848431297282E-3,-7.6903407046168503E-4,-3.2234280589975951E-4,2.0560399588699166E-3,1.9707141102754721E-3,-5.3473844775363418E-4,-1.6800583046003787E-3,-2.8732049700501069E-4,3.1270401375491167E-4,1.739633577948381E-4,1.4667127547344184E-3,-6.6040279087593856E-4,-6.969098663377368E-4,8.2942370166543596E-4,2.351945045660042E-3,2.0812258530324458E-3,-1.483551761762736E-4,-3.3407430223050556E-3,8.1701477167727896E-4,-1.2695505998543384E-3,-1.3176942282840233E-3,3.640370704499942E-4,5.4080035767046565E-4,-1.9895778347149931E-3,-2.3116437715864917E-3,-2.6747576754670987E-4,-1.6698739881573109E-3,-2.2601934406124449E-4,-6.7910619004609948E-4,-1.3629398792377968E-3,-3.5639990959098351E-4,1.8200281908821061E-3,-2.5144248329102325E-4,-4.5336886172574314E-5,2.0621218796102862E-3,-1.1900342619316235E-3,1.0340709061782874E-3,-3.9489977076546633E-3,8.1635368900915997E-4,1.077335233091337E-3,-1.9585114803281189E-3,-3.0592962597875752E-5,-2.255428395952093E-3,9.7544707976449031E-4,-2.387470603403967E-3,-4.7514186463226612E-4,-1.0249597515312005E-3,-3.7336005932333753E-3,4.3843260647189006E-4,1.6947374379013342E-4,4.0713125942658869E-4,1.0210819091664265E-3,1.0992646795915688E-4,-9.2550394618061405E-4,8.6049722332202352E-4,2.1825353359808354E-3,1.3860866405424617E-3,9.8338871783395067E-4,-1.6868893809927709E-4,-6.2240891019196376E-4,-3.4705209700228493E-4,-2.3342680386654452E-4,-1.6344332187260174E-3,-1.3671906316776545E-3,1.4067410329177024E-3,-1.5126580819184153E-3,-2.1229985883386036E-3,7.642466320771583E-4,8.7893686431405693E-4,1.1996417626783185E-3,9.2343927714973943E-4,3.3498829434723554E-4,9.8615051134697484E-4,6.9929344299201951E-4,1.0065745640150583E-3,7.2684692200113545E-4,2.0543968441465478E-3,-1.4623390628182992E-3,1.2136821799267035E-3,-4.9346022065758154E-4,3.3659394076634169E-5,-6.6240039894977854E-4,2.9494676100493759E-4,1.2931623990525452E-3,-9.7872965557272698E-4,-7.3765026289691719E-4,-9.7523619838184208E-4,-1.1301925636296873E-3,1.9239680240090071E-3,1.9914197160356319E-4,-1.1250315527083198E-5,-6.1916304902838654E-4,null,-4.8572257327350599E-16,-3.282096816548119E-15,-2.2204460492503131E-16,5.5511151231257827E-16,5.2527426852577719E-15,1.4259426972529354E-15,-1.4641066137244252E-15,9.7144514654701197E-16,-1.5473733405713119E-15,3.3827107781547738E-15,-8.8470897274817162E-16,2.1094237467877974E-15,-3.1225022567582528E-16,8.0491169285323849E-16,1.0928757898653885E-15,5.9067334357010282E-16,-1.8908485888147197E-15,1.8110513089197866E-15,7.2164496600635175E-16,-9.5756735873919752E-16,-1.2212453270876722E-15,-1.0616507672978059E-15,-1.6653345369377348E-16,-6.6613381477509392E-16,-1.2941037130786981E-15,2.293304435241339E-15,-1.3079815008865125E-15,-1.0130785099704553E-15,-1.9359513991901167E-15,-2.4286128663675299E-16,8.7777007884426439E-16,-8.0491169285323849E-16,-4.7184478546569153E-16,-1.0963452368173421E-15,-1.0200174038743626E-15,-2.005340338229189E-15,2.3279989047608751E-15,1.2420620087993939E-15,3.8163916471489756E-15,1.4988010832439613E-15,6.6613381477509392E-16,5.4643789493269423E-16,-2.3314683517128287E-15,8.3613671542082102E-16,-1.4693107841523556E-15,-3.4833247397614286E-15,4.4755865680201623E-16,5.8980598183211441E-16,-3.4694469519536142E-16,-1.9741153156616065E-15,-1.1796119636642288E-15,-2.6367796834847468E-16,7.0776717819853729E-16,5.4643789493269423E-16,-3.2430655383386409E-15,-2.6784130469081902E-15,-1.3461454173580023E-15,-9.6797569959505836E-16,-2.7755575615628914E-16,3.6429192995512949E-16,5.287437154777308E-15,-3.2543412409324901E-15,2.157996004115148E-15,-2.095545958979983E-15,-8.2052420413702976E-16,1.5430365318813699E-15,-9.5583263526322071E-16,2.5500435096859064E-15,-7.2598177469629377E-16,9.0227304794243679E-16,-3.4902636336653359E-15,-2.6784130469081902E-15,-1.672273430841642E-15,-1.093959992037874E-16,8.1185058675714572E-16,-1.700029006457271E-16,1.5543122344752192E-15,7.9450335199737765E-16,-8.9511731360403246E-16,-1.4918621893400541E-15,1.2967057982926633E-16,-1.429412144204889E-15,3.2612801348363973E-16,1.9567680809018384E-15,3.0600522116230877E-15,-3.1016855750465311E-15,-1.0408340855860843E-16,-8.8904578143811364E-16,-2.6159630017730251E-15,5.2041704279304213E-17,-1.609823385706477E-15,2.1024848528838902E-15,9.4022012397942945E-16,-2.7200464103316335E-15,-7.2858385991025898E-17,4.9266146717741321E-16,1.0061396160665481E-16,6.4184768611141862E-16,1.5543122344752192E-15,-1.1449174941446927E-16]
[9.7443137765966146E-4,2.7201237418353749E-3,1.4049024549763586E-3,2.3374023631280303E-4,3.4201132294597934E-3,3.9817229005432504E-4,1.0577068252778129E-3,-6.3140104475112215E-4,1.0725458732947502E-3,1.1621699105017406E-4,-2.8774824355099241E-4,-2.8183788082264938E-3,-2.2817683100991135E-3,-2.4972916236343672E-3,2.1652856828812309E-4,-3.4991336248629259E-4,-3.0760608049092771E-3,-4.17171863793363E-3,1.9095252639590179E-3,3.3212205703431574E-3,-9.0381534144498305E-4,2.0347784671699322E-3,2.3667427627066626E-4,2.4974980801496919E-3,-3.4848665233942598E-4,-1.5117323094464062E-3,6.6313777007353592E-4,1.8654564409743924E-4,2.6010450269241081E-3,-1.8737133742538759E-3,3.5997819002817227E-3,4.2073040239504018E-3,2.7535029957836779E-3,2.581930372690033E-3,-4.8811249035973005E-4,2.3119844392126662E-3,-2.9187553287452154E-3,-9.9279183026266659E-4,-3.8476301108516953E-3,-3.0045694284474246E-3,-3.6912716043663253E-4,-6.7423928342687754E-4,-4.6483724762418372E-3,-1.5704686980154455E-5,7.2162635098027442E-4,-3.2203242844486557E-3,1.3468532699366644E-4,3.3379881084599696E-4,-1.1184388692300645E-3,9.4091112200959275E-4,2.8476779016971647E-3,-5.9339395907506709E-4,-1.4153993302573234E-3,1.5914335330359988E-3,9.7479422523057862E-4,4.0003211128250109E-3,3.9908689021454164E-3,-1.403153622338337E-3,4.4136757097257241E-4,-2.1993444692837693E-4,-2.299338939250317E-3,3.9184619967595055E-3,1.2009948472752789E-3,-1.5247469452960552E-3,-1.4350887454541851E-3,-1.6025035245801292E-3,2.7294453971227341E-3,2.2437002985290972E-3,2.7807638699904763E-3,-3.8981651261127816E-4,3.3531099212304734E-3,1.9532382461552051E-3,-1.6974618756001232E-3,6.9398149660472651E-4,-2.1223426114967445E-4,-8.3362342604901792E-4,-3.0529790680166756E-3,-1.7202393841927875E-3,-2.0488476686886504E-3,-3.7640047707856086E-3,-1.7266944270575716E-3,-5.8236527799102511E-4,2.2287613855880551E-3,-5.3703051647250612E-4,1.577348735821116E-3,6.1677036812975662E-3,1.2706089256707199E-3,2.3358085640118949E-3,1.3473510783037542E-3,6.9583378757640739E-4,-2.3181527729558347E-3,-2.5560752696820242E-3,-3.5114178433886963E-3,6.4549245801118302E-4,1.3405389562220556E-3,-3.4884500066085294E-3,9.2955152795630555E-4,-1.3802144844825123E-3,-4.084860526126716E-3,8.9037495712983045E-4,null,-3.3341385208274232E-15,1.3877787807814457E-15,4.5796699765787707E-16,4.4408920985006262E-16,8.0491169285323849E-16,-2.9420910152566648E-15,2.9420910152566648E-15,1.0408340855860843E-16,-2.9976021664879227E-15,1.5612511283791264E-15,-4.3715031594615539E-16,1.7208456881689926E-15,-6.106226635438361E-16,-8.3266726846886741E-16,9.4368957093138306E-16,-3.4694469519536142E-17,1.2698175844150228E-15,-3.3029134982598407E-15,2.7686186676589841E-15,1.9428902930940239E-16,-2.5673907444456745E-16,4.163336342344337E-16,2.1718737919229625E-15,-5.5511151231257827E-17,-1.8283985436795547E-15,-2.0400348077487251E-15,-1.3739009929736312E-15,-4.163336342344337E-16,-1.762479051592436E-15,-2.4841240175987878E-15,-3.3029134982598407E-15,3.8857805861880479E-15,7.9103390504542404E-16,2.7755575615628914E-15,1.4363510381087963E-15,1.8596235662471372E-15,-7.4940054162198066E-16,1.5543122344752192E-15,-1.4155343563970746E-15,5.2735593669694936E-16,-1.5404344466674047E-15,-2.1510571102112408E-16,-5.3984594572398237E-15,3.8163916471489756E-16,8.7256590841633397E-16,3.7192471324942744E-15,-8.1532003370909933E-16,7.821434472310429E-16,6.8001160258290838E-16,2.7755575615628914E-16,9.298117831235686E-16,-1.609823385706477E-15,4.163336342344337E-16,1.1032841307212493E-15,3.7470027081099033E-15,-1.609823385706477E-15,-4.7184478546569153E-16,-3.1225022567582528E-16,-3.677613769070831E-16,-3.6706748751669238E-15,-1.2212453270876722E-15,3.1918911957973251E-15,9.7144514654701197E-16,-2.7894353493707058E-15,-2.8449465006019636E-16,-3.6637359812630166E-15,-1.457167719820518E-15,2.7755575615628914E-16,7.4072692424209663E-16,-7.3595643468316041E-16,-1.457167719820518E-16,2.733924198139448E-15,9.9920072216264089E-16,-1.9255430583342559E-16,3.1918911957973251E-16,2.7755575615628914E-17,-2.7478019859472624E-15,-2.0677903833643541E-15,-4.1078251911130792E-15,2.2759572004815709E-15,3.7209818559702512E-16,-3.8163916471489756E-17,4.4825254619240695E-15,3.8823111392360943E-15,5.5511151231257827E-17,1.6653345369377348E-15,-1.9012569296705806E-15,-5.2024357044544445E-15,-2.581268532253489E-15,2.3731017151362721E-15,-2.2759572004815709E-15,1.9428902930940239E-16,-1.2420620087993939E-15,2.1649348980190553E-15,1.5751289161869408E-15,-2.1233015345956119E-15,1.8041124150158794E-16,-1.6792123247455493E-15,-1.3322676295501878E-15,-7.9797279894933126E-16]
[5.6599140965974282E-3,4.6806063096097418E-3,-2.1165757273299787E-3,-1.3417708572559478E-3,7.2505801001161085E-3,-3.8569310687790559E-3,6.3430480521710544E-3,3.9065670409872254E-3,1.4823180584168012E-3,-3.0871119642683006E-3,-3.3488403963098792E-4,-7.9712410026264065E-3,-5.2673402699843037E-3,-8.3407547500434914E-3,-1.7388620664191148E-5,-2.1425119118247996E-5,4.5997025905570553E-3,-7.506690854418966E-3,4.6355362917904807E-3,1.3659571990449889E-3,-2.7838102026116317E-3,1.7541815073021439E-3,4.3715263135996191E-3,9.323301635031464E-3,3.3828615985819406E-3,-8.0777511248194267E-3,3.0420020849157522E-3,-3.0983063859093528E-5,4.1476720094139642E-3,-3.2842254149893207E-3,1.2218135546239242E-3,3.3469863879818491E-3,-7.2407101338945032E-4,1.7884848148102886E-3,-6.8151127649012934E-5,4.8392718534713856E-3,-5.9540937700920291E-4,5.698301776031145E-3,-7.8780671140501329E-3,-7.984928939738109E-3,-1.0311098648111609E-3,1.871918360317716E-3,-7.1796034725249477E-3,-1.0590553415185809E-3,1.7169614609387832E-3,-9.6510579866617777E-3,2.7234099135213302E-3,-2.0540947636440714E-3,-8.3966144959308417E-3,1.0449871557889183E-3,-6.9840279322664711E-4,-2.8702249263276051E-3,-1.5297500995122228E-3,1.9967510798306908E-3,4.3669927368516449E-3,3.286438550082729E-3,3.3614361278981519E-3,-5.0978239865347988E-3,-3.5231786271969272E-4,-3.686335051768381E-3,-4.028728216063723E-3,1.6192133023511901E-3,4.6926499034267112E-3,-4.4497536755344763E-3,-3.2885963904132165E-3,2.5786083260482063E-3,-3.4953984725374508E-3,6.0668663279835966E-3,-6.0535603807281252E-4,-1.9251981221959811E-3,6.9442158421409153E-3,3.3127110704377601E-3,-1.1245897510448111E-4,1.0665915487004657E-3,1.4209423374595693E-3,-5.0751665973874319E-3,-3.6953329776491842E-3,2.7888825827404855E-4,-4.0056045259661607E-3,-6.9651235372385854E-3,5.2473197545524714E-4,1.6968673915657457E-3,5.3817636284710646E-3,3.5427913331315224E-3,9.7570725957002533E-4,6.7098585304071895E-3,-2.1029424182800308E-3,7.8422718336584474E-3,1.3395777798307263E-3,6.8760050710938965E-3,1.7428590530268924E-3,8.6502391183249246E-4,3.8002537100262643E-3,2.9023447480905026E-3,-1.76130712119171E-3,-5.3741067651475929E-3,-1.7120405960623949E-3,-2.3306340614155259E-4,-3.1342965060289539E-3,1.9645062912141981E-3,null,-3.9482306313232129E-15,3.6082248300317588E-16,-2.2204460492503131E-16,7.6327832942979512E-17,1.3322676295501878E-15,-1.3322676295501878E-15,-2.3869795029440866E-15,-9.9920072216264089E-16,3.039235529911366E-15,2.1926904736346842E-15,8.6042284408449632E-16,-4.5935477643865852E-15,1.3322676295501878E-15,-2.3869795029440866E-15,3.0531133177191805E-16,-3.9794556538907955E-15,-2.0539125955565396E-15,3.0531133177191805E-16,-7.8409501114151681E-16,5.5511151231257827E-17,2.2690183065776637E-15,4.0245584642661925E-16,-6.6613381477509392E-16,-1.5543122344752192E-15,-4.3715031594615539E-16,1.4710455076283324E-15,8.4654505627668186E-16,-1.6930901125533637E-15,2.8727020762175925E-15,-9.9920072216264089E-16,4.163336342344337E-16,-9.7144514654701197E-17,2.9143354396410359E-16,1.5820678100908481E-15,-1.3739009929736312E-15,-4.2188474935755949E-15,-3.5943470422239443E-15,1.0269562977782698E-15,-1.3322676295501878E-15,1.1796119636642288E-15,-5.5511151231257827E-17,-3.8163916471489756E-16,1.4432899320127035E-15,-3.7470027081099033E-16,-1.5157146371347352E-16,-3.9968028886505635E-15,-3.9551695252271202E-16,-4.4755865680201623E-16,-4.3298697960381105E-15,-7.4940054162198066E-16,-8.4654505627668186E-16,6.5225602696727947E-16,3.0531133177191805E-16,2.0816681711721685E-17,-1.2038980923279041E-15,1.9706458687096529E-15,1.429412144204889E-15,2.3037127760971998E-15,-9.7144514654701197E-17,1.9914625504213745E-15,-2.6645352591003757E-15,1.609823385706477E-15,-3.0531133177191805E-16,7.2164496600635175E-16,-6.9388939039072284E-17,-3.075664722906879E-15,-1.3461454173580023E-15,-1.3739009929736312E-15,-9.1419927183977734E-16,2.4450927393893096E-15,7.0776717819853729E-16,-4.3021142204224816E-16,-2.9976021664879227E-15,8.6194072712597603E-16,4.4408920985006262E-16,2.733924198139448E-15,3.5527136788005009E-15,-7.1470607210244452E-16,-2.1371793224034263E-15,2.7755575615628914E-17,2.1684043449710089E-18,6.8695049648681561E-16,-2.9976021664879227E-15,-4.0210890173142388E-15,1.0685896612017132E-15,6.3837823915946501E-16,4.649058915617843E-16,8.1532003370909933E-16,3.1918911957973251E-15,-8.0491169285323849E-16,-2.0261570199409107E-15,8.81239525796218E-16,-3.282096816548119E-15,-1.1102230246251565E-15,-5.2735593669694936E-16,1.7208456881689926E-15,3.4278135885301708E-15,2.1510571102112408E-16,-2.0261570199409107E-15,-2.4286128663675299E-17]
[1.9783596403379176E-6,7.3172744659471276E-3,-4.133306422585737E-3,-2.0144414191563082E-3,4.9804788211812263E-3,-3.5293941086404802E-3,6.1714942589333457E-3,2.9118039763842405E-3,-1.1994174437386694E-3,1.4541004282389423E-4,9.5319832145663718E-4,-8.0673616532254896E-3,-7.0216118072305902E-3,-9.8598585724046697E-3,1.0336852505832856E-3,5.0598097463275757E-5,1.5225841834214611E-4,-7.3727898877316983E-3,8.9227171678326895E-4,5.3516596493968626E-3,-2.0057075121965222E-4,1.1162546120879841E-3,2.318924476906333E-3,5.0359086258173306E-3,1.0820808626431945E-3,-1.106254837586669E-3,1.6231258152609217E-3,-1.1520029802817129E-3,6.0430344474963985E-3,-1.9195425209463459E-3,3.6709514831890231E-3,5.2550959251455032E-3,4.0165138409858723E-3,2.5636861009715362E-3,1.8333122522215535E-3,3.9010502676917963E-3,-8.9779464912650747E-4,4.063618585945711E-3,-6.9233503281010012E-3,-7.2755955368057476E-3,-2.6180921006600257E-4,3.5146698911238047E-4,-8.9479106225000098E-3,1.7909985653371063E-5,-1.2177828664259691E-3,-5.5522022392455227E-3,1.2523840240143656E-3,-1.8761249576157181E-3,-3.2722514465440486E-3,4.2668126570884609E-3,3.5015244823013883E-3,-3.5134777039859304E-3,-3.1069304039198843E-4,1.7812555789069018E-3,2.7437894164217729E-3,1.049154958017732E-2,3.0718700805761911E-3,-5.9915096012004218E-3,-2.7252421574803791E-3,-3.5868815368158996E-3,-6.7000600014304641E-3,5.0851665260050619E-3,3.7933301373182528E-3,-6.8083345040606995E-3,-3.1717247213812875E-3,7.3492854210042361E-4,1.1931667961988526E-3,5.8064528146490298E-3,5.1289699102854741E-4,-7.516136786953453E-4,6.8949079550853706E-3,3.9353476269902614E-3,-4.1698160706742206E-3,1.7137808680796585E-3,3.4933012149225449E-3,-1.2472882094625454E-3,-6.3038524464903919E-3,-1.1183385524754532E-3,-5.9084427456469919E-3,-4.2302737867413844E-3,-3.039464731100546E-3,-4.9712974220612308E-4,5.9836013470415941E-3,1.501462333602332E-3,1.608577539597826E-3,7.9987754754180535E-3,-1.799285294213655E-3,6.0334083525493878E-3,3.5812962587668858E-3,4.6629355658009408E-3,-9.8232174347510611E-4,-1.9661388178028672E-3,2.9870276933035935E-3,3.8904067977239133E-3,1.2387154941412982E-3,-4.3092634751645898E-3,-1.0877935336133853E-3,-2.4256621244949832E-3,-3.2160335815155897E-3,3.4417195173955299E-4,null,-6.106226635438361E-16,-9.4368957093138306E-16,-9.9920072216264089E-16,4.7878367936959876E-16,1.7208456881689926E-15,1.1102230246251565E-15,-1.1657341758564144E-15,8.8817841970012523E-16,-6.3005156647477634E-15,-8.3266726846886741E-16,-7.2164496600635175E-16,7.7715611723760958E-16,-2.6645352591003757E-15,-5.9396931817445875E-15,1.3877787807814457E-17,1.0200174038743626E-15,-5.4123372450476381E-16,2.0539125955565396E-15,3.6082248300317588E-16,3.6637359812630166E-15,-3.3306690738754696E-16,-3.0531133177191805E-16,3.8857805861880479E-16,6.1617377866696188E-15,-1.7486012637846216E-15,6.3837823915946501E-16,7.2164496600635175E-16,-1.1102230246251565E-16,3.5804692544161298E-15,-3.1086244689504383E-15,2.2759572004815709E-15,1.0269562977782698E-15,-7.4940054162198066E-16,1.8318679906315083E-15,-2.3869795029440866E-15,-2.2204460492503131E-16,2.7478019859472624E-15,9.1593399531575415E-16,-1.9984014443252818E-15,-4.9960036108132044E-15,3.3306690738754696E-16,-1.3877787807814457E-16,2.4424906541753444E-15,2.0261570199409107E-15,-6.9475675212871124E-16,1.1102230246251565E-16,-3.1225022567582528E-16,-1.3791051634015616E-15,-1.0547118733938987E-15,2.0816681711721685E-16,-8.3266726846886741E-16,4.3021142204224816E-16,2.4424906541753444E-15,1.2212453270876722E-15,-4.0384362520740069E-15,-2.4980018054066022E-15,-2.6367796834847468E-15,-3.2751579226442118E-15,1.1102230246251565E-16,-3.6082248300317588E-16,2.4424906541753444E-15,-2.1094237467877974E-15,5.5511151231257827E-16,-2.8310687127941492E-15,1.2212453270876722E-15,1.5126788710517758E-15,-2.2204460492503131E-16,1.3877787807814457E-15,3.8857805861880479E-16,1.4424225702747151E-15,3.8857805861880479E-16,-1.4988010832439613E-15,-5.5511151231257827E-17,5.2909066017292616E-17,-1.6653345369377348E-16,2.0816681711721685E-15,-2.1094237467877974E-15,1.9428902930940239E-15,-6.106226635438361E-16,-3.4972025275692431E-15,1.3053794156725473E-15,2.7755575615628914E-17,-2.9420910152566648E-15,1.5890067039947553E-15,-1.3877787807814457E-16,-5.0515147620444623E-15,8.3266726846886741E-17,-2.9976021664879227E-15,-1.7208456881689926E-15,-2.2204460492503131E-15,-2.4980018054066022E-16,-8.3266726846886741E-17,9.8532293435482643E-16,-8.8817841970012523E-16,2.55351295663786E-15,-3.2751579226442118E-15,-5.5511151231257827E-16,1.0547118733938987E-15,-9.9920072216264089E-16,-8.0491169285323849E-16]
[1.363447299161499E-4,-8.2451971404420865E-4,7.9756200828576349E-4,-4.6760900574588181E-4,-2.1206267434325929E-3,4.1307414269797901E-4,-1.9934738857821086E-3,-1.1881596913692644E-3,-1.7703275888988055E-3,-8.7251298904775384E-5,1.1910020083879699E-4,5.1992021388099212E-4,1.381135529628608E-3,2.3121821037291996E-3,1.1082211445443874E-4,-1.2647242219162493E-4,-3.5185577555325913E-4,1.7441259918883768E-3,-1.2896839007343799E-3,-8.8381502758979908E-4,8.2000173833127716E-5,-6.9285280009074516E-4,-1.2206351776655952E-3,-2.1520297687406854E-3,1.1083327528967998E-4,1.6415058240794528E-3,-1.5693247239663305E-4,3.3098271532133776E-4,-6.4881631773303994E-4,1.4202824540178697E-3,-7.731108713957478E-4,-3.2214135551978399E-4,-5.2131068115603846E-4,-7.842564032049011E-4,4.6797485075309613E-4,-1.198054128090963E-3,5.8842104347490282E-4,-1.4031044646195256E-3,1.5950160241663064E-3,5.1506578536269229E-4,-1.5158653926614866E-3,-9.8727731009643502E-4,4.9519772079357165E-5,1.1147567221159638E-3,6.398511217196968E-4,2.6691721065422087E-3,3.9459038214155103E-6,1.2049689849347764E-3,1.6490934026730318E-3,-3.2592016753631213E-4,-3.3812493531044284E-4,1.9906101309110792E-4,1.5987457234016708E-3,-7.2741094076670136E-4,-3.619448687340986E-5,-8.1909537499350136E-4,-1.2292447301441335E-3,1.2033591190875486E-3,5.4488621435012984E-4,3.461001979502725E-4,1.0836490415235508E-3,-2.0093155568017161E-3,-1.1309046780688613E-3,1.096933140748365E-3,7.6250009410706204E-4,-2.2779227934643408E-4,4.0274084328239753E-4,-9.5510051618106519E-4,2.9646879110560554E-4,1.3208415190773377E-3,-1.7489721590302496E-3,-7.3536814013144532E-4,9.9081457298193123E-4,-3.0161445253956205E-4,-4.7653785420643477E-4,-3.5969491275598541E-4,1.2164981235724015E-3,3.2725420813060428E-6,1.3231002159676401E-3,1.3467786201085167E-3,3.8640264749383464E-4,2.284232074190602E-4,-6.7005987710071538E-4,7.2995660539564022E-4,-1.0684398377522344E-3,-8.2843186595493311E-4,-9.9401037225175978E-5,-7.1827498619740876E-4,-1.0238015905338078E-3,-1.549951255663571E-3,9.8515954732655126E-4,-2.4745965241809779E-4,-1.5934971426640024E-4,-8.0134113722196861E-4,7.1992853537277562E-4,6.8213783835143632E-4,-4.8627526537092547E-4,-8.5914235146420433E-5,2.9767855219527714E-4,7.5846965388364076E-5,null,-3.6611338960490514E-15,1.3322676295501878E-15,-5.1174342541315809E-16,-2.9750507613002242E-16,-1.3912482277333993E-15,6.2450045135165055E-17,4.4408920985006262E-16,1.6132928326584306E-16,-2.5222879340702775E-15,-2.6020852139652106E-17,9.7144514654701197E-17,2.0278917434168875E-15,-6.0021432268797525E-16,-2.6020852139652106E-15,6.114900252818245E-16,6.4878658001532585E-16,-8.0144224590128488E-16,8.569533971325427E-16,-3.7209818559702512E-16,1.1830814106161824E-15,-3.7643499428696714E-16,-1.1136924715771102E-15,5.4123372450476381E-16,2.0365653607967715E-15,2.0990154059319366E-16,-7.4246164771807344E-16,6.9388939039072284E-18,-5.0306980803327406E-17,2.0539125955565396E-15,1.0443035325380379E-15,-4.5102810375396984E-16,1.2663481374630692E-16,-8.2919782151691379E-16,1.4918621893400541E-16,8.3960616237277463E-16,7.7368667028565596E-16,1.0807327255335508E-15,1.4224732503009818E-16,-1.2177758801357186E-15,-2.8987229283572447E-15,8.8817841970012523E-16,-3.5648567431323386E-16,-2.9073965457371287E-15,2.0990154059319366E-16,-1.0912494866066602E-16,2.8449465006019636E-15,3.1008182133085427E-16,-1.4716689238775116E-15,-6.0368376963992887E-16,1.0642528525117712E-15,2.203098814490545E-16,-1.2923689896027213E-15,2.1302404284995191E-15,-4.0766001685454967E-17,7.0169564603261847E-16,1.8735013540549517E-15,-1.5855372570428017E-15,-9.5236318831126709E-16,-2.1510571102112408E-16,-2.5101448697384399E-15,-1.6028844918025698E-15,-8.9164786665207885E-16,-1.5439038936193583E-15,-6.5572547391923308E-16,-1.0182826803983858E-15,2.701831813833877E-16,1.1622647289044608E-16,2.7061686225238191E-16,-1.3925492703403819E-15,1.4040418133687282E-17,-6.83481049534862E-16,1.1067535776732029E-15,-7.0429773124658368E-16,8.4058194432801159E-16,-1.8388068845354155E-16,-2.2083029849184754E-15,-8.0491169285323849E-16,-1.5092094240998222E-16,-1.1657341758564144E-15,-2.0122792321330962E-16,9.2699285747510629E-17,-1.4051260155412137E-16,6.4531713306337224E-16,-4.0766001685454967E-17,-4.9786563760534364E-16,-3.2439329000766293E-15,-4.3194614551822497E-16,3.8640965427383378E-16,-5.5164206536062466E-16,-2.1510571102112408E-16,2.8449465006019636E-16,-7.0256300777060687E-16,8.8297424927219481E-16,6.6960326172704754E-16,-7.7368667028565596E-16,-1.8873791418627661E-15,-7.580741590018647E-16,-3.4520997171938461E-16,1.7347234759768071E-16,5.6985666185838113E-16]
[2.2254515873972596E-3,-1.6466680303682006E-3,-1.1085075059304019E-3,-9.643153739816192E-4,-3.0332320685447622E-3,2.2492341440119712E-5,1.080940128833609E-3,8.750711816503734E-4,-1.5087532425414119E-3,-2.7022321392154206E-3,1.2940108511706386E-4,4.732140702305247E-4,2.0180589711669889E-3,8.9614292552595584E-4,-1.2476808521886733E-3,4.9287688427988678E-4,3.5813068308659639E-3,3.1229343279813213E-3,-8.0647035210145411E-4,-2.301631062251377E-3,-7.8351065238032122E-5,-3.2606175120938278E-3,2.192524513826866E-3,-1.4889246547537582E-4,1.257664082544842E-4,1.1339108212661947E-4,2.5169028515642283E-4,1.5451980208859337E-4,-1.490810994703208E-3,1.6739592797619612E-3,-2.8242428235010736E-3,-2.8059280384277979E-3,-2.4073814051214569E-3,-2.6084964723188967E-3,6.8085851815831921E-4,-1.127765828947407E-3,3.542380136904868E-3,8.094223069989334E-4,1.3416485784535632E-3,7.6768328825848849E-4,-1.1642845358733754E-3,8.6895519835561094E-4,2.7553243628019677E-3,-2.2467237027048776E-5,3.5683922261489615E-4,-3.0292049717768738E-5,6.9094058563705114E-4,-2.3331353166973162E-4,-2.2291980337009799E-3,5.3518747472546327E-4,-4.6968608836781191E-3,3.711416854648475E-4,7.1558688121230792E-4,-1.2895602360841697E-3,-6.2969740863224937E-4,-4.380568158081433E-3,-3.4378419012462921E-3,7.3119636172458533E-4,8.0346480390772822E-5,-5.8907954194244367E-4,4.3084929202231889E-4,-4.006023869007825E-3,-1.9046857493100865E-4,2.3754442899094645E-3,3.5680341704114662E-4,3.2409025538440443E-3,-2.9312375390452916E-3,-9.3062434408311715E-4,-3.7351759918192039E-3,4.3211884562218263E-4,-9.6517528217653103E-4,-1.6181054415029799E-3,3.5663615083886767E-3,-1.3085133559148612E-3,-1.2877181403102666E-3,-1.2748994583818671E-3,2.6007403858660529E-3,2.9061965873965036E-3,2.1283477188385439E-3,2.0447267279828318E-3,2.2491204325236296E-3,2.3881134899805135E-3,-8.9810775096615589E-4,3.0013828802353073E-3,-6.0339056610594444E-4,-4.4211342220323926E-3,-1.959233729989295E-3,-1.3763340764731383E-3,-1.5810585835430437E-3,5.4515621860426109E-4,4.2345457248391871E-3,1.6808576279572778E-3,3.8008130191931537E-3,-9.9029511105968877E-4,-2.2066766547342064E-3,1.3050126857364578E-3,-4.5921244313907933E-4,1.0213616805151455E-3,4.0132976892647042E-3,-2.1063946179229265E-3,null,-2.3418766925686896E-16,2.9143354396410359E-16,-2.0816681711721685E-16,1.3877787807814457E-16,4.4408920985006262E-16,1.0269562977782698E-15,-4.9960036108132044E-16,-1.1102230246251565E-16,-1.0547118733938987E-15,5.134781488891349E-16,-4.7184478546569153E-16,4.4131365228849972E-15,0,-8.3266726846886741E-17,4.5102810375396984E-17,-9.6797569959505836E-16,1.4849232954361469E-15,-1.609823385706477E-15,1.0824674490095276E-15,-1.0547118733938987E-15,6.9388939039072284E-18,-4.3715031594615539E-16,1.4085954624931674E-15,0,4.7184478546569153E-16,-1.9081958235744878E-15,3.8163916471489756E-16,-5.3429483060085659E-16,9.7144514654701197E-16,-1.457167719820518E-15,7.1470607210244452E-16,-1.762479051592436E-15,-5.2735593669694936E-16,4.9960036108132044E-16,-1.6930901125533637E-15,9.8532293435482643E-16,2.7478019859472624E-15,1.3183898417423734E-15,1.1102230246251565E-16,1.033895191682177E-15,-1.1102230246251565E-16,5.3082538364890297E-16,-2.248201624865942E-15,9.0205620750793969E-17,-9.1615083575025125E-18,-9.7144514654701197E-16,-4.4755865680201623E-16,3.1615335349677309E-16,-1.762479051592436E-15,-9.6450625264310474E-16,-1.7347234759768071E-16,2.4286128663675299E-16,7.3552275381416621E-16,3.677613769070831E-16,-7.1297134862646772E-16,-1.1657341758564144E-15,-1.0894063429134349E-15,-1.0894063429134349E-15,2.0816681711721685E-16,-1.5751289161869408E-15,-1.2212453270876722E-15,-4.9960036108132044E-16,1.6653345369377348E-15,1.0685896612017132E-15,-3.7470027081099033E-16,-2.5500435096859064E-16,-1.3183898417423734E-16,-1.0616507672978059E-15,2.5673907444456745E-16,7.1687447644741553E-16,4.0939474033052647E-16,-6.5225602696727947E-16,6.2450045135165055E-16,3.4499313128488751E-16,-8.3266726846886741E-17,-8.2572837456496018E-16,-1.3877787807814457E-17,1.3183898417423734E-16,-5.1902926401226068E-15,-1.1657341758564144E-15,2.7538735181131813E-16,-2.7061686225238191E-16,-3.6082248300317588E-16,3.677613769070831E-16,1.2628786905111156E-15,1.3461454173580023E-15,-1.4432899320127035E-15,-5.6551985316843911E-16,-3.524958103184872E-15,1.5404344466674047E-15,1.609823385706477E-15,7.9103390504542404E-16,8.7430063189231078E-16,-3.4694469519536142E-16,4.0245584642661925E-16,-1.0824674490095276E-15,1.2975731600306517E-15,4.5102810375396984E-17,2.2204460492503131E-16,1.0408340855860843E-17]
[-5.0525282364543385E-3,-3.7427355622648047E-3,-2.1493531157858761E-4,6.6686667587655254E-4,-4.9436236397928683E-3,1.6335260929154771E-3,-4.8585490761323281E-3,-3.8235574053085194E-3,-1.6583541916742045E-4,3.5101576011434357E-3,-9.394890975986941E-5,4.9733559197234559E-3,3.3036640202783601E-3,5.4956507298910542E-3,6.2523398949673574E-5,-8.8188528201491338E-4,-4.0332634215373715E-3,4.686793712574808E-3,-2.5234792625788006E-3,-1.6393487829776815E-3,2.6954928539522421E-3,-7.2431235096475765E-4,-5.0953959284284409E-3,-7.6001676866374011E-3,-1.7557769073089473E-3,6.2484274478548131E-3,-3.5764933633942678E-3,-2.3323352284542831E-4,-3.5285239957665677E-3,2.9986997101512209E-3,-7.5893652642569436E-5,-2.837508757879326E-3,5.1664663281833468E-4,-8.8514242766089964E-4,-2.0472490328834701E-5,-2.5971064692777036E-3,1.9546593874839312E-4,-3.3015801588646499E-3,5.001067934666285E-3,6.9011127947506273E-3,1.9846116110856598E-3,-4.483466062353535E-4,5.9580155329734185E-3,6.089070859066479E-4,-2.2490039935012616E-3,8.928338770207116E-3,-1.2951024220743256E-3,1.7485416104867054E-3,7.8097592595399697E-3,-1.8261794200451018E-3,1.6950044840279691E-3,2.5996274734614612E-3,5.2594680138714372E-4,-4.8618193834815945E-4,-3.3964848319738869E-3,-1.1281926067331258E-3,-1.7131397554704748E-3,3.3819954123382339E-3,-3.9229092972602457E-4,3.1587220297394918E-3,2.3678578870491014E-3,-1.2341474509652696E-3,-2.7077768764937099E-3,3.3784004983420475E-3,2.3743447673283406E-3,-2.6516449552536812E-3,3.5744092168035744E-3,-3.8550777228314862E-3,1.3722174995107947E-3,1.6130578448269031E-3,-5.4985233826574742E-3,-2.6121966181665915E-3,-1.3136641890906986E-3,8.7354059929651537E-5,-3.388564595307668E-4,4.4087609914260492E-3,2.5653388069267762E-3,-1.3308083609751471E-3,2.4985846506612548E-3,5.2960104480580658E-3,-1.4368062744175485E-3,-1.7955273927386494E-3,-3.3225228637928155E-3,-2.3867215266489971E-3,-9.5829500364802238E-4,-4.4131037853600667E-3,1.7358177372456486E-3,-5.0511077169491962E-3,-7.1528126542374333E-4,-6.0689078536467107E-3,-1.9501533689131204E-3,-2.7469402952559406E-5,-4.1422487619288588E-3,-1.0718451989408897E-3,1.3982642358119528E-3,4.2415842599715569E-3,1.3123464236365874E-3,1.8120281742206389E-4,2.4079205172865691E-3,-5.2499633439974098E-4,null,-1.3461454173580023E-15,3.8857805861880479E-16,1.1657341758564144E-15,4.3368086899420177E-16,2.6367796834847468E-15,2.2759572004815709E-15,-1.0130785099704553E-15,-6.3837823915946501E-16,2.6645352591003757E-15,-5.7592819402429996E-16,-2.8449465006019636E-16,4.0523140398818214E-15,1.8735013540549517E-15,3.1641356201816961E-15,1.1102230246251565E-16,6.0021432268797525E-16,-6.9388939039072284E-16,1.4432899320127035E-15,-1.6028844918025698E-15,-3.3306690738754696E-16,-1.1518563880485999E-15,1.1934897514720433E-15,-1.3392065234540951E-15,2.3314683517128287E-15,-2.445960101127298E-16,-2.8449465006019636E-15,-1.3045120539345589E-15,-1.7347234759768071E-16,5.4123372450476381E-16,3.7470027081099033E-16,-1.1796119636642288E-15,-2.3592239273284576E-15,1.2628786905111156E-15,-5.9674487573602164E-16,-1.7971735211119721E-15,4.5796699765787707E-16,-1.2559397966072083E-15,2.6367796834847468E-16,2.8588242884097781E-15,-1.5126788710517758E-15,1.9567680809018384E-15,1.5959455978986625E-16,-3.0253577421035516E-15,-4.5102810375396984E-16,-5.7874711967276227E-16,1.2212453270876722E-15,6.4184768611141862E-16,1.321859288694327E-15,-5.8147930914742574E-15,-1.5820678100908481E-15,-5.6898930012039273E-16,-9.7144514654701197E-17,3.3306690738754696E-16,5.7592819402429996E-16,-1.3877787807814457E-17,-4.7184478546569153E-16,1.124100812432971E-15,-1.457167719820518E-16,2.9143354396410359E-16,-2.0608514894604468E-15,-9.7144514654701197E-16,-3.1363800445660672E-15,8.3266726846886741E-17,2.9976021664879227E-15,1.6618650899857812E-15,7.5633943552588789E-16,1.3183898417423734E-15,-3.6082248300317588E-15,-1.1934897514720433E-15,-1.9901615078143919E-15,-2.1649348980190553E-15,-1.8596235662471372E-15,-1.5404344466674047E-15,6.2515097265514186E-16,1.762479051592436E-15,-2.4841240175987878E-15,-8.6042284408449632E-16,3.3306690738754696E-16,-2.7755575615628914E-17,2.0539125955565396E-15,-3.3393426912553537E-17,1.457167719820518E-16,2.4563684419831588E-15,-4.7878367936959876E-16,2.9143354396410359E-16,2.0261570199409107E-15,6.2450045135165055E-17,2.4858587410747646E-15,-1.0408340855860843E-15,-5.5511151231257827E-16,1.9428902930940239E-15,-6.591949208711867E-16,1.2420620087993939E-15,-5.6898930012039273E-16,-5.3429483060085659E-16,-3.219646771412954E-15,7.9103390504542404E-16,-1.1102230246251565E-15,6.3837823915946501E-16,-1.0824674490095276E-15]
[-5.0597317958044725E-4,1.9471312700667057E-3,-1.5590646160465959E-3,-5.0837580514023198E-4,2.1057771875603509E-4,-2.3151996823112643E-3,2.0740669662482436E-3,2.0416115633028524E-4,-9.4152464306145576E-4,4.3014483832533383E-4,1.3318440726555125E-3,-2.1831568000518038E-3,-2.6116951329427794E-3,-3.227745696065256E-3,6.3298741451721244E-4,3.4368799068127965E-4,6.2068663449895572E-4,-8.132806028204871E-4,-2.9872724049398572E-4,1.2088417920504959E-3,7.7315259689344498E-4,-1.243197289898813E-4,5.4659525962325084E-5,7.369963387827594E-4,1.0315624476348398E-3,7.4433999702350879E-4,3.7351304977552475E-4,6.3302445714818383E-4,1.7056630615028985E-3,2.1425530688592995E-4,-5.995610707374069E-4,1.5529476182864178E-4,1.1729058867836356E-3,6.0980806316828396E-4,7.6525173023980395E-4,8.1628947023654934E-4,3.3442247670736105E-4,1.0836934038769086E-3,-1.1929457845654787E-3,-2.436562771080703E-3,-4.8711574057794661E-4,6.0854671791406172E-5,-1.8230102975305034E-3,-2.3898325217903903E-4,-1.1241752381068601E-4,-4.2612880173808354E-4,2.2269706920078158E-4,-9.4540483532441061E-4,-8.3910839224052693E-4,1.2954910187338087E-4,-1.1708279803112699E-4,-1.6265392190208444E-3,7.1037782826650648E-4,7.6787213957425229E-4,1.5651212169964462E-3,2.15315742541426E-3,1.0754114204508216E-3,-1.1001790530387162E-3,-8.8378648826224445E-4,-1.5655721101304155E-3,-1.1186666097029081E-3,7.8470646034538045E-4,1.4358322346891548E-3,-2.957954562876371E-3,-1.2313257357572211E-3,1.4390565770952646E-3,-7.9803329995678583E-4,1.947469018750936E-3,-2.8309827300347531E-4,4.1332513823755099E-5,1.512038784251372E-3,1.6113909972721293E-3,-5.4143761558611678E-4,7.0827838410469836E-4,1.8406512239301735E-3,-4.1780876662557274E-4,-1.6197863134668887E-3,4.2681983462088119E-4,-1.1996198441797943E-3,-7.1118196229511281E-4,-3.8260714260572315E-6,2.1791092162707219E-6,1.6212088185465535E-3,-5.9965756183338068E-4,-3.5687817511381308E-4,5.5743034012366256E-4,-9.3415567408818121E-4,1.5338905280209588E-3,1.0888192964617987E-3,2.0090970577020012E-3,-5.7748309537413811E-5,-7.4507295917922991E-4,2.0745272157852127E-3,4.4935202916786287E-4,3.6425573672674168E-5,-2.7198338410918538E-4,-1.0374593390047966E-3,2.2511502347537869E-4,-6.4029338690227151E-4,-1.2059630423154794E-4,null,2.0586830851154758E-15,1.366962099069724E-15,-1.5959455978986625E-16,2.5283594662361963E-16,1.0685896612017132E-15,-1.6115581091824538E-15,-8.6389229103644993E-16,-1.0651202142497596E-15,2.9039270987851751E-15,2.2204460492503131E-16,-5.7245874707234634E-17,-2.1527918336872176E-15,-2.0539125955565396E-15,9.2287288921966137E-16,-1.6653345369377348E-16,-5.0784029759221028E-16,7.3031858338623579E-16,-1.8249290967276011E-15,-6.2450045135165055E-17,-3.6082248300317588E-16,3.9464959078472361E-16,7.0429773124658368E-16,-6.9388939039072284E-16,9.6797569959505836E-16,6.6700117651308233E-16,-2.4025920142278778E-15,6.8695049648681561E-16,-8.3266726846886741E-17,-1.2021633688519273E-15,-1.2490009027033011E-15,-7.8062556418956319E-17,4.5449755070592346E-16,9.280770596475918E-16,6.9735883734267645E-16,-8.1011586328116891E-16,-1.960237527853792E-16,-6.6960326172704754E-16,3.5388358909926865E-16,-2.0816681711721685E-16,-5.0306980803327406E-16,3.1225022567582528E-17,7.1470607210244452E-16,3.0600522116230877E-15,-4.3541559247017858E-16,1.6532727877688336E-16,-2.1926904736346842E-15,-5.3602955407683339E-16,8.5248106317104E-16,-7.3205330686221259E-16,-7.9016654330743563E-16,8.6562701451242674E-16,6.1409211049578971E-16,-1.4259426972529354E-15,3.6168984474116428E-16,4.5016074201598144E-16,-2.5673907444456745E-16,1.1275702593849246E-15,-1.5265566588595902E-16,1.7347234759768071E-18,1.7069679003611782E-15,-1.5543122344752192E-15,7.3899220076611982E-16,1.2975731600306517E-15,-3.0878077872387166E-16,1.7347234759768071E-16,2.8319360745321376E-16,4.7878367936959876E-16,4.5970172113385388E-16,8.2833045977892539E-17,-2.1703559088814828E-15,1.9775847626135601E-16,6.2103100439969694E-16,-4.0592529337857286E-16,9.8852133076365867E-17,9.055256544598933E-16,4.6837533851373792E-16,1.0061396160665481E-16,-3.9725167599868882E-16,-1.7139067942650854E-15,-1.5820678100908481E-15,-2.7462841029057827E-16,1.9081958235744878E-17,1.3912482277333993E-15,-7.8843181983145882E-16,4.1980308118638732E-16,3.5284275501368256E-15,5.377642775528102E-17,2.6883877068950568E-15,1.3530843112619095E-16,3.434752482434078E-16,8.5348395018058909E-16,5.0306980803327406E-16,1.5092094240998222E-15,8.7777007884426439E-16,4.9613091412936683E-16,-1.8630930131990908E-15,3.8510861166685117E-16,1.3444106938820255E-16,4.40619762898109E-16,-3.1051550219984847E-16]
[1.4093215928121408E-4,-2.2145000065362411E-3,3.0459203458443819E-4,5.3889502742508931E-6,-2.4434311779017131E-3,1.3664278369472055E-4,-8.4810468395229164E-4,-9.2827344575912272E-4,1.5838521536945193E-3,2.2794785016484162E-4,2.3290215903875723E-4,1.5186790491545882E-3,1.6769862578704289E-3,3.0081061435819176E-3,-5.1935823883552236E-4,5.7393876119052583E-4,-2.0056426265476833E-3,2.7550587866954322E-3,4.2956453159160272E-4,-1.2240218008651236E-3,6.7714996464844765E-4,8.3263655319213871E-5,-4.9909945212256663E-4,-2.2242954107567032E-3,-1.247912369973041E-3,1.5140119326619871E-3,-1.474016086449279E-3,-6.8751445969479139E-5,-1.9635871115540318E-3,1.5492490465466998E-3,-1.0539435798538046E-3,-1.1031397996022418E-3,6.6026384305542247E-4,-6.7829817811788018E-4,-7.047793750440518E-4,-7.0241046306351146E-4,-5.5858947505816965E-6,-1.2978083441213472E-3,1.8250389460812155E-3,3.1462411531785854E-3,6.4958452581768316E-4,-1.1222712151282639E-3,3.2243896426831244E-3,1.1113545651176471E-3,-1.3706143206164295E-4,1.3484282966510438E-3,-3.1306991016690015E-4,6.1363198882770267E-4,1.5625929361895881E-3,-4.7086508565702553E-4,-1.3707861562166563E-3,1.2285930458180855E-3,-4.2620872600564256E-4,-7.9827839689188907E-4,-1.624997187229105E-3,-1.3781747600347192E-3,-1.1625256827902128E-3,1.3585184789092933E-3,1.8782739912921002E-4,7.6933015174386588E-4,1.8256448880478427E-3,-5.3382437383848395E-4,-3.4970402702515772E-4,2.1225485098506271E-3,6.4164740535558316E-4,-1.1011330082586442E-3,1.5890238619380333E-3,-1.7618653694238121E-3,7.403075288448498E-4,8.2145116325363051E-4,-2.5632554900814693E-3,-1.6998723064636896E-3,1.3602401204664087E-3,-4.2303665797641528E-4,-2.1149052235910526E-3,-3.3234605569892206E-4,3.6262381518238033E-4,1.0722834655173309E-3,2.1058625111072772E-3,1.4180417470052705E-3,-1.0323586901351163E-3,-3.3574064789294937E-4,-1.6144765787764555E-3,6.0960885823501255E-4,8.5175946757894816E-5,-2.3599901088152842E-3,1.0310925719278329E-3,-1.4438773177701055E-3,-3.8348874230502596E-4,-2.0079298838698435E-3,-5.7162639713690083E-4,-5.5085738032343906E-4,-2.2216187847165125E-3,-2.425297525230065E-3,1.8163891939347277E-3,6.3904116132612772E-4,1.1582538621052617E-3,8.8283096415763831E-4,1.6857001194752271E-3,-1.4377424570879366E-3,null,-4.2015002588158268E-15,5.6551985316843911E-16,3.1225022567582528E-17,1.6874522612564391E-15,5.4331539267593598E-15,-3.7296554733501353E-16,-6.5693978035241685E-15,-2.1198320876436583E-15,1.1969591984239969E-16,2.779027008514845E-15,4.4408920985006262E-16,1.4684434224143672E-15,2.9681118673963169E-15,1.9116652705264414E-15,1.470178145890344E-15,-4.0679265511656126E-15,-1.2646134139870924E-15,-1.2628786905111156E-15,-2.9750507613002242E-16,-2.1718737919229625E-15,1.6462525787019899E-15,-1.2750217548429532E-16,-3.3089850304257595E-15,-3.1988300897012323E-15,-2.5411530518715253E-15,2.6255039808908975E-15,-1.2030307305899157E-15,-4.4235448637408581E-17,1.5785983631388945E-15,-4.4582393332603942E-16,4.2431336222392702E-15,-2.9455604622086184E-15,2.6298407895808396E-15,1.4918621893400541E-15,-2.7668839441830073E-15,1.8552867575571952E-15,-2.8102520310824275E-15,-7.337880303381894E-16,2.2794266474335245E-15,1.1986939218999737E-15,1.7503359872605984E-15,-3.0617869350990645E-16,2.4286128663675299E-16,-2.4780524854328689E-15,-1.3269482626414308E-15,6.3005156647477634E-15,-1.375635716449608E-15,1.3684528770568916E-15,-1.5092094240998222E-16,-3.2985766895698987E-15,-5.9154070530809122E-16,2.6116261930830831E-15,1.4918621893400541E-16,3.1225022567582528E-17,-2.6081567461311295E-15,2.1857515797307769E-15,6.1565336162416884E-15,6.3230670699354619E-16,1.0278236595162582E-15,4.8138576458356397E-16,-6.2103100439969694E-16,-2.5188184871183239E-15,-6.4878658001532585E-16,-3.8354736053847205E-15,2.6354786408777642E-15,-3.3597256920980811E-15,1.8275311819415663E-15,-5.0055445899310769E-15,2.4878103049852385E-15,-8.917562868693274E-16,-1.8457457784393227E-15,-1.1639994523804376E-15,-3.2578106878844437E-15,8.3608250531219674E-16,1.1613973671664723E-15,2.8622937353617317E-15,1.0512424264419451E-15,-7.6848249985772554E-16,-5.3065191130130529E-15,2.2603446891977796E-15,-1.4999937056336954E-15,-1.4155343563970746E-15,-2.3592239273284576E-16,-4.2049697057677804E-15,1.762479051592436E-15,5.5355026118419914E-15,2.931682674400804E-16,-2.9481625474225837E-15,3.2179120479369772E-15,-3.0071431456057951E-15,-6.6439909129911712E-16,-8.0057488416329647E-16,-3.071327914216937E-15,-1.4554329963445412E-15,2.1952925588486494E-15,3.4382219293860317E-15,-9.1246454836380053E-16,-7.5286998857393428E-16,-8.6736173798840355E-17,-3.1355126828280788E-16]
[7.5064255380703825E-4,-2.63117821595707E-3,9.0204182637037774E-4,-3.9298189565630578E-4,-3.8726379944565973E-3,-1.1501005395745618E-5,3.4103056142869897E-4,-4.8961771543011557E-4,-1.8966399612210473E-3,-5.4709455107447038E-4,2.5482346807089096E-4,9.1975239949147465E-4,2.3383428312419067E-3,2.1717402246982671E-3,5.5799593196400037E-4,1.8518660825262558E-3,1.3082921103205289E-3,4.3645644634746289E-3,-4.4332814522055557E-4,-2.6023540619774998E-3,-6.2901874472409344E-4,-3.5090865005238961E-4,-6.3418047255221495E-4,-3.5734898683914243E-3,2.8402813088741573E-4,4.1491965540213738E-4,-2.7484736195621771E-3,5.985756280696377E-4,-1.5341362238750218E-3,2.0521009422866513E-3,-3.5114274075814921E-3,-1.8544758697072892E-3,-7.1840531480321147E-4,-1.949270461918695E-3,1.2854826529750812E-3,-1.1365541789218326E-3,2.3011648369525559E-3,-7.0853311818277912E-4,2.3067439796045784E-3,2.7384903825968857E-3,-8.5900873692456464E-4,-6.8914061855648585E-4,3.1508731211077274E-3,2.0310776093371685E-3,6.891044474949795E-4,4.5610579692683438E-3,7.7928358181207202E-4,4.227291026184669E-5,2.4686935805422611E-3,-1.2541877598483378E-3,-9.4460445661716241E-4,-3.8083989049311566E-4,1.244100267047354E-3,-8.0276729007712055E-4,-2.0586243562034894E-4,-2.3297646708325482E-3,-1.4331256486848493E-3,1.1361281316109816E-3,-7.5621895833245334E-4,-4.3761506587898226E-4,3.3486130189363766E-3,-2.0202120903286174E-3,-1.9853037020473338E-3,1.1846466298990215E-3,-7.4443237952051934E-4,5.0358828564252181E-4,-9.8828855937139375E-4,2.359153570562746E-5,-1.2611378743839368E-3,-3.9826367150621689E-4,-2.2905057918903519E-3,-6.3991417809614167E-4,2.0208326108240387E-3,4.6931645307285615E-4,-7.8620670469304699E-4,-5.9248138036166291E-4,4.6459332442887012E-4,4.6960078775293296E-4,2.6607322003833582E-3,2.3435761636947114E-3,-1.7685070855367224E-4,1.8203922888925406E-4,-2.5121687824878856E-3,7.1168777874327464E-4,-2.2316814362541518E-3,-3.9368400276740502E-3,-3.5900253701224416E-4,-6.1323648020563586E-4,-2.5694070468499624E-3,-1.1414194623964326E-3,1.7109070879975105E-3,-6.1317531357125738E-4,1.6025959671326531E-3,-2.6126572929741601E-3,-2.8706208972968786E-4,2.6135693165549889E-3,3.0616658349867063E-4,6.343601318824411E-4,2.5935877065979074E-3,-7.6684844338641514E-4,null,8.2572837456496018E-16,1.5265566588595902E-15,-2.7755575615628914E-16,-1.1171619185290638E-15,-6.3837823915946501E-16,-1.5681900222830336E-15,-1.915134717478395E-15,6.591949208711867E-16,4.3576253716537394E-15,9.5062846483529029E-16,-5.5511151231257827E-16,1.5543122344752192E-15,1.8873791418627661E-15,4.4131365228849972E-15,-2.2204460492503131E-16,7.2858385991025898E-16,-4.0939474033052647E-16,2.4147350785597155E-15,-1.5543122344752192E-15,2.3592239273284576E-15,-7.4246164771807344E-16,-1.8179902028236938E-15,-3.3306690738754696E-16,-3.4139358007223564E-15,-5.8113236445223038E-16,-1.762479051592436E-15,9.5756735873919752E-16,1.3461454173580023E-15,-1.1518563880485999E-15,2.7478019859472624E-15,-1.8735013540549517E-15,-9.7144514654701197E-16,1.8041124150158794E-16,-1.6653345369377348E-15,1.1379786002407855E-15,-9.8532293435482643E-16,2.2204460492503131E-15,1.6514567491299204E-15,-4.4408920985006262E-16,3.039235529911366E-15,1.0408340855860843E-15,2.8449465006019636E-16,3.5110803153770576E-15,1.2698175844150228E-15,-8.1835579979205875E-16,-2.1926904736346842E-15,-1.5265566588595902E-16,1.1924055492995578E-15,2.6645352591003757E-15,-2.8449465006019636E-16,-1.2628786905111156E-15,2.1788126858268697E-15,2.3175905639050143E-15,3.2612801348363973E-16,2.2828960943854781E-15,-6.6613381477509392E-16,-1.9012569296705806E-15,-2.7200464103316335E-15,8.8817841970012523E-16,1.7347234759768071E-15,-1.609823385706477E-15,-7.4940054162198066E-16,9.9920072216264089E-16,2.9420910152566648E-15,1.4536982728685643E-15,-6.9215466691474603E-16,1.9012569296705806E-15,-7.9103390504542404E-16,-2.301978052621223E-15,-6.9258834778374023E-16,2.3175905639050143E-15,3.8857805861880479E-16,1.2490009027033011E-15,9.3805171963445844E-16,3.5388358909926865E-16,-8.4654505627668186E-16,-1.1379786002407855E-15,2.6367796834847468E-16,9.9920072216264089E-16,-2.0816681711721685E-15,-2.5153490401663703E-15,3.8163916471489756E-17,-6.9388939039072284E-17,-4.1286418728248009E-16,-1.124100812432971E-15,7.9103390504542404E-15,2.7755575615628914E-16,-1.7277845820728999E-15,-1.8596235662471372E-15,4.8572257327350599E-16,7.2164496600635175E-16,2.7061686225238191E-16,1.3114509478384662E-15,2.3592239273284576E-16,4.0245584642661925E-16,2.7478019859472624E-15,-1.3739009929736312E-15,-7.4246164771807344E-16,-7.2164496600635175E-16,8.6736173798840355E-16]
[-1.0488796779746211E-3,-8.0698257486098936E-4,8.475414334833737E-4,1.728230331377421E-3,1.2895974267361702E-3,7.1983473145274086E-4,-2.8855922316024221E-4,-2.0192230067574813E-5,4.2984360423877072E-3,8.3485837240331875E-4,4.3290211686173213E-4,4.0252912141453779E-3,1.3648725777179536E-4,6.3145523387028127E-4,-7.5243624649484124E-4,-6.5794676170651315E-4,-8.5504606285293763E-4,-8.1152803621414415E-4,4.20693978607443E-4,1.4475672664835838E-3,2.4212262020443427E-4,9.4020287890585153E-4,8.862414311767697E-4,1.7107446794561449E-3,-4.855937319189633E-4,2.8071384896248834E-4,1.0121749856972699E-3,-2.8149115910453926E-4,-1.6999034057292152E-3,-2.24227994354798E-3,2.5301874418777627E-4,-1.7093437885366172E-3,3.15300040416642E-4,1.2516693800316671E-3,-2.0228671855960206E-3,-2.0626224053242989E-3,-1.837397350534409E-3,-5.5567394292015159E-4,1.4943326114539812E-4,2.9145838432224087E-3,2.3480308782975758E-3,3.9441934445185974E-4,3.5625225089878881E-3,-2.3345262805879521E-3,-5.3404455505576745E-5,-2.6978999899570648E-3,6.8726156713687118E-5,1.1396646684337278E-4,-1.2420892838672223E-3,-5.4091502764918122E-4,-1.2758844384470043E-5,1.1815919389110174E-3,-3.4399472870813917E-3,-1.7267554240568519E-3,-2.624528571107951E-3,-2.9096843947526412E-3,1.2737568239692019E-3,1.3076484838755698E-3,1.117507677529135E-3,1.0596458902238221E-3,-8.9462237356325962E-4,1.3729762298291188E-3,2.4325345886186392E-3,1.1576826137939568E-3,1.6821157130110299E-3,-1.1039367742069971E-3,-1.0729142349386262E-4,-8.5315792271570506E-4,-2.8956015613895367E-4,1.5238585411299016E-3,-3.2156289457316053E-3,2.2037502604569739E-4,4.3632605647401482E-4,-1.3506785388867279E-3,-1.1522183258361645E-3,1.971808947342855E-3,1.740995851350378E-4,-5.9935839898047033E-4,1.5353465378739617E-4,-1.1055819681942696E-3,1.4193156761996997E-3,1.8757140230442459E-4,-1.3890764854936452E-3,-1.5846587835199959E-3,1.5852925922420901E-3,-4.8632045241918175E-4,6.4199299690938759E-4,-2.6905656531747875E-3,2.5802889134366566E-3,-6.7407059299273546E-4,-1.6413442598621926E-3,6.7390242761550603E-4,-2.0769603070712552E-3,6.2937416450690867E-4,1.7505804485005273E-4,-9.9114270261006256E-4,2.3392517737561014E-3,1.6542386313317136E-3,-1.2508719929782497E-3,-1.4991406365385501E-3,null,-9.5583263526322071E-16,-9.9920072216264089E-16,2.6367796834847468E-16,-4.5102810375396984E-16,-1.9984014443252818E-15,9.8532293435482643E-16,-6.9388939039072284E-16,-1.9428902930940239E-16,1.8735013540549517E-15,9.2287288921966137E-16,9.7144514654701197E-17,3.4972025275692431E-15,3.3306690738754696E-15,5.1625370645069779E-15,-1.9775847626135601E-15,1.1726730697603216E-15,3.1433189384699745E-15,5.5511151231257827E-16,6.3143934525555778E-16,-3.3306690738754696E-15,-1.7937040741600185E-15,-9.8532293435482643E-16,1.0824674490095276E-15,-6.0229599085914742E-15,1.2490009027033011E-15,-7.9103390504542404E-16,-1.7694179454963432E-15,6.6613381477509392E-16,-1.5959455978986625E-15,2.2898349882893854E-15,-3.4763858458575214E-15,-1.609823385706477E-15,-1.762479051592436E-15,-2.8727020762175925E-15,-1.1102230246251565E-16,8.6042284408449632E-16,-5.2735593669694936E-16,-2.6645352591003757E-15,1.4710455076283324E-15,2.4563684419831588E-15,4.7184478546569153E-16,-2.6367796834847468E-16,-3.039235529911366E-15,1.5334955527634975E-15,2.4743661980464182E-15,2.1926904736346842E-15,-1.1102230246251565E-16,7.2034392339936915E-16,-2.9143354396410359E-16,-6.8695049648681561E-16,-2.1649348980190553E-15,-6.3837823915946501E-16,1.3045120539345589E-15,-2.7061686225238191E-16,-5.1521287236511171E-16,-4.4408920985006262E-15,1.3808398868775384E-15,-1.3183898417423734E-16,6.5225602696727947E-16,-4.3715031594615539E-15,-6.6613381477509392E-16,-3.3029134982598407E-15,-4.6629367034256575E-15,2.1926904736346842E-15,-6.1409211049578971E-16,-4.9960036108132044E-16,1.2385925618474403E-15,-1.3461454173580023E-15,4.3888503942213219E-16,-2.6272387043668743E-15,4.7184478546569153E-16,2.3592239273284576E-16,2.6367796834847468E-16,-5.1824863844807112E-17,-1.2073675392798577E-15,-3.6637359812630166E-15,3.0531133177191805E-15,4.2327252813834093E-16,-2.7478019859472624E-15,3.6359804056473877E-15,9.5496527352523231E-16,-8.9164786665207885E-16,1.1657341758564144E-15,1.0685896612017132E-15,-1.1657341758564144E-15,-6.3837823915946501E-16,-7.4246164771807344E-16,-1.5300261058115439E-15,-2.9976021664879227E-15,1.1449174941446927E-15,3.70536934468646E-15,1.1310397063368782E-15,-1.2559397966072083E-15,-8.7430063189231078E-16,-1.5890067039947553E-15,1.4710455076283324E-15,-1.2420620087993939E-15,-1.5126788710517758E-15,4.3298697960381105E-15,-1.1900203045200897E-15]
[4.4748313476962202E-3,-4.0510322483418605E-3,2.3472443671279821E-5,-1.8684558070265682E-3,-6.8032026416937211E-3,-1.1486689760563851E-3,2.8107767035475615E-4,6.7572716020129048E-4,-1.2406385585146667E-3,-1.3965311348129292E-3,-7.6166620415119739E-4,1.0225985450279071E-3,4.7612058078032966E-3,2.8806265855454653E-3,1.9568686051860005E-5,2.791636086510152E-3,3.9199297099490179E-3,6.4642611192121686E-3,4.9974963424264762E-4,-6.82685126631588E-3,-8.1307162754736993E-4,-9.1795334542787022E-4,1.6310841689169914E-3,-2.2995336670099888E-3,1.3091556255598483E-3,-4.7389356622499975E-4,-1.9447461065671648E-3,-8.880228457822933E-4,-3.1319048986660509E-3,3.8410127345070702E-3,-5.54467936563891E-3,-2.3267002792632355E-3,-3.9862590700227374E-3,-4.3872834739221416E-3,1.8682775263957224E-3,-1.4754266303840179E-3,4.340598214047098E-3,-7.8591588867326983E-4,3.1006476242470254E-3,3.1335305723456464E-3,-5.2132873370732324E-4,-1.8102054800278836E-3,4.5038996469938019E-3,2.3462494640710025E-3,2.3134890437229083E-3,1.9449798462171893E-3,1.9060015691232718E-3,1.8937457882845028E-4,-3.67362646321278E-4,-1.7306439003246976E-4,-6.4731340885087127E-3,1.2077768257364894E-4,1.4864800420677649E-3,-6.0482111352121073E-4,-1.0752456859269464E-3,-5.3941916114194468E-3,-4.5513277378004821E-3,-2.9741195384166876E-4,-1.0196686340144645E-3,-4.8709849662227514E-4,3.9334781193387175E-3,-5.5111850588156997E-3,-3.5741350599222029E-4,3.3767685571617218E-3,1.2561153025397625E-3,2.6683389249923823E-3,-1.7279506844071917E-3,-1.397330708343068E-4,-3.1686423190942135E-3,-1.2719177470693812E-3,-4.096910934910129E-3,-2.2147649893300412E-3,4.1973487293387327E-3,-1.0576362331551205E-3,-3.4256285529270683E-3,-2.1848383463419769E-3,1.0148744124080322E-3,2.8165164587704099E-3,4.654396626026131E-3,2.8348731177294355E-3,9.0224976350914744E-4,1.2490178816657645E-3,-2.3038582575815882E-3,4.5266560047047526E-3,-7.7589926689287979E-4,-6.834520572539967E-3,3.2103806920054438E-4,-3.1750824867492693E-4,-4.4148436634924865E-3,-3.6614571666705828E-4,5.3317864187565388E-3,2.2266819181555961E-3,2.1782623727071159E-3,-4.3690183542876692E-3,-1.893932726202884E-4,6.208247767392381E-4,1.150903069306773E-3,5.16082649181194E-4,5.0729150486237941E-3,-1.7789204010859416E-3,null,5.3429483060085659E-15,2.7478019859472624E-15,-6.2450045135165055E-16,-1.078998002057574E-15,3.6082248300317588E-16,-2.7269853042355408E-15,4.801714581503802E-15,2.581268532253489E-15,3.4416913763379853E-15,-4.4547698863084406E-15,6.2450045135165055E-16,-1.0103029524088925E-14,-8.3266726846886741E-17,-5.5511151231257827E-15,-1.0269562977782698E-15,2.8067825841304739E-15,3.6845526629747383E-15,1.2212453270876722E-15,2.6992297286199118E-15,3.6637359812630166E-15,-4.40619762898109E-16,8.2572837456496018E-16,1.0269562977782698E-15,6.5225602696727947E-15,6.2103100439969694E-16,-4.4547698863084406E-15,4.649058915617843E-16,-4.7878367936959876E-16,3.0947466811426239E-15,-2.6367796834847468E-16,-2.2828960943854781E-15,8.8817841970012523E-16,2.7755575615628914E-17,-5.134781488891349E-16,3.9551695252271202E-16,2.7061686225238191E-15,-2.7131075164277263E-15,1.5681900222830336E-15,-6.411537967210279E-15,-3.7608804959177178E-15,-1.2490009027033011E-15,-1.321859288694327E-15,1.8596235662471372E-15,1.3183898417423734E-16,1.8083408034885728E-15,6.6613381477509392E-16,1.5543122344752192E-15,-1.3504822260479443E-15,-6.564193633096238E-15,2.2135071553464059E-15,-2.0122792321330962E-15,-2.5465740627339528E-15,2.3592239273284576E-16,1.5820678100908481E-15,3.0201535716756212E-15,5.0515147620444623E-15,2.9143354396410359E-15,-1.2004286453759505E-15,-6.1756155744774333E-16,-1.7416623698807143E-15,-4.9682480351975755E-15,1.1934897514720433E-15,1.5265566588595902E-15,-2.7200464103316335E-15,-2.2169766022983595E-15,2.4962670819306254E-15,-2.9594382500164329E-15,2.2551405187698492E-15,-1.4519635493925875E-15,-3.0353324020904182E-15,3.0531133177191805E-15,1.915134717478395E-15,9.8532293435482643E-16,1.1724562293258245E-15,1.609823385706477E-15,-1.8179902028236938E-15,1.2490009027033011E-15,1.7139067942650854E-15,-2.2204460492503131E-16,-4.010680676458378E-15,-6.3143934525555778E-16,1.5334955527634975E-15,-1.9290125052862095E-15,1.4849232954361469E-15,-2.9282132274488504E-15,3.0669911055269949E-15,-1.2351231148954867E-15,7.5026790335996907E-15,5.8286708792820718E-16,1.4363510381087963E-15,2.7755575615628914E-15,-4.9960036108132044E-16,3.1571967262777889E-15,3.0669911055269949E-15,-8.6736173798840355E-16,-2.3314683517128287E-15,2.0816681711721685E-17,-1.2836953722228372E-15,-2.7755575615628914E-15,-6.5225602696727947E-16]
[-5.4626128590720404E-3,-2.9457944924969298E-3,1.8646037870869738E-3,3.0159380999461192E-3,-9.3253078545581008E-4,4.0669505529711625E-3,-6.4950995297304399E-3,-2.3391564210968343E-3,5.9497291410330255E-3,2.6304868238828426E-3,-1.9675213322241009E-3,8.0034914163302252E-3,3.6533175955667566E-3,5.9347326068759747E-3,-1.6056012595637003E-3,-2.2219236196090318E-3,-3.845708564304592E-3,1.1253825873694333E-3,-5.1095541318384597E-4,2.3464882109816365E-3,1.9975087511931071E-3,2.2019731639438531E-3,-3.2105652114841504E-3,-1.1607550712580622E-3,-2.695598725194529E-3,1.936959357330579E-3,-3.2926029112737686E-3,-1.2692238197219573E-3,-3.5971262811932297E-3,-1.0837039583337514E-3,1.9801775669751505E-3,-3.0980641922659846E-3,6.8230602432677707E-4,2.4806348130661016E-3,-3.7350364556609774E-3,-2.4267618374202195E-3,-2.6873350038978949E-3,-3.3929065284338429E-3,3.3258312160463722E-3,5.5155778668627177E-3,4.3530309199074036E-3,2.1013568578450389E-3,6.3172151009660699E-3,-1.6910821845722282E-3,-2.2289231934064274E-3,3.945794400085979E-3,-9.1405908619642028E-4,1.952507476819125E-3,4.1834453251291901E-3,-3.0518397864780162E-3,3.3932568047015006E-3,3.9559784911762973E-3,-2.8709774332955516E-3,-9.9515045729267203E-4,-4.98878227676074E-3,-2.7509076997618391E-3,9.4384473959537865E-4,4.5732499940974638E-3,1.635879880163239E-3,4.7120450954148217E-3,3.4068118176318555E-3,5.8344513705324856E-4,-2.2233095478489712E-3,3.3164393057030232E-3,2.5280153671255346E-3,-5.2063349070928895E-3,1.4972609252334676E-3,-4.7466576473595484E-3,2.8334619811252958E-3,3.0517243517480109E-3,-6.2248690771536828E-3,-3.973047977542968E-3,-1.1862729277796415E-3,-9.1841081524406457E-4,-1.4588913385723166E-3,5.0300547091516367E-3,1.7176009732933315E-3,-2.9400371491140756E-3,1.2506317807671988E-3,2.2442320339010661E-3,1.1483538858939547E-3,-1.6553873064071164E-3,-2.9619783352665759E-3,-2.7566768608964444E-3,7.6001719371135044E-4,-2.6570522194624821E-3,1.7421450107706884E-3,-5.7833675574280432E-3,1.4199532504292466E-3,-4.0547640439193853E-3,-4.3690352921212624E-3,-4.9630255027687594E-4,-6.4424226024911652E-3,1.3108782911612556E-3,1.5482860349477336E-3,1.9260500665520927E-3,4.0269386636588101E-3,8.2177912294402228E-4,-1.7016961466992423E-3,1.6936167549192732E-4,null,5.5858095926453188E-16,3.3306690738754696E-16,-1.1796119636642288E-16,-1.1726730697603216E-15,1.2490009027033011E-15,2.8310687127941492E-15,-2.400857290751901E-15,1.6028844918025698E-15,2.4980018054066022E-16,-1.2663481374630692E-15,8.1185058675714572E-16,1.1032841307212493E-15,4.5796699765787707E-16,1.1934897514720433E-15,-4.4408920985006262E-16,6.0715321659188248E-17,1.078998002057574E-15,-6.8001160258290838E-16,-1.3079815008865125E-15,-1.0408340855860843E-15,-5.6551985316843911E-16,-1.0408340855860843E-16,-1.0061396160665481E-16,-1.8041124150158794E-16,-2.2638141361497333E-16,-3.0878077872387166E-15,-2.5673907444456745E-16,5.8980598183211441E-16,1.4849232954361469E-15,7.1470607210244452E-16,-1.5820678100908481E-15,-3.0461744238152733E-15,-2.4980018054066022E-16,-2.0400348077487251E-15,-7.7715611723760958E-16,1.0269562977782698E-15,4.5796699765787707E-16,1.2836953722228372E-15,3.7470027081099033E-16,1.2073675392798577E-15,-3.8857805861880479E-16,-2.0469737016526324E-16,-6.1201044232461754E-15,8.6042284408449632E-16,1.1719141282395817E-15,4.8572257327350599E-16,1.2056328158038809E-15,9.8445557261683803E-17,-5.3429483060085659E-15,-1.0373646386341306E-15,-1.6583956430338276E-15,7.7021722333370235E-16,6.3837823915946501E-16,4.7531423241764514E-16,-8.0838113980519211E-16,-4.3021142204224816E-15,-1.2628786905111156E-15,-2.6367796834847468E-16,3.5388358909926865E-16,-3.3584246494910985E-15,-6.106226635438361E-16,-1.9984014443252818E-15,6.5225602696727947E-16,4.163336342344337E-15,6.591949208711867E-17,3.920475055707584E-16,-2.8449465006019636E-16,-2.7131075164277263E-15,-1.6150275561344074E-15,-9.2655917660611209E-16,1.7277845820728999E-15,6.106226635438361E-16,3.6082248300317588E-16,1.5720931501039814E-15,-7.7715611723760958E-16,-3.1155633628543455E-15,2.1926904736346842E-15,1.0443035325380379E-15,-1.8041124150158794E-16,3.6637359812630166E-15,1.2743712335394619E-15,1.2836953722228372E-16,-6.9388939039072284E-16,1.0824674490095276E-15,-1.2490009027033011E-16,3.9968028886505635E-15,-8.3960616237277463E-16,1.5326281910255091E-15,-2.6367796834847468E-15,1.7347234759768071E-16,3.5110803153770576E-15,4.9266146717741321E-16,8.9511731360403246E-16,-2.7269853042355408E-15,-1.2281842209915794E-15,-2.1371793224034263E-15,1.9845236565174673E-15,-7.2858385991025898E-17,1.1796119636642288E-15,2.7061686225238191E-16]
[-5.7399289301654213E-3,2.145597314812021E-3,-4.272994272232962E-4,2.7775615154683919E-3,3.7058302350081781E-3,2.9061735608490062E-4,-2.0504045589172949E-3,-7.1445438851795631E-4,4.8595303586504209E-3,4.7829709001286228E-3,1.6913337579687563E-3,3.1985905609786184E-3,-3.1265124041104033E-3,-9.0791814625087769E-4,6.3392740598729159E-4,-3.8349492912762985E-3,-7.0262863430335838E-3,-4.6527265085361379E-3,-8.015993364322273E-4,7.4243549438096522E-3,3.7539955289777375E-3,2.5658716845053785E-3,-1.6830157170039442E-3,8.2656775467811411E-4,-3.272482867146482E-3,3.8123422908714574E-3,1.9045604999727349E-3,-2.8846464828004325E-4,7.7768340243448617E-4,-2.5889205986025805E-3,5.761173076002715E-3,1.0748408502541467E-3,5.3935580984958414E-3,4.7790978000163435E-3,-3.2398447948505564E-3,-2.534588531127477E-3,-5.2884266329572219E-3,-2.4685451913362719E-3,-2.2683258514247851E-3,3.6432451985010086E-4,4.4324431512841921E-3,-8.7115562782570622E-4,-8.8880439701169781E-4,-2.9014530086083866E-3,-2.0616112691128762E-3,-1.3448687842202915E-3,-2.5079843950938877E-3,1.7937668746809072E-3,1.6463565360948344E-3,5.8672247891980933E-4,4.9726658721292519E-3,3.1237038378683418E-3,-4.6660519022594712E-3,-4.5341762984273679E-4,-4.0871147558004164E-3,4.7237583702179897E-3,5.9612016304872138E-3,-2.7442379554899109E-4,7.3689884434032633E-4,2.5213705871372592E-3,-3.6178883277799829E-3,7.5860113515099125E-3,7.6228793989971009E-4,-2.2044438003976778E-3,2.1799747882599401E-4,-3.7199886868222549E-3,4.4188866615565269E-3,-1.9992950808168449E-3,3.2220523758623386E-3,1.334627814424135E-3,-8.5188629164397887E-4,2.4113891404249773E-4,-5.7467741343554882E-3,1.3326404043195626E-3,1.0156771088531494E-3,4.6611271568942651E-3,-1.9268762180515101E-3,-1.8837148473741219E-3,-3.2803387768235775E-3,9.0408846327316665E-5,-9.855611015552432E-4,-1.9756946513507759E-3,2.4072206704815959E-3,-7.3588220079606097E-3,3.3903030621056395E-3,4.9530020040868018E-3,2.2794670514146324E-3,-2.9631631302294418E-3,6.2127775474353272E-3,-2.0618402166435942E-3,-7.5821838457725086E-3,-6.0867327559740428E-4,-5.8352844691300469E-3,2.2980450343283556E-3,1.4874642362407329E-3,-1.762830499368389E-3,2.0313058631300095E-3,6.5449391353551733E-4,-3.4618010864980362E-3,-9.0041842249671757E-4,null,-8.3266726846886741E-17,1.1657341758564144E-15,-6.2450045135165055E-16,5.8286708792820718E-16,-1.5543122344752192E-15,-2.0539125955565396E-15,-3.6082248300317588E-16,1.3530843112619095E-15,-4.0245584642661925E-16,2.4147350785597155E-15,1.3600232051658168E-15,3.3306690738754696E-16,1.8318679906315083E-15,9.4368957093138306E-16,-4.8572257327350599E-17,-3.3306690738754696E-16,1.672273430841642E-15,3.5527136788005009E-15,-5.6898930012039273E-16,1.1657341758564144E-15,6.1409211049578971E-16,-2.7061686225238191E-15,1.3253287356462806E-15,2.4702462297909733E-15,-4.163336342344337E-17,-3.2612801348363973E-16,2.4771851236948805E-15,-5.2735593669694936E-16,6.106226635438361E-16,3.7470027081099033E-16,9.1593399531575415E-16,-3.3029134982598407E-15,-2.0677903833643541E-15,-1.4710455076283324E-15,9.2287288921966137E-16,-4.1910919179599659E-15,-4.163336342344337E-16,6.2450045135165055E-16,-4.2466030691912238E-15,1.0130785099704553E-15,1.9845236565174673E-15,-1.4988010832439613E-15,6.897260540483785E-15,2.095545958979983E-15,-2.3054474995731766E-15,-7.716050021144838E-15,-1.5612511283791264E-16,-8.7625219580278468E-16,1.4710455076283324E-15,-2.2204460492503131E-16,-4.5796699765787707E-15,-4.7878367936959876E-16,2.7616797737550769E-15,1.6028844918025698E-15,-1.5820678100908481E-15,-3.1641356201816961E-15,-1.6375789613221059E-15,-2.9629076969683865E-15,-2.2204460492503131E-16,1.5126788710517758E-15,-9.7144514654701197E-16,-1.9428902930940239E-16,-1.5265566588595902E-15,-4.2743586448068527E-15,3.2265856653168612E-15,3.4416913763379853E-15,9.7144514654701197E-17,1.0824674490095276E-15,-2.6038199374411874E-15,3.1914575149283309E-15,4.8780424144467815E-15,-1.4849232954361469E-15,1.0685896612017132E-15,4.3368086899420177E-17,3.9551695252271202E-16,4.0245584642661925E-15,1.3322676295501878E-15,1.6792123247455493E-15,-7.2164496600635175E-16,-3.858025010572419E-15,1.3435433321440371E-15,3.7123082385903672E-16,-5.1070259132757201E-15,9.9573127521068727E-16,-2.9143354396410359E-16,-2.1926904736346842E-15,-4.163336342344337E-17,-4.5623227418190027E-16,2.55351295663786E-15,-2.2620794126737565E-15,5.5511151231257827E-17,1.0408340855860843E-15,4.649058915617843E-16,4.163336342344337E-16,4.0245584642661925E-16,6.4948046940571658E-15,-1.2628786905111156E-15,-1.1102230246251565E-16,-1.2490009027033011E-15,-1.9775847626135601E-15]
[-2.7214579501017612E-3,-3.4186419465715872E-3,1.8640337854138372E-3,1.4345328968175836E-3,-2.9921273450750235E-3,2.9342369779457693E-3,-5.6059211492317214E-3,-2.2378944532503295E-3,1.0335465348072959E-3,1.7011309811249794E-3,-9.2808038748987826E-4,5.2724817810953367E-3,2.9133484067735576E-3,5.543685666694915E-3,-3.9790151025869888E-4,-1.2804229844925622E-3,-1.1230074400295131E-3,3.1516621113235727E-3,-1.3579635765716251E-3,-1.8463413079659854E-3,-9.8763498462126287E-5,-8.4732581737553283E-4,-1.3459613571595982E-3,-3.7132871383413527E-3,-3.7859772767152627E-4,2.3142343188624955E-3,-1.3312117654662085E-3,-5.4822838971389906E-4,-2.9129606181991933E-3,1.081089049220479E-3,-2.4079331026027098E-4,-3.64649693644347E-3,-1.2332311687666764E-3,-8.5402447417106861E-4,-1.6968737903435426E-3,-1.7259620499199449E-3,-1.3339631681010876E-3,-2.2494554738419189E-3,4.8485093373506231E-3,5.0006211063631451E-3,8.9306953198221059E-4,1.0870869010404724E-3,5.1571039975462935E-3,-8.780843206158248E-4,-1.4729056210407432E-3,4.6571036320326564E-3,-9.3861945801900913E-4,1.3100150259456181E-3,3.4322403760161241E-3,-2.5713813502023296E-3,-1.1774965515698405E-3,2.3211601599295588E-3,-1.1520757918635348E-3,-1.5514482909538157E-3,-2.9644231486749069E-3,-5.1155062155532303E-3,-2.4988140772021928E-3,3.9260008928024065E-3,1.1588733893388369E-3,3.3115372336293449E-3,2.8093540631035432E-3,-4.1294629728425786E-3,-1.6018593950713736E-3,3.7517904245599381E-3,2.9470897199893099E-3,-7.1748958800746854E-4,3.7780845373153063E-4,-3.9207918085457779E-3,1.2013393342227611E-3,2.7179004851747156E-3,-4.9422101173051724E-3,-3.4121576451091387E-3,6.5376272578920283E-4,-1.7458962402547564E-3,-8.4348861475371537E-4,1.9948599139455745E-3,3.3263735212086514E-3,-1.4572083919937189E-3,3.6136518882370042E-3,2.7580268457241229E-3,2.3888325396769008E-3,-3.9709466244115517E-4,-3.2562470709432633E-3,-1.3408557573408499E-4,5.2925125963106752E-4,-4.5289876095085694E-3,8.7766696987193638E-4,-4.6097539595699195E-3,-9.0409378150301282E-4,-3.451374226440903E-3,5.5880655841924305E-4,1.0396406353469279E-3,-3.1958432208117897E-3,-2.1770768642069338E-4,1.6264165453632403E-3,4.173358127620686E-3,1.2211225754135064E-4,2.1540367800968155E-3,5.6398424881308896E-4,6.0646188462191021E-4,null,-1.2156074757907476E-15,1.1726730697603216E-15,-1.56472057533108E-15,-7.9103390504542404E-16,2.3661628212323649E-15,-4.8433479449272454E-15,1.6167622796103842E-15,6.9562411386669964E-16,-2.9663771439203401E-15,6.7654215563095477E-17,-1.0755285551056204E-16,-4.829470157119431E-15,-3.0461744238152733E-15,-4.6282422339061213E-15,8.8991314317610204E-16,1.3695641842836892E-15,-3.3306690738754696E-16,5.5511151231257827E-17,8.1185058675714572E-16,3.7782277306774859E-15,-9.0639301619788171E-16,-1.3357370765021415E-15,-4.7184478546569153E-16,6.3976601794024646E-15,-1.6809470482215261E-15,8.9511731360403246E-16,2.2013640910145682E-15,-7.8756445809347042E-16,2.5708601913976281E-15,6.349087922075114E-16,-1.1622647289044608E-16,1.8735013540549517E-15,1.5265566588595902E-16,1.2038980923279041E-15,2.1233015345956119E-15,2.1094237467877974E-15,-1.3426759704060487E-15,3.3098523921637479E-15,-3.1363800445660672E-15,-3.2526065174565133E-15,-7.7368667028565596E-16,4.6750797677574951E-16,-2.931682674400804E-15,1.672273430841642E-15,-2.9326313513017288E-16,-6.9944050551384862E-15,-5.2041704279304213E-18,-8.1315162936412833E-18,-4.4408920985006262E-16,8.9685203708000927E-16,-8.4481033280070505E-16,-2.5431046157819992E-15,1.85268467234323E-15,3.434752482434078E-16,3.3441131808142899E-15,2.7026991755718655E-15,-1.8388068845354155E-16,-4.1616016188683602E-15,-1.2732870313669764E-15,-2.0018708912772354E-15,-1.4085954624931674E-15,-2.0226875729889571E-15,5.377642775528102E-16,-6.2554128543723664E-15,-8.3266726846886741E-17,2.3613923316734287E-15,-9.8011876392689601E-16,-1.5022705301959149E-15,-2.2564415613768318E-15,-1.1749498943225412E-15,4.0089459529824012E-15,3.1814828549414642E-15,1.3600232051658168E-15,-5.6757983729616157E-17,1.5386997231914279E-15,2.3939183968479938E-15,-1.4536982728685643E-15,2.8102520310824275E-15,-5.2735593669694936E-16,-3.5769998074641762E-15,-1.4904527265158229E-15,1.020884765612351E-15,1.3704315460216776E-15,1.9307472287621863E-15,-1.5473733405713119E-15,1.9879931034694209E-15,-6.8695049648681561E-16,3.1320432358761252E-15,1.4710455076283324E-15,-1.0928757898653885E-15,-1.897787482718627E-15,-1.2958384365546749E-15,1.9290125052862095E-15,-4.5102810375396984E-17,7.9450335199737765E-16,-6.0368376963992887E-16,-3.372302437298913E-15,-2.3592239273284576E-16,-2.3314683517128287E-15,-6.9128730517675763E-16]
[5.4823646191478419E-5,1.0017316999305682E-3,1.8688799952650103E-3,1.2648251228472243E-4,3.802061606524163E-4,-9.7251233780750671E-4,-4.6011320328474657E-4,7.2688002998801219E-5,5.2875409509863544E-4,1.775446253235507E-3,4.821207913083712E-4,1.4545629124610054E-3,-1.2838844739410014E-3,1.2488088914840636E-3,7.2826064781865256E-4,-2.6135831657537511E-3,-6.1205983834046202E-4,-8.0542242632922287E-4,2.0113140180535077E-4,8.3617004664094242E-4,5.8036160987442651E-4,-8.9114181474582422E-4,9.3739745938103915E-4,9.3484709477554913E-5,5.1875138476236804E-4,1.3279154254940606E-3,1.9223755901614191E-3,-6.9984735704715494E-4,6.2457869080281044E-4,-8.9512307921809308E-4,1.3900913167155949E-3,1.2534199542396554E-4,7.3281644815123158E-4,5.5623569258135021E-4,-1.406287934648028E-3,-1.7168120789777502E-3,-2.2941844532795934E-3,6.6056889954254445E-4,-7.5707286453601376E-4,-1.0038107419026458E-3,3.8066986592515127E-5,2.3421751347081927E-4,-1.4213270918348197E-3,-2.8483269956721341E-3,3.0221468560587408E-4,-2.0023865697291299E-3,6.2924374191646222E-4,1.412984733453527E-3,-8.7887903416754634E-4,-1.5847933136041903E-4,1.5997633543097956E-3,1.8506965335266159E-3,-1.6511334997732685E-3,-3.543150519052935E-4,-1.8003275574713217E-3,-9.8887197145828849E-4,1.6905725859297713E-3,1.2584618481653587E-4,2.0535429392133553E-3,1.2598778671665048E-3,-1.7176912615240675E-3,1.748643065021761E-3,8.3037917227892988E-5,-2.1040024578208177E-4,2.1753698507330915E-3,-1.2015924674565236E-3,3.7105641554140454E-4,-3.8164281561300797E-4,-4.9362742979989561E-4,1.7862468212253861E-3,-1.3682965785332007E-3,-3.4823939404163317E-4,-9.1832756827598988E-4,-7.2431664980086982E-4,-2.175809760767788E-4,-2.7016147158311093E-4,4.6375668337162059E-4,-1.4048737468753078E-3,7.5609669733503091E-4,-5.7931679117724413E-4,1.0011272238032448E-4,-8.9040419711546945E-5,2.0457183004686594E-5,-1.9861293395756858E-3,1.1143134568426119E-3,2.5820858414735597E-3,8.2360929431040883E-4,-3.0743956777566124E-4,1.3903549763854704E-3,-8.4462913484718047E-4,-2.6501460329694191E-4,7.8129500243497084E-4,-2.5022658621420371E-3,1.2372882063716596E-3,3.1852118644902483E-4,-6.9066107487318791E-4,-9.5412874533757242E-4,1.7991789927536172E-3,-9.0318714703078356E-4,-1.6214109666335165E-3,null,-2.1736085153989393E-15,-1.8596235662471372E-15,-1.1483869410966463E-15,8.9685203708000927E-16,4.163336342344337E-17,-4.163336342344337E-16,-4.163336342344337E-16,1.2698175844150228E-15,-2.581268532253489E-15,1.7347234759768071E-16,2.3765711620882257E-16,-2.7651492207070305E-15,-1.7416623698807143E-15,-3.8857805861880479E-15,8.795048023202412E-16,1.3565537582138631E-15,1.4051260155412137E-15,6.6613381477509392E-16,-3.4000580129145419E-16,1.3045120539345589E-15,2.4286128663675299E-16,-8.3266726846886741E-16,1.0026701691145945E-15,-1.3877787807814457E-16,-1.6497220256539435E-15,-2.3592239273284576E-16,-4.9266146717741321E-16,-1.1900203045200897E-15,-9.7144514654701197E-17,-1.1796119636642288E-16,4.1286418728248009E-16,-5.2041704279304213E-16,-9.8532293435482643E-16,9.7144514654701197E-17,1.5404344466674047E-15,-1.4259426972529354E-15,1.6965595595053173E-15,-6.5225602696727947E-16,2.6367796834847468E-16,-1.5265566588595902E-15,3.8163916471489756E-16,-1.1761425167122752E-15,-3.2265856653168612E-15,-5.8980598183211441E-17,8.6440728706838055E-16,3.0114799542957371E-15,4.7704895589362195E-17,-5.1824863844807112E-16,-1.0061396160665481E-15,-6.2103100439969694E-16,-1.1449174941446927E-15,-9.8879238130678004E-17,1.9012569296705806E-15,2.9490299091605721E-16,-1.7433970933566911E-16,-3.0461744238152733E-15,-4.6664061503776111E-15,-2.9143354396410359E-16,-1.3183898417423734E-16,-2.6263713426288859E-15,9.298117831235686E-16,-8.3960616237277463E-16,-1.0200174038743626E-15,-3.9551695252271202E-16,-5.5511151231257827E-17,-9.8619029609281483E-16,-7.9450335199737765E-16,-4.4408920985006262E-16,-8.569533971325427E-16,1.9678269430611905E-15,-2.0747292772682613E-15,-1.0408340855860843E-16,1.4918621893400541E-15,7.8496237287950521E-16,-1.1345091532888318E-15,-1.1830814106161824E-15,1.4779844015322396E-15,-8.3266726846886741E-17,-4.2327252813834093E-16,2.9420910152566648E-15,-9.280770596475918E-17,3.9725167599868882E-16,-1.0616507672978059E-15,1.8561541192951836E-16,-1.5092094240998222E-15,-2.7478019859472624E-15,7.8409501114151681E-16,-9.0812773967385851E-16,-3.4000580129145419E-15,5.2735593669694936E-16,1.5473733405713119E-15,8.4481033280070505E-16,-5.9674487573602164E-16,-1.8179902028236938E-15,-2.7755575615628914E-16,-2.3175905639050143E-15,1.0824674490095276E-15,4.9439619065339002E-16,1.0755285551056204E-15,3.8684333514282798E-16]
[-1.6091247376112275E-3,-7.0748700663535212E-3,3.7649656155948783E-3,2.4090215120923437E-3,-6.188692401898504E-3,3.3575610880492422E-3,-5.4055128558295786E-3,-2.8737382367754558E-3,5.0332632957250925E-3,7.9838714437653938E-4,4.7062255570908782E-4,1.058714585317907E-2,7.0080046229696689E-3,8.943823312056667E-3,-2.2642521856249698E-3,-1.8372770397913341E-3,-3.5256374968278366E-3,6.0041739755187108E-3,-1.443931799862605E-3,-1.7525365935406839E-3,1.8255657774010081E-3,-2.207216033343885E-4,-1.1612994939296079E-3,-4.7664325478023722E-3,-2.7903053525634358E-3,3.9340474926664749E-3,-1.2132317237493087E-3,-1.0234432490713269E-3,-6.5710099117780568E-3,1.6215188965288255E-3,-1.1802064846095489E-3,-6.1407947731896909E-3,-1.5928105995626754E-3,-2.1904949125159971E-3,-3.6406605559662682E-3,-5.1582079441729852E-3,-1.419964536972636E-3,-5.9685947807579911E-3,5.6123586240268098E-3,9.6834194631779166E-3,2.3079191377290034E-3,-2.0929676466387376E-3,9.462308639170379E-3,9.3766848525196703E-5,9.4364742161419596E-4,3.1330484313121507E-3,-9.8679559079798687E-4,5.1751404645467613E-3,1.8302232611165823E-3,-1.5230962249194681E-3,-2.3461440692289187E-3,4.4942575866555772E-3,-2.2517795026569987E-3,-3.0859385756411167E-3,-6.808859137183973E-3,-8.8566907902456488E-3,-1.7758290625877588E-3,6.15291134986325E-3,2.93255769485298E-3,4.5644963228557017E-3,5.0833439585291082E-3,-1.6282119580868701E-3,-2.8197693213158231E-3,7.3987149801996973E-3,4.6911904651197323E-3,-5.4147606188509052E-4,2.1724635540325134E-3,-7.6936344772314197E-3,1.9586726210014591E-4,2.6834009796644015E-3,-8.4362920874270515E-3,-5.5910814030394303E-3,3.6217657825046165E-3,-1.7094758196858602E-3,-4.7837759373120714E-3,2.0337873354959739E-3,4.7480402670263449E-3,7.2878732994573279E-4,5.6776461786646366E-3,5.8859148837036458E-3,1.9047524554820299E-3,6.7947332290293019E-4,-4.9352730849339076E-3,-2.2021419711900389E-3,7.2245505775135979E-4,-6.2240854822050978E-3,1.5671206088986804E-3,-7.617237379868148E-3,-1.4121651698274214E-3,-6.9064308048909003E-3,-2.5794628348476479E-3,1.4071769453236336E-3,-5.156699428201874E-3,-3.9061344936427134E-3,5.7284913947518211E-4,2.269512128029132E-3,3.6833957027620563E-3,1.9006347933418709E-3,2.5151968074449242E-3,-2.3180539878465537E-3,null,7.7368667028565596E-16,-3.0669911055269949E-15,-5.5511151231257827E-17,6.2103100439969694E-16,2.9143354396410359E-16,-1.033895191682177E-15,-7.9103390504542404E-16,-5.8980598183211441E-16,-7.7715611723760958E-16,1.4779844015322396E-15,-5.2735593669694936E-16,-5.8980598183211441E-16,-8.6042284408449632E-16,-1.5265566588595902E-15,4.4755865680201623E-16,2.6194324487249787E-16,-4.5102810375396984E-16,-1.1796119636642288E-15,6.6613381477509392E-16,1.3600232051658168E-15,1.7694179454963432E-16,-1.1518563880485999E-15,-1.7347234759768071E-16,1.7763568394002505E-15,-1.0564465968698755E-15,1.5265566588595902E-15,-1.0130785099704553E-15,-8.6042284408449632E-16,-1.5404344466674047E-15,-1.0685896612017132E-15,1.672273430841642E-15,9.8532293435482643E-16,-6.2450045135165055E-16,2.4841240175987878E-15,0,-7.7715611723760958E-16,1.4641066137244252E-15,3.8857805861880479E-16,2.1094237467877974E-15,-1.0269562977782698E-15,-1.9428902930940239E-16,3.0531133177191805E-16,-1.7486012637846216E-15,-6.106226635438361E-16,-7.029424785309768E-16,9.1593399531575415E-16,-7.2337968948232856E-16,7.9125074547992114E-16,-2.7755575615628914E-16,-1.0408340855860843E-16,6.9388939039072284E-16,-1.0130785099704553E-15,2.1788126858268697E-15,6.0715321659188248E-16,-8.2225892761300656E-16,1.1796119636642288E-15,-1.1657341758564144E-15,-4.2327252813834093E-16,-5.4817261840867104E-16,1.8388068845354155E-15,8.0491169285323849E-16,-4.8572257327350599E-16,2.0400348077487251E-15,-1.1796119636642288E-15,-7.2164496600635175E-16,-1.3392065234540951E-15,-6.2450045135165055E-16,7.9797279894933126E-16,4.0245584642661925E-16,-6.85649453879833E-16,6.7307270867900115E-16,-8.8817841970012523E-16,5.5511151231257827E-17,5.5250942709861306E-16,-9.0205620750793969E-16,2.8449465006019636E-16,9.5756735873919752E-16,1.3183898417423734E-16,-3.9135361618036768E-15,-1.6237011735142914E-15,-1.4862243380431295E-15,-7.5633943552588789E-16,-1.9706458687096529E-15,-2.6367796834847468E-16,5.2735593669694936E-16,-2.8033131371785203E-15,-5.5511151231257827E-17,8.0838113980519211E-16,-1.9290125052862095E-15,3.9551695252271202E-16,-2.1094237467877974E-15,5.2735593669694936E-16,-1.0477729794899915E-15,2.9143354396410359E-16,7.0082828429463007E-16,-1.2906342661267445E-15,-2.1510571102112408E-16,3.4000580129145419E-16,1.0130785099704553E-15,1.3183898417423734E-16]
[-4.0942405260371382E-3,-1.6167688099075097E-4,6.58821709142223E-4,8.1332577848422703E-5,-1.3180052974834018E-3,2.1023239231868851E-3,-3.9482782016727102E-3,-2.5439740573076032E-3,-1.3742439111305593E-5,1.1839879658148845E-3,3.6147946818165653E-4,2.5457451946484214E-3,1.9900745537347678E-3,2.4271546442919496E-3,-8.8319644773352998E-4,-4.1000164453625608E-4,-2.6886927712860055E-3,3.1670026438109632E-3,-1.8992340883670525E-3,5.8537683184029345E-4,9.675967684925511E-4,-9.9559192035328977E-4,-2.5754667265241549E-3,-4.3738445458964669E-3,-1.3808053321444416E-3,2.7972661066268749E-3,-8.458793212547819E-4,-1.6589702955944517E-4,-1.1254918904409501E-3,9.4974403368646007E-4,1.7240881143663106E-3,2.4437514792011042E-5,3.9719180130390249E-4,4.646923518727794E-4,-5.6765251160558936E-4,-9.665137760428783E-4,-1.704634157214303E-4,-2.6345235593011559E-3,1.9640415377563591E-3,8.1253689599105467E-4,-1.6476863118437823E-3,7.9944805608510739E-4,5.0518439703825925E-4,-3.295603331537598E-4,-1.1566901186284488E-3,3.7415818095590686E-3,-1.6973308636245169E-3,9.1202794344361581E-5,4.2512276186070629E-3,-1.3357122438588593E-3,2.4808449108719515E-3,6.9708170840451311E-4,2.3436370731855323E-3,-4.406905052953425E-4,-1.0940329550777896E-3,6.1081891656470698E-5,-4.6118512812494411E-4,3.2344784230013109E-3,7.2351600924911244E-5,1.5647142438959224E-3,1.2540999539216459E-3,-1.1711045701003882E-3,-2.7281604597649682E-3,1.630282151700533E-3,-5.897855723412093E-5,-1.6903706154864143E-3,1.0702641050598385E-3,-2.4308326713221914E-3,6.4740582242072699E-4,1.5049420289076068E-3,-1.9973489774520975E-3,-8.731997933416702E-4,-7.7978473974947234E-4,-1.1592392152114015E-4,3.4007623444319324E-4,3.4110037458356854E-3,2.3276040498192282E-3,-1.4773006474901654E-3,-6.973331657919937E-4,2.3609255374120726E-3,-1.5421240651369563E-3,-6.3666280870653476E-4,-6.4526649908819647E-4,-1.3942444069362191E-3,-8.7308831916694727E-4,-2.1850852664501058E-4,4.0079293922773418E-4,-1.87851558244888E-3,-1.2709129331945273E-4,-2.9943996571164967E-3,-2.1355411506434482E-3,-9.8725605313771791E-4,-1.1419781965583649E-3,1.2667235383166482E-3,3.4683473911605224E-4,3.9388907245104677E-3,-5.0503068200847265E-4,5.3399115645488306E-4,2.5887774359354716E-5,1.6042197464550609E-4,null,-2.095545958979983E-15,-8.6042284408449632E-16,7.4940054162198066E-16,9.6450625264310474E-16,6.5503158452884236E-15,-5.2735593669694936E-16,2.1094237467877974E-15,-1.8041124150158794E-16,9.9920072216264089E-16,7.4940054162198066E-16,-2.7755575615628914E-16,1.6514567491299204E-15,-1.4432899320127035E-15,-1.27675647831893E-15,1.27675647831893E-15,-1.1587952819525071E-15,1.457167719820518E-15,-1.8318679906315083E-15,3.2612801348363973E-15,6.4392935428259079E-15,-1.8179902028236938E-15,-4.163336342344337E-16,1.5543122344752192E-15,6.6613381477509392E-16,-8.1532003370909933E-16,-1.8596235662471372E-15,8.3266726846886741E-17,-1.9428902930940239E-16,-1.2490009027033011E-15,-4.163336342344337E-16,1.9984014443252818E-15,-4.5796699765787707E-16,0,8.6042284408449632E-16,3.0531133177191805E-16,4.5796699765787707E-16,8.6042284408449632E-16,3.6082248300317588E-16,-1.27675647831893E-15,-1.1934897514720433E-15,1.0824674490095276E-15,9.0205620750793969E-17,-1.3600232051658168E-15,-1.1934897514720433E-15,-6.5214760675003092E-16,-3.2751579226442118E-15,2.2204460492503131E-16,3.6949610038305991E-16,2.4980018054066022E-15,3.0531133177191805E-16,-6.6613381477509392E-16,-1.0685896612017132E-15,1.0824674490095276E-15,5.134781488891349E-16,1.5022705301959149E-15,2.7478019859472624E-15,1.609823385706477E-15,-4.7184478546569153E-16,1.0963452368173421E-15,-1.2628786905111156E-15,9.4368957093138306E-16,-5.5511151231257827E-17,-1.1657341758564144E-15,-4.7739590058881731E-15,7.3552275381416621E-16,-2.3245294578089215E-16,1.7277845820728999E-15,7.4940054162198066E-16,8.4307560932472825E-16,-7.7889084071358639E-16,-1.7902346272080649E-15,7.4940054162198066E-16,-1.6653345369377348E-16,3.0314292742694704E-16,1.6653345369377348E-16,1.5543122344752192E-15,-4.4408920985006262E-16,-2.248201624865942E-15,-2.1649348980190553E-15,-1.4988010832439613E-15,-1.3270634591222574E-15,-1.1518563880485999E-15,7.7715611723760958E-16,4.0939474033052647E-16,2.7755575615628914E-17,3.4416913763379853E-15,1.124100812432971E-15,-4.163336342344337E-15,5.5511151231257827E-16,-7.3552275381416621E-16,-2.9420910152566648E-15,9.2287288921966137E-16,1.3877787807814457E-17,5.5511151231257827E-16,1.3877787807814457E-17,-1.2212453270876722E-15,-1.5681900222830336E-15,-1.5543122344752192E-15,-1.1102230246251565E-16,-2.1510571102112408E-16]
[-5.6137223285404386E-3,-5.7072891059954693E-3,3.2167602947625602E-3,3.5110112816940371E-3,-5.5523333907955856E-3,3.9996450578932679E-3,-9.7730928958791336E-3,-3.9736035019298961E-3,4.9181624529066204E-3,3.3534247056572286E-3,-6.6849478045980122E-4,1.0777142383685444E-2,4.9363320459274657E-3,1.1542883822212096E-2,-1.09888329654368E-3,-3.5225658142544847E-3,-4.3965331986315186E-3,4.880350837118283E-3,-2.0275056010110718E-3,-1.1726040247983763E-3,1.8461412831692748E-3,-7.9201309108391433E-4,-3.3672813572686779E-3,-5.3604304587395292E-3,-3.1354614807678712E-3,5.0693696412985115E-3,-1.7351390355517964E-3,-1.3018730311750439E-3,-5.9781762882368788E-3,1.5394930271917695E-3,6.5752826421087477E-5,-5.8084195473241092E-3,-1.4299958215824729E-3,-7.8809238977978015E-5,-3.7947868575049794E-3,-4.9118784426849397E-3,-3.2175613560571832E-3,-5.018123098304495E-3,7.3093067627995733E-3,8.5776668610020451E-3,3.648031169975675E-3,1.1619069524534007E-3,9.4267007072425055E-3,-1.8934067551425761E-3,-2.4891721780142396E-3,6.3534318635298809E-3,-2.1567207400376822E-3,3.4246345338970405E-3,5.1274523938730525E-3,-4.1526238004901683E-3,1.681137571203241E-4,5.6006315208730149E-3,-2.4858386835977897E-3,-2.743586182491493E-3,-6.4170016401954274E-3,-8.9659269268423207E-3,-7.7435775581432328E-4,7.1286107911397592E-3,3.9399918979969566E-3,7.0714404382488409E-3,5.0910340767889991E-3,-3.4581466552869155E-3,-3.3727349000955186E-3,6.6445276444109195E-3,4.7975604130718972E-3,-3.5231716451173413E-3,2.0654943107615668E-3,-7.3620781683000494E-3,2.279453268356739E-3,5.0487650631067665E-3,-9.3264011160939606E-3,-6.0326004853552924E-3,1.050348922311908E-3,-1.3917317666339195E-3,-2.8139590463344463E-3,4.486716184481758E-3,5.6953109147674826E-3,-2.6650595107034739E-3,5.282911213428991E-3,4.8577422500148534E-3,2.9033503173916072E-3,-9.4740437570277011E-4,-5.7515502104381099E-3,-4.0125853713853556E-3,1.0667626723541782E-3,-5.7618008570901724E-3,2.3823867276004745E-3,-8.3517015805649984E-3,3.4932256965458308E-5,-6.8818951752011573E-3,-3.1814814745929764E-3,1.2967466797931813E-3,-7.5586289858196086E-3,-8.4914499976604385E-4,1.0334336802004936E-3,5.0547443539098779E-3,2.3919473295158627E-3,3.3360454155113889E-3,1.4334060295557787E-3,-4.8944719118790845E-4,null,3.8614944575243726E-15,5.5511151231257827E-17,2.0816681711721685E-16,3.5735303605122226E-16,-7.2164496600635175E-16,-2.4286128663675299E-15,1.1102230246251565E-15,4.8572257327350599E-16,2.1233015345956119E-15,-1.8249290967276011E-15,-1.9428902930940239E-16,-2.3453461395206432E-15,7.4940054162198066E-16,-1.3045120539345589E-15,-3.1225022567582528E-16,1.3149203947904198E-15,-2.6367796834847468E-16,1.27675647831893E-15,1.5126788710517758E-15,5.773159728050814E-15,-8.8817841970012523E-16,9.7144514654701197E-17,3.9551695252271202E-16,4.5241588253475129E-15,-6.5572547391923308E-16,4.9960036108132044E-16,1.5126788710517758E-15,-9.0205620750793969E-16,4.0245584642661925E-16,-4.163336342344337E-16,-2.7755575615628914E-16,-4.0245584642661925E-16,-1.0408340855860843E-15,1.5404344466674047E-15,-3.0531133177191805E-16,1.2490009027033011E-15,-8.1878948066105295E-16,9.1593399531575415E-16,-2.6367796834847468E-15,-4.9960036108132044E-16,1.7486012637846216E-15,8.3266726846886741E-17,1.4432899320127035E-15,-1.1379786002407855E-15,4.2479041117982064E-16,-4.1910919179599659E-15,-1.214306433183765E-16,1.1839487723541708E-16,2.4980018054066022E-16,4.9960036108132044E-16,1.8041124150158794E-16,-1.1726730697603216E-15,5.4123372450476381E-16,-5.620504062164855E-16,-2.2551405187698492E-16,2.2204460492503131E-15,1.1657341758564144E-15,-1.609823385706477E-15,1.3045120539345589E-15,6.2450045135165055E-16,-6.106226635438361E-16,-4.9960036108132044E-16,-5.2735593669694936E-16,-1.7208456881689926E-15,6.9388939039072284E-18,1.7069679003611782E-15,6.2450045135165055E-16,3.3306690738754696E-16,-2.2551405187698492E-17,-9.5626631613221491E-16,-1.6792123247455493E-15,-1.9428902930940239E-16,1.4988010832439613E-15,8.320167471653761E-16,2.2204460492503131E-16,1.9290125052862095E-15,4.7184478546569153E-16,-3.8857805861880479E-16,7.4940054162198066E-16,-3.4694469519536142E-15,-8.2572837456496018E-16,-3.5388358909926865E-16,-6.6613381477509392E-16,8.1185058675714572E-16,-6.8001160258290838E-16,2.1649348980190553E-15,2.9143354396410359E-16,-2.9490299091605721E-17,3.8857805861880479E-16,-2.3175905639050143E-15,-1.27675647831893E-15,-3.7470027081099033E-16,1.3600232051658168E-15,3.0808688933348094E-15,8.0491169285323849E-16,5.8286708792820718E-16,-9.7144514654701197E-16,-4.4408920985006262E-16,-1.5820678100908481E-15,-4.891920202254596E-16]
[2.1797881682062287E-3,2.3819772721242285E-3,-4.230335368107325E-3,-2.0470960731591324E-3,1.0616098818059832E-4,-4.2597598327758458E-3,5.286472421522543E-3,2.8907423902361932E-3,-4.4026674630034211E-3,-3.3897572937989814E-3,1.954385012392772E-3,-6.3758058606731239E-3,-3.7013366351180662E-3,-6.739636282875547E-3,4.6366203949460897E-4,8.5829965231570826E-4,5.395877691525261E-3,3.7866794819675707E-4,-8.6258514728139847E-4,-7.5045805751112029E-4,-4.0638245030526541E-4,-2.0099338225356804E-3,1.2919263964474934E-3,8.0868946394055863E-4,1.2055375373352022E-3,-6.5287304891535993E-4,1.435078334963746E-3,3.9628520778019276E-4,2.7087860813225272E-3,5.2578645029611982E-4,-4.1333900947349766E-3,1.0472161257843791E-3,-9.4324586175514662E-5,-1.4918064628424374E-3,3.385361408356023E-3,1.2558376407858028E-3,4.8793413913836509E-3,5.9098690041992129E-3,-2.15606247988364E-3,-4.396850538228571E-3,-2.4090884403629568E-3,2.8350981054154164E-4,-2.8361931343488891E-3,1.0023580934742362E-3,2.6771521403357398E-4,-1.7090194651199137E-3,-1.4610874735079539E-4,-3.2541464080361373E-3,-3.1281010512144991E-3,1.7152075964189961E-3,-2.7073688701450089E-3,-4.2341709223679622E-3,3.4722619560049709E-3,1.5779068514546197E-3,4.2627080911626604E-3,2.9000607612780383E-3,-2.4651027196954042E-3,-2.9775878849112318E-3,-2.3973805055750672E-3,-4.6365647560409956E-3,-3.2882241254641011E-3,-1.1075589569538935E-3,2.7706019390735764E-3,-3.0864296962799021E-3,-2.4260547410254046E-3,5.1796145686148747E-3,-3.0746885419291855E-3,4.535564332551513E-3,-3.7844661156317761E-3,-1.8062226052412546E-3,4.5983369721739088E-3,3.2664536911593332E-3,6.6927862679592607E-4,1.2641785046252879E-3,2.5689245620975441E-3,-3.6968893067598585E-3,-6.7950141792105182E-5,3.1524590882140292E-3,-4.261068357643407E-4,-4.9319784648409464E-4,-2.9838011197787933E-4,1.5002469492990044E-3,1.4673487377871823E-3,2.5135989597399309E-3,-1.8327702305873314E-3,-9.1317549203719615E-4,-4.0040762010791616E-3,3.3550713798682652E-3,-1.1916304143989901E-3,4.0921184811339708E-3,3.5628187398453709E-3,9.7647463566876975E-4,8.7508640509464681E-3,1.1932269257935158E-3,-2.6534323223984285E-3,8.0983144098913736E-4,-3.3368049696320544E-3,5.0250939962701968E-4,2.6833639093570083E-3,-1.3262839811910713E-4,null,-1.2004286453759505E-15,-2.886579864025407E-15,8.3266726846886741E-17,-8.0491169285323849E-16,6.4948046940571658E-15,-1.7486012637846216E-15,7.2164496600635175E-16,-9.7144514654701197E-16,1.9984014443252818E-15,5.1486592766991635E-15,2.1510571102112408E-15,-1.6375789613221059E-15,3.1086244689504383E-15,-7.7715611723760958E-16,7.4940054162198066E-16,-1.9775847626135601E-15,-1.8041124150158794E-16,4.5519144009631418E-15,-1.2628786905111156E-15,2.2204460492503131E-15,6.8001160258290838E-16,-3.3306690738754696E-16,-1.4016565685892601E-15,-2.886579864025407E-15,3.5388358909926865E-16,-1.3600232051658168E-15,1.27675647831893E-15,-9.4368957093138306E-16,-2.3314683517128287E-15,1.9706458687096529E-15,9.1593399531575415E-16,-8.0491169285323849E-16,1.1657341758564144E-15,-2.8310687127941492E-15,6.9388939039072284E-16,-3.6914915568786455E-15,-9.1593399531575415E-16,-1.9428902930940239E-16,4.2188474935755949E-15,-2.2204460492503131E-15,-1.5543122344752192E-15,-1.2906342661267445E-15,-4.9960036108132044E-16,1.6375789613221059E-15,2.2898349882893854E-16,-2.3314683517128287E-15,5.9674487573602164E-16,-6.106226635438361E-16,1.1102230246251565E-15,-1.124100812432971E-15,-3.8857805861880479E-16,-2.1233015345956119E-15,-3.3306690738754696E-16,8.3266726846886741E-16,2.0400348077487251E-15,4.496403249731884E-15,1.9706458687096529E-15,-1.9428902930940239E-15,-2.7755575615628914E-17,2.55351295663786E-15,1.9428902930940239E-15,-4.2188474935755949E-15,-1.3322676295501878E-15,1.7763568394002505E-15,-1.915134717478395E-15,1.3877787807814457E-15,-4.8572257327350599E-16,-9.4368957093138306E-16,-9.1246454836380053E-16,-2.0209528495129803E-16,2.0539125955565396E-15,-1.0547118733938987E-15,-9.9920072216264089E-16,9.6407257177411054E-16,1.762479051592436E-15,-8.3266726846886741E-17,2.8310687127941492E-15,5.2735593669694936E-16,9.9920072216264089E-16,2.6645352591003757E-15,-2.1302404284995191E-15,1.1796119636642288E-15,-1.0824674490095276E-15,9.7144514654701197E-17,2.9698465908722937E-15,3.6637359812630166E-15,5.2735593669694936E-16,-9.5062846483529029E-16,1.2212453270876722E-15,-1.609823385706477E-15,2.1649348980190553E-15,7.4940054162198066E-16,-1.4988010832439613E-15,-2.4980018054066022E-15,-5.5511151231257827E-16,2.886579864025407E-15,-6.106226635438361E-16,-1.2073675392798577E-15,5.5511151231257827E-16,-8.8817841970012523E-16]
[-2.224537350527979E-3,-1.3282302529693745E-3,-8.4978671216627024E-4,5.900972440437773E-4,-2.1531903317319476E-3,5.4225647316185667E-4,-1.5826203326128241E-3,5.136674861941587E-4,-8.7293765822030417E-4,5.9740668926101727E-4,1.6782878240350385E-4,1.9340144368198827E-3,1.8204047076798085E-3,2.9419124503385369E-3,-7.8756152044468625E-5,6.3835562361976819E-4,4.8117331237464383E-4,3.2780266573484741E-3,-2.3907604794876402E-3,-1.6710854312967213E-3,8.1536278507881622E-4,-2.3601129686119829E-3,5.3987039064669763E-4,-3.0235176583299178E-3,-1.3257448770536823E-3,8.7242690394628754E-4,7.1015406713836643E-4,5.523388457034072E-5,-1.2475721074401232E-3,9.9929774925220337E-4,-1.9513138693235019E-3,-1.841854340502623E-3,-1.9633436488268518E-3,-1.641717785293323E-3,6.9594032550282983E-5,-2.9628404498411535E-3,1.5945051712898898E-3,-2.0507663234432458E-4,2.9662422092581993E-3,2.679310303193095E-3,5.8523949738324937E-4,-7.7516516104450138E-4,3.4316165183892393E-3,-1.9588049340446835E-5,-4.4341919816432194E-4,2.1130648403341048E-3,-7.7563208138809868E-4,5.7070041118542365E-4,1.5056367648644548E-3,-4.8067229191589995E-4,-1.2044888775884757E-3,1.0683088608617192E-3,1.440827481297282E-3,1.1719373038200264E-4,1.2856256289667814E-4,-2.4322349583340407E-3,-3.197681197505243E-3,1.154550171372767E-3,-2.8795960592369909E-4,1.239000172656528E-3,1.3914529272331163E-3,-2.1223457523323395E-3,-1.6431750778550254E-3,2.7514252942936581E-3,1.3182254747586076E-3,2.7119114793777584E-3,-1.1884713839970472E-3,-2.2596900302964793E-3,-2.0754895592739226E-3,-3.2107509739827481E-4,-1.6085762430148973E-3,-1.5853502883664506E-3,6.331877751484745E-4,-8.2518857602441721E-4,-4.1572746320307808E-5,1.5120876070082413E-3,1.6167750791036307E-3,1.8872035917726424E-3,1.5983682257957469E-3,2.3454650810292724E-3,9.3546256100308651E-4,-1.9485441466023288E-4,-2.0622466562245589E-3,-1.5253352595666501E-3,-4.9543325049901854E-4,-4.1828654917074786E-3,-3.3386964163499751E-4,-3.1364756505880475E-3,-4.9267336200876921E-4,-1.8197225362283692E-3,1.2665851031112422E-3,1.5995751109667551E-3,1.7035883833466782E-3,-7.0694952761455205E-5,-8.6678479561699199E-4,3.0252872610501474E-3,-6.5431673494093401E-4,1.21242929902944E-3,1.9252071144886392E-3,-5.0091551664848116E-4,null,-3.6403172143373297E-15,3.3445468616832841E-15,3.6255720647915268E-16,-1.128437621122913E-15,-5.4470317145671743E-16,-1.457167719820518E-16,1.5959455978986625E-15,-2.5274921044982079E-15,1.4606371667724716E-15,-5.1174342541315809E-16,4.2500725161431774E-16,3.6654707047389934E-15,-1.7347234759768071E-17,5.6135651682609478E-15,2.5066754227864863E-16,1.0998146837692957E-15,1.654926196081874E-15,-3.4729163989055678E-15,-4.3368086899420177E-18,-3.2578106878844437E-15,-1.9238083348582791E-15,8.7083118494035716E-16,-1.4432899320127035E-15,-4.784367346744034E-15,2.2724877535296173E-16,-2.0469737016526324E-15,-1.3114509478384662E-15,9.1940344226770776E-17,6.5225602696727947E-16,9.2287288921966137E-16,1.7347234759768071E-16,1.3201245652183502E-15,8.8470897274817162E-16,1.6341095143701523E-15,4.2674197509029455E-16,1.3704315460216776E-15,-6.7827687910693157E-16,8.6736173798840355E-17,5.5858095926453188E-16,-1.5386997231914279E-15,-6.3143934525555778E-16,-1.7199783264310042E-15,-6.6266436782314031E-15,-5.3949900102878701E-16,-5.2719330637107653E-16,-2.6367796834847468E-16,-6.2840357917259837E-16,-3.4756811144454058E-16,2.3522850334245504E-15,-8.7863744058225279E-16,-2.2915697117653622E-15,-2.0834028946481453E-15,9.298117831235686E-16,1.3678294608077124E-15,1.3678294608077124E-15,3.6498581934552021E-15,2.5222879340702775E-15,-1.1605300054284839E-15,6.1756155744774333E-16,-2.301978052621223E-15,-1.6028844918025698E-15,-3.1398494915180208E-15,-2.8067825841304739E-15,-2.1545265571631944E-15,9.2460761269563818E-16,-1.1037178115902435E-15,-1.4242079737769586E-15,-2.2135071553464059E-15,2.6597647695414395E-15,-1.8872165115368933E-15,1.0096090630185017E-15,1.4918621893400541E-16,-2.0226875729889571E-15,9.2384867117489833E-16,5.7939764097625357E-16,-3.6342456821714109E-15,-8.4654505627668186E-16,-2.3227947343329447E-15,-2.9282132274488504E-15,4.2119085996716876E-15,9.8087770544763586E-16,-1.0772632785815972E-15,4.8641646266389671E-15,1.2221126888256606E-15,2.7755575615628914E-16,2.5292268279741847E-15,-1.0425688090620611E-15,-8.3483567281383841E-16,1.2628786905111156E-15,3.4000580129145419E-16,-1.214306433183765E-15,7.9623807547335446E-16,-3.1277064271861832E-15,1.0096090630185017E-15,7.1817551905439814E-16,2.8380076066980564E-15,-3.0010716134398763E-16,-2.9264785039728736E-15,4.5102810375396984E-16,1.474514954580286E-17]
[3.3114525522676837E-3,-3.1052206964578134E-3,3.8843880509523403E-4,-1.0684029075019466E-3,-1.8485689808575407E-3,4.965425296299691E-4,2.2663658310695034E-3,1.807713180435861E-3,-1.2732552940742283E-3,-4.7400364594964986E-3,7.6364644004849939E-5,-1.0975513758857739E-3,1.5295554559814335E-3,1.586094600161249E-3,-8.8124181857458794E-4,2.5841209248910813E-3,4.8434390007303391E-3,2.4649119749065892E-3,2.6468459602154473E-4,-3.4863757231966852E-3,-2.2208524929621444E-3,-2.0915508647717379E-3,2.6940100512458458E-3,-2.182960083428339E-4,9.1271406361043164E-5,-3.1859468660104221E-3,1.0339784447082245E-3,9.2201720147405697E-4,-1.7160740321462099E-3,1.0594248093461232E-4,-3.9250951131548509E-3,-2.4156221172068901E-3,-3.3589197984564283E-3,-3.8281565898062573E-3,1.299999749065444E-3,-1.5177597228454253E-4,2.6757947490618065E-3,1.0805224771818179E-3,7.8606534225635755E-4,1.3449486253071389E-3,-2.8029905607141119E-3,6.9697486166277731E-6,2.7044405051692175E-3,1.9368889692671686E-3,6.2625716221266915E-4,-1.2520600691718817E-3,8.0219833138066299E-4,-3.1944664441321699E-4,-3.0676078385401704E-3,1.5854508702083038E-4,-4.5482958865967725E-3,-6.0235373872322227E-4,2.8717973431337828E-3,-6.5260566728218925E-4,3.1120093105702342E-3,-4.4056504647506742E-3,-3.4427987806300501E-3,2.0530645545159465E-3,-3.85314235290739E-5,-2.3964590515940139E-3,3.2414203704581005E-3,-3.2420928032226765E-3,-1.9926335436264157E-3,1.8250951523017295E-3,-1.3019926351853152E-3,4.6356302038239134E-3,-5.055560196844916E-3,-1.105222655158535E-4,-3.8806864866688666E-3,-2.8295810023966743E-3,1.4644672141460736E-3,-1.5307347580356201E-3,4.8241404024220768E-3,-6.7085944274203357E-5,-1.5543047047631908E-3,-3.9237650935927447E-3,3.1835728153453268E-3,4.0424605004442298E-3,3.0170448086064231E-3,7.5074892544143516E-4,8.7803392263059103E-4,2.1220915908289968E-3,-8.9111358283204816E-4,2.0279397485316896E-3,-2.7899641539040594E-3,-4.0609559881526628E-3,-2.0850036144464761E-3,1.642122427756254E-3,-3.0991247504434652E-3,1.1134569249931523E-3,4.2982547928034935E-3,1.2427963135072469E-3,4.9234144545257747E-3,-1.6812172656812657E-3,-3.8940281618497301E-3,2.0872504592577934E-3,-1.9573001082041582E-3,8.1914120025697909E-4,3.5279214753504585E-3,3.064727822950315E-4,null,9.7144514654701197E-16,-1.0547118733938987E-15,1.6653345369377348E-16,-1.3183898417423734E-16,4.4408920985006262E-16,-7.4940054162198066E-16,8.6042284408449632E-16,2.7755575615628914E-16,8.3266726846886741E-16,-3.1918911957973251E-16,2.7755575615628914E-17,-2.0539125955565396E-15,-3.0531133177191805E-16,-9.4368957093138306E-16,-6.9388939039072284E-17,7.8409501114151681E-16,-1.6653345369377348E-16,-1.0547118733938987E-15,2.7755575615628914E-16,2.7755575615628914E-16,-9.0205620750793969E-17,-7.4940054162198066E-16,-5.5511151231257827E-17,-1.1102230246251565E-15,-1.0685896612017132E-15,8.8817841970012523E-16,-2.7755575615628914E-17,-5.5511151231257827E-17,-1.3045120539345589E-15,1.6653345369377348E-16,-6.9388939039072284E-17,1.2490009027033011E-15,8.3266726846886741E-17,3.6082248300317588E-16,-9.7144514654701197E-17,-8.7430063189231078E-16,-3.3306690738754696E-16,2.7755575615628914E-16,4.4408920985006262E-16,1.0824674490095276E-15,-1.9428902930940239E-16,2.7061686225238191E-16,-8.8817841970012523E-16,-8.3266726846886741E-17,-4.2283884726934673E-18,-1.1102230246251565E-15,-6.9388939039072284E-17,2.5587171270657905E-16,-4.163336342344337E-16,-8.3266726846886741E-17,-9.7144514654701197E-16,-9.9920072216264089E-16,2.4980018054066022E-16,3.4694469519536142E-16,6.9388939039072284E-17,-1.3322676295501878E-15,-8.0491169285323849E-16,-3.7470027081099033E-16,0,1.9706458687096529E-15,-1.1657341758564144E-15,-3.8857805861880479E-16,4.4408920985006262E-16,-9.9920072216264089E-16,2.9837243786801082E-16,-5.6551985316843911E-16,-3.8163916471489756E-16,1.1657341758564144E-15,5.5511151231257827E-17,-5.1000870193718129E-16,4.7184478546569153E-16,1.3322676295501878E-15,6.3837823915946501E-16,2.0643209364124004E-16,-6.9388939039072284E-17,5.2735593669694936E-16,1.1102230246251565E-15,1.3877787807814457E-16,-8.3266726846886741E-16,-3.3306690738754696E-16,-1.2403272853234171E-16,9.7144514654701197E-17,-1.609823385706477E-15,1.6653345369377348E-16,-3.0531133177191805E-16,1.5543122344752192E-15,2.4980018054066022E-16,5.0653925498522767E-16,2.7755575615628914E-17,4.4408920985006262E-16,-3.6082248300317588E-16,4.4408920985006262E-16,2.6367796834847468E-16,1.9428902930940239E-16,1.3877787807814457E-16,-3.6082248300317588E-16,-1.9428902930940239E-16,-2.0816681711721685E-17,-4.4408920985006262E-16,-4.7184478546569153E-16]
[1.014782250745106E-3,-1.2244309915086093E-3,3.0717034288282663E-4,-1.4695747725619974E-3,-1.7532646079318488E-3,-1.2048516222946872E-4,1.2099765758798601E-3,2.5098740820778706E-4,-2.7102875558845498E-3,-2.3278421850017072E-3,-1.0533778694773812E-3,-3.052541222729611E-4,6.4079032314614344E-4,1.8879977649605838E-3,-1.8716914702485998E-4,2.2872850923116943E-3,1.515367455938166E-3,2.8546933373776026E-3,-5.2083203294130773E-5,-2.9579129722931167E-3,-8.239680462150548E-4,-1.2623757928211712E-3,4.1036787943579315E-4,-2.285296760431022E-3,1.0413077244733366E-4,5.7686160252433578E-4,-1.1458858846919563E-3,1.6867779621485338E-3,-9.549706386921831E-4,1.6368450146718252E-3,-2.5175233812195926E-3,-1.7795063295816341E-4,-1.300699040956001E-3,-2.5419930064481382E-3,1.4171208670664616E-3,-1.4292881746483241E-4,1.6165488835736955E-3,-3.625282437912147E-5,1.5129085367894732E-3,1.3281955671346308E-3,-2.451867968204598E-3,8.4768341317850769E-4,2.2111198963619518E-3,1.2235297488466228E-3,7.0886031122031033E-4,1.7442721667062316E-3,1.7706036963947608E-4,-9.393643172224158E-4,1.7944776029523281E-4,-4.5302128414062223E-4,-1.698364219558147E-3,-8.1770017961759335E-4,2.5410560803834489E-3,-1.137289673024629E-3,8.8134237788319936E-4,-1.7240386042372137E-3,-1.8262901207397031E-3,1.8265810436514849E-3,-4.141610474919003E-4,-4.9658138625596608E-4,2.3652210479315535E-3,-2.7441219427654885E-3,-1.1711506708531876E-3,4.8310200899408077E-4,-6.2794836004440155E-4,4.4262810859972695E-4,-2.2703665469531549E-3,5.2555631819913712E-4,-2.3216620167629677E-3,-9.599086378457932E-4,-8.8496672514630959E-4,-5.970737585576525E-4,2.6059773346227425E-3,-1.1949043644155987E-3,-1.0938647255047476E-3,-2.1582221582961678E-3,2.1103407315928996E-3,1.508212102151639E-3,2.7007107443878871E-3,1.3343228682516843E-3,9.066973160357382E-5,8.6872380021239023E-4,-1.8826564052976382E-3,1.5274222142227436E-3,-2.7524694384659359E-3,-2.0435574748755539E-3,-6.6957355961345976E-4,2.1495686242714415E-3,-1.6678755051383065E-3,1.145498279327168E-4,2.7639232845898904E-3,-1.6486472902005119E-4,1.6001652413330453E-3,-1.6096819072387786E-3,-1.0106497383390914E-3,1.5932075004082141E-3,-2.7047344001450754E-3,1.1241811798638765E-3,2.4038200276981394E-3,-9.5944581094591444E-4,null,4.5519144009631418E-15,1.6653345369377348E-15,0,4.4408920985006262E-16,-2.9420910152566648E-15,-1.2490009027033011E-15,2.55351295663786E-15,4.7184478546569153E-16,2.9698465908722937E-15,-3.4694469519536142E-15,4.163336342344337E-16,-2.1371793224034263E-15,-2.55351295663786E-15,-2.8310687127941492E-15,-2.3592239273284576E-16,3.7261860263981816E-15,1.2490009027033011E-16,-6.106226635438361E-16,1.0685896612017132E-15,6.4392935428259079E-15,-2.0816681711721685E-16,-5.5511151231257827E-16,3.1918911957973251E-16,6.0507154842071031E-15,4.4408920985006262E-16,3.0808688933348094E-15,2.7755575615628914E-17,-1.4988010832439613E-15,-1.1379786002407855E-15,1.27675647831893E-15,-9.9920072216264089E-16,-9.1593399531575415E-16,7.4940054162198066E-16,2.7755575615628914E-15,-3.0531133177191805E-16,4.163336342344337E-16,2.2759572004815709E-15,1.1102230246251565E-16,9.4368957093138306E-16,-2.7478019859472624E-15,3.8857805861880479E-16,-2.9143354396410359E-16,3.1641356201816961E-15,-1.9428902930940239E-16,-2.7408630920433552E-16,4.8849813083506888E-15,5.0653925498522767E-16,5.9847959921199845E-16,-1.2212453270876722E-15,1.8596235662471372E-15,-2.7755575615628914E-16,-1.7347234759768071E-15,1.609823385706477E-15,5.4123372450476381E-16,3.9551695252271202E-16,4.6074255521943996E-15,-1.0269562977782698E-15,1.1102230246251565E-16,1.1379786002407855E-15,2.3869795029440866E-15,-2.9420910152566648E-15,1.1102230246251565E-15,-2.2204460492503131E-16,-2.4980018054066022E-15,1.3877787807814457E-16,3.0773994463828558E-15,-1.1934897514720433E-15,2.4702462297909733E-15,-6.0368376963992887E-16,-3.2812294548101306E-15,-7.4940054162198066E-16,1.5265566588595902E-15,1.8318679906315083E-15,-1.0096090630185017E-15,1.457167719820518E-15,4.7184478546569153E-16,-1.3877787807814457E-15,1.5126788710517758E-15,1.9984014443252818E-15,-1.7208456881689926E-15,9.9746599868666408E-17,-4.163336342344337E-17,-3.1641356201816961E-15,4.2327252813834093E-16,-3.3306690738754696E-15,-3.6637359812630166E-15,-2.4980018054066022E-16,4.4408920985006262E-16,3.3306690738754696E-16,-1.1102230246251565E-15,1.0269562977782698E-15,-5.8286708792820718E-16,1.124100812432971E-15,2.3592239273284576E-15,-3.8857805861880479E-16,-3.219646771412954E-15,-2.2204460492503131E-15,-5.2735593669694936E-16,5.5511151231257827E-17,-4.2327252813834093E-16]
[4.3383084703148365E-3,4.2224829065120985E-3,-1.5307195002948481E-3,-2.5562259030274259E-3,4.8744465745089961E-3,-2.3673309876963834E-3,6.5652288056032154E-3,2.3377716897859365E-3,-3.3594473965318076E-3,-3.8383936379424916E-3,8.4516700292807902E-5,-9.1519744466165998E-3,-4.192028392727894E-3,-8.8226975020922367E-3,2.2508204200156274E-5,2.459202161400166E-3,2.9811310244560649E-3,-4.6659094931730902E-3,1.8141964986585803E-3,9.5448261468193468E-4,-2.2311180955013475E-3,1.4114373578849327E-4,3.1418965965950762E-3,2.7096035323596166E-3,2.0228769473411294E-3,-5.7749687802403863E-3,3.0188874937307117E-3,6.5534790759488274E-4,4.6081471244675829E-3,5.3179450026719991E-5,2.8640874262933838E-3,5.0014541716198544E-3,-3.9925702075977376E-4,-1.1384322156484698E-3,2.1652606916254093E-3,5.517152192979281E-3,1.4722676420890748E-3,1.9415194138864187E-3,-6.0137227735216365E-3,-7.9710296996514194E-3,-4.8926219713498892E-3,-9.3820353340659545E-4,-9.4974234790727446E-3,1.7566532802186397E-3,1.4598166176513214E-3,-5.2255115285225672E-3,1.4801129263892381E-3,-3.2277492871472311E-3,-4.0190872923498754E-3,3.3541141600126104E-3,-7.3345227632737721E-4,-3.838071870215393E-3,2.6161427111261863E-3,1.7513108399288598E-3,5.9922957009157316E-3,6.3752319687473517E-3,1.6751796133837634E-3,-5.2060085449510615E-3,-2.5585780594410139E-3,-4.831857651484933E-3,-4.3981336266277048E-3,1.3853219869752742E-3,1.6214560956244626E-3,-3.7663621410774723E-3,-4.1448507885869746E-3,3.529216454920468E-3,-1.5228407694873065E-3,5.0946356178225389E-3,-4.601378096471867E-4,-4.0129015157821689E-3,8.6308203689092443E-3,4.1923030605461034E-3,-5.6578175812679757E-4,2.179131267647412E-3,1.8774316107610638E-3,-2.5687172053564661E-3,-2.4747354496215167E-3,1.7864110293663643E-3,-4.7241575174425711E-3,-4.4235686878184299E-3,-2.585201193789063E-3,1.7294713579726981E-3,5.7410222995747089E-3,1.8081415260508789E-3,-6.8116682180188487E-4,6.4277788754308314E-3,-8.9862588065124429E-5,7.926346418762777E-3,2.7460477285610644E-4,5.0953304017904138E-3,2.7631724710600524E-3,-7.2453825022586579E-4,4.5477650991279537E-3,9.9072179496515552E-4,-9.9377059256839143E-4,-3.5948893335382456E-3,-3.336300821342487E-3,-2.1629057855889976E-3,-1.063317572375298E-3,2.2999065351765025E-3,null,-5.7636187489329416E-16,-5.530298441414061E-15,1.07032438467769E-15,5.0133508455729725E-16,-3.5041414214731503E-16,2.2967738821932926E-15,-3.4000580129145419E-16,7.5113526509795747E-16,-2.4077961846558082E-15,5.3602955407683339E-16,6.591949208711867E-17,-4.7704895589362195E-16,2.9108659926890823E-15,1.8596235662471372E-15,-4.5709963591988867E-16,3.0201535716756212E-15,2.7720881146109377E-15,7.8236028766554E-15,1.2255821357776142E-15,2.2377932840100812E-15,-1.9168694409543718E-15,-2.8900493109773606E-15,-2.7755575615628914E-16,3.4312830354821244E-15,1.4450246554886803E-15,2.2204460492503131E-16,-4.9439619065339002E-16,-2.5500435096859064E-16,-1.0200174038743626E-15,3.5353664440407329E-15,-3.1814828549414642E-15,-3.7799624541534627E-15,-2.4806545706468341E-15,-2.886579864025407E-15,6.6613381477509392E-16,-2.0157486790850498E-15,1.1015494072452725E-15,-4.4478309924045334E-15,9.4715901788333667E-16,-2.6593310886724453E-15,-2.2204460492503131E-16,-7.0343036950859528E-16,3.6706748751669238E-15,2.5604518505417673E-15,2.3723969837241565E-15,9.6450625264310474E-16,1.418570122480034E-15,-1.9053497928717134E-15,-3.174543961037557E-15,-1.2117043479697998E-15,-2.8605590118857549E-15,-1.3843093338294921E-15,2.6541269182445149E-15,-4.5709963591988867E-16,-2.4242760576775879E-15,-3.2474023470285829E-15,-4.6143644460983069E-16,-1.1986939218999737E-15,-1.5265566588595902E-16,-1.8821749714348357E-15,3.8233305410528828E-15,-6.0333682494473351E-15,-5.485195631038664E-15,3.8545555636204654E-15,-1.1501216645726231E-15,3.2278867079238438E-15,1.1709383462843448E-15,-2.3939183968479938E-16,-4.053615082488804E-15,-2.1841252764720487E-16,-2.6714741530042829E-16,-6.0021432268797525E-16,2.7651492207070305E-15,-3.3209112543231001E-16,-1.6653345369377348E-16,3.9378222904673521E-16,6.6058269965196814E-15,2.5222879340702775E-15,3.2265856653168612E-15,1.4467593789646571E-15,2.0841618361688852E-15,1.4432899320127035E-15,-6.7515437685017332E-15,1.6280379822042335E-15,-1.0477729794899915E-15,-4.6317116808580749E-15,-4.2153780466236412E-16,3.2521728365875191E-15,-3.0288271890555052E-15,-1.8735013540549517E-15,5.0168202925249261E-15,1.0460382560140147E-15,1.4051260155412137E-16,-1.0200174038743626E-15,-2.3609586508044345E-15,2.2586099657218028E-15,-8.7430063189231078E-16,7.1991024253037494E-16,2.733924198139448E-15,-1.1891529427821013E-15]
[3.7169946734671571E-4,3.7220281704315123E-3,-1.4633762443859572E-3,-1.2589767619871801E-3,2.0624898726804238E-3,-3.5916427926029506E-3,4.0094006737860068E-3,1.0572105907168245E-3,-4.1440421452268303E-3,-5.4957807522997861E-4,2.1950500986656217E-3,-5.8036905719463126E-3,-5.454407838232052E-3,-5.8085555597504621E-3,1.8005021341101764E-3,5.6979009255274957E-4,1.2594134997944988E-3,-2.8974484157833214E-3,-8.7618293340115594E-4,2.6947609843729747E-3,8.0214236568476247E-4,-1.4152875427295771E-3,1.027192652734669E-3,2.7654052832852853E-4,5.8774733096270593E-4,9.4895731298250846E-4,1.9020389394550281E-3,5.242938816649676E-4,3.8993965655401215E-3,-2.595592101292002E-4,1.3204417241454687E-3,3.2873482683693804E-3,2.3758452576239705E-3,2.5797806958170543E-4,2.6135971709232582E-3,1.5976404621114615E-3,1.062241814324639E-3,2.1835328800003527E-3,-2.9694725081587307E-3,-4.9145521443869017E-3,-1.0430762377325892E-3,-7.6610691802697281E-4,-5.2449627011247448E-3,3.0872407329023821E-4,-2.653143042389087E-4,-1.0719974443981028E-3,-3.7612487037363431E-4,-2.0704864923702733E-3,-8.7449813219980202E-4,2.7464824085809319E-3,2.5372563662467469E-4,-2.1727897516933205E-3,1.5412837433194653E-3,1.5728426089715417E-3,3.1148291033375221E-3,5.6902339295223786E-3,2.0377438775064246E-3,-4.0354712848953821E-3,-1.5015608945744999E-3,-2.9619506788370214E-3,-3.7330016820921329E-3,3.6724403172044241E-3,5.6204670587617551E-4,-5.13619306593274E-3,-2.336545497483228E-3,1.6112619162776684E-3,6.6755085024324922E-4,2.9113700117265537E-3,-6.8340237870216376E-4,-1.7586884093113175E-3,5.1281659640871518E-3,2.7768288802920886E-3,-1.9452723471506575E-3,2.4637475900815701E-3,2.825103637408745E-3,-1.9919350397148423E-3,-2.4436531009035668E-3,1.3943038860411445E-3,-2.6967178513908428E-3,-7.0754071817899847E-4,-1.2021964226665567E-3,-5.3952880202493296E-4,3.7386189230355707E-3,2.7592780621123815E-4,-3.643418871359229E-4,3.6648690505758958E-3,-1.5791015732113975E-3,3.2698028523603373E-3,1.602031962980488E-3,2.2023308539934686E-3,1.1591530476169299E-3,-1.3959781413806303E-3,2.9699482839334389E-3,-7.0929644348386096E-4,-1.2513400615462905E-3,-2.226659113658568E-3,-3.7533642833347779E-3,-1.3042500870641036E-3,2.3035981475969956E-4,6.9397824727485981E-4,null,1.3808398868775384E-15,-1.1657341758564144E-15,3.3306690738754696E-16,1.0408340855860843E-16,4.9960036108132044E-15,-3.0531133177191805E-16,-6.6613381477509392E-16,-7.6327832942979512E-16,1.3600232051658168E-15,-1.6653345369377348E-16,-1.124100812432971E-15,1.2212453270876722E-15,-3.1641356201816961E-15,3.3861802251067274E-15,1.8041124150158794E-16,-1.7347234759768071E-16,5.6898930012039273E-16,2.7755575615628914E-15,-5.5511151231257827E-17,-1.1102230246251565E-16,-3.1918911957973251E-16,-1.1934897514720433E-15,9.5756735873919752E-16,2.2759572004815709E-15,-3.6429192995512949E-16,-4.163336342344337E-16,6.6613381477509392E-16,9.7144514654701197E-17,1.0547118733938987E-15,-1.4988010832439613E-15,1.762479051592436E-15,-8.3266726846886741E-16,3.0531133177191805E-16,1.3877787807814457E-15,-1.8179902028236938E-15,3.6082248300317588E-16,5.134781488891349E-16,1.4988010832439613E-15,9.9920072216264089E-16,-2.248201624865942E-15,2.7755575615628914E-16,4.5796699765787707E-16,1.8873791418627661E-15,-6.6613381477509392E-16,-8.2681257673744568E-16,-8.8262730457699945E-15,2.7755575615628914E-17,1.77115266897232E-15,-3.8025138593411612E-15,-1.5681900222830336E-15,5.2735593669694936E-16,4.3021142204224816E-16,9.4368957093138306E-16,9.4368957093138306E-16,-1.4085954624931674E-15,-3.1086244689504383E-15,2.248201624865942E-15,-4.3021142204224816E-16,-3.0531133177191805E-16,7.7715611723760958E-16,7.7715611723760958E-16,-1.4988010832439613E-15,3.3306690738754696E-15,-2.2204460492503131E-15,4.5796699765787707E-16,1.2524703496552547E-15,1.3877787807814457E-17,1.1102230246251565E-15,-4.7878367936959876E-16,-4.1112946380650328E-16,-9.9920072216264089E-16,-1.1102230246251565E-15,-9.9920072216264089E-16,-3.903127820947816E-18,5.8286708792820718E-16,5.5511151231257827E-16,-1.0547118733938987E-15,2.1094237467877974E-15,-1.4988010832439613E-15,-3.6637359812630166E-15,-1.0304257447302234E-15,2.8449465006019636E-16,1.1657341758564144E-15,1.214306433183765E-15,1.3045120539345589E-15,-2.7755575615628914E-16,-4.7184478546569153E-16,1.2836953722228372E-16,-1.0269562977782698E-15,2.0539125955565396E-15,-4.163336342344337E-16,5.2735593669694936E-16,2.1510571102112408E-15,-1.0824674490095276E-15,8.8817841970012523E-16,-2.6922908347160046E-15,-8.0491169285323849E-16,4.9960036108132044E-16,2.2204460492503131E-16,-2.1857515797307769E-15]
[3.0417795176824712E-3,5.6376831601839547E-3,-1.6608152665843839E-3,-5.5381629915762537E-4,4.9643338859075414E-3,-3.3657101082189829E-3,5.5471242277610518E-3,1.8672406277241572E-3,-4.8045983339963346E-4,-8.9658105471519681E-4,1.1479034962713873E-3,-6.9192226707083318E-3,-4.372859532690212E-3,-7.5053148676349881E-3,3.7679846675904387E-4,-7.1685384737778962E-4,4.9571340504091037E-4,-6.1247381973994191E-3,1.1728758449869822E-3,3.4040340723880112E-3,-1.0264800823884292E-3,1.6809042186209926E-3,2.465386803970624E-3,6.0811517890449421E-3,1.760331203030982E-3,-3.6897491346763252E-3,2.6617067964483094E-3,1.1522430802730443E-5,5.0030884038522461E-3,-2.104492398228261E-3,1.4335706292793022E-3,5.1303244209640261E-3,3.2293440394499319E-3,2.0858618807962988E-3,6.8101856793553522E-4,3.9632213009348233E-3,-2.6597230949884892E-4,3.558577983722222E-3,-6.3971745085386169E-3,-6.848831546371819E-3,-3.3731998452944873E-4,-3.7459795699414274E-4,-8.0031977917039195E-3,-2.2251798603575043E-4,1.1651986573200991E-3,-7.1379315717190724E-3,7.3170099593635265E-4,-7.4815515860394857E-4,-4.6206689445159425E-3,2.5657032366996251E-3,1.5674495394720305E-3,-3.1322621021793221E-3,-8.7348749722352521E-4,2.3893917732354577E-3,2.7896053668166106E-3,6.3514255636121899E-3,2.9283130672134337E-3,-5.1264464955776247E-3,-1.4402516300137543E-3,-3.0687067743667747E-3,-5.1322372813363062E-3,3.4477919080756099E-3,3.9316756900059863E-3,-4.8431911716586926E-3,-1.7214904177140604E-3,1.16672994065497E-3,-3.170661416984027E-4,4.0647489078611109E-3,6.374835428926024E-4,-7.0268918728109107E-4,5.7601549175971311E-3,3.5988888045946459E-3,-2.4806837866528835E-3,1.3704258867525932E-3,1.9854407277772627E-3,-2.2923100958341671E-3,-4.7847402279440994E-3,-1.370647291421145E-3,-4.3201874588870209E-3,-4.63814972655484E-3,-1.3290964703105319E-3,5.5468477225755907E-4,4.8541948791120809E-3,9.0441797496091899E-4,9.6398884509951059E-4,7.522081345908746E-3,-1.9223486540042105E-3,5.4789158069911839E-3,1.9622853368237423E-3,4.305320275638797E-3,7.8471862197754098E-5,-1.0730568007798224E-3,2.5268491160850347E-3,2.4013694201084662E-3,5.0721767885907097E-4,-5.1890336607273851E-3,-5.502880264554727E-4,-1.454116367399703E-3,-3.1546388219419194E-3,5.1904430953814541E-4,null,-8.1532003370909933E-16,3.6082248300317588E-16,-2.6367796834847468E-16,6.9388939039072284E-18,5.8286708792820718E-16,3.6082248300317588E-16,-6.6613381477509392E-16,9.8532293435482643E-16,-7.0776717819853729E-16,-1.3183898417423734E-16,2.1510571102112408E-16,2.6367796834847468E-16,-1.3877787807814457E-16,-6.106226635438361E-16,3.677613769070831E-16,2.7061686225238191E-16,1.5959455978986625E-15,6.106226635438361E-16,4.7184478546569153E-16,-4.9960036108132044E-16,1.1102230246251565E-16,4.9960036108132044E-16,-1.1796119636642288E-16,8.3266726846886741E-17,5.2388648974499574E-16,-2.1926904736346842E-15,1.1102230246251565E-16,-6.6613381477509392E-16,8.1878948066105295E-16,-4.4408920985006262E-16,6.0368376963992887E-16,-2.7755575615628914E-16,-1.8041124150158794E-16,4.4408920985006262E-16,2.8449465006019636E-16,6.2450045135165055E-16,1.033895191682177E-15,3.7470027081099033E-16,-6.6613381477509392E-16,-8.0491169285323849E-16,8.1878948066105295E-16,-1.9428902930940239E-16,-2.2759572004815709E-15,1.7347234759768071E-16,1.8930169931596907E-16,1.5820678100908481E-15,-1.4224732503009818E-16,-4.3780083724964669E-16,-1.1102230246251565E-15,-3.4000580129145419E-16,-2.7755575615628914E-17,-1.5265566588595902E-16,3.7470027081099033E-16,1.8735013540549517E-16,-2.1163626406917047E-16,9.9920072216264089E-16,4.8572257327350599E-16,-2.8449465006019636E-16,-7.6327832942979512E-17,-2.5257573810222311E-15,-8.0491169285323849E-16,-1.609823385706477E-15,5.5511151231257827E-17,-3.3306690738754696E-16,-2.7755575615628914E-17,-1.7347234759768071E-16,3.9551695252271202E-16,3.0531133177191805E-16,-9.8879238130678004E-17,4.0028744208164824E-16,6.9388939039072284E-17,2.7755575615628914E-17,3.1918911957973251E-16,2.5066754227864863E-16,-1.7347234759768071E-16,-1.124100812432971E-15,-3.8857805861880479E-16,2.2204460492503131E-16,-1.0547118733938987E-15,-2.4980018054066022E-16,-1.3227266504323154E-16,7.6327832942979512E-17,1.0408340855860843E-15,5.6551985316843911E-16,3.3306690738754696E-16,-3.8857805861880479E-16,-7.3552275381416621E-16,7.4419637119405024E-16,-4.7184478546569153E-16,2.3592239273284576E-16,6.106226635438361E-16,4.8572257327350599E-17,8.4654505627668186E-16,-2.4980018054066022E-16,-4.8572257327350599E-17,3.0531133177191805E-16,-8.3266726846886741E-17,-1.3183898417423734E-16,6.106226635438361E-16,-2.3592239273284576E-16]
[2.4532760011779201E-3,5.6163646091326718E-3,-2.7722622444741811E-3,-1.4122098249357629E-3,4.9489665823283079E-3,-3.1715803746753062E-3,5.0131993967314093E-3,2.3340487467343632E-3,-2.2109587873664622E-3,-4.8666425318423637E-4,1.0901010258740065E-3,-7.5320437773315693E-3,-4.8660937751974246E-3,-8.6776635362167936E-3,1.4217898092979623E-3,8.5921175063212484E-4,4.4518153935645458E-4,-5.9424726317205342E-3,1.2418273456729695E-3,3.0202416010240343E-3,-8.4827608597745218E-4,6.7023175810978499E-4,1.4928510272195982E-3,3.3294970057334877E-3,1.3760930979999659E-3,-2.0965765429298618E-3,2.1832081038393519E-3,7.1784544175392375E-4,4.9121641604416488E-3,-7.6845597499818064E-4,3.7951140968206028E-3,6.1075913990243412E-3,2.0952380896920187E-3,7.5338694187030699E-4,2.3951295920196102E-3,4.2262121826755743E-3,5.5330698213473003E-4,4.2629673092191251E-4,-6.2622791883830877E-3,-7.5132530955707693E-3,-2.6827112867884935E-3,-1.1178591837976619E-3,-9.69444195626591E-3,2.4644688211168073E-4,8.3905790729099422E-4,-3.5670319252149173E-3,6.5641584466880044E-4,-2.0248667958540985E-3,-1.4578723691231505E-3,4.0585478379570224E-3,2.8635318079854792E-3,-2.844318548188608E-3,1.0005554881125768E-3,1.8983552811100701E-3,4.6935764037205775E-3,8.9396535029623858E-3,3.701614828878735E-3,-6.1740744940496084E-3,-2.1589969722686994E-3,-3.6477101911172997E-3,-4.7497863757540977E-3,4.8461588203994339E-3,7.8217101654126609E-4,-5.9499109888229099E-3,-3.5580387383379129E-3,1.1009833804176245E-3,4.9957365723027E-4,4.8261676166223288E-3,4.5202243649110997E-4,-3.4196885495182379E-3,7.9179724039995982E-3,4.6008176320464127E-3,-3.9574994057454318E-3,3.6296867166639591E-3,2.5948882115762397E-3,-1.5515057404572724E-3,-4.430140111195616E-3,9.1322397544569569E-4,-5.6218909731650737E-3,-3.1078177722177591E-3,-3.6297470239654863E-3,-5.0321769235829464E-4,6.1529749116603959E-3,2.1373635823816425E-4,4.8311442679097928E-4,7.3655931566286399E-3,-9.2511807449611035E-5,6.7817575146246175E-3,2.0825276053233295E-3,3.9587517112967263E-3,-7.7233381658905998E-4,-2.2965889953598939E-3,2.2020043355756806E-3,8.3494881771792838E-4,-4.6733128974164927E-4,-4.7283957275690179E-3,-2.6693607521098223E-3,-3.4470226782177984E-3,-2.3569417991956281E-3,1.7413315257582679E-3,null,6.4184768611141862E-16,2.1649348980190553E-15,-2.2204460492503131E-16,-8.8470897274817162E-16,1.7763568394002505E-15,-4.010680676458378E-15,3.8302694349567901E-15,-7.4940054162198066E-16,1.6653345369377348E-16,2.3592239273284576E-16,7.6327832942979512E-16,-4.0939474033052647E-15,5.5511151231257827E-17,1.4710455076283324E-15,-4.5102810375396984E-16,1.366962099069724E-15,3.70536934468646E-15,-2.1649348980190553E-15,1.0408340855860843E-15,-8.3266726846886741E-16,-1.2559397966072083E-15,-2.9143354396410359E-15,5.5511151231257827E-16,8.3266726846886741E-16,2.652392194768538E-15,-5.3290705182007514E-15,1.0824674490095276E-15,1.2906342661267445E-15,-3.3306690738754696E-16,8.0491169285323849E-16,-1.0408340855860843E-15,-1.8179902028236938E-15,-1.4432899320127035E-15,-3.3306690738754696E-15,0,-2.55351295663786E-15,-9.9920072216264089E-16,1.1102230246251565E-15,-2.248201624865942E-15,2.3175905639050143E-15,-1.3045120539345589E-15,-4.5102810375396984E-16,3.0808688933348094E-15,3.2890357104520263E-15,3.0346818807869269E-16,-5.6066262743570405E-15,-3.434752482434078E-16,3.426078865054194E-17,2.1094237467877974E-15,5.6898930012039273E-16,-4.0661918276896358E-15,2.2204460492503131E-16,3.3584246494910985E-15,1.4016565685892601E-15,1.0443035325380379E-15,-1.8041124150158794E-15,-1.609823385706477E-15,-4.8572257327350599E-15,5.8980598183211441E-16,3.0669911055269949E-15,-2.4147350785597155E-15,-3.3306690738754696E-15,-1.5820678100908481E-15,-2.4980018054066022E-15,3.7816971776294395E-15,7.3552275381416621E-16,-1.7347234759768071E-16,-5.2735593669694936E-16,-2.2013640910145682E-15,7.1644079557842133E-16,8.7152507433074788E-15,1.9706458687096529E-15,3.6637359812630166E-15,1.4246416546459528E-15,6.5225602696727947E-16,2.6367796834847468E-16,1.4432899320127035E-15,9.8532293435482643E-16,-3.2474023470285829E-15,4.7184478546569153E-16,-1.7824283715661693E-15,9.2287288921966137E-16,1.3877787807814457E-15,1.700029006457271E-15,-1.7902346272080649E-15,6.3837823915946501E-15,7.2858385991025898E-16,2.7408630920433552E-16,-1.0269562977782698E-15,2.4980018054066022E-16,6.9388939039072284E-16,9.0205620750793969E-17,5.6898930012039273E-16,-2.7755575615628914E-15,-1.2073675392798577E-15,5.3845816694320092E-15,-1.8596235662471372E-15,-1.366962099069724E-15,2.7755575615628914E-17,-1.1796119636642288E-15]
[1.649382889064724E-3,-2.267361119985825E-3,-2.8710745260651309E-5,-2.5725755179354867E-3,-5.1568075046976173E-3,-1.0718902442692082E-3,4.8616012841343066E-6,-2.0951142364686666E-3,-6.167183012564967E-3,-8.1118107057356816E-4,-4.3322645755123864E-4,-1.5814616495956754E-3,2.494519634509191E-3,1.8237337610120909E-3,-3.1353548458725785E-5,2.6808220660167591E-3,1.8603946055613452E-3,6.0717249652960069E-3,-2.3779179724121398E-3,-5.847053672404747E-3,-6.0500503363995815E-4,-3.2684336971411003E-3,-2.3386961028712698E-4,-6.5940223761434017E-3,3.6913347644963574E-5,2.2579020178028026E-3,-2.3164471038918063E-3,7.2566308531091543E-4,-1.1890741933605026E-3,4.643080820432713E-3,-3.1889846876010236E-3,-1.7844143035079983E-4,-2.4914337987110447E-3,-5.2468976595833553E-3,4.5206266339481212E-3,4.0209510938803894E-5,5.348888809362253E-3,-1.3865721740074415E-3,3.9346776134796344E-3,7.4918476633146613E-4,-3.1702553335716905E-3,-1.6105631454682021E-3,5.3322015750106866E-4,3.239055495448972E-3,1.0066586943035056E-3,6.9168245631773904E-3,-4.9692844209819366E-4,-1.4957607796647718E-3,4.4400050068307143E-3,2.8844552485716539E-5,-3.5875391117885804E-3,-7.594443874123243E-4,4.9235938775360434E-3,-5.3559620238560345E-4,1.9371705948509558E-3,-1.8275975613047467E-4,-4.5371880917226253E-3,-6.750004615375568E-4,-2.0496172100352588E-3,-7.8866719919512779E-4,1.9441199575802805E-3,-4.4420521877322865E-3,-3.2612638042993805E-3,1.6773763378214893E-3,-3.4162539653719351E-4,1.9434839978158447E-3,1.4031486384391865E-4,-3.4668506666060255E-4,-1.3364939082212831E-3,-2.0361071353354608E-3,1.8559507678382291E-4,-3.01586583370942E-4,2.143217876213225E-3,-5.5784562798761954E-4,-1.5199197688417853E-4,-9.6069706706946526E-4,2.8471635416170383E-3,2.7844753081998326E-3,2.8902041682414554E-3,4.6101676142841531E-3,-1.2960342963903354E-3,4.3712273740037597E-4,-1.2818456202746318E-3,3.3891646973126534E-3,-1.6127246070952307E-3,-4.4542814551004079E-3,1.33360473226111E-4,2.8562832886332542E-4,-5.1703398418222607E-3,-1.6200463350092974E-3,4.0905970527310509E-3,-1.817961934588635E-4,2.6322391580599013E-3,-3.4583071617181349E-3,-2.439487792890622E-4,3.4435367215630034E-3,-3.0532143828897363E-3,-6.8207255715568859E-4,5.1508990700675321E-3,8.5914209100095907E-4,null,8.7083118494035716E-16,-1.8596235662471372E-15,-1.1379786002407855E-15,6.83481049534862E-16,6.9111383282915995E-15,-1.5265566588595902E-16,-1.3045120539345589E-15,1.0269562977782698E-15,-1.1657341758564144E-15,1.9706458687096529E-15,-6.8695049648681561E-16,1.6237011735142914E-15,3.6082248300317588E-16,2.6367796834847468E-15,7.7715611723760958E-16,-2.2898349882893854E-16,-5.6898930012039273E-16,1.3045120539345589E-15,8.6736173798840355E-16,-2.2204460492503131E-15,-4.163336342344337E-17,-6.106226635438361E-16,-3.4694469519536142E-17,-1.8873791418627661E-15,-1.2368578383714635E-15,4.8572257327350599E-16,4.4408920985006262E-16,1.4432899320127035E-15,9.298117831235686E-16,-3.3306690738754696E-16,1.7347234759768071E-15,-4.8572257327350599E-16,-4.4408920985006262E-16,-2.1094237467877974E-15,-9.7144514654701197E-16,-9.4368957093138306E-16,1.0963452368173421E-15,4.7184478546569153E-16,2.1926904736346842E-15,2.2898349882893854E-15,-8.0491169285323849E-16,1.2490009027033011E-15,3.219646771412954E-15,2.3037127760971998E-15,-7.6718145725074294E-16,-2.9420910152566648E-15,-5.7592819402429996E-16,2.2508037100799072E-16,5.5511151231257827E-16,6.9388939039072284E-17,-2.2759572004815709E-15,9.9226182825873366E-16,-4.3021142204224816E-16,6.591949208711867E-16,-6.106226635438361E-16,-9.9920072216264089E-16,1.7069679003611782E-15,-1.609823385706477E-15,-2.2898349882893854E-16,1.3461454173580023E-15,1.8318679906315083E-15,-1.1102230246251565E-15,-8.8817841970012523E-16,-1.6930901125533637E-15,7.7021722333370235E-16,2.2065682614424986E-15,4.2327252813834093E-16,1.8596235662471372E-15,9.2113816574368457E-16,3.5301622736128024E-16,2.8171909249863347E-15,-2.7755575615628914E-17,-8.3266726846886741E-16,2.448128505472269E-16,5.3429483060085659E-16,2.3175905639050143E-15,-1.0269562977782698E-15,-3.4000580129145419E-16,-1.8596235662471372E-15,-1.1657341758564144E-15,-9.9312918999672206E-16,-1.1310397063368782E-15,-2.9143354396410359E-16,-5.8980598183211441E-16,-2.7755575615628914E-17,2.3869795029440866E-15,1.2212453270876722E-15,-6.5746019739520989E-16,4.7184478546569153E-16,1.6653345369377348E-15,3.8857805861880479E-16,6.3143934525555778E-16,1.7347234759768071E-15,-3.4694469519536142E-16,-4.163336342344337E-17,3.0808688933348094E-15,-6.5225602696727947E-16,3.1225022567582528E-16,-8.8817841970012523E-16,7.7715611723760958E-16]
[1.8296603052376384E-3,7.3608712839950841E-3,-2.5114760268450465E-3,5.0094632402058971E-4,9.4469432785599886E-3,-2.932209989390758E-3,6.4240889105509832E-3,4.6114084134115706E-3,1.9731841799664513E-3,-3.5899110923512308E-4,5.0113744415501932E-4,-5.8341493280437634E-3,-7.2687958530971005E-3,-8.4981617285909746E-3,1.2935824954996753E-3,-1.7923346333583374E-3,1.8351651728804978E-3,-1.1182773785970702E-2,2.888288902137963E-3,5.3603128677917394E-3,-6.6522858379753508E-4,2.6457205080839584E-3,3.290108579194062E-3,1.086724506533197E-2,5.2334668661609487E-4,-3.9478210084901086E-3,4.5201464640448044E-3,-2.0466767519533745E-4,6.6506289345262563E-3,-6.0463860505491213E-3,3.672125830038714E-3,4.9965315076471502E-3,3.4893360182960236E-3,4.8705208491080136E-3,-5.3173863795173085E-4,3.3798685288829681E-3,-2.7129086740232135E-3,5.2748251837107926E-3,-8.3430708371506936E-3,-8.3833496316471027E-3,2.049176849174144E-3,1.5797952761087972E-4,-8.4732827920800668E-3,-2.3544667336920229E-3,3.0936181296622724E-4,-1.1368035906107764E-2,6.6387571788719616E-4,-9.9894480701411708E-4,-7.4745753300181064E-3,2.9357702601994092E-3,3.6620794778927804E-3,-3.3251828266589408E-3,-3.137478653174606E-3,2.1088426049454272E-3,2.8053090503258379E-3,8.4644153950258604E-3,5.5515345838860093E-3,-5.8080596188671467E-3,-3.1579764297588823E-4,-2.8352069669904533E-3,-6.5674213971430801E-3,7.3549945618683081E-3,5.2024969835702557E-3,-7.0729397293951323E-3,-2.1938962237210229E-3,6.5204497695016446E-5,-4.6936651243410576E-4,4.6086440955600133E-3,4.396855601287518E-4,-1.9881415922692555E-3,7.0705732692351534E-3,4.8856697562994602E-3,-3.5345774290249207E-3,1.5862787118713453E-3,3.4224298812776093E-3,-2.3615134705684713E-3,-6.6265271227492701E-3,-1.7340703819244451E-3,-6.1445825458598061E-3,-7.1219819122605547E-3,1.3095121211969388E-4,-2.2123196730838997E-4,5.4971743737545348E-3,-1.1082479301483294E-3,2.0045167490745077E-3,1.0424870262897028E-2,-1.4827756332297585E-3,4.9712292393731842E-3,4.8904521612414646E-3,5.9336676311268488E-3,-2.34219817006024E-3,3.3551480188056458E-4,2.1515211923369788E-3,4.2628965552772751E-3,-7.5979294676901249E-4,-7.342381187819348E-3,6.6904350584617704E-4,-2.838441043485661E-3,-6.3383004446943367E-3,2.89822682753953E-4,null,-1.5820678100908481E-15,3.1086244689504383E-15,5.4123372450476381E-16,9.783840404509192E-16,-1.8318679906315083E-15,-3.6082248300317588E-16,-1.6375789613221059E-15,1.9984014443252818E-15,1.8596235662471372E-15,2.733924198139448E-15,3.3306690738754696E-16,-5.1625370645069779E-15,8.8817841970012523E-16,-2.9976021664879227E-15,-5.620504062164855E-16,-6.2796989830360417E-16,-2.6367796834847468E-16,-8.0491169285323849E-16,9.0205620750793969E-17,2.9698465908722937E-15,1.8873791418627661E-15,1.429412144204889E-15,-1.5681900222830336E-15,3.8857805861880479E-16,-3.1918911957973251E-16,-1.1518563880485999E-15,9.4368957093138306E-16,-8.8817841970012523E-16,1.1102230246251565E-16,6.106226635438361E-16,1.3322676295501878E-15,3.8857805861880479E-16,3.3306690738754696E-16,1.4432899320127035E-15,2.2204460492503131E-16,1.0269562977782698E-15,-2.2898349882893854E-15,-9.1593399531575415E-16,-6.3837823915946501E-15,-9.7144514654701197E-16,1.8318679906315083E-15,-4.3021142204224816E-16,2.8588242884097781E-15,-1.0547118733938987E-15,-4.2630829422130034E-16,5.773159728050814E-15,-3.7470027081099033E-16,-1.1470858984896637E-15,2.7755575615628914E-16,3.7470027081099033E-16,8.7430063189231078E-16,1.9428902930940239E-16,-9.7144514654701197E-16,1.6375789613221059E-15,7.9797279894933126E-17,2.5257573810222311E-15,2.4841240175987878E-15,2.7755575615628914E-17,4.163336342344337E-16,2.3592239273284576E-16,-3.1641356201816961E-15,1.5265566588595902E-15,-1.3600232051658168E-15,-1.1379786002407855E-15,-5.134781488891349E-16,-1.6618650899857812E-15,-6.9388939039072284E-18,4.163336342344337E-17,4.9613091412936683E-16,9.8098612566488441E-16,1.5681900222830336E-15,1.2490009027033011E-15,-2.5257573810222311E-15,9.2417393182664398E-16,4.163336342344337E-17,1.2628786905111156E-15,3.4139358007223564E-15,-8.0491169285323849E-16,-1.7208456881689926E-15,-1.2212453270876722E-15,-7.8929918156944723E-17,-1.8041124150158794E-16,-5.8564264548977008E-15,-1.8943180357666733E-15,-4.7184478546569153E-16,2.9143354396410359E-15,6.5225602696727947E-16,4.1806835771041051E-15,2.248201624865942E-15,-1.3461454173580023E-15,-4.163336342344337E-16,3.4694469519536142E-17,-2.400857290751901E-15,3.219646771412954E-15,5.5511151231257827E-17,1.8873791418627661E-15,1.5265566588595902E-15,-1.3877787807814457E-17,-4.1078251911130792E-15,6.106226635438361E-16]
[-2.8978099799220128E-3,3.3490158886523539E-3,-6.429105895494215E-5,1.911998183092294E-3,5.1604796240648275E-3,5.8670772922035078E-4,-2.2961663427390178E-3,-2.2611688462009566E-3,1.5075589921997119E-3,2.7157608371881792E-3,5.1786538366305226E-5,-2.1615930864934347E-3,-2.5353106606201808E-3,-2.720199549023567E-3,7.215329336870735E-4,-1.9531144543632872E-3,-4.7682667084743445E-3,-4.3849492605226182E-3,2.8401102909049252E-4,5.2061806438003832E-3,1.1828688295250698E-3,2.3798681486669375E-3,-2.6545566923626171E-3,1.1794335683657745E-3,2.9155970401358912E-4,-1.0355272993611828E-3,5.5260703834237386E-4,-1.1710661261656581E-5,3.5863260313050856E-3,-2.3485471196040809E-3,5.3896893347576344E-3,3.1895330211097429E-3,3.7653488480827368E-3,4.5695239821914582E-3,-1.3468866419932971E-3,3.4952202266192722E-3,-2.9829675654213413E-3,-3.7563682131560433E-4,-2.8111194013091929E-3,-3.5698325903111218E-3,1.2436976531714906E-3,8.3859398414579719E-4,-5.8725862746021257E-3,-1.4053878738069319E-3,-1.5878394891292533E-3,-1.4793349479349154E-5,-1.0917849523517868E-3,-6.0194379004047268E-4,1.8655683066338539E-3,5.9260769994370595E-4,5.7610298983516179E-3,1.1000772228547945E-4,-1.2160704664594944E-3,8.7221388584135832E-4,1.2599218417665187E-3,6.1088620801661503E-3,4.2757472988511781E-3,-8.1478292458542266E-4,-1.5185396856962739E-4,1.1477558512117044E-4,-3.1171550328100402E-3,4.4958715170813832E-3,7.6345878920562246E-4,-3.4973210444212534E-3,-6.0125585025555409E-4,-4.169056714446397E-3,3.9804992120478916E-3,1.6147533727414757E-3,4.6713237430639574E-3,3.6941775648256927E-4,3.555829235910718E-3,3.3599370568983154E-3,-5.9083145283227029E-3,8.0014121605106472E-4,2.9261651775330977E-3,3.506160346243153E-3,-3.0237233518476034E-3,-3.8336400207850002E-3,-6.0567220966569408E-3,-2.6871924047464427E-3,-1.6107383441243506E-3,-2.2551705505954255E-3,3.5654696381405746E-3,-2.1272410173062408E-3,9.909162389015627E-4,6.1946312735926545E-3,1.786096734407854E-3,2.7945770445226415E-4,2.4286921700518173E-3,6.321788102474879E-5,-4.8031544438406452E-3,-2.3573993967272045E-3,-4.357105011805272E-3,3.4440787600940521E-3,2.22854388959092E-3,-1.4572134087671813E-3,1.5946112088392574E-4,-1.7344507565728302E-3,-5.0313090365014515E-3,2.4460652572521713E-3,null,-9.0205620750793969E-16,-1.8873791418627661E-15,1.6653345369377348E-16,1.5473733405713119E-15,2.1649348980190553E-15,1.5959455978986625E-15,-5.1902926401226068E-15,-2.55351295663786E-15,1.6653345369377348E-15,4.7184478546569153E-15,-1.9428902930940239E-16,-1.9428902930940239E-15,-3.9135361618036768E-15,-4.829470157119431E-15,1.0269562977782698E-15,-7.3552275381416621E-16,-8.7430063189231078E-16,-4.9404924595819466E-15,-1.7069679003611782E-15,2.9976021664879227E-15,-4.7184478546569153E-16,-2.2204460492503131E-16,-1.0130785099704553E-15,5.5511151231257827E-17,-4.3021142204224816E-16,7.53563877964325E-15,-2.6367796834847468E-16,-1.2628786905111156E-15,-4.4408920985006262E-16,1.6653345369377348E-15,3.2751579226442118E-15,1.1102230246251565E-15,3.6914915568786455E-15,1.8873791418627661E-15,-3.0947466811426239E-15,-1.8735013540549517E-15,-3.7470027081099033E-16,9.1593399531575415E-16,2.6645352591003757E-15,-7.8548278992229825E-15,-1.8318679906315083E-15,6.2450045135165055E-16,-9.6866958898544908E-15,4.4408920985006262E-16,6.2775305786910707E-16,-2.3314683517128287E-15,-2.0608514894604468E-15,1.3730336312356428E-15,-1.9428902930940239E-15,-2.0539125955565396E-15,2.7200464103316335E-15,1.4155343563970746E-15,-8.3266726846886741E-16,5.8286708792820718E-16,-5.8980598183211441E-15,-8.3266726846886741E-16,7.6327832942979512E-16,-3.2890357104520263E-15,-9.0205620750793969E-16,3.6498581934552021E-15,-2.0539125955565396E-15,2.1649348980190553E-15,1.3322676295501878E-15,-3.9135361618036768E-15,-1.7971735211119721E-15,-1.3183898417423734E-16,3.7261860263981816E-15,5.5511151231257827E-16,2.4320823133194835E-15,8.569533971325427E-16,2.4424906541753444E-15,3.3029134982598407E-15,-7.8548278992229825E-15,2.0413358503557077E-15,3.2474023470285829E-15,2.4980018054066022E-15,3.219646771412954E-15,1.6930901125533637E-15,-4.163336342344337E-15,3.7747582837255322E-15,-2.8883145875013838E-16,6.9388939039072284E-18,-5.5511151231257827E-16,-3.0808688933348094E-15,2.0816681711721685E-15,1.5265566588595902E-15,1.124100812432971E-15,-7.3899220076611982E-16,-1.8873791418627661E-15,9.9920072216264089E-16,-1.8041124150158794E-15,-2.9143354396410359E-16,-5.8425486670898863E-15,-1.6653345369377348E-16,5.8286708792820718E-16,-1.9428902930940239E-15,-5.5511151231257827E-17,1.7347234759768071E-15,7.2164496600635175E-16,-9.6450625264310474E-16]
[6.6864932685508248E-3,1.5747182845212433E-3,-9.6441432217479446E-4,-3.4419381105401134E-3,1.9153949528391279E-3,-1.6380443870036491E-3,5.2959201414519265E-3,3.5994019486922848E-3,-6.8214539016015082E-4,-5.6577088054552711E-3,-9.487032410055242E-4,-6.2082711927501297E-3,7.4030774644870135E-5,-5.0786736249295462E-3,-1.4141298880399255E-3,2.9440138363901022E-3,6.5295264603367556E-3,-9.2779768981346975E-4,3.5913791221928526E-3,-3.0628481029570478E-3,-3.8618044351856583E-3,4.2681957604307765E-4,3.487637426958783E-3,4.8230719242902493E-3,2.3259880596459715E-3,-7.812516700272434E-3,1.1386517347561926E-3,-1.518819461766532E-4,1.1742272044358375E-3,1.0055373863706872E-4,-1.907281803962123E-3,1.3658502492479964E-3,-3.3364147713520332E-3,-1.8671328238085137E-3,1.490891844544207E-3,4.0713411318262652E-3,2.580031230331948E-3,2.8072693972271755E-3,-4.5123497278210904E-3,-4.760800219820803E-3,-3.9654086988370439E-3,1.1246588344850203E-3,-4.4679923989704388E-3,2.3374838489178618E-3,1.895178837050425E-3,-6.6315746098565484E-3,2.3928408711576107E-3,-2.3969467458799351E-3,-6.0758763102859593E-3,2.694103133728463E-3,-3.1395980316890676E-3,-3.5582767719159374E-3,2.6854868243415819E-3,3.1124458171349998E-4,4.9558006800843281E-3,-6.9039760390346623E-4,-1.8335866246967363E-3,-2.0005866339320067E-3,-1.4057363494369827E-3,-4.0663657114951204E-3,1.4148078583061713E-5,-2.7781894119926777E-3,2.1512950432194702E-3,-4.4840422847787915E-4,-1.9506999502889497E-3,4.2705772802498401E-3,-4.9649459487135618E-3,4.5026353605724812E-3,-3.0115109740003936E-3,-2.9370127330887001E-3,4.8705417954367442E-3,1.9581515981588866E-3,4.5911521914947647E-3,1.6025981657717702E-5,-1.4933021707367012E-3,-5.3644644022129715E-3,-4.561219045337434E-4,2.3118689885836402E-3,-1.0345985916699306E-3,-3.8292551020761407E-3,1.017505471996573E-4,1.9404524523700826E-3,2.6585075680736676E-3,6.2242443221826151E-3,-2.3895397110469578E-3,9.9461443850689963E-4,-1.6577950157037999E-3,6.8201358420319127E-3,-3.149511436185152E-3,4.9219183582472027E-3,5.7591164897154278E-3,3.0879288475918948E-4,6.2918291670099463E-3,-5.7965025216404179E-5,-2.5822837491129109E-3,-2.9535053585464078E-3,-1.4658953363609133E-3,-3.1252322579366457E-4,4.9026153803475659E-4,1.0248655605357658E-3,null,1.4363510381087963E-15,2.0539125955565396E-15,-1.3877787807814457E-15,-8.81239525796218E-16,6.9388939039072284E-16,-2.6645352591003757E-15,-9.1593399531575415E-16,7.3552275381416621E-16,6.106226635438361E-16,1.457167719820518E-16,1.214306433183765E-15,-4.6074255521943996E-15,-1.3877787807814457E-15,1.6930901125533637E-15,8.8817841970012523E-16,-2.2551405187698492E-16,-2.6090241078691179E-15,-1.6653345369377348E-16,-1.0824674490095276E-15,-3.3306690738754696E-16,1.7277845820728999E-15,2.2204460492503131E-16,-9.5756735873919752E-16,3.6914915568786455E-15,-9.7491459349896559E-16,1.3600232051658168E-15,7.0776717819853729E-16,2.0816681711721685E-17,1.4849232954361469E-15,1.3045120539345589E-15,-4.3021142204224816E-16,1.2351231148954867E-15,-4.4408920985006262E-16,-3.7470027081099033E-16,1.9845236565174673E-15,-3.6082248300317588E-16,-5.4817261840867104E-16,1.5265566588595902E-15,-2.4702462297909733E-15,1.5959455978986625E-15,-1.3739009929736312E-15,2.6367796834847468E-16,3.4139358007223564E-15,1.9428902930940239E-16,2.3592239273284576E-16,-3.1363800445660672E-15,4.4755865680201623E-16,-2.7538735181131813E-16,-2.0400348077487251E-15,1.3392065234540951E-15,-1.1796119636642288E-15,-8.3266726846886741E-16,7.3552275381416621E-16,1.3392065234540951E-15,2.005340338229189E-15,1.0547118733938987E-15,-1.3322676295501878E-15,-1.6167622796103842E-15,-1.2281842209915794E-15,1.0269562977782698E-15,-2.55351295663786E-15,3.5527136788005009E-15,2.6090241078691179E-15,-1.3877787807814457E-16,-5.1694759584108851E-16,6.2276572787567375E-16,-1.915134717478395E-15,7.7715611723760958E-16,-2.7009644520958886E-15,4.8528889240451178E-16,4.253541963095131E-15,4.163336342344337E-16,5.4123372450476381E-16,1.1767930380157665E-15,-7.4940054162198066E-16,-7.7715611723760958E-16,5.5511151231257827E-17,-7.7021722333370235E-16,1.27675647831893E-15,-6.6613381477509392E-16,-4.5709963591988867E-16,3.5735303605122226E-16,-2.886579864025407E-15,5.7939764097625357E-16,-7.0776717819853729E-16,1.4710455076283324E-15,-5.2041704279304213E-16,3.9603736956550506E-15,1.7763568394002505E-15,2.4980018054066022E-16,-7.7715611723760958E-16,-5.2735593669694936E-16,-2.0261570199409107E-15,-1.3877787807814457E-16,-1.3114509478384662E-15,1.4155343563970746E-15,1.0408340855860843E-15,2.5326962749261384E-16,-2.886579864025407E-15,-1.0061396160665481E-16]
[-2.4170009050802996E-3,-4.3418183850242927E-3,2.6050783709845706E-3,1.2708531140564216E-3,-5.3732152565004855E-3,2.3878554200262594E-3,-6.4920854594257196E-3,-1.9234719200040551E-3,4.3689860371076672E-4,1.3167352916735144E-3,-1.4877392708228208E-3,7.2072359126476495E-3,4.597273148795592E-3,6.613783729777562E-3,-4.2324185582560752E-4,-5.2706237892006548E-4,2.476557224911433E-4,5.6978228494430584E-3,-1.4586754113000563E-3,-3.4727075501100428E-3,1.0628541291657465E-3,-2.3335067086707214E-3,-2.6415423449675035E-3,-5.1952798902628388E-3,-2.2519546426572268E-4,3.3182233511075692E-3,-2.0732147608427021E-3,-3.0195303049684218E-4,-4.9512652062412756E-3,1.7550403042957267E-3,-2.1292107100087817E-3,-4.7004241054111389E-3,-2.7124626003510403E-3,-1.7749140262647589E-3,-1.0960982852803972E-3,-3.5404066331914293E-3,6.6211012365185941E-4,-3.7494131127772225E-3,6.4934413909584114E-3,5.2143107674308053E-3,1.8314731122108757E-4,5.198124722750327E-4,6.6521490021220053E-3,-5.1942725773382672E-4,-6.3002022246637422E-4,6.6506201037879855E-3,-5.1354984724256503E-4,1.1354474926971757E-3,4.7174606941552261E-3,-3.3341324420418446E-3,-1.4518066749315735E-3,3.488732882882276E-3,1.4261846566293198E-3,-2.1312475590178287E-3,-2.5725403576712259E-3,-6.6450381010995877E-3,-2.1288186052333953E-3,5.188094180049843E-3,1.5308133276259862E-3,3.2772208814923595E-3,5.3374783203961086E-3,-3.676731572232464E-3,-3.9777816096904246E-3,3.206800635120511E-3,2.2145329776359544E-3,-1.9495895514111009E-3,-3.5276172913333947E-4,-4.4207116525513375E-3,2.7062637541011515E-4,1.5277081588747426E-3,-5.7981160916494492E-3,-3.6850303195830945E-3,2.694566889473901E-3,-8.895356288422027E-4,-1.1825599776251305E-3,1.4254810143451791E-3,5.2220236177082354E-3,2.4967458911241583E-4,3.8660927116923368E-3,4.7379895031005297E-3,1.8292290534066436E-3,-3.4676890399547956E-4,-3.8123174165131599E-3,-7.5761961609316939E-4,-1.5686247263638692E-3,-6.7256049788292768E-3,1.4610105693677745E-3,-5.1806782427862713E-3,-2.1374656623478253E-3,-3.9707510400965292E-3,6.1097738769835732E-4,8.6516796834704536E-4,-3.0990184167605413E-3,-1.6637749470193584E-3,-1.3406323429020666E-3,4.7701195011022298E-3,-1.6731540760448084E-4,1.7997794911421118E-3,3.6145895305246547E-3,-1.7122931987584398E-4,null,3.9412917374193057E-15,-2.7755575615628914E-17,1.6375789613221059E-15,-4.40619762898109E-16,-4.3853809472693683E-15,-9.8532293435482643E-16,3.6082248300317588E-16,-1.429412144204889E-15,1.9984014443252818E-15,-6.4531713306337224E-16,-4.9960036108132044E-16,2.3037127760971998E-15,3.4416913763379853E-15,8.1046280797636427E-15,-8.7430063189231078E-16,1.214306433183765E-15,2.3939183968479938E-15,1.2212453270876722E-15,-8.3266726846886741E-17,-6.9388939039072284E-16,8.5348395018058909E-16,-1.1657341758564144E-15,3.7470027081099033E-16,-1.7763568394002505E-15,-1.9081958235744878E-17,-1.6653345369377348E-16,-9.5756735873919752E-16,3.0531133177191805E-16,-1.8179902028236938E-15,1.27675647831893E-15,-2.8727020762175925E-15,-1.0685896612017132E-15,-2.095545958979983E-15,-1.2212453270876722E-15,1.2073675392798577E-15,1.457167719820518E-15,-5.2735593669694936E-16,-1.4016565685892601E-15,2.3037127760971998E-15,8.5625950774215198E-15,8.0491169285323849E-16,-2.6367796834847468E-16,3.9135361618036768E-15,1.2628786905111156E-15,-2.7224316551111016E-16,-1.2490009027033011E-15,-1.7867651802561113E-15,1.2600597648626533E-15,4.7739590058881731E-15,7.1470607210244452E-16,6.9388939039072284E-16,-6.1756155744774333E-16,5.6898930012039273E-16,3.8857805861880479E-16,5.2041704279304213E-16,-2.1649348980190553E-15,-2.6367796834847468E-16,9.5756735873919752E-16,6.2450045135165055E-17,1.6861512186494565E-15,5.5511151231257827E-17,-3.3306690738754696E-16,-9.7144514654701197E-16,1.6653345369377348E-16,1.8804402479588589E-15,2.0816681711721685E-17,1.9290125052862095E-15,5.5511151231257827E-16,2.2603446891977796E-15,-2.1315414711065017E-15,-4.3021142204224816E-16,-2.2204460492503131E-16,1.7208456881689926E-15,-8.2724625760643988E-16,-1.7347234759768071E-15,1.3739009929736312E-15,9.7144514654701197E-16,-1.3877787807814457E-17,2.2204460492503131E-16,-8.8817841970012523E-16,-3.7860339863193815E-16,-7.0776717819853729E-16,-1.5126788710517758E-15,2.581268532253489E-15,-1.2628786905111156E-15,7.7715611723760958E-16,-1.8735013540549517E-16,-4.8572257327350599E-16,-2.1371793224034263E-15,1.2490009027033011E-16,1.1657341758564144E-15,3.8857805861880479E-16,-1.1657341758564144E-15,-2.7755575615628914E-16,9.0205620750793969E-16,3.0253577421035516E-15,-9.5756735873919752E-16,-3.0531133177191805E-16,1.8318679906315083E-15,-7.7715611723760958E-16]
[-1.5651180306158303E-3,-6.893514349707396E-4,1.8436306833441904E-3,2.3034583206114441E-3,3.3063494578052828E-4,2.0261349686280139E-3,-3.9882418211752398E-3,-1.3683225577959088E-3,2.1834606799380077E-3,1.2420805504539346E-3,-1.1429352471993841E-3,3.0082976500368699E-3,2.4429542389667277E-3,2.7923388170249972E-3,-9.1767178476572731E-5,-2.0150771342762998E-3,-3.1409381288259102E-3,-2.6333742006633229E-4,1.7147097153902402E-4,1.3019064239604995E-3,8.6942371801117268E-4,7.5085456465241187E-4,-1.6273573568372007E-3,-5.726406305456149E-5,-9.6528681501589482E-4,5.2624759359106018E-4,-3.6274039039303258E-4,-7.0554396988990403E-5,-2.9531344500382839E-4,-8.0925451965982974E-4,2.3943283332165974E-3,-5.1113159766651855E-4,1.1166881673464915E-3,1.4999621823518895E-3,-1.7633754688646821E-3,-3.6274687501541321E-4,-2.0447799374712504E-3,-2.2633512696470476E-3,9.709569915963115E-4,1.2374056291267381E-3,1.5797290049006222E-3,2.331800510078937E-4,5.7473609697466263E-4,-8.3099281312526137E-4,-5.7270597051820927E-4,7.7861722829152111E-4,-1.3853427672514049E-3,1.2059142870690864E-3,1.6361492411615733E-3,-7.5408463457032546E-4,8.9974852660887263E-4,1.4818587993425604E-3,-1.1165824194936467E-3,-7.7191091600015528E-4,-2.6448677668734358E-3,-2.4856797262837817E-4,1.0972240782674196E-3,1.7735020183077925E-3,7.6618691072663329E-4,2.565074906161311E-3,1.0346739688797136E-4,5.6622204479892153E-4,-8.4031349418099363E-4,1.8782505285125303E-3,1.8937416207453915E-3,-2.8159432128040348E-3,1.9355879035756088E-3,-3.1337477488721033E-3,3.0478661528799949E-3,1.1232295424472751E-3,-1.8472596220198544E-3,-1.0977820122850556E-3,-9.5119175041556204E-4,-1.2890882346825508E-3,-9.2776717421110542E-4,2.7913202007111997E-3,4.5506839769305962E-4,-1.5837959161719313E-3,-1.0092775447485595E-3,1.9027573666216652E-4,4.3659807730177317E-4,-6.5109303268402426E-4,-3.7372450058488857E-4,-2.1548269870157711E-3,1.7597229499000968E-3,1.0660391274952489E-3,2.3474261668968684E-3,-2.7075749757297968E-3,2.3904369122771789E-4,-1.8299282947005706E-3,-2.9934011743471271E-3,-3.89142312321105E-4,-3.6125565791103897E-3,5.1628151039622447E-4,8.7062717263336736E-4,-1.3035401377422919E-4,2.2654150827114373E-3,-1.2750691414962756E-3,-1.4493940704740399E-3,1.0920247857991786E-3,null,-3.6082248300317588E-15,1.609823385706477E-15,7.7715611723760958E-16,9.7144514654701197E-16,-2.1094237467877974E-15,1.4710455076283324E-15,-4.0800696154974503E-15,-1.8735013540549517E-15,1.7763568394002505E-15,1.0547118733938987E-15,-9.7144514654701197E-17,5.0515147620444623E-15,-7.7715611723760958E-16,3.0531133177191805E-15,-9.7144514654701197E-17,9.7144514654701197E-16,8.6042284408449632E-16,-2.4424906541753444E-15,-1.7208456881689926E-15,2.2204460492503131E-16,1.7347234759768071E-15,1.3877787807814457E-16,-9.8532293435482643E-16,1.7208456881689926E-15,-1.033895191682177E-15,-8.0491169285323849E-16,-2.1094237467877974E-15,-1.0269562977782698E-15,-2.3037127760971998E-15,3.0531133177191805E-16,-4.4408920985006262E-16,-2.5257573810222311E-15,5.2735593669694936E-16,1.1657341758564144E-15,-1.6653345369377348E-15,4.7184478546569153E-16,-1.4710455076283324E-15,-1.0547118733938987E-15,3.1641356201816961E-15,3.8025138593411612E-15,2.6645352591003757E-15,-1.9428902930940239E-16,-2.4424906541753444E-15,-1.5265566588595902E-16,-9.5778419917369462E-16,6.6613381477509392E-15,-7.9103390504542404E-16,9.1506663357776574E-16,5.2735593669694936E-16,-1.762479051592436E-15,-5.8286708792820718E-16,-2.2204460492503131E-16,6.3837823915946501E-16,5.6898930012039273E-16,1.214306433183765E-15,1.2212453270876722E-15,-8.6042284408449632E-16,4.5380366131553274E-15,2.2204460492503131E-16,-1.27675647831893E-15,-2.55351295663786E-15,-8.8817841970012523E-16,3.8857805861880479E-16,7.2164496600635175E-16,1.0408340855860843E-15,-2.1614654510671016E-15,6.2450045135165055E-16,-1.609823385706477E-15,1.2941037130786981E-15,-1.4398204850607499E-15,-2.4424906541753444E-15,-1.2490009027033011E-15,1.1102230246251565E-15,-7.8105924505855739E-16,-2.4980018054066022E-16,-1.8873791418627661E-15,-6.106226635438361E-16,1.1796119636642288E-15,-3.9412917374193057E-15,2.9420910152566648E-15,1.6479873021779667E-17,-4.4408920985006262E-16,6.3837823915946501E-16,6.2450045135165055E-17,-9.9920072216264089E-16,-9.9920072216264089E-16,-1.3877787807814457E-15,-4.6421200217139358E-15,-1.6653345369377348E-15,2.4980018054066022E-16,5.5511151231257827E-16,7.4940054162198066E-16,-1.4849232954361469E-15,5.8286708792820718E-16,8.8817841970012523E-16,-1.8873791418627661E-15,5.8286708792820718E-16,6.9388939039072284E-17,2.7755575615628914E-15,-3.5388358909926865E-16]
[-5.9294268855375988E-3,1.5763198151216883E-3,8.4139456639155479E-6,1.4993898041001869E-3,1.9759290194464297E-3,2.1274276176034366E-3,-3.539372495205282E-3,-2.2235956526823267E-3,2.1758825835763588E-3,3.1375775738624163E-3,3.30706270869948E-4,2.3295195170892975E-3,-1.6977519259568339E-3,1.2172662790758877E-3,3.7543140365659569E-4,-3.0650445278295421E-3,-4.3884694081456361E-3,-2.9226326333187946E-3,-1.3532109303699058E-3,4.3291982713158641E-3,1.2924461776526572E-3,9.6608747959840507E-4,-3.4344957650104088E-3,-1.3610387638140469E-3,-1.5768637857466121E-3,3.1131222933902924E-3,2.0628187269854556E-4,-7.9796900140703935E-4,1.1365896198009837E-3,-2.1047001609997831E-3,4.0948608179070759E-3,4.1517700949796185E-4,3.5824454354097379E-3,3.7818545515779988E-3,-1.4490171101089176E-3,1.9816889389505192E-4,-3.4834242955131063E-3,-1.2962339762218342E-3,-4.1671085959754802E-4,4.2468976694518066E-4,2.651440699802385E-3,3.9464825614088145E-4,-8.0065185090919531E-4,-7.206041318330652E-4,-2.3387450207793038E-3,1.8111322643562275E-3,-1.3181948799134489E-3,6.6058239045454429E-4,2.1881167563307133E-3,-1.8234926119700009E-4,5.8081738679107717E-3,1.3022504600562642E-3,-1.243215474873594E-3,-1.7107861336351836E-4,-1.3361576177707958E-3,2.8648992525784787E-3,2.1446922757219281E-3,2.0435990166532548E-3,1.6777518793822344E-4,2.0773997963914781E-3,-5.8618222258782554E-4,3.5007935319201506E-3,-1.1253568815920409E-4,-1.6417427008024261E-3,1.438600143414795E-3,-3.5367409558499387E-3,2.3861611350089731E-3,-1.8823292685113124E-3,2.9340433082557515E-3,2.8527119766481434E-3,-8.1191910213933684E-4,5.6773945831870519E-4,-3.4100878577716567E-3,3.7224921198823616E-4,1.4582714907963267E-3,3.9164624168522193E-3,-1.8165746805850534E-3,-3.221325101737563E-3,-2.8419706699347267E-3,-3.9438415192042113E-4,-7.5421439709317454E-4,-2.192790281985942E-3,4.9826151789485564E-4,-2.7675294484056424E-3,9.1160815837943278E-4,3.2202969973338653E-3,1.16629758381293E-3,-2.1994922445178603E-3,3.1999486506507644E-3,-2.0393870110980671E-3,-4.8717096161837578E-3,-1.4156285248276691E-3,-2.9432182939678662E-3,2.654516469522381E-3,1.7312096088195016E-3,4.334881781679055E-4,9.9377464100825017E-4,-3.3509372705695415E-4,-3.546077416742077E-3,2.0837224648547557E-4,null,-4.5102810375396984E-16,-2.4980018054066022E-16,-3.1918911957973251E-16,-3.1225022567582528E-16,-1.6930901125533637E-15,-2.6367796834847468E-16,-1.9428902930940239E-16,1.9012569296705806E-15,-1.1102230246251565E-15,-4.0245584642661925E-16,1.8041124150158794E-16,-3.2335245592207684E-15,-3.1641356201816961E-15,-2.6645352591003757E-15,1.9428902930940239E-16,7.7021722333370235E-16,7.0776717819853729E-16,1.7208456881689926E-15,7.0776717819853729E-16,-1.6653345369377348E-16,2.7755575615628914E-16,-1.5265566588595902E-16,-7.4940054162198066E-16,1.2212453270876722E-15,-7.0429773124658368E-16,-1.1379786002407855E-15,-4.5796699765787707E-16,5.6898930012039273E-16,-1.4432899320127035E-15,-3.0531133177191805E-16,1.9012569296705806E-15,1.3461454173580023E-15,-2.2204460492503131E-16,8.3266726846886741E-16,1.0963452368173421E-15,0,2.9143354396410359E-16,-3.8857805861880479E-16,-2.1094237467877974E-15,-5.134781488891349E-15,-4.4408920985006262E-16,3.3306690738754696E-16,2.0261570199409107E-15,-6.9388939039072284E-16,5.2106756409653343E-16,9.9920072216264089E-16,-1.1796119636642288E-16,-4.1958624075189022E-16,3.8857805861880479E-16,2.0816681711721685E-16,3.6082248300317588E-16,-9.0205620750793969E-16,-1.6653345369377348E-16,6.2450045135165055E-17,2.2898349882893854E-16,-9.4368957093138306E-16,-1.3461454173580023E-15,8.4654505627668186E-16,-8.8817841970012523E-16,-2.4980018054066022E-16,2.886579864025407E-15,4.9960036108132044E-16,-6.9388939039072284E-16,-1.1102230246251565E-16,-9.7144514654701197E-16,1.700029006457271E-16,-5.9674487573602164E-16,1.3739009929736312E-15,1.6653345369377348E-16,6.357761539454998E-16,6.106226635438361E-16,3.8857805861880479E-16,1.1102230246251565E-15,-5.8546917314217239E-17,-1.2490009027033011E-15,9.7144514654701197E-16,2.7755575615628914E-17,4.163336342344337E-17,1.2490009027033011E-15,-1.3322676295501878E-15,8.1098322501915732E-16,9.0205620750793969E-17,-2.0261570199409107E-15,4.4408920985006262E-16,-1.1102230246251565E-15,-2.3314683517128287E-15,1.3877787807814457E-17,2.7929047963226594E-15,3.6082248300317588E-16,-8.3266726846886741E-17,-8.3266726846886741E-16,4.8572257327350599E-16,9.7144514654701197E-16,1.6653345369377348E-16,3.0531133177191805E-16,8.0491169285323849E-16,-4.3021142204224816E-16,4.3715031594615539E-16,-1.1934897514720433E-15,4.163336342344337E-17]
[-4.1580698552142878E-3,-2.9889071899645185E-4,3.368335617823751E-4,1.6348939092834748E-3,4.3073077394963625E-4,5.4933033513680329E-4,-1.7378411090496746E-3,-1.9388191484106922E-3,3.1331911570926917E-3,3.8492921420722969E-3,1.0910265456561821E-3,3.3072390025356783E-3,-5.3313838113284019E-4,8.8257283792042346E-4,6.7752859948501875E-4,-1.5952869515328343E-3,-4.9253983267622129E-3,-1.5667963952861181E-3,-3.4949557303456117E-5,2.9327352693565428E-3,2.5675159551504928E-3,1.4681132272985171E-3,-1.6373117309243851E-3,-9.1872639653703078E-4,-1.9105289932887649E-3,4.1847887824127917E-3,-1.3324812628463772E-3,-1.1591185848616094E-3,1.1285621531147419E-4,-5.232460897608061E-4,2.5846522599771672E-3,8.0681783060711135E-6,2.2920154552131594E-3,2.15944762711373E-3,-1.5347678959031176E-3,-2.6970856634299998E-3,-2.4268299283220331E-3,-1.5965860859830155E-3,6.6859184086078677E-4,3.2535840284875677E-3,3.7683995482126853E-3,-1.0441585488786052E-3,1.4693406948164344E-3,-3.6337062350279265E-4,-2.2266475695897473E-3,1.3502137664232342E-3,-1.4829445643043196E-3,1.6047229936313936E-3,3.1515206542366532E-3,1.9769227322308092E-4,3.0927736408202016E-3,1.4814980876744813E-3,-2.8046553647125406E-3,9.6670306928200284E-4,-3.8124078267105315E-3,1.7017280953695142E-3,2.6153508679723722E-3,4.0611885547178983E-4,2.8798239419287918E-4,2.5835214665637933E-3,-5.6427195858265312E-4,4.0414393643510146E-3,2.597966754891664E-5,-1.6777133385624833E-4,1.4597765656377355E-3,-1.9050579994336955E-3,4.1308130341885995E-3,-1.3201985342497038E-3,1.7198333677247493E-3,1.8717163351661473E-3,-2.4460591926102953E-3,-1.5630388308038637E-4,-3.4852325965118655E-3,8.9757720365023859E-4,6.3584460218142516E-4,3.8273158151185325E-3,-2.1064687919763259E-3,-2.5940837411555068E-3,-1.3678359021313071E-3,4.1830040949646395E-4,-4.9490556814592984E-4,-2.1194469332322017E-3,-3.5845077730289909E-4,-4.6762532063825335E-3,1.6001508085740144E-3,-1.3883313073939958E-4,2.5387088400454874E-3,-3.1795955556962502E-3,2.9783650644191789E-3,-2.3919139025483779E-3,-4.2102542104265183E-3,-8.9354783618981505E-4,-4.3440684768014798E-3,7.141434858121328E-4,1.9634771039463263E-3,-6.75488792880983E-4,1.9515689642826579E-3,-4.0629851218493165E-4,-1.5851606122042191E-3,-1.1429195390517978E-3,null,2.9802549317281546E-15,5.5511151231257827E-16,-6.2450045135165055E-16,-1.1171619185290638E-15,2.9143354396410359E-15,-1.5959455978986625E-15,-1.5820678100908481E-15,7.6327832942979512E-16,-2.0261570199409107E-15,-5.134781488891349E-16,-2.0816681711721685E-16,-2.9837243786801082E-15,-1.1657341758564144E-15,-1.9706458687096529E-15,5.2041704279304213E-16,5.2735593669694936E-16,2.0539125955565396E-15,2.7755575615628914E-16,7.2858385991025898E-16,-1.5543122344752192E-15,3.9551695252271202E-16,-6.9388939039072284E-16,4.0245584642661925E-16,-2.7478019859472624E-15,-6.7654215563095477E-17,-1.4988010832439613E-15,6.106226635438361E-16,-1.8041124150158794E-16,0,-1.6930901125533637E-15,-7.3552275381416621E-16,-4.8572257327350599E-16,-1.4988010832439613E-15,-1.1657341758564144E-15,-5.5511151231257827E-17,1.2490009027033011E-15,1.5543122344752192E-15,2.1649348980190553E-15,-9.9920072216264089E-16,1.5681900222830336E-15,-2.4147350785597155E-15,4.5796699765787707E-16,5.8286708792820718E-16,1.5543122344752192E-15,6.3653509546623965E-16,-1.1102230246251565E-15,-4.7184478546569153E-16,2.8406096919120216E-16,5.5511151231257827E-17,-8.6042284408449632E-16,-7.0776717819853729E-16,4.3021142204224816E-16,2.3037127760971998E-15,9.9920072216264089E-16,1.1553258350005535E-15,-4.0800696154974503E-15,8.3266726846886741E-17,1.0963452368173421E-15,-7.8409501114151681E-16,8.6042284408449632E-16,1.9428902930940239E-15,-1.9428902930940239E-15,1.8596235662471372E-15,-1.5820678100908481E-15,-7.7021722333370235E-16,-1.8735013540549517E-16,-1.366962099069724E-15,1.0269562977782698E-15,5.4643789493269423E-16,5.0306980803327406E-17,1.3322676295501878E-15,6.106226635438361E-16,1.3877787807814457E-15,2.3115190317390955E-16,-8.3266726846886741E-17,3.6082248300317588E-16,1.9984014443252818E-15,1.2906342661267445E-15,-2.55351295663786E-15,-3.6082248300317588E-16,-9.2200552748167297E-16,4.9266146717741321E-16,-1.1102230246251565E-15,2.1718737919229625E-15,-2.6367796834847468E-16,3.219646771412954E-15,-2.1510571102112408E-16,2.2169766022983595E-15,-1.8873791418627661E-15,1.5543122344752192E-15,1.5820678100908481E-15,4.5102810375396984E-16,1.4016565685892601E-15,-1.1934897514720433E-15,1.3877787807814457E-16,6.6613381477509392E-16,-7.4940054162198066E-16,-1.1796119636642288E-16,4.7184478546569153E-16,6.2450045135165055E-16]
[7.0786432701455309E-3,-3.1459376691354121E-3,1.2119002912777597E-5,-2.7806817636996549E-3,-4.5732858552123574E-3,-1.4013373748243882E-3,4.322484682478242E-3,2.0774917954593012E-3,-2.7522137070640543E-3,-5.0896342682525296E-3,2.2437976506401903E-4,-2.0580016418068467E-3,2.7575153149103282E-3,3.4176606224418769E-4,-1.498373823934052E-3,3.4473952690136462E-3,6.1566225856493888E-3,4.6696832491611214E-3,9.8128986474985309E-4,-5.4472657794595999E-3,-2.0356073605079877E-3,-2.8353737702341143E-3,3.8850168820174624E-3,-1.2473650705931605E-3,1.303466756894304E-3,-1.2183098175351501E-3,-3.5679442088048889E-4,3.4099790572023904E-4,-2.1116261836914836E-3,3.6623258483007306E-3,-6.0758747491561184E-3,-2.5886192774107358E-3,-4.1842469270970553E-3,-5.5155393779780272E-3,2.3111009811308445E-3,-5.5581332538819908E-4,4.8382337059780503E-3,5.5182766622842991E-4,1.0022945678309009E-3,1.4323523706931546E-3,-4.0564461223369383E-3,-2.1458587110468732E-4,3.3751743582048355E-3,1.5352744697296071E-3,2.9855610987915447E-3,-8.4056836763537069E-4,2.2132185554892127E-3,-7.2306609826758403E-4,-3.4220883218380933E-3,1.4331371681612457E-3,-6.6125161478274835E-3,-9.9435937413953706E-4,2.7485962530885226E-3,-1.7010236874649095E-3,9.6809928530674258E-4,-5.4873496320805692E-3,-5.1327258834474336E-3,-4.6139164774368574E-4,-8.9457411878663155E-4,-2.7129414840369854E-3,1.9066922782783817E-3,-6.0922406096022182E-3,-4.4499028254621508E-4,2.1882588797487545E-3,-2.4489480573699004E-4,5.0554965411815046E-3,-4.0893596715820745E-3,1.5777395361998628E-3,-5.5755122837442767E-3,-1.8254901065303034E-3,-9.6111880375371024E-4,-7.8917616963949098E-4,6.3319258685770102E-3,-1.5801705197104306E-3,-3.4821295483353559E-3,-5.3760816511434694E-3,2.2448939950920404E-3,4.655765875595368E-3,4.9715863609617033E-3,2.7738690278717353E-3,1.7185056134101189E-3,2.6746211469940444E-3,-1.3609392797800984E-3,6.3765147254972098E-3,-1.9811926826607852E-3,-6.0393680288808316E-3,-1.6783446421182904E-3,1.6627140119505187E-3,-4.4195912942155326E-3,1.7656371230006065E-3,8.1396837291456171E-3,1.1820003079236875E-3,5.5008613446602787E-3,-4.6820646515497557E-3,-3.4015080285617087E-3,3.3347166742745863E-4,-1.0655137066187337E-3,8.4801977276969967E-4,6.4232995254114517E-3,-2.2547285312789441E-3,null,-5.0237591864288333E-15,6.106226635438361E-16,1.0547118733938987E-15,-3.5908775952719907E-15,6.0229599085914742E-15,2.095545958979983E-15,-3.1918911957973251E-16,1.457167719820518E-15,2.7200464103316335E-15,2.4147350785597155E-15,7.2164496600635175E-16,8.2572837456496018E-16,2.8449465006019636E-15,-5.440092820663267E-15,-5.7245874707234634E-16,-1.3565537582138631E-15,-1.0477729794899915E-15,2.5257573810222311E-15,8.3613671542082102E-16,8.1878948066105295E-16,4.5102810375396984E-17,3.3306690738754696E-16,-7.9103390504542404E-16,1.0547118733938987E-15,5.0133508455729725E-16,-3.0531133177191805E-15,1.9428902930940239E-16,3.6082248300317588E-16,1.7347234759768071E-15,-1.609823385706477E-15,2.6922908347160046E-15,-1.5681900222830336E-15,4.7184478546569153E-16,-6.3837823915946501E-16,-2.0400348077487251E-15,-1.5265566588595902E-15,1.9567680809018384E-15,4.2188474935755949E-15,3.0253577421035516E-15,-5.5511151231257827E-16,2.0816681711721685E-16,-1.5265566588595902E-16,-6.1478599988618043E-15,-8.6042284408449632E-16,-1.637199490561736E-15,1.8596235662471372E-15,2.4875934645507414E-15,-2.5782327661705295E-16,-3.5527136788005009E-15,-8.4654505627668186E-16,-9.1593399531575415E-16,1.5473733405713119E-15,1.7208456881689926E-15,9.7144514654701197E-17,3.084338340286763E-15,4.2188474935755949E-15,1.2420620087993939E-15,7.8409501114151681E-16,-3.4000580129145419E-16,-9.7144514654701197E-17,-6.6613381477509392E-16,-5.5511151231257827E-17,2.6645352591003757E-15,-7.7715611723760958E-16,-3.1225022567582528E-15,7.095019016745141E-16,-4.7531423241764514E-16,5.0653925498522767E-16,-3.2768926461201886E-15,-9.0227304794243679E-16,2.9004576518332215E-15,1.8735013540549517E-15,-2.4841240175987878E-15,1.9576354426398268E-15,2.5396351688300456E-15,-2.7131075164277263E-15,4.8572257327350599E-16,1.85268467234323E-15,-2.1926904736346842E-15,-1.3739009929736312E-15,-1.5300261058115439E-15,2.7061686225238191E-16,1.8179902028236938E-15,-2.4633073358870661E-15,1.9845236565174673E-15,-2.3592239273284576E-16,-1.9914625504213745E-15,2.3661628212323649E-15,6.6613381477509392E-16,-3.1571967262777889E-15,1.8318679906315083E-15,3.2612801348363973E-16,4.6143644460983069E-15,-1.6792123247455493E-15,-1.9567680809018384E-15,-1.4849232954361469E-15,9.5756735873919752E-16,-1.8006429680639258E-15,1.3600232051658168E-15,-1.6306400674181987E-16]
[-1.2357961083246951E-3,1.1079113086132348E-4,-1.2124949617420471E-3,-1.5160589085928833E-3,-2.6249603803404206E-3,-5.9334033475948612E-4,8.5723754633933614E-4,-1.3828971101361627E-3,-3.4147975765196634E-3,3.4935061525945022E-4,1.0366376506543964E-3,-7.8964664292095939E-4,-9.4965575572839532E-4,4.3819726030589287E-4,4.1371512510405081E-4,1.5906820343536685E-3,-1.057261826606253E-4,3.4977045133648852E-3,-2.3375451590848589E-3,-1.6277224991431932E-3,1.2087017414155164E-3,-1.7705740553374846E-3,-9.0757734929598158E-4,-5.2066818936678683E-3,-7.1145150155854371E-4,3.8534661310552143E-3,-1.9822422975417893E-3,6.4957373115192261E-4,-1.1759990104067454E-4,2.751277080107624E-3,-1.7437343716151714E-3,-2.7919407669431396E-4,3.5583053844771297E-4,-1.5658026877525234E-3,2.8478399620545428E-3,-8.4041589533857027E-4,2.7178153890966626E-3,2.4596177533954826E-4,1.7416551935474879E-3,9.8343006205335202E-4,-1.0023554058514071E-3,-1.6508647962360542E-4,7.0171396199680326E-4,1.2911438581466581E-3,-1.6469148513332673E-3,4.6653071940570591E-3,-1.0335365651474165E-3,-1.4150364668784855E-3,3.7276623751548374E-3,3.9811096845177903E-5,-1.9947070720600346E-4,-8.4946246755012527E-6,2.5149724536402268E-3,-6.4867792285577255E-4,-3.7782271992549123E-4,2.0428437020690768E-3,-1.5804806471566651E-3,-1.2456599909793677E-4,-1.474417370492774E-3,-1.1593544831697588E-3,-1.1940423872348423E-3,-2.9315600330060283E-4,-9.3784818939979633E-4,-9.6117465858288655E-4,-8.7523518985160658E-4,-4.4693570618316737E-4,1.4320930367946281E-3,2.6613243903139049E-4,-1.879570215952383E-3,2.4910597129334193E-4,-7.5034106466747511E-4,5.1441649000442198E-4,2.0572900787140598E-4,1.9939641794498042E-4,2.4918983827754555E-4,1.0342732201390607E-3,-9.9176862500324769E-5,7.8037420306186628E-4,1.4506167944672412E-3,3.0045887524048111E-3,-1.8738821886510261E-3,-1.5024701342514877E-4,-1.0836625423372112E-3,4.7040648653900433E-4,-1.4860860376509184E-3,-2.2863087963789367E-3,9.9431655624316092E-6,-5.1187520805826383E-4,-7.9013382003287184E-4,-1.4360034638830278E-3,1.5179316334528027E-3,-9.8735188954961087E-4,2.1536414649730986E-3,-1.5739573689602857E-3,5.049662247836635E-4,2.9468557504892371E-3,-2.2678233471803548E-3,6.8415137127125455E-4,3.6093369326698848E-3,-1.1075253396788741E-3,null,2.1701390684469857E-15,3.6498581934552021E-15,-7.9103390504542404E-16,-1.0026701691145945E-15,-5.3013149425851225E-15,-2.7269853042355408E-15,3.5804692544161298E-15,-4.1980308118638732E-16,1.2281842209915794E-15,-2.0781987242202149E-15,2.0608514894604468E-15,-4.7253867485608225E-15,-3.0600522116230877E-15,-2.1926904736346842E-15,-1.1102230246251565E-16,-1.2108369862318114E-15,-4.3264003490861569E-15,-1.6930901125533637E-15,-3.6810832160227847E-15,2.0122792321330962E-15,3.2612801348363973E-16,1.2628786905111156E-15,-1.0408340855860843E-16,-1.1518563880485999E-15,5.1954968105505372E-16,2.2898349882893854E-15,8.6736173798840355E-16,-2.5673907444456745E-16,1.9428902930940239E-15,2.7755575615628914E-17,-2.1510571102112408E-16,3.5041414214731503E-15,2.2135071553464059E-15,1.915134717478395E-15,1.5751289161869408E-15,4.0245584642661925E-16,-1.1032841307212493E-15,3.3445468616832841E-15,1.7763568394002505E-15,-4.7808978997920804E-15,-5.0653925498522767E-16,-3.3306690738754696E-16,-2.4980018054066022E-15,-3.2890357104520263E-15,-1.5476986012230576E-16,-5.5511151231257827E-17,9.8705765783080324E-16,3.3827107781547738E-17,-3.2474023470285829E-15,1.5334955527634975E-15,2.3175905639050143E-15,-3.5457747848965937E-15,-1.0616507672978059E-15,-2.0469737016526324E-16,3.722716579446228E-15,5.6066262743570405E-15,-4.9960036108132044E-16,6.6613381477509392E-16,-7.3899220076611982E-16,6.0368376963992887E-16,-3.4694469519536142E-15,3.0947466811426239E-15,2.0400348077487251E-15,7.6327832942979512E-16,-2.4182045255116691E-15,1.9125326322644298E-15,-1.7763568394002505E-15,2.338407245616736E-15,-1.281093287008872E-15,-3.1654366627886787E-15,-3.7261860263981816E-15,1.033895191682177E-15,-4.2604808569990382E-15,1.1901287247373382E-15,2.0400348077487251E-15,-4.9404924595819466E-15,-1.8318679906315083E-15,-1.5161483180037294E-15,2.2204460492503131E-16,1.7902346272080649E-15,-3.7795287732844685E-16,-2.2898349882893854E-16,6.8625660709642489E-15,-2.8796409701214998E-15,-2.7755575615628914E-16,-3.9135361618036768E-15,-2.4286128663675299E-16,2.1874863032067537E-15,4.3992587350771828E-15,2.0608514894604468E-15,-3.4139358007223564E-15,-9.5062846483529029E-16,2.9143354396410359E-15,2.3314683517128287E-15,-1.4988010832439613E-15,-2.0816681711721685E-15,6.591949208711867E-16,-1.2212453270876722E-15,-2.0677903833643541E-15,5.0306980803327406E-17]
[1.2364746434105362E-3,5.9124443596354249E-3,-1.8604899494338348E-3,-3.3968364249675607E-4,6.5581408924688927E-3,-3.3256830256750548E-3,5.0715079534987603E-3,2.0601024998399436E-3,-2.1054725326264487E-3,-7.4844432274073932E-4,7.0362215008852168E-4,-8.3182607925712301E-3,-6.7351063478153245E-3,-8.1398169458962184E-3,1.3854388830107053E-3,4.2771626870642611E-4,1.4225862981627033E-3,-5.8407348542389289E-3,1.0136094264939102E-3,3.006442171978466E-3,-8.0750191516378933E-4,6.7730385242209057E-4,1.3887709370539872E-3,4.5027853410820589E-3,1.1378526650949199E-3,-2.5422718547902807E-3,3.0722937459169248E-3,1.5573304444580014E-3,5.0453126505014068E-3,-2.0608397422721774E-3,3.2620320343174484E-3,5.5757732393377267E-3,2.7364461358158417E-3,2.0479909205898812E-3,2.020486936695477E-3,4.3450165844280105E-3,-4.6875577159450883E-4,3.0855700348006603E-3,-5.766731635220422E-3,-8.093349260039873E-3,-2.0443974096932532E-3,-3.1798439290218557E-5,-9.5298008969302E-3,-1.0671305347811474E-3,8.8803829237927981E-4,-4.7394050993224586E-3,2.8663202298961476E-4,-2.8078955443345483E-3,-3.4610936034161909E-3,2.171262550147943E-3,1.5170141786733423E-3,-3.5709314271942225E-3,5.9471541168940186E-4,1.8638594414382415E-3,4.7662176184460571E-3,8.0730488671509216E-3,4.3765471568425682E-3,-5.2552262675952298E-3,-9.3399704752320347E-4,-4.0008422929955264E-3,-5.1448622072032468E-3,4.9915645795635469E-3,2.3371517331624418E-3,-7.1268885241061765E-3,-3.7087859446024063E-3,8.4261395124556927E-4,-1.2419435387030339E-4,4.9537558013244077E-3,8.3777305955370755E-4,-1.5891990539034884E-3,7.757262519198331E-3,4.7665418242159151E-3,-2.5394175923659497E-3,1.8140795985850527E-3,3.6753611683168312E-3,-2.3498763059479942E-3,-3.3038613893470571E-3,-6.3111560263299994E-4,-4.8255682044870598E-3,-4.2507200853552128E-3,-2.641720203168572E-3,-2.4198148477286463E-5,5.2881761106532438E-3,-1.0504309427009666E-4,6.0335284068894514E-4,7.7805223059689522E-3,-1.3392245136483276E-3,5.9856979144381657E-3,2.3273110338911289E-3,4.4897617925165776E-3,-6.9144479819667959E-4,-1.0621164688524865E-3,2.5477605176116268E-3,2.6111103615479056E-3,-2.3372580170318304E-4,-3.9805026648448288E-3,-3.7976691960628531E-3,-2.0214356974463028E-3,-3.0700959599604112E-3,1.5250625836497793E-3,null,2.5916768731093498E-15,1.27675647831893E-15,-2.0816681711721685E-16,1.5716594692349872E-15,4.6074255521943996E-15,-2.2759572004815709E-15,6.0229599085914742E-15,-4.98212582300539E-15,-2.0539125955565396E-15,8.3266726846886741E-17,8.1185058675714572E-16,1.124100812432971E-15,-4.7184478546569153E-15,1.9428902930940239E-15,1.6653345369377348E-16,7.6327832942979512E-17,-4.5796699765787707E-16,-7.049916206369744E-15,-3.5388358909926865E-16,8.2989171090730451E-15,3.5388358909926865E-16,-1.0685896612017132E-15,5.134781488891349E-16,7.6605388699135801E-15,6.1582683397176652E-16,5.0931481254679056E-15,-1.2490009027033011E-16,-7.0776717819853729E-16,1.124100812432971E-15,-3.5110803153770576E-15,5.6898930012039273E-16,1.5681900222830336E-15,1.1796119636642288E-15,1.4710455076283324E-15,-1.8596235662471372E-15,-2.4563684419831588E-15,6.5225602696727947E-16,6.6613381477509392E-16,4.6074255521943996E-15,3.5527136788005009E-15,3.5527136788005009E-15,1.366962099069724E-15,8.0491169285323849E-16,5.5511151231257827E-16,-1.5468312394850692E-15,-6.6613381477509392E-15,-2.2620794126737565E-15,2.4721977937014472E-15,4.6074255521943996E-15,1.0200174038743626E-15,1.2073675392798577E-15,-1.9775847626135601E-15,2.4424906541753444E-15,1.3183898417423734E-15,-2.8969882048812678E-15,1.2490009027033011E-15,8.8817841970012523E-16,-1.9428902930940239E-15,2.6367796834847468E-16,3.4000580129145419E-15,-1.5265566588595902E-15,2.4980018054066022E-16,1.8041124150158794E-15,-6.9111383282915995E-15,1.9081958235744878E-15,1.5508427875232655E-15,4.9890647169092972E-15,4.0800696154974503E-15,1.6063539387545234E-15,-1.717376241217039E-15,-3.7470027081099033E-16,2.6367796834847468E-15,-2.55351295663786E-15,-4.1264734684798299E-16,3.3653635433950058E-15,5.3290705182007514E-15,-3.0253577421035516E-15,7.6327832942979512E-17,-5.6066262743570405E-15,-2.886579864025407E-15,-2.0617188511984352E-15,-2.4633073358870661E-15,4.4270143106928117E-15,-2.2273849431542203E-15,9.1593399531575415E-16,-3.3306690738754696E-16,-1.3183898417423734E-16,-2.931682674400804E-15,5.5511151231257827E-17,-4.9960036108132044E-16,-7.4107386893729199E-15,2.2204460492503131E-16,5.4123372450476381E-16,1.3322676295501878E-15,2.1510571102112408E-15,-1.8873791418627661E-15,-1.7347234759768071E-15,-2.5049406993105094E-15,1.6930901125533637E-15,-1.5473733405713119E-15]
[-1.1809422129476785E-3,-3.1351189069790328E-3,1.6485863356829186E-3,3.104542744688869E-4,-3.5296968566040912E-3,1.6907863912902989E-3,-3.8903423424914512E-3,-1.72810757503898E-3,-2.3021103896772722E-3,3.9472376501858525E-4,-9.8658740364193382E-4,1.6998234705890196E-3,3.0552148778606944E-3,4.3250044094754218E-3,-4.6324897490478671E-4,-2.3458525159297168E-4,-3.3371519838181873E-4,3.9900164036485259E-3,-1.5266205201765943E-3,-2.358118188438966E-3,3.4595578542414077E-4,-2.1709722845435937E-3,-2.7838347236286789E-3,-5.0881652043202842E-3,5.0966740916199237E-4,1.6620674930671573E-3,-1.1725558211458987E-3,6.7002013852980678E-4,-2.5447183456743911E-3,2.1831958818293714E-3,-1.1399603960873755E-3,-2.2025633762578953E-3,-1.0938839952573049E-3,-1.6722077590306356E-3,3.977479599677425E-4,-8.9781218416009787E-4,1.1772215191624884E-3,-2.8107064070015684E-3,4.6892435129111086E-3,2.6481856041150006E-3,-1.1689986540332328E-3,3.3490869026712202E-4,3.4766273738609148E-3,1.294621062529135E-3,-2.8754873360801976E-4,6.7546512054136908E-3,-6.753869849799646E-4,-5.0803205768275403E-4,3.922457443168422E-3,-2.2779166694651917E-3,-6.7121597208423956E-4,1.1230119622259252E-3,2.1101116868812576E-3,-9.2541779508476451E-4,-1.9800629091880996E-4,-3.6153380525862527E-3,-2.2354628041274739E-3,2.9374027252580489E-3,1.0378248892764445E-3,8.5908754759413261E-4,3.9117583015918665E-3,-4.2982538697828023E-3,-3.3380873520725786E-3,2.709314873341554E-3,8.8081024044439995E-4,-6.3219704321037726E-4,-1.073616801355603E-4,-2.2880276708481841E-3,8.683784147689753E-4,2.2837177578624186E-4,-2.2880268277320685E-3,-1.8392999456978032E-3,7.401331653360011E-4,-2.5662087979864772E-4,-1.2799769979131721E-4,4.3046724416053405E-4,4.1572138948203358E-3,2.7005440936229616E-4,2.4124249065021063E-3,3.1347723844736271E-3,9.5954507616789807E-4,-4.763002441526982E-4,-2.6739683498977732E-3,-1.2587717955292831E-4,-1.7840859231630776E-3,-3.7232634072193087E-3,1.1408224525128697E-3,-1.4957989270988992E-3,-1.9976805039409189E-3,-1.5501886780915121E-3,8.2689307258215837E-4,5.1224741653636592E-5,-2.131145582739405E-3,-1.4328898520278481E-3,1.5076990737745424E-4,3.2833263568124199E-3,-1.7136595779460658E-3,1.2327769779727163E-4,2.8516508913165404E-3,1.3186070891763643E-3,null,2.2204460492503131E-16,-6.6613381477509392E-16,-2.7755575615628914E-16,3.2612801348363973E-16,-6.3837823915946501E-16,-1.1102230246251565E-15,2.7755575615628914E-17,1.1796119636642288E-15,-2.886579864025407E-15,8.9511731360403246E-16,-2.7755575615628914E-17,-5.2319260035460502E-15,-1.6514567491299204E-15,-5.134781488891349E-15,2.7061686225238191E-16,6.9388939039072284E-16,-2.3869795029440866E-15,4.7184478546569153E-16,-5.5511151231257827E-17,1.7486012637846216E-15,5.0653925498522767E-16,-8.7430063189231078E-16,7.6327832942979512E-17,2.9976021664879227E-15,-1.3548190347378863E-15,2.5396351688300456E-15,4.163336342344337E-16,-2.5673907444456745E-16,-1.457167719820518E-15,5.2735593669694936E-16,1.3392065234540951E-15,2.3592239273284576E-15,-4.9960036108132044E-16,1.3877787807814457E-16,1.1657341758564144E-15,-3.8857805861880479E-16,-1.5404344466674047E-15,-9.5756735873919752E-16,-1.4988010832439613E-15,-2.9143354396410359E-15,-1.3322676295501878E-15,-2.1510571102112408E-16,2.1510571102112408E-15,4.9960036108132044E-16,1.6328084717631697E-16,5.2735593669694936E-16,-5.2735593669694936E-16,-8.9338259012805565E-16,-2.7755575615628914E-16,1.3322676295501878E-15,-1.0408340855860843E-15,-2.0192181260370035E-15,1.1796119636642288E-15,-7.6327832942979512E-17,-5.8980598183211441E-17,6.9388939039072284E-16,-2.6645352591003757E-15,-1.0200174038743626E-15,-3.9551695252271202E-16,1.6792123247455493E-15,1.915134717478395E-15,-3.6082248300317588E-16,-1.1102230246251565E-16,-1.2490009027033011E-15,-3.0878077872387166E-16,1.4137996329210978E-15,-1.27675647831893E-15,2.55351295663786E-15,3.5735303605122226E-16,5.9370910965306223E-16,-1.6653345369377348E-16,-1.8041124150158794E-16,4.7184478546569153E-16,-5.7766291750027676E-16,-1.1726730697603216E-15,1.6653345369377348E-15,8.6042284408449632E-16,4.2327252813834093E-16,2.8310687127941492E-15,-1.3045120539345589E-15,-2.2508037100799072E-16,2.2898349882893854E-16,-1.4016565685892601E-15,2.9490299091605721E-16,-1.0130785099704553E-15,-3.2474023470285829E-15,8.2572837456496018E-16,4.6317116808580749E-16,1.6653345369377348E-15,-4.0245584642661925E-16,-2.0122792321330962E-15,-4.5796699765787707E-16,-6.0368376963992887E-16,4.0245584642661925E-16,-2.0816681711721685E-16,8.3266726846886741E-16,-1.3877787807814457E-15,9.2287288921966137E-16,-1.5543122344752192E-15,1.6653345369377348E-16]
[2.5446775264163254E-3,-2.2020908361572999E-3,-5.7781939998718045E-4,-9.082165314924451E-4,-1.3851802017909745E-3,-8.3239279155301557E-4,3.0126090342829925E-3,3.1422507611666953E-3,-4.8901641838607751E-4,-2.707832109433859E-3,-1.1446717350934112E-3,5.232732932776373E-4,2.8893064377884534E-3,8.6685953325851242E-4,1.3982234723641127E-5,2.1460385424477736E-3,4.2521179961259505E-3,2.3100937109605119E-3,-1.3569440351311199E-5,-3.5674425179587732E-3,-1.3971588184627562E-3,-5.2119082932483443E-4,1.510197499749304E-3,1.7390953753230944E-3,8.6493081214626406E-4,-2.6066380391476232E-3,3.1819644760682978E-4,8.5738008408092119E-4,-1.6184112594851273E-3,2.1604293893319874E-4,-5.4723069631662947E-3,-1.3254061834974977E-3,-3.5500738395667099E-3,-2.8778247485166555E-3,7.0924396356894471E-4,-6.1103398910481311E-4,3.1644904452607105E-3,4.270741512746588E-5,-2.8653434604045255E-4,3.9316077421467049E-4,-5.7146396569170827E-4,-2.1315951322366497E-4,2.0069997542619955E-3,1.14062353425043E-3,2.4609376952987637E-3,-7.9568333909106224E-4,1.4124671376975805E-3,1.6081962676537686E-4,-2.5074408721406038E-3,1.6097869714908463E-4,-2.8887348973669707E-3,-1.7441614220569488E-3,2.0537288409748587E-3,-1.2038644432397863E-3,1.6053640203203086E-3,-3.0551184117023019E-3,-2.8225750982704598E-3,7.2934616503058118E-4,-9.140452859442836E-4,-1.7216598892017046E-3,2.544970682069202E-3,-2.5357358126812885E-3,-1.8297816086065179E-4,1.0581716216768475E-3,-3.1817453366312992E-4,3.4800312379062713E-3,-3.9836796561294229E-3,1.162023456883969E-4,-3.594103280991261E-3,-1.8009380191719106E-3,-3.3447660008755289E-4,-4.0064576851607232E-4,2.9200372654906029E-3,6.3088109417098093E-5,-6.9245835982928818E-4,-1.6772541622471415E-3,1.1395319531412016E-3,2.6559257987739423E-3,8.3221317070969827E-4,1.4245089605022195E-3,1.9420274402740633E-3,2.6479143419640269E-4,-8.3451330108774528E-4,1.5240441785661413E-3,-1.8099255131166507E-3,-3.4893199890166679E-3,-1.1916441263227736E-3,8.7200648104076824E-4,-1.9145848905064522E-3,2.5696255493010177E-3,2.7090675882279571E-3,1.5617857305137712E-3,4.3325756509863785E-3,-1.3891444169799954E-3,-2.7168726720899748E-3,8.749074277580445E-5,1.2107714764268839E-3,-8.426674517279895E-4,1.9629603866578439E-3,-9.8535508129907732E-4,null,1.9845236565174673E-15,-3.8302694349567901E-15,-8.0491169285323849E-16,-2.7061686225238191E-16,1.3322676295501878E-15,-1.5543122344752192E-15,-1.2490009027033011E-15,-3.8441472227646045E-15,-1.8873791418627661E-15,6.6613381477509392E-16,5.8286708792820718E-16,-6.106226635438361E-16,1.5543122344752192E-15,4.7184478546569153E-15,4.163336342344337E-16,-6.5225602696727947E-16,8.3266726846886741E-17,8.8817841970012523E-16,-3.3584246494910985E-15,0,-8.8817841970012523E-16,-1.3600232051658168E-15,-1.8318679906315083E-15,5.5511151231257827E-16,-7.4940054162198066E-16,3.6637359812630166E-15,6.6613381477509392E-16,-5.5511151231257827E-16,5.8286708792820718E-16,9.1593399531575415E-16,-1.4988010832439613E-15,2.5257573810222311E-15,3.8857805861880479E-16,-2.3869795029440866E-15,1.3600232051658168E-15,-2.9976021664879227E-15,-1.0408340855860843E-15,1.1934897514720433E-15,4.6074255521943996E-15,8.3266726846886741E-16,3.3306690738754696E-16,-8.8817841970012523E-16,4.7184478546569153E-16,1.3877787807814457E-17,-7.4636477553902125E-16,-2.9420910152566648E-15,-1.1032841307212493E-15,1.0694570229397016E-15,1.2212453270876722E-15,-8.0491169285323849E-16,1.1102230246251565E-16,5.6898930012039273E-16,3.1086244689504383E-15,-5.5511151231257827E-17,-3.434752482434078E-15,-3.3306690738754696E-15,-1.0547118733938987E-15,-2.0677903833643541E-15,-8.1878948066105295E-16,8.0491169285323849E-16,3.8857805861880479E-16,-1.7208456881689926E-15,6.106226635438361E-16,1.1102230246251565E-15,2.2690183065776637E-15,5.1000870193718129E-16,-1.5265566588595902E-16,-1.0824674490095276E-15,-7.2511441295830537E-16,-2.8362728832220796E-15,-3.0253577421035516E-15,-2.55351295663786E-15,-1.3600232051658168E-15,1.7433970933566911E-15,8.6042284408449632E-16,1.9428902930940239E-15,3.9412917374193057E-15,1.3739009929736312E-15,-1.1102230246251565E-15,1.1102230246251565E-16,-1.0616507672978059E-15,-6.0368376963992887E-16,2.6090241078691179E-15,8.3960616237277463E-16,8.6042284408449632E-16,-9.4368957093138306E-16,1.124100812432971E-15,-1.7208456881689926E-15,-1.9984014443252818E-15,-2.1371793224034263E-15,-5.5511151231257827E-16,7.0776717819853729E-16,-5.2735593669694936E-16,-1.6653345369377348E-15,4.4408920985006262E-16,1.5265566588595902E-15,-1.7486012637846216E-15,-2.3592239273284576E-16,4.7739590058881731E-15,-1.0547118733938987E-15]
[2.2097847417830983E-3,2.080989607177109E-3,-3.612803570099395E-5,-7.3854566449615467E-4,2.7492431647653361E-3,-5.4694857597469666E-4,2.3136691538648349E-3,1.6145797846667748E-3,9.1361488356905298E-4,-8.6778063956744646E-5,-5.323705258328394E-4,-2.0806467683408586E-3,-3.2339105783635546E-4,-2.7145942216826769E-3,-2.1760788602078363E-4,-5.5395616727805445E-4,3.9690200054078895E-5,-3.5566374446219444E-3,1.4040042684687571E-3,1.1412373912013001E-3,-7.6711026276546346E-4,1.3277235863965176E-3,1.7572339301779706E-3,4.8787750958830343E-3,7.9746052385820838E-4,-2.1664252106927077E-3,1.0077239044906485E-3,-1.0547496986298979E-3,1.8124345768872948E-3,-1.9762108629072799E-3,6.6008998612685442E-4,2.1940766040819733E-3,1.4407977770562505E-3,1.7164056842068859E-3,-9.646775699443872E-4,8.6908440498575544E-4,-1.5367328266814931E-3,3.2666666166131716E-3,-2.8281265462314778E-3,-1.9697288302345517E-3,1.5509731682887822E-3,-3.6005707034184519E-4,-2.406476473010173E-3,-2.6467657710988455E-4,1.4722973183370427E-3,-6.2353988637833162E-3,8.0699681680438025E-4,1.2395185163217488E-4,-4.3041358198990277E-3,8.6775615257099611E-4,-3.4129176334411955E-4,-2.0217692748829776E-3,-2.5985972234657097E-3,8.7028626875622545E-4,-7.6965173327379609E-5,1.6059857058374407E-3,7.45235806187174E-4,-2.9131950785611879E-3,1.0646259114238585E-4,-4.847016705283069E-4,-2.9804621714244299E-3,1.2749120692867847E-3,3.6647629453145712E-3,-7.5486690579080942E-4,9.9763524500405846E-4,2.2271100937493245E-5,2.8520059905069744E-4,1.5537964939874808E-3,8.820984060502428E-4,7.9604438015497346E-4,9.4341178394439606E-4,1.2526587305616331E-3,-6.198253767511902E-4,-1.6333559775209441E-3,-4.4489218889251237E-4,-1.6008631733345831E-3,-3.6478351423301111E-3,-1.4306198633845162E-3,-6.9808207510198468E-4,-3.464523529483985E-3,3.895859239335156E-4,6.3233359576838374E-4,1.5262480637944699E-3,1.1864113529534296E-3,2.6516894398513581E-3,2.8083219738777739E-3,-1.1526322812975859E-3,1.3124655485164591E-3,9.8180609509685227E-4,2.7536425474675909E-3,4.6335878475414901E-4,1.4141088949600367E-3,1.4058519356864693E-3,2.1800067562112078E-3,1.59013446029518E-3,-3.3037249616813093E-3,2.1734739690845105E-3,-3.4014330211952433E-4,-2.8410059214875397E-3,-5.2593295256442882E-4,null,1.2177758801357186E-15,-9.4368957093138306E-16,4.7184478546569153E-16,1.7694179454963432E-16,-5.2735593669694936E-16,-8.3266726846886741E-17,-4.4408920985006262E-16,-3.4694469519536142E-17,1.9567680809018384E-15,-2.0816681711721685E-16,-1.8735013540549517E-16,-4.3298697960381105E-15,-5.5511151231257827E-17,2.7755575615628914E-16,-6.0368376963992887E-16,3.5735303605122226E-16,2.5049406993105094E-15,6.3837823915946501E-16,-4.2327252813834093E-16,-1.5265566588595902E-15,4.7878367936959876E-16,6.9388939039072284E-17,1.4918621893400541E-15,3.3306690738754696E-15,-4.163336342344337E-16,1.4710455076283324E-15,-1.8041124150158794E-16,1.9428902930940239E-16,2.0816681711721685E-15,-6.8001160258290838E-16,-8.3266726846886741E-16,1.7069679003611782E-15,1.2073675392798577E-15,-6.106226635438361E-16,-5.8286708792820718E-16,-1.1796119636642288E-15,-7.4940054162198066E-16,4.3021142204224816E-16,8.6042284408449632E-16,4.8572257327350599E-16,-1.2073675392798577E-15,-1.5265566588595902E-16,1.9984014443252818E-15,-6.7307270867900115E-16,9.0498355337365055E-16,1.8873791418627661E-15,-1.1102230246251565E-16,1.2641797331180982E-16,-6.2450045135165055E-15,-4.5796699765787707E-16,3.8857805861880479E-16,-3.1225022567582528E-16,1.0269562977782698E-15,5.4123372450476381E-16,-2.4390212072233908E-15,-1.0269562977782698E-15,1.3877787807814457E-17,1.457167719820518E-15,-1.429412144204889E-15,-4.7878367936959876E-16,-2.0816681711721685E-15,2.7200464103316335E-15,2.8310687127941492E-15,-1.609823385706477E-15,-7.4593109467002705E-16,-1.6740081543176188E-15,-2.1996293675385914E-15,5.6898930012039273E-16,-5.5684623578855508E-16,-1.0260889360402814E-15,2.095545958979983E-15,-1.1379786002407855E-15,-1.2212453270876722E-15,4.5384702940243216E-16,-6.9388939039072284E-18,-2.2898349882893854E-15,3.6637359812630166E-15,1.3739009929736312E-15,-3.2751579226442118E-15,-1.7486012637846216E-15,-2.1120258320017626E-16,5.6551985316843911E-16,-1.9012569296705806E-15,-2.0816681711721685E-17,1.1102230246251565E-16,-6.6613381477509392E-16,-5.5511151231257827E-16,3.7504721550618569E-15,-2.4702462297909733E-15,4.0661918276896358E-15,9.0205620750793969E-16,9.298117831235686E-16,3.4694469519536142E-17,7.3552275381416621E-16,-8.0491169285323849E-16,-6.6613381477509392E-16,1.3461454173580023E-15,7.9797279894933126E-16,1.4155343563970746E-15,-1.4224732503009818E-15]
[8.7128010207662004E-3,3.6081279063356641E-3,-4.1325416927003641E-3,-3.7201698914353419E-3,5.1572663467387495E-3,-3.3058563086852139E-3,1.0414975284636311E-2,6.1325174348100253E-3,-1.5493581362746854E-3,-6.5966592347043657E-3,-3.9733729922386619E-5,-9.4204238420768933E-3,-4.3703015304999088E-3,-8.756779594645903E-3,-2.922398181047451E-4,4.3352373288760978E-3,7.8947523128177263E-3,-5.0112197867660056E-3,4.2942776297544456E-3,-2.156181256545387E-3,-3.5694161801261932E-3,3.8787282276375176E-4,6.005050964807088E-3,9.2809409621131857E-3,2.5269341574225691E-3,-9.3828448136589644E-3,1.7148933477824761E-3,1.253393836656557E-3,4.1585532626858945E-3,-1.3275944801015593E-3,-2.5322835160309027E-3,3.4961726835463758E-3,-3.2934468722359777E-3,-1.7968630418651913E-3,3.3223142053898456E-3,5.6267784831962831E-3,4.3648871780022054E-3,7.3226237942497401E-3,-7.0110828488701713E-3,-6.5287433337702962E-3,-3.0922029055458766E-3,4.723456605373125E-4,-5.8833184926447004E-3,2.1050693097019644E-3,1.5398089172330616E-3,-1.0077826897447262E-2,3.0509134584705872E-3,-4.2700731447164299E-3,-9.2291322864027133E-3,3.9337050570405529E-3,-3.4055803342787905E-3,-6.0776741071052872E-3,2.0978438908991173E-3,2.150421148220635E-3,6.4160697010333563E-3,3.1284757079386599E-3,-1.1131392167028963E-3,-6.1874346112381958E-3,-2.3570055321443743E-3,-6.3910202845601722E-3,-1.9579466710808804E-3,9.7192069523102296E-5,4.0106054438925924E-3,-4.024833036412173E-3,-4.5779483091529247E-3,6.9683140825288698E-3,-5.9426403004615774E-3,6.6049118828132337E-3,-5.0344493679727763E-3,-5.0246521636816751E-3,8.6102982747134158E-3,3.1845451467418934E-3,3.8086352090221163E-3,5.1433140737431628E-4,2.6574237834503913E-4,-7.1233103195428669E-3,-3.708676581243592E-3,3.9095318228821521E-3,-2.5679896474584268E-3,-5.0198418366981332E-3,3.7936921099796195E-4,3.2675326494886049E-3,4.3203740622503881E-3,6.3381675520235376E-3,-1.4117508456217205E-3,2.7114000112851773E-3,-3.3318881951079921E-3,8.2884878679479797E-3,-1.88896311208088E-3,8.0290025143214643E-3,5.3027184545312803E-3,1.0128799304135205E-3,9.7515494426981177E-3,-8.6544493654653026E-4,-3.3943622965759389E-3,-5.4428568604081894E-3,-1.8165490828424885E-3,-2.8407186335535671E-3,-2.6943358604942369E-4,1.0757125108030365E-3,null,-1.3322676295501878E-15,8.1878948066105295E-16,1.0928757898653885E-15,-5.2735593669694936E-16,2.2690183065776637E-15,-1.8561541192951836E-15,-2.1788126858268697E-15,-6.2450045135165055E-17,2.6298407895808396E-15,2.3696322681843185E-15,-6.2450045135165055E-16,-1.2906342661267445E-15,3.5665914666083154E-15,-1.8249290967276011E-15,-5.8980598183211441E-17,-1.5360976379774627E-15,9.4022012397942945E-16,-1.762479051592436E-15,6.6786853825107073E-16,-2.4771851236948805E-15,4.6837533851373792E-16,1.4849232954361469E-15,1.7590096046404824E-15,-3.9412917374193057E-15,1.6132928326584306E-16,-4.6074255521943996E-15,-5.4123372450476381E-16,1.214306433183765E-16,-1.0130785099704553E-15,-1.7347234759768071E-15,-3.2959746043559335E-16,2.1475876632592872E-15,-1.2490009027033011E-16,7.6327832942979512E-16,-2.0330959138448179E-15,-8.81239525796218E-16,-4.0939474033052647E-16,1.915134717478395E-15,-2.1163626406917047E-15,1.4398204850607499E-15,-7.0776717819853729E-16,4.3715031594615539E-16,-3.8510861166685117E-15,-2.2204460492503131E-16,-6.7057904368228449E-17,1.762479051592436E-15,-2.5500435096859064E-16,3.6808663755882876E-16,-3.1225022567582528E-15,-8.3440199194484421E-16,-2.0469737016526324E-15,-6.1929628092372013E-16,1.8249290967276011E-15,7.4246164771807344E-16,2.5300941897121731E-15,1.6792123247455493E-15,1.7104373473131318E-15,-7.2858385991025898E-17,-2.9143354396410359E-16,-9.7144514654701197E-16,-3.219646771412954E-15,5.2735593669694936E-16,2.1024848528838902E-15,1.5334955527634975E-15,-2.5673907444456745E-16,-5.6309124030207158E-15,-2.1146279172157278E-15,-1.7208456881689926E-15,6.2536781308963896E-16,8.2106630522327251E-16,9.5062846483529029E-16,-1.214306433183765E-15,-1.3530843112619095E-15,1.3760693973186022E-15,-4.5102810375396984E-16,-5.4192761389515454E-15,7.0776717819853729E-16,-3.920475055707584E-16,-6.2935767708438561E-15,4.5102810375396984E-16,-8.0556221415672979E-16,6.4531713306337224E-16,5.0306980803327406E-16,-1.3947176746853529E-15,2.3037127760971998E-15,7.2511441295830537E-15,-1.1379786002407855E-15,9.4455693266937146E-16,-2.733924198139448E-15,3.7851666245813931E-15,7.9797279894933126E-16,2.1007501294079134E-15,-1.3565537582138631E-15,2.7755575615628914E-16,-4.6143644460983069E-16,-8.6736173798840355E-16,4.3159920082302961E-15,-1.0130785099704553E-15,-2.6367796834847468E-16,8.0317696937726168E-16]
[-3.6601345331914422E-3,-1.384902379577039E-3,9.0073796436675321E-4,2.1999816811576469E-3,7.8710507107519137E-6,2.9267454968576762E-3,-4.6533420211006043E-3,-1.4263322579779747E-3,4.4323622658219916E-3,1.8045067207603559E-3,-4.8212256136074991E-4,5.5924957876551523E-3,1.1369078297627205E-3,2.1822681392122561E-3,-1.7843573719043639E-3,-2.91735839398777E-3,-2.1753616589856861E-3,-1.392584517573076E-4,-5.1266939061830625E-4,2.1756865057254156E-3,7.8663278288728451E-4,-2.8907936639928621E-4,-8.4535647048755832E-4,-8.7401114090882536E-4,-1.1844387170485103E-3,1.9631149164177374E-3,-1.1271624597169901E-5,-1.2238370105495191E-3,-1.890724693360534E-3,-8.521836909637482E-4,2.8964519503063739E-3,-3.546874727181442E-3,-1.8770744457492967E-4,1.3044760221538844E-3,-2.5487603711022624E-3,-1.5442855713648229E-3,-2.7243444484062519E-3,-1.8617242954801557E-3,3.2247556077446842E-3,3.4488425956695481E-3,1.8027675731857543E-3,2.0615079611374962E-3,4.260394291147696E-3,-2.6160018275609327E-3,-1.5858791765911212E-3,8.3129718645553574E-4,-7.2763099952192491E-4,1.6775268726191112E-3,1.4670423092197464E-3,-1.3332214311872952E-3,4.8207353635828652E-4,2.5499222015122006E-3,-3.2421495988857866E-3,-1.2650604852765699E-3,-3.309724219808683E-3,-2.4045320005041896E-3,-2.1644934415988759E-4,3.0543516961439804E-3,1.5003511880388645E-3,2.9734541031775094E-3,-1.7493809493832583E-4,-6.8355119142854805E-4,-4.3033416534464942E-4,1.9372721015682545E-3,2.0497242387078037E-3,-1.6796896389469679E-3,1.6600654773798423E-3,-3.4063432661566189E-3,1.6012047661402573E-3,2.9535941782486549E-3,-2.9555192449616614E-3,-2.5837959765256753E-3,-3.8250112726737718E-4,-1.2371127279425583E-3,2.6104321740873106E-5,3.2347935094163864E-3,2.6621255247257043E-3,-7.0305476171958438E-4,2.4208182926341854E-4,1.8016297303764632E-3,1.4442234378889563E-3,-4.3122560458294369E-4,-1.2797398471296067E-3,-2.233184309179858E-3,1.250235056892456E-3,-2.3533976621292344E-3,7.468298266184156E-4,-4.9860858658181953E-3,1.4840348385076348E-3,-2.1569304534549273E-3,-2.3392635977834962E-3,6.208285856162916E-4,-3.5721913105437701E-3,1.8276227790093471E-3,5.892673860845339E-4,1.26821024954944E-3,1.6293461427062254E-3,1.1240794917799623E-3,6.9050722878306745E-5,-8.633568655160047E-4,null,9.298117831235686E-16,-1.2212453270876722E-15,4.163336342344337E-17,5.0653925498522767E-16,5.5511151231257827E-16,2.7755575615628914E-17,-1.6653345369377348E-15,7.2164496600635175E-16,1.8041124150158794E-15,4.3021142204224816E-16,-1.8735013540549517E-16,-2.7894353493707058E-15,4.163336342344337E-16,8.3266726846886741E-16,5.5511151231257827E-17,4.7184478546569153E-16,-3.1918911957973251E-16,1.6930901125533637E-15,-1.4432899320127035E-15,-2.4980018054066022E-16,1.8041124150158794E-16,2.7755575615628914E-16,1.8041124150158794E-16,1.9428902930940239E-15,-8.1878948066105295E-16,-5.8286708792820718E-16,-4.0245584642661925E-16,-1.3877787807814457E-17,-1.0547118733938987E-15,2.4980018054066022E-16,-1.6653345369377348E-16,1.457167719820518E-15,-3.0531133177191805E-16,-7.2164496600635175E-16,-3.6082248300317588E-16,-1.124100812432971E-15,-1.4155343563970746E-15,-5.5511151231257827E-17,3.3306690738754696E-16,-2.1788126858268697E-15,6.9388939039072284E-16,2.2204460492503131E-16,2.0261570199409107E-15,2.4980018054066022E-16,-2.2204460492503131E-16,-1.7208456881689926E-15,-4.8225312632155237E-16,1.1050188541972261E-15,-1.8041124150158794E-15,-1.8041124150158794E-16,9.7144514654701197E-17,-2.0816681711721685E-17,-1.1102230246251565E-16,-6.9388939039072284E-17,3.9898639947466563E-16,-6.3837823915946501E-16,8.0491169285323849E-16,7.0776717819853729E-16,-1.1102230246251565E-16,7.0776717819853729E-16,0,4.7184478546569153E-16,3.6082248300317588E-16,4.7184478546569153E-16,1.0547118733938987E-15,-4.2674197509029455E-16,-5.9674487573602164E-16,5.2735593669694936E-16,-4.0245584642661925E-16,-2.8883145875013838E-16,-7.9103390504542404E-16,-1.609823385706477E-15,-1.3600232051658168E-15,3.4694469519536142E-18,1.9428902930940239E-16,6.2450045135165055E-16,7.4940054162198066E-16,2.2204460492503131E-16,2.8588242884097781E-15,0,-1.0408340855860843E-17,4.4408920985006262E-16,-1.2212453270876722E-15,-2.2898349882893854E-16,-3.8857805861880479E-16,-5.5511151231257827E-17,3.6082248300317588E-16,-1.412064909445121E-15,8.8817841970012523E-16,1.0963452368173421E-15,-5.2735593669694936E-16,4.0939474033052647E-16,8.8817841970012523E-16,8.3266726846886741E-17,2.7755575615628914E-16,-8.3266726846886741E-17,1.8041124150158794E-16,5.8286708792820718E-16,-9.1593399531575415E-16,-9.9226182825873366E-16]
[-1.6833257591056107E-3,7.911463605312296E-4,5.1523647689635061E-4,1.4787371628879977E-3,2.9521842391706651E-3,-3.3811086482517537E-4,8.5095030033472953E-5,1.5431075811093178E-4,1.4493780948466408E-3,1.423442154574763E-3,-6.0872305526187454E-4,9.7947535997739517E-4,-9.6749256391177559E-4,-1.1642792574119111E-3,9.286186429046981E-4,-1.5153813255934297E-3,-1.4136757306514622E-3,-2.7572953587394764E-3,2.5434647789527914E-4,3.6251272434141427E-3,6.797646283665539E-4,7.2049246780414924E-4,-4.1579646904422834E-5,2.2862970141434985E-3,-2.8900890474384321E-4,-5.8690917313199076E-5,1.5087106650822503E-3,6.4136322256671077E-4,1.1036404920270841E-3,-2.6654618857743389E-3,1.5658071965579893E-3,6.54943581116891E-4,1.0254003777409827E-3,2.5940577304612825E-3,-1.6509690835245568E-3,-1.1398634901063527E-3,-1.5607572568611028E-3,8.9996918242868102E-4,-1.0928509426475471E-3,-1.0653676448487105E-3,1.0535200451846382E-3,-1.1557446842335364E-4,-5.1276042614302084E-4,-1.8844860034215305E-3,-3.5248046612302761E-5,-2.0907987439964188E-3,-5.5443134881974661E-4,3.9670366196067105E-4,-1.3043955057983679E-3,-1.0051182506514685E-4,1.4443478052032506E-3,7.2822428162098638E-4,-3.1801373113630313E-3,9.6833498170654532E-4,-4.3155185346161335E-4,1.8950048201994707E-3,2.6277185114120596E-3,1.0483204031959613E-4,9.9777376546264008E-4,7.2631412598967023E-4,-1.874161615961944E-3,3.277735257059849E-3,4.6880122357738591E-5,-1.7252680706697499E-3,-5.9204856719359739E-4,-2.8640968039803972E-4,7.4259847462442615E-4,-1.6964788988041668E-4,9.609397417113132E-4,-5.9939421998010244E-4,1.2574316391365454E-3,1.0177822862545113E-3,-2.8844289734904025E-3,5.4890919124608319E-4,1.817673703522557E-3,1.1807888857374494E-3,-1.0040368044573237E-3,-7.9778837217805792E-4,-2.0746620483099573E-3,-1.3859308566321726E-3,3.0216047398412357E-5,-1.227947512741358E-4,1.1587012771947936E-3,-4.1203558982351738E-3,1.6702558889302964E-3,2.1529655828921948E-3,1.1364817541146329E-3,-7.3614272492951774E-4,3.0021326683091491E-3,1.3189015395380734E-3,-3.5542285017233694E-3,3.1388685933938872E-5,-1.0545804916791608E-3,2.2948669190342918E-3,-3.9605012960497175E-6,-9.6994246688800146E-4,9.9993493443686432E-4,-6.9014070116158864E-4,-2.3832453378015797E-3,4.9829005331420556E-4,null,-9.1593399531575415E-16,6.6613381477509392E-16,2.3175905639050143E-15,-5.5511151231257827E-16,4.4131365228849972E-15,1.0269562977782698E-15,-2.4980018054066022E-16,-1.3183898417423734E-15,2.8310687127941492E-15,-9.0205620750793969E-16,3.4694469519536142E-16,5.1486592766991635E-15,4.5241588253475129E-15,2.2759572004815709E-15,2.5673907444456745E-16,-1.8804402479588589E-15,-2.6367796834847468E-16,-7.2164496600635175E-16,-1.7277845820728999E-15,-6.3837823915946501E-16,1.8041124150158794E-16,2.4702462297909733E-15,6.2450045135165055E-16,-1.8873791418627661E-15,7.580741590018647E-16,-5.2319260035460502E-15,1.6930901125533637E-15,-8.3266726846886741E-17,2.248201624865942E-15,-1.8596235662471372E-15,-7.7715611723760958E-16,-2.4980018054066022E-15,-6.5225602696727947E-16,-2.4147350785597155E-15,-1.1657341758564144E-15,-2.0261570199409107E-15,-4.5241588253475129E-15,1.27675647831893E-15,8.8817841970012523E-16,3.9829251008427491E-15,2.7755575615628914E-16,-3.8163916471489756E-16,-7.4940054162198066E-16,-3.7470027081099033E-16,-6.7556637367571781E-16,-7.5495165674510645E-15,-3.4000580129145419E-16,1.3931997916438732E-15,-1.3322676295501878E-15,-1.4918621893400541E-15,-1.1379786002407855E-15,1.1449174941446927E-15,1.2212453270876722E-15,0,2.6506574712925612E-15,2.0261570199409107E-15,1.7208456881689926E-15,1.1934897514720433E-15,2.0122792321330962E-16,-1.1934897514720433E-15,-3.4416913763379853E-15,-1.9428902930940239E-15,1.0824674490095276E-15,1.6375789613221059E-15,2.643718577388654E-15,-2.491062911502695E-15,1.8179902028236938E-15,-3.1502578323738817E-15,8.4654505627668186E-16,1.4519635493925875E-15,-3.4694469519536142E-16,-3.1363800445660672E-15,-1.1102230246251565E-16,5.9002282226661151E-16,-3.2612801348363973E-16,-7.3552275381416621E-16,-2.7755575615628914E-16,-9.5756735873919752E-16,-1.915134717478395E-15,-9.1593399531575415E-16,-1.4302795059428774E-15,9.0899510141184692E-16,2.2898349882893854E-15,-6.5225602696727947E-16,1.7763568394002505E-15,7.7438055967604669E-15,9.0205620750793969E-17,-1.0304257447302234E-15,1.3877787807814457E-16,4.7184478546569153E-16,1.6930901125533637E-15,-6.9388939039072284E-17,-2.3869795029440866E-15,-5.5511151231257827E-16,5.5511151231257827E-17,-1.1102230246251565E-15,3.2335245592207684E-15,-1.0061396160665481E-15,7.2164496600635175E-16,-5.3429483060085659E-16]
[-7.9754510442327817E-4,1.6704515340079818E-3,1.3833694709852228E-3,5.3001363962623053E-4,3.9049798566913926E-3,1.9975497889106067E-4,9.455268561581366E-5,-1.4009972407582848E-3,2.7325821974699851E-3,7.0869079152580474E-4,7.9689325838923608E-5,-1.4417842048100667E-3,-2.404867102084875E-3,-1.1294786918401502E-3,-8.5500095190886593E-4,-1.8102556040195503E-3,-2.8162970671028135E-3,-3.2963735682027535E-3,1.3970363712305911E-3,3.0671904552051214E-3,2.8407723845291094E-4,1.518742830056349E-3,-5.1424569900661396E-4,2.4498988177440784E-3,-1.1270827341859135E-4,-1.3401899510058087E-3,1.6104149207306831E-4,-3.9893688459784768E-4,2.1149301302785663E-3,-2.0140946974503294E-3,2.7671160502045064E-3,1.7798994187355184E-3,3.4999207628776249E-3,3.1072847136722377E-3,-2.023669068865518E-3,2.159707601531708E-3,-2.9370192371669501E-3,1.6353794534007509E-3,-2.1175268770828718E-3,-1.4426840148923186E-3,1.0182341797641034E-3,7.987381751421792E-4,-3.1429445092364459E-3,-1.5845314293653329E-3,-1.2020803875576995E-4,-3.2522208577397179E-3,-2.5038578777306206E-4,3.0719815181175323E-4,-1.1307713801098507E-3,-1.923856424023374E-5,2.1673788860371583E-3,-1.3703284003921653E-4,-3.1197279008715823E-3,6.5377433307991985E-4,-5.8820675260971215E-4,3.3634650994677738E-3,3.2739423073913638E-3,-6.1703513215147091E-4,1.5703624854800581E-3,3.2917299711631435E-4,-3.4978997713503192E-3,2.6810418768683018E-3,2.7155486941629241E-3,-1.5945752791647967E-3,-5.813044767815031E-4,-3.1159119286844508E-3,2.2891716034347163E-3,7.1284645346543485E-4,3.264598478826279E-3,1.5638394618008563E-3,1.6098973687236151E-3,1.3444114569694508E-3,-2.6468167124741098E-3,-5.0071432062081427E-4,1.9920380615940224E-4,1.2392016903282276E-3,-1.888917384206069E-3,-2.7284019771494895E-3,-1.914450356821182E-3,-3.4932608990178799E-3,-1.0211402461349414E-3,2.2261799746896535E-4,1.0759509152115829E-3,-7.0968049622868864E-4,1.8277107309809686E-3,5.0491394644723202E-3,8.7604704608656018E-5,4.3024126714964452E-4,2.1245396411667191E-3,3.5222985949599198E-4,-2.8706166788674474E-3,-1.5051874295987106E-3,-2.6501268932658801E-3,3.1254786235186114E-3,2.9206499831248289E-3,-1.5110937212404188E-3,3.4867626574169261E-4,4.0840576716313242E-4,-3.214937392111092E-3,2.3146921996442115E-4,null,-1.6202317265623378E-15,3.3306690738754696E-16,1.3600232051658168E-15,2.1788126858268697E-15,5.2735593669694936E-16,3.6359804056473877E-15,-3.8025138593411612E-15,-1.6653345369377348E-15,2.9143354396410359E-15,3.3306690738754696E-16,3.3306690738754696E-16,1.4849232954361469E-15,1.5820678100908481E-15,1.5265566588595902E-15,5.134781488891349E-16,-3.7816971776294395E-16,1.7555401576885288E-15,-1.2490009027033011E-15,-7.0776717819853729E-16,-1.6653345369377348E-16,8.4654505627668186E-16,2.5951463200613034E-15,-1.700029006457271E-15,3.1918911957973251E-15,-1.4450246554886803E-15,-3.4278135885301708E-15,-8.8817841970012523E-16,-6.6613381477509392E-16,4.7739590058881731E-15,-2.3592239273284576E-15,2.0816681711721685E-16,-2.8171909249863347E-15,6.5225602696727947E-16,3.4972025275692431E-15,-5.287437154777308E-15,4.4408920985006262E-16,-2.1233015345956119E-15,-6.8001160258290838E-16,-1.609823385706477E-15,9.5756735873919752E-16,1.5820678100908481E-15,-1.366962099069724E-15,4.4686476741162551E-15,-1.8596235662471372E-15,-4.2511567183156629E-16,2.4980018054066022E-15,2.2204460492503131E-16,2.1684043449710089E-16,-6.4670491184415368E-15,-1.9845236565174673E-15,-5.9674487573602164E-16,2.0608514894604468E-15,-4.163336342344337E-17,5.5511151231257827E-16,-1.8943180357666733E-15,-1.1379786002407855E-15,3.7192471324942744E-15,3.3029134982598407E-15,-3.8857805861880479E-16,-3.1641356201816961E-15,-2.3037127760971998E-15,-1.5543122344752192E-15,2.1371793224034263E-15,1.1102230246251565E-16,2.3037127760971998E-15,-1.9463597400459776E-15,-2.1302404284995191E-15,-2.7894353493707058E-15,-9.1940344226770776E-17,2.1714401110539683E-15,-3.9968028886505635E-15,-2.4841240175987878E-15,-8.3266726846886741E-16,9.0053832446645998E-16,6.0368376963992887E-16,1.8873791418627661E-15,5.5511151231257827E-16,-1.7069679003611782E-15,-3.3584246494910985E-15,-2.5257573810222311E-15,1.5421691701433815E-15,1.2490009027033011E-16,-6.2172489379008766E-15,-2.9490299091605721E-15,8.3266726846886741E-16,1.5265566588595902E-15,-7.7021722333370235E-16,-8.8470897274817162E-16,8.3266726846886741E-16,1.0408340855860843E-15,-1.2212453270876722E-15,9.0899510141184692E-16,-3.1502578323738817E-15,2.4147350785597155E-15,1.2073675392798577E-15,-2.0539125955565396E-15,6.0368376963992887E-15,9.5756735873919752E-16,-2.6922908347160046E-15,-1.1518563880485999E-15]
[6.6233089724817732E-5,4.2507420568292601E-3,-1.9223644234937377E-3,-3.1052049583521637E-4,2.7012547417548213E-3,-1.9470881413855077E-3,9.3487950264363896E-4,-5.1041293363942144E-4,-2.6801289562492113E-3,1.7153879381350868E-3,2.474839074221852E-5,-5.0318129829955071E-3,-3.4864454119412388E-3,-4.4971432482030062E-3,1.2736921620235212E-3,-7.1082871043669812E-4,-1.1406646638960182E-3,-3.3444652326992735E-3,-1.5010260283342361E-4,2.4652876959104083E-3,5.2457433303934207E-4,2.5389395958995208E-4,-1.0968148377254571E-3,4.7142648734205576E-4,9.1702686359319884E-4,-3.2810256681097694E-4,1.5056987647834343E-3,1.1051719255277364E-4,3.5223328208143223E-3,-3.5620654185878812E-4,3.3235993459474213E-3,3.6615056531893613E-3,1.7887677781824761E-3,1.6882007849847425E-3,1.0993059109986004E-3,3.8116412848095541E-3,5.8571648165571907E-5,8.3029467107990711E-4,-3.5878137683804522E-3,-5.6680049471486225E-3,-1.2689612901219817E-3,5.086300540312783E-4,-7.3436724331894356E-3,6.9603202682870925E-5,-1.292156111026146E-3,1.0066028571069138E-3,-8.2909983651474186E-5,-9.7768810658788955E-4,1.9650123699015377E-3,2.0037136856467797E-3,3.5993746375300503E-3,-8.2641063414307938E-4,1.23415999811414E-3,2.6794794139635373E-3,3.3948002962019262E-3,6.2102031118246503E-3,2.6414094761905418E-3,-3.2153195690694091E-3,-4.5845395186305652E-4,-1.5583223909476389E-3,-3.1474682772473783E-3,3.0058849122322042E-3,-3.9178989184105887E-4,-3.9220362859072001E-3,-2.333024690861045E-3,-1.0386868614157025E-3,1.203818635326182E-3,2.7008883145822143E-3,2.2103651099719033E-3,-1.2562738284274365E-3,5.4139641184805919E-3,2.7040552450646252E-3,-5.3934991211401564E-3,2.8736262388629062E-3,3.7063394055512344E-3,-4.3134814922874337E-4,-1.2247346901632188E-3,-8.61703733232823E-4,-5.2722192201532818E-3,-2.3709863555184661E-3,-2.6322161231785925E-3,-1.4274335400047957E-3,3.9560831718577242E-3,-1.330755389589455E-3,1.9860271422197145E-4,5.7201763902189418E-3,1.7783010604470229E-4,4.0171955608112233E-3,7.6043380619059272E-4,1.2674756208108909E-3,-2.3032967344597437E-3,-1.8323370881581542E-3,-4.6931705283128402E-4,2.1182088834846425E-3,-1.312511141988061E-4,-1.5848745062468361E-3,-3.4757168428505691E-3,-1.7246804587165042E-3,-1.2658870758302132E-3,2.7199555563319224E-3,null,4.9075327135383873E-15,4.5102810375396984E-16,1.5473733405713119E-15,-8.5088186496662388E-16,-1.9914625504213745E-15,-1.9671764217576992E-15,7.7021722333370235E-16,3.3306690738754696E-16,1.2836953722228372E-15,-2.400857290751901E-15,-1.0495077029659683E-15,4.9266146717741321E-16,1.519617764955683E-15,1.8249290967276011E-15,-1.2073675392798577E-15,1.7824283715661693E-15,4.208439152719734E-15,-1.2490009027033011E-15,1.0443035325380379E-15,-1.8388068845354155E-15,3.9898639947466563E-17,-7.1123662515049091E-16,1.5126788710517758E-15,1.0755285551056204E-15,6.2146468526869114E-16,-2.3835100559921329E-15,-1.5612511283791264E-15,-4.4755865680201623E-16,-3.0635216585750413E-15,-1.9775847626135601E-15,-1.0130785099704553E-15,7.6327832942979512E-17,-1.4085954624931674E-15,-8.2572837456496018E-16,3.6082248300317588E-16,1.6826817716975029E-15,-2.3141211169530607E-15,-2.9837243786801082E-16,-2.2690183065776637E-15,4.0453751459779141E-15,-1.5057399771478686E-15,-1.1969591984239969E-16,5.2735593669694936E-16,-1.9775847626135601E-16,9.7252934871949748E-16,-3.4555691641457997E-15,-1.1882855810441129E-15,1.3322676295501878E-15,-4.8572257327350599E-17,3.5214886562329184E-16,-1.4918621893400541E-16,-2.4771851236948805E-15,3.0531133177191805E-16,-2.2551405187698492E-17,2.1293730667615307E-15,-4.7878367936959876E-16,-1.6306400674181987E-16,5.8980598183211441E-17,-1.9428902930940239E-16,1.1102230246251565E-16,-2.4286128663675299E-15,5.7592819402429996E-16,8.3266726846886741E-16,-6.8695049648681561E-16,-4.9092674370143641E-16,-1.2420620087993939E-15,-9.540979117872439E-16,5.8980598183211441E-16,1.7156415177410622E-15,-1.6106907474444654E-15,6.2450045135165055E-17,-1.0200174038743626E-15,1.0200174038743626E-15,-1.6430541822931577E-15,-9.2634233617161499E-16,3.1225022567582528E-17,4.5102810375396984E-16,1.321859288694327E-15,-1.6653345369377348E-15,-2.400857290751901E-15,-8.3375147064135291E-16,2.5673907444456745E-16,1.9741153156616065E-15,3.7869013480573699E-15,6.2450045135165055E-17,6.3837823915946501E-16,-9.1940344226770776E-16,-2.1250362580715887E-16,-2.0400348077487251E-15,1.6896206656014101E-15,9.4368957093138306E-16,4.8398784979752918E-16,7.3205330686221259E-16,1.3045120539345589E-15,-1.5959455978986625E-16,-3.3306690738754696E-16,-1.1032841307212493E-15,-6.9041994343876922E-16,2.4771851236948805E-15,-3.6255720647915268E-16]
[-2.1168688545362244E-3,-2.4841983012814394E-3,4.0844668886710577E-5,-5.8278186979889089E-4,-4.030041129018923E-3,8.4110549269667424E-4,-2.1398399554665862E-3,2.1884077179017865E-4,-1.623396855989405E-3,2.8300977646726454E-4,2.1243716791395654E-5,4.3091486970953628E-3,3.332951502308704E-3,4.9342359994512574E-3,-3.4487550658016824E-4,9.0380859988340465E-4,1.0975905874375709E-3,5.1831952503929943E-3,-2.2913846903253295E-3,-2.6218970833239833E-3,6.867504972128247E-4,-1.5253506134981227E-3,-1.9524065271489806E-3,-2.9239757346027355E-3,-1.7169879368368986E-4,3.2895064532092243E-3,-1.0800480111474496E-3,1.1950912865246414E-3,-2.559693926193608E-3,8.4825888574781283E-4,-4.8229054127674033E-3,-3.0409731446881085E-3,-1.8330777782115306E-3,-1.428348834527645E-3,4.9226828732486564E-4,-3.9808068160335575E-3,1.7806337630262082E-3,-3.8196224382378165E-4,4.5085595189937365E-3,3.6805612685799623E-3,1.3197990518281776E-3,2.1675306210843998E-4,5.6545695658955517E-3,-6.6599928658135621E-4,-6.2852472992362454E-5,4.6223484650824084E-3,1.181250840155597E-4,6.4310183333780629E-4,1.8563585639792524E-3,-2.5865477249224656E-3,-7.7948852002730177E-4,9.7199534753208429E-4,1.1473306506199858E-3,-7.9160038582866768E-4,-1.4475206659374852E-3,-4.606358378113286E-3,-3.4112730525941454E-3,3.0045355716375776E-3,2.1772505050220994E-4,1.8609764326250962E-3,3.8023404108239183E-3,-2.4663196580288712E-3,-1.7883816601941235E-3,1.1012119478787114E-3,1.5171662942094649E-3,6.5332696028569088E-6,-1.4521212401250865E-3,-1.9899366387584384E-3,-2.3338431087049465E-3,1.352422983205511E-3,-4.7409075670319456E-3,-1.7974776064490559E-3,1.5800225102333377E-3,-6.7221594491780393E-4,-3.59823678786184E-4,7.6007311630027193E-4,2.397334741432187E-3,5.3897551069448228E-4,2.7324367761784908E-3,3.454724281797464E-3,2.5290314817361936E-3,-6.8575937381190719E-4,-3.3171439928345887E-3,-8.7883909928643711E-4,-2.0137549184444962E-3,-5.8378894300338781E-3,-2.5650391620216784E-4,-3.1651864212442165E-3,-5.6860323525107501E-4,-1.0951647760195251E-3,4.1595782157839516E-4,1.7755277727358292E-3,1.0962328120463416E-3,-8.4203792476973715E-4,-6.4870928944361201E-4,3.3768838445388714E-3,4.3648749764205451E-4,1.4521285562233426E-3,2.2109097273021777E-3,-1.5326611776452245E-3,null,-2.8033131371785203E-15,3.7747582837255322E-15,-8.7430063189231078E-16,-7.5633943552588789E-16,3.858025010572419E-15,1.0963452368173421E-15,-2.5118795932144167E-15,1.6306400674181987E-15,8.3266726846886741E-17,-2.3939183968479938E-15,-8.7430063189231078E-16,7.2164496600635175E-16,-4.6768144912334719E-15,-3.7192471324942744E-15,2.5673907444456745E-16,1.8561541192951836E-15,7.7715611723760958E-16,-1.3877787807814457E-15,4.2604808569990382E-15,1.4988010832439613E-15,-7.0082828429463007E-16,-1.5126788710517758E-15,-1.27675647831893E-15,-5.1902926401226068E-15,-1.4276774207289122E-15,-3.524958103184872E-15,-1.5820678100908481E-15,2.4841240175987878E-15,1.3600232051658168E-15,-2.3592239273284576E-15,1.7208456881689926E-15,-1.0685896612017132E-15,3.1918911957973251E-16,-1.0547118733938987E-15,-2.9698465908722937E-15,3.3306690738754696E-15,-1.9220736113823023E-15,-1.5126788710517758E-15,-3.2751579226442118E-15,4.0523140398818214E-15,-1.4849232954361469E-15,-1.5265566588595902E-16,7.4940054162198066E-16,1.4224732503009818E-15,-3.0411870938218399E-16,5.5511151231257827E-17,-9.2287288921966137E-16,-5.9847959921199845E-17,2.4424906541753444E-15,3.7470027081099033E-16,1.5265566588595902E-16,2.2343238370581275E-15,1.8318679906315083E-15,9.298117831235686E-16,-1.2212453270876722E-15,1.3877787807814457E-16,4.801714581503802E-15,2.8796409701214998E-15,-2.7755575615628914E-17,8.0491169285323849E-16,9.9920072216264089E-16,-1.3877787807814457E-15,8.8817841970012523E-16,-4.7462034302725442E-15,2.8067825841304739E-15,1.3843093338294921E-15,4.0939474033052647E-16,2.3453461395206432E-15,3.7331249203020889E-15,4.158999533654395E-16,3.8441472227646045E-15,9.298117831235686E-16,-1.2490009027033011E-16,3.0292608699244994E-16,1.2490009027033011E-16,3.9690473130349346E-15,-2.3869795029440866E-15,1.0963452368173421E-15,-3.9412917374193057E-15,-1.6653345369377348E-15,-1.3517832686549269E-15,-6.9735883734267645E-16,1.2351231148954867E-15,1.9567680809018384E-15,-2.1233015345956119E-15,6.8278716014447127E-15,2.2204460492503131E-16,-1.2698175844150228E-15,-2.4980018054066022E-16,-1.5681900222830336E-15,-3.0947466811426239E-15,-1.033895191682177E-15,3.7400638142059961E-15,-2.8171909249863347E-15,2.0608514894604468E-15,2.248201624865942E-15,-4.0800696154974503E-15,6.9388939039072284E-17,-2.9976021664879227E-15,-3.6429192995512949E-16]
[-3.8435907263247148E-3,-5.3166539351682442E-3,1.8548573816044875E-3,5.9351609661129339E-4,-5.8258273640155282E-3,3.6551702720533786E-3,-6.2007271278051784E-3,-3.2295951417854558E-3,1.2333843354416251E-3,2.3573729706244943E-3,-5.102808387386366E-4,7.4787283466875238E-3,4.7006911608841939E-3,7.6048177990198588E-3,-5.3124548276068794E-4,1.0543574923073623E-3,-3.710155565155982E-3,7.0016197865518564E-3,-1.9406669447032858E-3,-2.6799142853257993E-3,1.4808603482709183E-3,-2.347942302814905E-5,-2.2939174757524209E-3,-7.3590062445011428E-3,-1.0435900956267852E-3,4.219796033333818E-3,-3.9214568219026738E-3,-9.4321660435003744E-4,-5.4506950147995203E-3,3.1300063379625731E-3,-8.317040669541878E-4,-4.898099858045105E-3,-1.4350663298221672E-3,-1.8404497416522588E-3,-1.207285928013157E-4,-3.3555279264421392E-3,-3.5817200002517656E-4,-5.4743691974333793E-3,7.340492063432672E-3,8.4268076937545951E-3,1.0383823532094532E-3,-2.8970995092907461E-4,8.4312761918771666E-3,3.8350485074372146E-4,-8.2176035810750832E-4,8.2361179423576132E-3,-8.2670287553961999E-4,1.8484163307025212E-3,7.6591530416512763E-3,-2.5366025664352765E-3,1.5151700631078018E-4,3.4898012188018727E-3,-1.0800051600443504E-3,-1.7323616932766741E-3,-4.0229997623944906E-3,-5.7018577455289626E-3,-3.4127132083790557E-3,4.7198919984099618E-3,-1.0975646236937446E-4,3.7252532100935541E-3,4.6834517613454519E-3,-3.5026801153643424E-3,-3.588227828636722E-3,4.6427583955741883E-3,3.1110166938808953E-3,-2.8292516730456844E-3,3.143816840058137E-3,-4.7755371280019682E-3,1.00690113980336E-3,1.4826897053614924E-3,-7.3965023316338403E-3,-3.4056726578019659E-3,1.1060658420315808E-3,-2.173057362805876E-3,-2.5544050284397372E-3,3.8758833056432248E-3,3.5538742860532577E-3,-5.3474620676889433E-4,4.2809600660969399E-3,4.8480513516124309E-3,4.8582216377269881E-4,-9.80899702063519E-4,-4.9451580974956095E-3,-3.2467561089120532E-5,8.7782922224489247E-5,-7.9664301477804234E-3,2.5722904977665364E-3,-6.1347152207290034E-3,-1.3334645602208809E-3,-5.338354269522224E-3,4.8220465417850373E-5,2.7737362664821967E-4,-5.2705129047007481E-3,-3.1961244859257691E-3,1.8975281396048452E-3,4.5200640620437493E-3,1.6889113002704133E-3,1.5814498901058508E-3,2.2595677687729824E-3,-1.2336393336247128E-3,null,2.8796409701214998E-15,2.1649348980190553E-15,-8.0491169285323849E-16,-1.0894063429134349E-15,-7.7715611723760958E-16,-1.9984014443252818E-15,4.8849813083506888E-15,1.8041124150158794E-16,-1.4710455076283324E-15,-1.6653345369377348E-15,1.2628786905111156E-15,-1.4432899320127035E-15,-4.8572257327350599E-15,1.9984014443252818E-15,9.7144514654701197E-16,2.8102520310824275E-15,1.5265566588595902E-16,4.4408920985006262E-16,-3.6082248300317588E-16,3.1641356201816961E-15,-1.457167719820518E-15,-1.1102230246251565E-15,6.9388939039072284E-17,3.8857805861880479E-15,-3.6082248300317588E-16,-1.3877787807814457E-15,1.7208456881689926E-15,6.3837823915946501E-16,2.4702462297909733E-15,2.7200464103316335E-15,-2.3037127760971998E-15,-8.0491169285323849E-16,-1.4155343563970746E-15,8.3266726846886741E-16,1.8041124150158794E-15,9.9920072216264089E-16,1.5543122344752192E-15,2.4980018054066022E-15,-3.1641356201816961E-15,8.6042284408449632E-16,-5.5511151231257827E-16,6.3837823915946501E-16,1.6653345369377348E-16,1.6653345369377348E-15,-4.397524011601206E-16,-8.8262730457699945E-15,8.3266726846886741E-16,-8.0968218241217471E-16,-1.1102230246251565E-16,1.3322676295501878E-15,-8.8817841970012523E-16,-2.8588242884097781E-15,2.3592239273284576E-15,8.3266726846886741E-16,2.2204460492503131E-15,1.8873791418627661E-15,-2.6367796834847468E-15,-2.3592239273284576E-15,1.5265566588595902E-16,-3.1918911957973251E-16,5.5511151231257827E-17,-1.7208456881689926E-15,1.1102230246251565E-16,-1.4988010832439613E-15,4.163336342344337E-17,5.7037707890117417E-15,-1.2351231148954867E-15,1.609823385706477E-15,-3.5978164891758979E-15,-1.7182436029550274E-15,8.3266726846886741E-16,2.3869795029440866E-15,5.3845816694320092E-15,2.0339632755828063E-16,7.3552275381416621E-16,7.2164496600635175E-16,-5.1070259132757201E-15,-9.7144514654701197E-17,3.1086244689504383E-15,-1.6653345369377348E-15,1.0590486820838407E-15,7.0776717819853729E-16,6.6613381477509392E-16,8.1878948066105295E-16,-3.3306690738754696E-15,3.1086244689504383E-15,-7.7715611723760958E-16,-1.4432899320127035E-15,1.9428902930940239E-15,-3.3306690738754696E-16,-2.3314683517128287E-15,-6.9388939039072284E-16,3.1225022567582528E-15,-4.7184478546569153E-16,-3.6082248300317588E-16,8.8817841970012523E-16,-1.6653345369377348E-15,-1.0755285551056204E-15,-1.7763568394002505E-15,5.4123372450476381E-16]
[-1.5447508262070528E-3,-3.4117968158914993E-3,2.3908207470441662E-3,2.0060397565762889E-3,-2.6619541111726273E-3,2.2252029037159206E-3,-5.7367326661282927E-3,-2.3046443539788642E-3,1.4346263499163492E-3,1.3020078351554888E-3,-1.0361636680961276E-3,4.5321109673805253E-3,2.7557070833355733E-3,6.4818645429865302E-3,-8.0174640847093252E-4,-1.6142980488255277E-3,-1.8613364649143747E-3,2.8771006644401362E-3,-1.0453651012312648E-3,-1.1759736867458775E-3,7.5792626727116139E-4,3.7135526305810424E-4,-2.8325608825455549E-3,-2.2719813819891852E-3,-6.5270687249179677E-4,2.6342251699801368E-3,-2.3235325423404066E-3,-2.6435526065285469E-4,-2.8884334032008197E-3,3.2570844430033569E-4,-1.0252891098691437E-3,-2.6152367110051388E-3,2.1944126014999084E-4,8.4343788092857558E-4,-1.2654118723387751E-3,-1.7164627191668797E-3,-1.820539691378251E-3,-1.4112347559031086E-4,4.4480026078638655E-3,4.7473715007841583E-3,1.8015770645346263E-3,-1.3055824867782615E-4,5.3438850521618942E-3,-5.9992539049356084E-4,-6.7517112762779984E-4,3.2009861151864848E-3,-7.546714403121671E-4,1.5549069481538994E-3,2.5654821644003276E-3,-2.2998449325821809E-3,-5.5964412403545615E-4,2.0331511083499249E-3,-1.561642837442493E-3,-5.0054471268384587E-4,-3.0693746410473378E-3,-4.0474162651936187E-3,-1.4126332373114736E-3,2.9454326240583848E-3,2.5349382530877162E-3,2.8977371427887644E-3,3.0204512060973457E-3,-1.7629402224368159E-3,-1.1134429266830416E-3,3.3024563390893617E-3,2.5087598471711299E-3,-2.6702841474523912E-3,1.8779375571453818E-3,-3.2248585620798962E-3,2.3408282813719432E-3,2.0566248736610228E-3,-4.7416939301791888E-3,-3.0356172165392332E-3,8.945471303202549E-4,-1.9777631520303813E-3,-1.4775214029497956E-3,1.0015805334527388E-3,1.9312066150710642E-3,-1.9667165174061486E-3,4.2862684986848931E-3,1.1274715973845484E-3,1.3974595974855452E-3,-1.1907881105677625E-3,-4.269600275495355E-3,-3.4977169978165333E-4,6.0665163668261423E-4,-3.0504821288241408E-3,-4.8924998371569384E-5,-4.8124613788225901E-3,-1.5499412599031053E-3,-3.4083574467584552E-3,-7.3815455306072296E-4,9.0339147153583276E-4,-3.4028613667998432E-3,-5.1343186790961436E-4,1.8040222503116739E-3,3.0200278445352896E-3,1.7702431119199049E-3,2.1997900216749336E-3,6.6031286596688308E-4,-3.8820743238299974E-4,null,2.7842311789427754E-15,-1.9290125052862095E-15,4.5102810375396984E-16,-9.540979117872439E-17,2.7616797737550769E-15,1.429412144204889E-15,1.5126788710517758E-15,2.6333102365327932E-15,1.124100812432971E-15,-4.5276282722994665E-15,-1.0720591081536668E-15,-1.0130785099704553E-15,-1.2212453270876722E-15,2.7755575615628914E-16,-2.2239154962022667E-15,2.0816681711721685E-15,3.9551695252271202E-16,-2.1233015345956119E-15,9.783840404509192E-16,-6.2450045135165055E-16,-2.1926904736346842E-15,2.5673907444456745E-16,3.0808688933348094E-15,3.3445468616832841E-15,-6.2016364266170854E-16,-5.4817261840867104E-15,-1.4918621893400541E-15,3.5041414214731503E-16,-9.1593399531575415E-16,-1.3877787807814457E-15,-3.6255720647915268E-15,1.3739009929736312E-15,-2.7200464103316335E-15,-1.4432899320127035E-15,-5.3082538364890297E-16,1.8388068845354155E-15,-3.4694469519536142E-17,2.2690183065776637E-15,-1.3877787807814457E-17,-2.5049406993105094E-15,1.4155343563970746E-15,2.0088097851811426E-15,-1.1587952819525071E-15,-6.83481049534862E-16,7.7878242049633783E-16,-2.4286128663675299E-15,6.1756155744774333E-16,1.4965242586817418E-15,-9.4368957093138306E-16,1.457167719820518E-16,-3.3306690738754696E-15,3.8510861166685117E-16,1.3183898417423734E-16,-1.9081958235744878E-16,-8.9338259012805565E-16,-9.8393515557404498E-15,-2.9559688030644793E-15,4.0939474033052647E-16,5.0306980803327406E-16,-3.7782277306774859E-15,1.7069679003611782E-15,-1.1102230246251565E-15,1.5265566588595902E-16,2.2204460492503131E-15,2.3227947343329447E-15,-1.3964523981613297E-15,-2.4737156767429269E-15,1.2698175844150228E-15,-7.814929259275516E-16,9.8380505131334672E-16,-5.5996873804531333E-15,7.6327832942979512E-16,1.1310397063368782E-15,-1.2674323396355547E-15,-1.5230872119076366E-15,-2.9420910152566648E-15,1.3461454173580023E-15,-1.2351231148954867E-15,3.1086244689504383E-15,-1.7347234759768071E-15,2.699663409488906E-16,6.4531713306337224E-16,4.010680676458378E-15,3.0184188481996443E-15,-1.5126788710517758E-15,-6.3837823915946501E-16,-4.6837533851373792E-16,-5.3429483060085659E-16,-3.6012859361278515E-15,1.27675647831893E-15,3.7470027081099033E-16,4.649058915617843E-16,6.3074545586516706E-15,-1.7347234759768071E-16,2.5326962749261384E-16,-3.8788416922841407E-15,1.9845236565174673E-15,1.0824674490095276E-15,1.0408340855860843E-15,-3.0531133177191805E-16]
[2.4723148181516009E-3,3.0026505717875244E-3,-1.6500003855139231E-3,-1.8753102256512516E-3,2.3770964944888088E-3,-1.8235173492754026E-3,5.1107344615745395E-3,1.7122599147547783E-3,-3.0945195057299141E-3,-3.0651873548017058E-3,1.9866526024170557E-3,-5.7579839213734987E-3,-2.4099506201455795E-3,-5.4865698031886911E-3,1.9400112759755819E-4,5.1530826440158344E-4,1.9727676186673889E-3,-3.0311457840411673E-3,-2.2018238600491583E-5,2.0087610004652849E-3,2.1798107259826692E-5,-5.3472672425643587E-4,1.4386578529343218E-3,2.6452094081959024E-3,1.50449014457036E-5,-1.8475769247555817E-3,1.9829100283897364E-3,1.4389412750807832E-3,3.9695673650712599E-3,-1.0913214391521436E-3,-7.0967811230506709E-4,3.7754485802757426E-3,6.5639932562459782E-4,-1.4083236329095783E-4,1.9999693173991099E-3,2.1351081467409377E-3,2.137753061670359E-3,2.9049241083469101E-3,-4.1868728241809842E-3,-5.2829358686273193E-3,-1.3600188165180601E-3,-8.0741233596439625E-4,-4.8275544827184654E-3,1.2584332934791986E-3,4.5990692926889425E-4,-2.2063852830678291E-3,5.5304330011922474E-4,-2.7505098231121223E-4,-3.7090177513692149E-3,3.4383740877680096E-3,1.2012894054239021E-4,-2.2381577717035597E-3,2.6936411884858143E-3,1.6237493152129183E-3,3.3549876879895228E-3,4.2160259096338942E-3,3.1245179108182569E-4,-3.1463324955925765E-3,-1.4140376009734693E-3,-3.3429077025415766E-3,-2.7743155504796747E-3,2.5377480347466841E-3,1.5337068368050419E-4,-3.5256760871126159E-3,-3.1065622865449846E-3,3.352513304073902E-3,-1.7085116009996962E-3,2.9400538326049192E-3,-2.272178753869781E-3,-2.9063542357989159E-3,5.7130249982581278E-3,3.0779202335059065E-3,-1.07608006231528E-3,1.6895998690456431E-3,2.2326048696192204E-3,-2.2692572476137279E-3,-2.4743889449368424E-3,2.233829593717972E-3,-2.7176767250978355E-3,-1.3682458650103517E-3,-1.3244784194755856E-3,5.4893594145136973E-4,3.8280214231776492E-3,-3.0341848426624057E-4,-1.266852015866728E-3,3.1347551012877455E-3,-2.3132629664787078E-3,3.1667225033099188E-3,8.2265403648933806E-4,3.2725520893621776E-3,7.4690539978961848E-4,-1.2231951172705245E-3,5.2227459184796881E-3,3.4067232960731327E-4,-2.0435259205464785E-3,-2.4722048048741968E-3,-1.4838418202400569E-3,-1.3127100171771097E-3,-3.3993804625736802E-4,4.6440405818338174E-4,null,-3.3098523921637479E-15,-5.5511151231257827E-16,5.5511151231257827E-17,-9.5756735873919752E-16,8.3266726846886741E-16,-1.4016565685892601E-15,-3.9690473130349346E-15,3.4694469519536142E-16,-3.2474023470285829E-15,3.5527136788005009E-15,-4.3021142204224816E-16,-1.2351231148954867E-15,6.9388939039072284E-16,-7.049916206369744E-15,-5.4123372450476381E-16,-1.8388068845354155E-15,-2.8449465006019636E-15,3.3306690738754696E-15,6.6613381477509392E-16,-1.7763568394002505E-15,7.3552275381416621E-16,-1.0824674490095276E-15,-3.4694469519536142E-16,4.8849813083506888E-15,9.540979117872439E-16,3.4416913763379853E-15,-1.457167719820518E-15,-1.1102230246251565E-15,1.3600232051658168E-15,8.3266726846886741E-17,1.609823385706477E-15,-7.7715611723760958E-16,3.8857805861880479E-16,6.3837823915946501E-16,-2.095545958979983E-15,1.1518563880485999E-15,9.4368957093138306E-16,1.5543122344752192E-15,3.0531133177191805E-15,-7.7715611723760958E-16,-3.8857805861880479E-16,1.4363510381087963E-15,-3.8857805861880479E-15,1.1102230246251565E-15,9.4553271462460842E-16,4.496403249731884E-15,4.5796699765787707E-16,-2.6025188948342048E-15,-3.6082248300317588E-15,-1.0130785099704553E-15,-2.1926904736346842E-15,-1.2212453270876722E-15,7.4940054162198066E-16,1.2490009027033011E-16,5.5511151231257827E-16,3.3306690738754696E-16,-1.3877787807814457E-16,-1.3461454173580023E-15,-1.4849232954361469E-15,9.0205620750793969E-16,-1.1657341758564144E-15,-3.3306690738754696E-16,1.6653345369377348E-15,2.1926904736346842E-15,-2.3661628212323649E-15,-1.4606371667724716E-15,-6.6613381477509392E-16,-2.6367796834847468E-16,-5.863365348801608E-16,4.7357950894166834E-16,4.9682480351975755E-15,8.3266726846886741E-16,-1.7486012637846216E-15,-1.2533377113932431E-16,5.134781488891349E-16,-4.4686476741162551E-15,6.106226635438361E-16,1.2628786905111156E-15,-3.7192471324942744E-15,5.2735593669694936E-16,-7.5547207378789949E-16,7.4940054162198066E-16,1.8873791418627661E-15,3.4694469519536142E-17,2.9143354396410359E-15,-2.55351295663786E-15,-1.9290125052862095E-15,1.5820678100908481E-15,-1.0824674490095276E-15,-1.3739009929736312E-15,1.0547118733938987E-15,2.0816681711721685E-16,2.1233015345956119E-15,-1.3600232051658168E-15,-6.3837823915946501E-16,4.7184478546569153E-16,2.3592239273284576E-16,5.5511151231257827E-17,5.5511151231257827E-17,1.0963452368173421E-15]
[-1.4307531741109623E-3,4.1962511632216124E-4,-1.0756526689902799E-3,-8.3321172322049796E-4,-1.3307859458023378E-3,-4.2674162703863012E-4,-1.2089818538616563E-4,-1.3094468932872992E-4,-1.3250199145278213E-3,1.8127257273152441E-3,7.1172956706571299E-4,-4.4173155603825017E-4,-1.2329229489794861E-3,3.6253744433796508E-5,1.4552167464241162E-3,4.9830713095533222E-4,-3.3399892334246109E-4,2.5251616732571518E-4,-3.1590495070629731E-4,-1.208078015229624E-3,8.2355829293712004E-4,4.442621465935903E-4,7.4587069863072395E-4,-1.1928277064704297E-3,2.1818283902735368E-4,1.4447803589824398E-3,-9.4581174313176518E-5,-4.9788555487055434E-4,5.3387376209705173E-4,6.4200729194653259E-4,4.1493061586517476E-4,-3.3467739862084989E-4,-1.6811571810116118E-4,-8.2676481783718872E-4,1.0281521982292898E-3,2.6264168392337348E-4,-1.4386404082115785E-4,-8.9182129346583865E-4,5.110669588894662E-5,2.1833194952411853E-4,2.6205450126744428E-4,-7.6098673587152946E-4,-1.4713482202143361E-4,1.3449092955726812E-3,-8.2990365974186324E-4,9.4787499298648386E-4,4.6786173964819141E-4,-2.8278461609370075E-4,1.1170812183346349E-3,-3.9483338326900981E-5,1.133315040845969E-4,-1.1366440198901438E-4,2.6918394372564395E-4,1.0410055020753831E-4,-4.3746396588783214E-4,9.949281499816384E-4,-1.6426045149073143E-3,-6.1113963274096316E-4,-7.0026028744627161E-4,-1.1823021051446427E-4,3.9421608255565461E-4,4.5465212487444281E-4,1.2757260291528484E-4,-6.2291129831952086E-4,1.3801406234943889E-3,4.1554983523177255E-4,5.0910447855132066E-4,3.38989906143628E-4,6.8109391449786678E-4,-1.2002624465725189E-5,-1.8584872528917604E-4,-3.9860440806001318E-4,-2.3950037602072502E-4,6.0439358584339002E-4,2.0005466372536302E-4,-6.3596959820608537E-4,-5.4811305381350772E-4,1.3024799252634304E-4,-3.6515495220145744E-6,-1.2266655330111244E-5,4.0258550549712296E-4,-7.8064637642441889E-5,-6.1130592612159849E-4,4.6583775301816755E-4,6.7702124819626731E-5,-1.876519923083527E-4,7.1783255733592097E-4,1.0953189291120933E-4,5.4701423942363008E-4,3.2908266342256891E-4,-1.9904272065236449E-4,3.8027211383465121E-5,-5.6325328310917401E-4,-7.7596173289777701E-4,1.0909478407121608E-3,-2.4491034789792812E-4,-7.837898870162208E-6,-1.336599342618663E-3,5.9077130949645432E-4,-2.6186160888342909E-4,null,9.2287288921966137E-16,-3.3306690738754696E-16,1.0130785099704553E-15,-1.672273430841642E-15,-4.0523140398818214E-15,-3.4416913763379853E-15,5.2180482157382357E-15,-4.801714581503802E-15,-9.1593399531575415E-16,-2.6645352591003757E-15,4.7184478546569153E-16,1.0547118733938987E-15,2.9698465908722937E-15,1.6653345369377348E-15,-2.2204460492503131E-16,1.5820678100908481E-15,-6.2450045135165055E-16,2.248201624865942E-15,-1.6375789613221059E-15,2.9143354396410359E-15,-1.1726730697603216E-15,-7.4940054162198066E-16,2.0816681711721685E-16,1.9984014443252818E-15,-4.5449755070592346E-16,8.1878948066105295E-16,-1.0963452368173421E-15,-2.7755575615628914E-16,-4.7184478546569153E-16,1.9706458687096529E-15,-6.6613381477509392E-16,1.6375789613221059E-15,-2.2204460492503131E-16,-6.9388939039072284E-16,8.7430063189231078E-16,-1.3739009929736312E-15,1.9428902930940239E-16,-5.8286708792820718E-16,4.2188474935755949E-15,-7.2164496600635175E-16,3.3306690738754696E-16,-4.7878367936959876E-16,1.2212453270876722E-15,2.9143354396410359E-16,-1.2520366687862605E-15,3.3306690738754696E-15,2.0122792321330962E-16,1.3097162243624894E-15,1.8873791418627661E-15,8.6042284408449632E-16,-2.400857290751901E-15,-2.7755575615628914E-15,4.2188474935755949E-15,1.4224732503009818E-15,1.9116652705264414E-15,4.6351811278100286E-15,-9.9920072216264089E-16,-2.3175905639050143E-15,6.3837823915946501E-16,6.106226635438361E-16,-1.3322676295501878E-15,-4.7184478546569153E-15,-5.5511151231257827E-16,-8.8817841970012523E-16,-3.9551695252271202E-16,2.1233015345956119E-15,-7.4940054162198066E-16,-3.8996583739958623E-15,-2.7651492207070305E-15,-4.2461693883222296E-15,-5.4123372450476381E-16,-8.0491169285323849E-16,2.9143354396410359E-15,1.4094628242311558E-16,2.1510571102112408E-15,-2.7755575615628914E-15,-4.163336342344337E-16,1.8179902028236938E-15,2.3037127760971998E-15,2.0539125955565396E-15,-1.3791051634015616E-15,2.4980018054066022E-16,1.7763568394002505E-15,2.4286128663675299E-16,2.0816681711721685E-16,-4.163336342344337E-15,-5.6898930012039273E-16,5.0376369742366478E-15,-4.163336342344337E-16,-6.2450045135165055E-16,-3.0531133177191805E-16,-2.2898349882893854E-16,-1.8873791418627661E-15,2.9420910152566648E-15,4.8572257327350599E-16,-1.6930901125533637E-15,-3.9551695252271202E-15,-2.3314683517128287E-15,3.6082248300317588E-15,-1.6237011735142914E-15]
[-2.7185615929827974E-3,3.5875279886474058E-3,-1.7367854026923981E-3,-6.3512806689882371E-4,2.1887451056918261E-3,4.7788488881904233E-4,1.7155055564905132E-4,-2.0397703993551841E-3,-6.3880523971840408E-3,2.4139372049075732E-3,6.099176073654176E-5,-6.333950488481517E-3,-2.6877258023905418E-3,-1.7745351184813637E-3,2.421519409549665E-3,9.7228834160663206E-4,-2.2146257383578189E-3,-2.4630004158344063E-3,-2.2201389698234346E-3,1.774532024770948E-3,1.1050923624931997E-3,5.0785350885037498E-4,-4.4171965910603994E-3,-2.6718768795454327E-3,-4.0078875119657815E-4,1.8674075886103306E-3,-2.0222749289965512E-3,2.7117559321178531E-3,4.3706606747259012E-3,-3.3830689926692679E-4,1.6525217974719365E-3,6.1931272810284753E-3,2.7467329568446712E-3,2.0293345378160554E-3,3.851727917141091E-3,3.9093580130593834E-3,1.4081374779742082E-3,-1.4288006199101162E-4,-7.1461437935798884E-4,-4.3866927107236485E-3,-3.2336911043448339E-4,-3.8780636608849104E-4,-7.5026737411169782E-3,3.071953425341843E-3,-2.4519202161225975E-3,6.081788612741789E-3,-1.0346947243249562E-3,-2.1566180061339821E-3,4.8616408832667796E-3,8.3719558541305809E-4,4.8366660923014389E-3,-2.0943001128945148E-3,5.3117095908862943E-3,2.3528808468192466E-3,5.0158350555589469E-3,8.829516009525553E-3,1.5705175949235204E-3,-3.1054187310373235E-3,-2.3427212672118241E-3,-1.6095315326340274E-3,-5.0226688192231829E-4,2.1229256786335794E-3,-1.7109390437931942E-3,-4.7535857229595866E-3,-3.8389186602792663E-3,-2.1579451899874729E-3,2.0657917094929904E-3,2.3604838510388423E-3,2.7114346205860751E-3,-1.7533457078504221E-3,5.4564689928553178E-3,2.7737067679653076E-3,-4.5719708264113793E-3,3.1890188169684413E-3,3.973790378448536E-3,3.3979093233559883E-4,-3.0576239996403676E-3,-1.9010967855069658E-3,-4.1665776883219935E-3,-1.4979556332876962E-3,-3.2825222291024605E-3,-2.6398464245545356E-3,2.1108472083291464E-3,-8.962875348555977E-4,-1.6088614416189626E-3,4.6872538234974956E-3,8.1323567804737873E-5,2.9512545744264651E-3,4.3835919115491989E-4,8.7191715496424678E-4,-2.1402323968493083E-3,-3.7343314279159974E-3,2.3071961653087187E-4,6.5519941760448092E-4,1.8365910147663958E-3,1.2812879088064993E-4,-1.7800718610263874E-3,-3.3717849430976356E-3,-2.9829137479121946E-3,2.9137398461235066E-3,null,-1.0651202142497596E-15,3.4139358007223564E-15,8.569533971325427E-16,5.0306980803327406E-17,-3.2959746043559335E-15,1.5820678100908481E-15,-2.4424906541753444E-15,1.1761425167122752E-15,1.8041124150158794E-16,4.8225312632155237E-16,-3.8163916471489756E-16,2.4390212072233908E-15,2.4216739724636227E-15,6.5225602696727947E-16,-2.5153490401663703E-16,4.9266146717741321E-16,2.2967738821932926E-15,1.3392065234540951E-15,7.8062556418956319E-17,-1.4085954624931674E-15,3.2612801348363973E-16,2.005340338229189E-15,1.7208456881689926E-15,9.6450625264310474E-16,1.2385925618474403E-15,-4.1494585545365226E-15,1.1171619185290638E-15,1.124100812432971E-15,4.4408920985006262E-16,-5.4817261840867104E-16,-1.7902346272080649E-15,-8.9164786665207885E-16,-1.457167719820518E-16,-9.0899510141184692E-16,-8.7430063189231078E-16,1.700029006457271E-15,-2.5222879340702775E-15,4.9266146717741321E-16,-3.9759862069388419E-15,-4.1980308118638732E-16,4.8572257327350599E-16,-5.134781488891349E-16,1.8735013540549517E-15,-1.6306400674181987E-16,1.0023449084628488E-15,5.1209037010835345E-15,2.9923979960599922E-16,-6.3713140666110668E-16,-1.1518563880485999E-15,5.4990734188464785E-16,-3.0184188481996443E-16,1.0616507672978059E-15,-6.0368376963992887E-16,4.4408920985006262E-16,-1.5699247457590104E-15,-2.4702462297909733E-15,1.0894063429134349E-15,1.5161483180037294E-15,-7.6327832942979512E-16,-1.6410484082740595E-15,-9.4368957093138306E-16,-7.4246164771807344E-16,1.519617764955683E-15,3.920475055707584E-15,2.7304547511874944E-15,-1.3938503129473645E-15,-6.0715321659188248E-16,-4.0245584642661925E-16,-6.843484112728504E-16,1.4290868835531434E-15,1.6445178552260131E-15,-1.2420620087993939E-15,2.0816681711721685E-17,3.9681799512969462E-17,-5.8980598183211441E-16,-2.6575963651964685E-15,-2.4355517602714372E-15,8.6736173798840355E-17,1.6653345369377348E-16,-4.3021142204224816E-16,1.0358467555926509E-15,6.4184768611141862E-16,2.6367796834847468E-16,1.3999218451132833E-15,1.0581813203458523E-15,2.5465740627339528E-15,-6.7654215563095477E-16,1.0035375308525829E-15,4.163336342344337E-16,9.9920072216264089E-16,2.9282132274488504E-15,-7.8756445809347042E-16,-1.5439038936193583E-15,1.1379786002407855E-15,-3.8163916471489756E-16,-8.4654505627668186E-16,1.0581813203458523E-15,2.6020852139652106E-16,-9.298117831235686E-16,-2.0990154059319366E-16]
[-4.1872644293748703E-3,5.8475603659588786E-5,2.0133020965551339E-3,1.3503331004312822E-3,-4.0639362164733431E-4,1.2963658177364251E-3,-4.5580179733019262E-3,-2.009310410504294E-3,1.5550946690752532E-3,3.8506028707917207E-3,-2.2740513505523441E-4,2.80691923166821E-3,1.3320788092358326E-3,1.172327280911351E-3,6.1366884536857434E-4,-2.1916058127776786E-3,-4.1765764450965416E-3,-9.6633772871286387E-4,-7.1695706433580985E-4,3.3148246560146671E-3,2.1690841528433039E-3,8.2710788530283483E-4,-1.965526215606929E-3,-1.5280197220935228E-3,-2.0953704235133959E-4,1.6072711939584794E-3,-4.255800262130402E-5,-1.0470113055380524E-3,1.6109390977633878E-4,-1.3934253545140169E-3,3.3228880350677403E-3,1.5662903349207834E-4,1.8941998277473338E-3,2.8925628215968995E-3,-2.0850764946848815E-3,-1.0779134259972028E-3,-2.3193317250328163E-3,-2.8926112716831424E-3,6.8393933266111141E-5,-6.0882684159043463E-4,1.3988110996207468E-3,1.1269825708479779E-6,-1.434141181445932E-3,-2.0605138597708972E-3,-2.3752469201043604E-4,3.2817844514874861E-3,-6.9719401856441904E-4,1.2548696907407207E-3,3.358002461690639E-3,-1.0884227707680725E-3,4.0432978269055201E-3,2.5854693161634578E-3,-2.0067946073506339E-3,8.2463788370553599E-5,-1.9470552208920909E-3,2.0468859280216201E-3,1.6547582664337391E-3,1.190992670164874E-3,1.0141225567293142E-3,2.3900385040169832E-3,-8.6053074169622687E-4,2.2682224527127547E-3,-1.7068806131758912E-3,-1.7168324954913399E-4,1.9109078073500606E-3,-4.0325538088773578E-3,3.3262428162858667E-3,-2.2998101955404946E-3,3.3059890869660893E-3,1.9498908989043111E-3,-1.4396087931423621E-3,8.3666696031114575E-5,-3.6887078797964408E-3,9.6303600961747849E-4,1.6492454781655052E-3,4.6271567837754121E-3,1.4092641398904748E-4,-3.1459344591929939E-3,-2.588226370335729E-3,5.60715090220789E-4,-3.3332315956165301E-4,-1.2572322537939115E-3,6.698224584907092E-4,-3.5876585051218251E-3,1.5837671532027799E-3,2.1027251709618577E-3,2.3581446377328725E-3,-2.3507042804971085E-3,1.892543416093315E-3,-1.9798843411780852E-3,-3.8526310824587985E-3,-1.2877779523127819E-3,-5.3514942075281952E-3,1.7321000658811168E-3,1.8039321981219391E-3,3.0838693417681426E-4,6.2732750773909177E-4,-4.2422931898932116E-4,-1.8619597844966647E-3,2.2953201162316796E-4,null,1.5352302762394743E-15,-5.4123372450476381E-16,-2.9143354396410359E-16,-3.0704605524789486E-16,2.7755575615628914E-15,-3.4694469519536142E-16,-2.9143354396410359E-16,-1.9428902930940239E-16,4.4408920985006262E-16,-9.4368957093138306E-16,1.4224732503009818E-16,1.1934897514720433E-15,2.0400348077487251E-15,2.2620794126737565E-15,-3.677613769070831E-16,3.8163916471489756E-16,1.5959455978986625E-15,-2.2620794126737565E-15,4.1980308118638732E-16,-7.4940054162198066E-16,-1.0616507672978059E-15,2.4980018054066022E-16,1.5924761509467089E-15,1.762479051592436E-15,1.1969591984239969E-16,-1.9845236565174673E-15,7.7021722333370235E-16,6.1756155744774333E-16,-7.0776717819853729E-16,-1.3183898417423734E-16,-8.1185058675714572E-16,9.0899510141184692E-16,-2.0816681711721685E-17,-7.9103390504542404E-16,-1.8735013540549517E-16,5.8286708792820718E-16,-2.5673907444456745E-16,1.5751289161869408E-15,-1.3877787807814457E-17,4.9266146717741321E-16,-6.9388939039072284E-17,2.4633073358870661E-16,-8.3266726846886741E-16,4.163336342344337E-17,5.0046772281930885E-16,-2.6645352591003757E-15,-9.3675067702747583E-17,4.1232208619623734E-16,-2.6367796834847468E-16,8.0491169285323849E-16,3.2612801348363973E-16,-8.8470897274817162E-16,-1.9428902930940239E-16,-3.0878077872387166E-16,1.5543122344752192E-15,1.5265566588595902E-16,1.4849232954361469E-15,-7.6327832942979512E-17,-8.4654505627668186E-16,-1.7416623698807143E-15,-2.4980018054066022E-15,8.0491169285323849E-16,4.4408920985006262E-16,-1.1102230246251565E-16,4.2674197509029455E-16,1.6653345369377348E-16,-2.3592239273284576E-16,1.0061396160665481E-15,-2.0643209364124004E-16,-1.2808764465743749E-15,8.5348395018058909E-16,-4.8572257327350599E-16,7.7715611723760958E-16,1.4137996329210978E-16,-7.1123662515049091E-16,-1.5543122344752192E-15,-1.1657341758564144E-15,1.457167719820518E-16,-1.3600232051658168E-15,-2.3037127760971998E-15,-4.3021142204224816E-16,1.4224732503009818E-16,1.366962099069724E-15,1.4224732503009818E-15,3.4000580129145419E-16,1.4849232954361469E-15,-1.1726730697603216E-15,-1.2836953722228372E-16,-1.1379786002407855E-15,2.6159630017730251E-15,1.8596235662471372E-15,5.863365348801608E-16,7.0776717819853729E-16,1.124100812432971E-15,-4.3021142204224816E-16,-1.0130785099704553E-15,-6.7307270867900115E-16,-1.1796119636642288E-16,2.1926904736346842E-15,8.6736173798840355E-17]
[-7.7828037612826632E-3,-5.5287603384375642E-3,1.7171816141890546E-3,3.8269808856409046E-3,-5.2157074330130837E-3,3.5712172469815726E-3,-7.2749171967552775E-3,-4.8727488316486888E-3,3.762785578648085E-3,6.1120289942210677E-3,1.0724634922340529E-4,1.0932807774667926E-2,3.9636272462616074E-3,8.4121750340461314E-3,-3.9597104922701218E-4,-1.3376178525378746E-3,-7.6404257209938377E-3,4.8141176945013728E-3,-3.3325286250973397E-3,1.0072037392753286E-3,3.6816064321172899E-3,1.0518624069762775E-3,-4.7329382508951882E-3,-6.548684395255226E-3,-3.4685332763234864E-3,8.4330650415979473E-3,-3.8806215793088824E-3,-1.1025868250473382E-3,-5.4699760694456043E-3,9.0399953535746957E-4,1.3412755880394455E-3,-4.832718452054483E-3,2.3229837070819648E-3,4.5278845541621481E-4,-2.2879499854904194E-3,-6.313209213190586E-3,-3.0854881809813496E-3,-5.8941424415412894E-3,8.0985732941182796E-3,1.1111002282935045E-2,4.9382730878195606E-3,-1.6427175152193081E-3,1.0344545585101323E-2,-1.7698076653810469E-4,-2.5425294886726544E-3,8.8545798936137763E-3,-3.0078480960902994E-3,2.9940108412092378E-3,8.5325720422950307E-3,-3.0317989858221956E-3,1.8812803054955435E-3,4.6763227138058895E-3,-3.2868793130779212E-3,-2.1285790127405732E-3,-7.9246344167881351E-3,-3.8084583514975427E-3,-9.6957475319800436E-4,5.2870580041777335E-3,7.4380239871619982E-4,6.0455521628756679E-3,2.48845193613923E-3,1.8350792424148173E-4,-2.2271996403295936E-3,4.4707595876797073E-3,4.1237877079105829E-3,-4.2571279996391044E-3,6.0788622722673016E-3,-6.9527789782662264E-3,3.3230162008916317E-3,4.1032092497119369E-3,-9.6442382462361299E-3,-3.9505061869022293E-3,-1.8825599466442829E-3,-1.9383013690346103E-3,-2.3604885489181327E-3,7.196291858361248E-3,1.7840778796391248E-3,-2.2073691717842863E-3,4.0635637592404284E-3,6.5912298967690346E-3,3.7886612062304638E-4,-2.3075024002264591E-3,-5.6273460713247439E-3,-5.0900535573894685E-3,2.0513451878664724E-3,-6.0276899810167211E-3,2.5780989854294681E-3,-1.0182588723912093E-2,1.8464327788624572E-3,-8.4092814029973657E-3,-4.3754704599305444E-3,1.4520489207293645E-4,-7.5745866873789527E-3,-2.1360776819001268E-3,3.339400509841921E-3,4.0149953468419921E-3,5.120456533298583E-3,1.9301991566684498E-3,1.4092771304538489E-4,-1.871017222480248E-3,null,-2.5049406993105094E-15,-1.3253287356462806E-15,1.3877787807814457E-16,9.1593399531575415E-16,6.7515437685017332E-15,4.4686476741162551E-15,-2.7686186676589841E-15,1.906461100098511E-15,4.2778280917588063E-15,2.6766783234322133E-15,-5.5858095926453188E-16,4.5727310826748635E-15,1.4051260155412137E-15,5.9119376061289586E-15,8.2052420413702976E-16,-2.7365262833534132E-15,-2.8484159475539172E-15,4.1841530240560587E-15,-1.5404344466674047E-15,-3.9690473130349346E-15,3.3827107781547738E-16,9.9226182825873366E-16,-4.9439619065339002E-16,-1.5473733405713119E-15,-1.7659484985443896E-15,-2.4598378889351125E-15,9.055256544598933E-16,6.4878658001532585E-16,1.4536982728685643E-15,-1.5334955527634975E-15,-2.4286128663675299E-17,-7.6327832942979512E-16,8.0838113980519211E-16,-1.4953316362920077E-15,-3.8857805861880479E-16,-2.3488155864725968E-15,-3.561387296180385E-15,8.3613671542082102E-16,9.0205620750793969E-16,-3.4000580129145419E-15,8.9858676055598607E-16,-1.5785983631388945E-16,-1.7069679003611782E-15,-5.9154070530809122E-16,-4.7149241975963374E-16,-4.3645642655576466E-15,-5.9587751399803324E-16,2.3322272932335686E-15,-5.3082538364890297E-15,-1.3444106938820255E-15,1.8145207558717402E-15,2.5014712523585558E-15,-1.654926196081874E-15,4.6317116808580749E-16,-3.0990834898325659E-15,-4.3298697960381105E-15,1.2663481374630692E-15,-6.9562411386669964E-16,-3.9898639947466563E-17,-1.6774776012695725E-15,-1.8249290967276011E-15,2.8449465006019636E-16,4.5102810375396984E-16,1.3392065234540951E-15,2.536165721878092E-15,-1.9008232488015864E-15,1.2646134139870924E-15,-1.0824674490095276E-15,3.9985376121265404E-16,-4.4528183223979667E-16,-1.3496148643099559E-15,3.4694469519536142E-17,-4.5657921887709563E-15,1.4103301859691442E-15,-6.349087922075114E-16,2.796374243274613E-15,2.9490299091605721E-15,-6.3143934525555778E-16,5.9674487573602164E-16,-1.9081958235744878E-15,-1.1702878249808535E-15,1.3530843112619095E-16,1.56472057533108E-15,-1.5100767858378106E-15,5.9327542878406803E-16,1.8943180357666733E-15,1.169203622808368E-15,5.2995802191091457E-16,-7.0082828429463007E-16,-1.0616507672978059E-15,2.2898349882893854E-15,2.1337098754514727E-16,-5.2041704279304213E-18,-2.8449465006019636E-16,2.4806545706468341E-16,-1.85268467234323E-15,1.1900203045200897E-15,-8.3266726846886741E-17,-6.1756155744774333E-16,-1.3964523981613297E-15]
[2.1783262151453902E-3,3.060123106353872E-3,-9.3227088448999114E-4,-1.0193678463806431E-3,1.699010483773843E-3,-1.3336211129143622E-3,2.1032653193659139E-3,-2.7601556849647088E-4,-2.391838561037014E-3,-4.2153090677116497E-4,2.629453731079871E-4,-4.2409407201294425E-3,-2.1260240416915424E-3,-4.1015182178507845E-3,6.6104008387721279E-4,-7.9959279804298912E-4,2.1368757953650402E-4,-2.6797435661992178E-3,-1.8780857676238425E-4,5.1189820347440659E-4,1.8602365632175124E-4,-5.0012289205158579E-4,1.1416751245370983E-3,2.8046978456260258E-5,-7.4022139698428746E-5,-1.4163920216349556E-3,1.4975825161233818E-3,3.4454216072951957E-4,2.7350363364017391E-3,3.2129434723364859E-4,2.9022043214347749E-3,3.1541769331496963E-3,1.9823215133793706E-4,-3.4622400327980884E-4,7.6057811311874975E-4,2.6529852130625828E-3,1.3968395588729253E-3,5.5010745231598565E-4,-3.4616397241778838E-3,-4.5258972536249831E-3,-2.5359177886443152E-3,2.3908144236000259E-4,-5.956544967252504E-3,-4.0317986154843441E-5,2.093870429162978E-4,-8.5895086030397653E-4,5.4211087494302845E-5,-5.9735033459616606E-4,-5.8082016934312547E-4,2.3218552198957048E-3,9.9169922452096559E-4,-3.903125403247078E-4,1.5016874274630715E-3,8.675035033184886E-4,2.5145983114853868E-3,4.2673982989874905E-3,1.6324894629534323E-3,-3.2359847216776225E-3,-1.6040447255484037E-3,-2.2356908702325746E-3,-3.0128668703211636E-3,1.0354401245807234E-3,-6.2594723775033522E-4,-1.7503425362870729E-3,-1.948283080441135E-3,1.144867386196188E-3,5.3689619306122307E-4,1.224201450960308E-3,-2.9522054790664639E-4,-1.5761181167455256E-3,5.3197589260986205E-3,1.9327222454449495E-3,-2.3110722286667973E-3,1.3830184139154199E-3,1.4016157080774957E-3,-3.5547149313034542E-4,-4.3199228942581482E-4,7.6716460639615798E-4,-2.5772076854029538E-3,-7.9805260345624553E-4,-1.9496188548009049E-3,-2.1127404576540461E-4,3.2780827029403352E-3,1.6207513750830002E-4,1.8918516602585929E-5,3.9455493454178649E-3,1.0238877226006636E-4,3.527677639897251E-3,1.8302835026261958E-5,1.3789993735728969E-3,-1.6927075832533533E-5,-1.3154410668981295E-3,1.2547789693745596E-3,1.2006481264204838E-3,-4.8119353534019149E-4,-1.0442159191360796E-3,-2.019921947083649E-3,-8.4383847958160627E-4,3.6331235617114474E-4,1.5604459430890781E-3,null,1.3999218451132833E-15,1.8318679906315083E-15,1.6792123247455493E-15,-9.5583263526322071E-16,-1.0130785099704553E-15,1.3461454173580023E-15,-2.400857290751901E-15,1.2073675392798577E-15,2.6922908347160046E-15,-2.2690183065776637E-15,7.3552275381416621E-16,4.0314973581700997E-15,2.9976021664879227E-15,3.3029134982598407E-15,-1.7243151351209463E-15,2.1215668111196351E-15,2.8727020762175925E-15,3.7886360715333467E-15,4.40619762898109E-16,-1.1657341758564144E-15,5.0306980803327406E-16,6.2450045135165055E-17,-1.2490009027033011E-16,-9.0205620750793969E-16,7.5026790335996907E-16,-4.3992587350771828E-15,2.2898349882893854E-16,1.7347234759768071E-16,-9.0205620750793969E-17,3.7470027081099033E-16,-1.3808398868775384E-15,-4.1425196606326153E-15,-2.0469737016526324E-15,-3.2474023470285829E-15,-6.9388939039072284E-16,1.6653345369377348E-16,6.1756155744774333E-16,5.134781488891349E-16,-2.4563684419831588E-15,1.7832957333041577E-15,-4.163336342344337E-16,-1.4398204850607499E-15,2.1371793224034263E-15,1.1102230246251565E-15,-5.7462715141731735E-17,2.1649348980190553E-15,-3.8163916471489756E-17,7.9146758591441824E-16,-2.3731017151362721E-15,1.3877787807814457E-17,-2.55351295663786E-15,5.8980598183211441E-16,1.4016565685892601E-15,2.3245294578089215E-16,-6.591949208711867E-16,-6.106226635438361E-16,-3.3306690738754696E-16,-5.9674487573602164E-16,4.40619762898109E-16,-3.2404634531246757E-15,-5.0653925498522767E-15,-3.5110803153770576E-15,-1.1657341758564144E-15,-2.9143354396410359E-16,1.0547118733938987E-15,1.1917550279960665E-15,8.4307560932472825E-16,-4.0453751459779141E-15,2.6628005356243989E-16,-3.6038880213418167E-16,6.0368376963992887E-16,-7.2164496600635175E-16,4.7184478546569153E-16,-3.8814437774981059E-17,-2.4980018054066022E-16,-1.2212453270876722E-15,8.1878948066105295E-16,2.643718577388654E-15,-4.163336342344337E-16,-5.134781488891349E-16,-1.0495077029659683E-16,1.1796119636642288E-16,-2.1024848528838902E-15,8.5001450322863548E-16,-1.3253287356462806E-15,3.3584246494910985E-15,-1.1032841307212493E-15,1.6930901125533637E-15,-2.2204460492503131E-16,-1.915134717478395E-15,4.1355807667287081E-15,3.5388358909926865E-16,2.0677903833643541E-15,-5.5511151231257827E-17,5.5511151231257827E-17,8.4654505627668186E-16,1.1449174941446927E-15,2.4286128663675299E-17,6.8001160258290838E-16,-1.2871648191747909E-15]
[2.9373328383551149E-3,4.3564985599091376E-3,-3.8981606203047328E-4,-2.8663444663213256E-4,5.9328451821527139E-3,-2.3500816626697771E-3,3.9137073285327902E-3,2.6138255192407677E-3,-2.3922446724592488E-4,-1.3946746687004102E-3,9.0611054433769093E-4,-4.972864571082731E-3,-3.5140151184878451E-3,-6.281802833225031E-3,7.1844067791770937E-4,-2.4490212682194733E-4,7.2770809268525745E-4,-5.5820203875636392E-3,9.5431579832579226E-4,3.2196115328539427E-3,-1.7156573986052987E-4,9.2090878121336203E-4,1.2082839548890891E-3,4.9917315987700293E-3,8.7709196127445802E-4,-2.6570038958298229E-3,3.8437169978134482E-3,9.1111742552873055E-4,3.6263285409593969E-3,-2.9458024461785437E-3,1.9570986489400844E-3,4.0927072676234426E-3,2.3180143117775202E-3,2.1452158342030524E-3,1.1004676384945612E-4,2.707451532922376E-3,-1.4139593949586303E-3,2.3091863022641668E-3,-5.3031040501594785E-3,-6.4611115668377255E-3,-1.2069539680904268E-3,-5.0497487274226287E-5,-7.165212457372735E-3,-1.7692371459411716E-3,1.1760972539536551E-3,-6.2679735880691728E-3,3.9010846192946122E-4,-6.0595231858199031E-4,-4.4539934714906736E-3,2.404594136543395E-3,2.074297914282507E-3,-2.26110032144011E-3,-7.6635282230540192E-4,9.8386235771127863E-4,2.7611806820112893E-3,4.9558721121251686E-3,3.1416422723070121E-3,-3.6412646004241414E-3,-7.3938415253578754E-4,-2.1837627788921024E-3,-3.9305320125628714E-3,3.9275622777645743E-3,2.5683633905362693E-3,-4.6205010601546867E-3,-1.7794498392911687E-3,1.0079465529667165E-3,-4.3024492374602594E-4,3.2577517159803251E-3,-6.6967540251502175E-4,-1.5167789786198784E-3,5.2094342616573683E-3,3.7258717901076854E-3,-2.0226491397585694E-3,2.0011572755712349E-4,1.9811530884021786E-3,-1.7295764292655808E-3,-3.70329682360509E-3,-1.2610595282102461E-4,-4.17364648149063E-3,-3.8266825788585016E-3,-2.4278846133587878E-4,3.0222129812195489E-4,5.1875852626828865E-3,3.0882784929079423E-4,1.4426308968052642E-3,6.338561820623481E-3,-1.5330166256114217E-3,4.5504262126982485E-3,2.346642490330772E-3,4.5527320193458187E-3,-9.3726666500049724E-4,-7.0884543074758142E-4,1.7441170493172032E-3,2.0317456900334498E-3,-9.887210750870836E-4,-4.5111491425397473E-3,-5.6132768138082983E-4,-1.8713951118279515E-3,-3.3569446043870735E-3,2.0898231837797351E-4,null,1.6150275561344074E-15,9.7144514654701197E-16,-1.5265566588595902E-16,-3.219646771412954E-15,-1.8873791418627661E-15,3.1363800445660672E-15,-3.372302437298913E-15,1.1518563880485999E-15,3.7608804959177178E-15,-3.8372083288606973E-15,7.0776717819853729E-16,1.6514567491299204E-15,3.1225022567582528E-15,-1.1934897514720433E-15,-1.4363510381087963E-15,1.609823385706477E-15,4.0731307215935431E-15,5.134781488891349E-15,1.1657341758564144E-15,-3.4000580129145419E-15,2.8449465006019636E-16,1.4363510381087963E-15,1.3253287356462806E-15,-2.5257573810222311E-15,2.5205532105943007E-15,-4.1910919179599659E-15,2.1302404284995191E-15,-4.2327252813834093E-16,6.6613381477509392E-16,4.163336342344337E-17,-1.9845236565174673E-15,-3.6498581934552021E-15,-5.5511151231257827E-16,-4.496403249731884E-15,-1.9290125052862095E-15,-1.4224732503009818E-15,-4.649058915617843E-16,1.3045120539345589E-15,5.5511151231257827E-16,-8.1878948066105295E-16,-5.8841820305133297E-15,-2.7061686225238191E-16,1.4432899320127035E-15,3.5665914666083154E-15,2.4897076587870881E-15,9.1593399531575415E-16,9.9226182825873366E-16,9.3566647485499033E-16,-7.7715611723760958E-15,-3.4694469519536142E-16,-1.4988010832439613E-15,2.7061686225238191E-16,6.9388939039072284E-16,-4.163336342344337E-17,1.7832957333041577E-15,4.0245584642661925E-16,5.2735593669694936E-16,2.4424906541753444E-15,-1.7832957333041577E-15,-1.3808398868775384E-15,-3.4972025275692431E-15,-4.9543702473897611E-15,1.5543122344752192E-15,5.4262150328554526E-15,-9.783840404509192E-16,2.4320823133194835E-15,6.9041994343876922E-16,-2.3731017151362721E-15,-8.6736173798840355E-16,-1.0655538951187538E-15,5.1278425949874418E-15,-4.4408920985006262E-16,1.5959455978986625E-15,7.4766581814600386E-16,-9.7144514654701197E-17,-1.9220736113823023E-15,2.3314683517128287E-15,4.4270143106928117E-15,1.0963452368173421E-15,3.0253577421035516E-15,1.5304597866805381E-15,3.1433189384699745E-15,-3.372302437298913E-15,2.1545265571631944E-15,-6.9388939039072284E-17,2.9837243786801082E-15,-1.7139067942650854E-15,5.2440690678778878E-15,-1.1657341758564144E-15,1.1726730697603216E-15,1.0227929614359255E-14,-3.2612801348363973E-16,1.1102230246251565E-15,-1.8596235662471372E-15,-8.3266726846886741E-16,-1.5820678100908481E-15,1.700029006457271E-15,6.3837823915946501E-16,2.6922908347160046E-15,-2.9490299091605721E-15]
[1.9806377480673042E-3,-8.5578755905251326E-4,1.7224436236054983E-3,3.7749821302175484E-4,3.5461527982127359E-4,-4.1706826926213043E-4,-5.778146156369666E-4,-7.4498754235938095E-4,-4.5242958967551357E-4,7.9912999547959458E-4,-9.5133155361067469E-4,-8.9109646854679454E-4,4.2191553298417971E-4,-1.5229212546951044E-3,4.9734165294033439E-4,1.7744494679179839E-3,7.603792345714512E-5,1.2010246467237132E-3,1.3657322940368512E-3,-2.6556061519987504E-3,-6.8165699236431615E-4,1.2780320127052649E-4,-1.3772066899001139E-5,-1.8682056771966837E-4,1.9462986358624061E-3,-1.3662279732202609E-3,-9.5358363802756983E-4,-5.7662262469710172E-4,-5.3684477185851783E-4,1.2669839318339225E-3,4.1361977634392659E-4,4.1709802389752726E-4,-1.8585836293680993E-3,-3.3752458072427359E-4,5.7211518147157474E-4,-6.4365467319136511E-5,2.8876787758716824E-4,-6.7643164200652077E-4,1.2950165096744654E-3,-6.0208272015024856E-4,-9.7404456418466543E-4,-1.3916109963361936E-3,-3.3672948560514536E-4,-1.0064123170338652E-3,1.4816995784177045E-3,9.546292959349594E-4,8.5739289636911327E-4,-1.3353496332630134E-3,7.9925955468937156E-4,-1.0900967408460317E-3,-1.4548917938784656E-3,6.8596294099542116E-7,-7.5654107964625249E-4,6.5055284544874822E-4,9.56843508768691E-4,-8.403043248130682E-4,2.1181838561618279E-4,-1.1147245872633932E-3,2.7234062239053178E-4,1.0543123324136386E-4,2.3056306039787304E-4,-1.3821720497565236E-3,3.3016503426361852E-4,4.7674931434165942E-4,-6.4406146725826986E-4,-3.1460745600252264E-4,7.4831215482871349E-5,1.2412909073970845E-3,6.4190123723474829E-4,-1.0504149299782617E-3,-3.6681433181247352E-4,5.6112754549145661E-4,5.9057449860918136E-4,-1.0585405540756202E-3,-2.2782870370238951E-4,1.6493693360154662E-4,-1.0988713783371093E-4,2.0571519629201319E-4,9.7150821712098877E-4,-7.3708831167373055E-4,-7.0391291259114177E-4,4.2881258612286003E-4,-4.2952702345400383E-5,1.3953685838801117E-3,-4.2606781485073205E-5,-6.578779602905223E-4,1.0305547331127135E-3,1.0186516206722458E-3,-9.2401668979825893E-4,3.41488958423813E-4,7.0217665883343127E-4,1.1140085702514677E-3,-6.749934655507191E-4,-1.3408776696821085E-3,1.3313158187949628E-3,6.1438737415915959E-4,-3.5677759154216282E-4,2.7563202983729143E-4,-2.4795870505382793E-5,1.1278445562837836E-3,null,-3.6672054282149702E-15,2.4841240175987878E-15,-3.0669911055269949E-15,6.2623517482762736E-16,3.0531133177191805E-15,-1.6653345369377348E-16,-2.4424906541753444E-15,1.0408340855860843E-15,-9.1593399531575415E-16,3.7747582837255322E-15,3.3306690738754696E-16,-8.0491169285323849E-16,-2.4424906541753444E-15,2.9698465908722937E-15,-1.9081958235744878E-16,-1.2836953722228372E-16,7.6327832942979512E-16,-3.219646771412954E-15,8.8470897274817162E-16,-3.4000580129145419E-15,-1.6202317265623378E-15,-9.0205620750793969E-17,-1.1796119636642288E-15,-2.1371793224034263E-15,-4.4842601854000463E-16,-4.9335535656780394E-15,1.7763568394002505E-15,1.5126788710517758E-15,1.0616507672978059E-15,1.2212453270876722E-15,1.4918621893400541E-15,1.9220736113823023E-15,2.9837243786801082E-16,4.7184478546569153E-16,9.783840404509192E-16,1.366962099069724E-15,-1.9637069748057456E-15,-1.9428902930940239E-16,-7.0221606307541151E-15,-7.4246164771807344E-16,1.8041124150158794E-16,3.4694469519536142E-17,-6.9388939039072284E-15,2.5882074261573962E-15,5.9772065769125859E-16,-2.2204460492503131E-15,-2.0296264668928643E-16,-5.1076764345792114E-16,1.5265566588595902E-15,5.2388648974499574E-16,-3.1918911957973251E-16,1.1830814106161824E-15,-6.106226635438361E-16,4.2674197509029455E-16,8.5868812060851951E-16,-3.0531133177191805E-15,1.2212453270876722E-15,-7.8201334297034464E-15,0,-4.163336342344337E-15,-3.7608804959177178E-15,-1.9567680809018384E-15,-3.2335245592207684E-15,-3.6082248300317588E-16,4.1286418728248009E-16,-1.1275702593849246E-15,4.3368086899420177E-16,-7.5633943552588789E-16,-3.1571967262777889E-16,-7.7954136201707769E-16,9.1732177409653559E-15,4.1078251911130792E-15,2.7755575615628914E-17,1.7340729546733158E-15,-1.8735013540549517E-16,1.8388068845354155E-15,5.134781488891349E-16,-6.0368376963992887E-16,-5.6621374255882984E-15,1.6930901125533637E-15,-3.5908775952719907E-16,-8.0838113980519211E-16,4.0731307215935431E-15,8.6389229103644993E-16,-8.4654505627668186E-16,8.8262730457699945E-15,-2.9837243786801082E-16,1.0408340855860843E-17,-1.1102230246251565E-15,2.4286128663675299E-16,6.8001160258290838E-16,-6.6266436782314031E-16,-1.7971735211119721E-15,-1.0685896612017132E-15,1.5057399771478686E-15,1.3600232051658168E-15,0,-1.7034984534092246E-15,-1.0685896612017132E-15,1.9706458687096529E-15]
[4.9546942063245893E-3,-1.3123729067796794E-3,-1.1083304938074919E-4,-1.8460075862291843E-3,-2.1509029755594229E-3,-6.5263859678418455E-4,3.9137557275590257E-3,1.2299898528889549E-3,-7.8877899427580954E-5,-3.6391221267884025E-3,-6.279623120346681E-4,-1.8972321642332739E-3,8.1386848218091643E-4,-1.952268326287027E-4,-7.6256127678844311E-4,2.4809308003290531E-3,3.1751297655320931E-3,1.4382537188520131E-3,1.751190763243037E-3,-2.5917145262191292E-3,-1.8974767474153062E-3,6.1110387121131218E-4,2.3446222305934039E-3,2.2083057269670706E-3,1.5646510813740017E-3,-2.565970731798354E-3,-8.5373629295506387E-4,-1.4947945235023872E-4,-8.2389949106770268E-4,1.9956986470258628E-3,-3.4381820600624686E-3,-4.7436330760511934E-5,-9.6505525174025064E-4,-2.2264652291167308E-3,9.9613907291084148E-4,1.3622728471114698E-3,1.5812506950773626E-3,1.2636684728270541E-3,-7.3498303087919095E-4,1.0006575685056699E-3,-2.1792773039530275E-3,-1.4719159567658916E-4,1.1013829812803601E-3,2.5796931200181743E-3,2.4887877073472438E-3,-3.0607561671595167E-3,1.1586885405424551E-3,4.3061506090895672E-5,-3.8134723945489218E-3,3.3909486891817197E-4,-4.3263981571576232E-3,-1.7194500036787216E-3,2.0582801675045386E-5,-4.5431936304452067E-4,2.7371302841435201E-4,-2.9016765722923547E-3,-1.7045944491518156E-3,-1.9679477654150799E-4,-9.0941248190707822E-4,-1.8618256395876828E-3,6.6785078912731752E-4,-3.5365097075441224E-3,1.9338228586754833E-3,1.4632855005930845E-3,-1.3078712581930042E-4,1.9793983283790998E-3,-2.3571788368853108E-3,2.0167965350983098E-3,-1.0984734111410463E-3,-2.8605475765323838E-4,-3.9814355757872169E-4,-4.2477829079336704E-4,4.405379923828133E-3,-1.0238537301307737E-3,-2.5221197613867576E-3,-4.1471327817124183E-3,-1.7660222676397247E-3,1.2382113870058958E-3,2.9780984234101917E-3,-7.7113300175903998E-4,6.3233013915995804E-4,9.6898553538425571E-4,-8.7767236561266191E-4,4.8566102515731303E-3,-1.0197419610788897E-3,-1.5943537389463166E-3,-1.3895981422509182E-3,2.6300430818041905E-3,-3.3313136916211876E-3,1.4327464572219694E-3,3.7611975421565774E-3,7.886075590597606E-4,2.7452860300372518E-3,-2.3241439141590686E-3,-9.6494775356293535E-5,-1.5977791943982515E-3,1.3411417631893272E-3,9.814537662495642E-4,1.3698133804106183E-3,-1.0727794479464046E-3,null,-1.2004286453759505E-15,-5.5511151231257827E-16,-9.4368957093138306E-16,-2.5673907444456745E-16,4.3853809472693683E-15,2.1094237467877974E-15,1.9984014443252818E-15,-6.106226635438361E-16,2.4424906541753444E-15,2.9976021664879227E-15,-8.3266726846886741E-17,-1.4432899320127035E-15,7.2164496600635175E-16,-2.6090241078691179E-15,8.3266726846886741E-16,-1.9359513991901167E-15,1.5126788710517758E-15,-3.7192471324942744E-15,2.5951463200613034E-15,1.4988010832439613E-15,1.1102230246251565E-16,1.1657341758564144E-15,1.9567680809018384E-15,-9.4368957093138306E-16,1.2351231148954867E-15,2.7755575615628914E-16,-3.0531133177191805E-16,-9.9920072216264089E-16,-1.7763568394002505E-15,-1.8318679906315083E-15,1.7208456881689926E-15,-1.3877787807814457E-16,8.0491169285323849E-16,2.55351295663786E-15,-8.6042284408449632E-16,1.9428902930940239E-16,2.1926904736346842E-15,7.4940054162198066E-16,-3.3306690738754696E-16,-2.55351295663786E-15,-1.1657341758564144E-15,1.4016565685892601E-15,-6.3837823915946501E-15,1.3600232051658168E-15,1.0993810029003015E-15,-5.0515147620444623E-15,2.0122792321330962E-16,2.0556473190325164E-16,-2.2204460492503131E-15,-7.9103390504542404E-16,-1.6653345369377348E-16,-1.0130785099704553E-15,5.2735593669694936E-16,7.2164496600635175E-16,1.5404344466674047E-15,7.2164496600635175E-16,2.248201624865942E-15,1.4155343563970746E-15,-5.5511151231257827E-17,1.1102230246251565E-15,2.3314683517128287E-15,3.8302694349567901E-15,1.4432899320127035E-15,-4.9960036108132044E-16,-2.5951463200613034E-15,-8.1185058675714572E-16,4.5796699765787707E-16,1.7208456881689926E-15,1.8041124150158794E-15,6.7654215563095477E-17,1.4432899320127035E-15,9.7144514654701197E-16,-2.7200464103316335E-15,3.5952144039619327E-16,2.0816681711721685E-16,-1.5265566588595902E-15,7.2164496600635175E-16,-2.6784130469081902E-15,-4.9404924595819466E-15,9.4368957093138306E-16,9.2113816574368457E-16,-5.2735593669694936E-16,-2.1094237467877974E-15,-2.3314683517128287E-15,1.0547118733938987E-15,1.2212453270876722E-15,-5.134781488891349E-16,1.27675647831893E-15,-9.4368957093138306E-16,5.3013149425851225E-15,8.3266726846886741E-16,1.2906342661267445E-15,-3.6082248300317588E-15,4.163336342344337E-16,-1.4432899320127035E-15,5.5511151231257827E-17,1.7763568394002505E-15,-9.9920072216264089E-16,-3.8857805861880479E-16,5.2735593669694936E-16]
[-9.2202018831792079E-4,6.3163379574882896E-5,1.1761062244837791E-3,5.623970804150125E-4,-1.3099168918831694E-4,4.7001197685172749E-4,-1.067647382254774E-3,2.5647210974026402E-4,-1.0429487708567455E-3,1.3779208068851402E-3,-5.455137617899695E-4,9.3638043632350134E-5,-1.1248730555510648E-4,1.9966571883844779E-3,7.0862676104734761E-4,-1.1622299447701765E-3,-1.3018689543354225E-4,3.3820359478925228E-4,1.6476742172312023E-5,1.0118580016476267E-3,6.2975238118068329E-4,9.4552443202607431E-4,-9.5257584366252406E-4,1.3146122928255079E-3,-3.1300208630963814E-4,1.1425743359891345E-3,-1.151601757450088E-3,3.8521075373166204E-5,5.2551032304511917E-4,-1.1387790055520034E-3,-1.644496200522053E-3,-2.9962193653876133E-4,1.5843550082230238E-3,1.2481458991366761E-3,-6.447305939710331E-4,-1.7550650784292736E-3,-4.2453180326844917E-4,2.2094111686895459E-3,1.3464377550849568E-3,7.0853256697470286E-4,2.1419243741746009E-3,1.1940745572160174E-4,1.6807848818543168E-3,-5.2860474643069537E-4,-1.093650562451481E-4,-2.7874082732601637E-4,-3.6837723967460107E-6,6.9160074133460612E-4,3.4302211831317031E-4,-2.2201356057690103E-3,5.2211602197842384E-4,-1.1399438727054333E-3,-9.4287362515350136E-5,1.5146065027622818E-3,-1.0078956466606857E-3,-4.4546639564243043E-4,-5.8245265807549212E-4,6.03414480803774E-4,7.0022917892820691E-4,9.6799662702102423E-4,6.9016263035797396E-4,2.608625452801684E-4,1.0268858670166589E-3,-1.7064568036205145E-4,6.9802121260070663E-4,-1.8364845862045758E-3,3.9189372397363612E-4,-1.9765009413955406E-5,1.3148765308326669E-3,7.0393629959397599E-4,-1.6979373826422619E-3,1.6231878373854436E-4,-2.1206636312719293E-4,-1.2059605611253934E-3,1.3045109639767301E-3,4.208384953826123E-4,-1.4890121724475134E-3,-2.1553243565686389E-3,1.0434028363513763E-3,-8.5563092951757393E-4,9.9753522308876439E-4,-1.3147073922595897E-4,-1.9776291583985563E-3,-5.8799929506546487E-4,-4.9458600563824788E-4,-3.4302299058767581E-4,-1.4973092303381683E-3,-2.6711534191027225E-3,1.8478503394765022E-4,2.8894482446796879E-4,-4.4268460664038251E-4,4.7399479744395564E-4,-1.5205556863171277E-4,8.9798484360276848E-4,2.1491506173604174E-3,4.834531728512812E-4,7.7449050683469441E-4,5.6651300478338022E-4,-1.1544725368056504E-3,-5.8109295022993246E-4,null,-2.0192181260370035E-15,3.9829251008427491E-15,-1.0894063429134349E-15,-1.5421691701433815E-15,2.248201624865942E-15,-5.5511151231257827E-16,2.8171909249863347E-15,2.4216739724636227E-15,1.3322676295501878E-15,6.9388939039072284E-18,2.3592239273284576E-16,9.5756735873919752E-16,-9.8532293435482643E-16,1.3600232051658168E-15,7.5286998857393428E-16,2.014013955609073E-15,-5.134781488891349E-16,2.8171909249863347E-15,3.2543412409324901E-15,2.4980018054066022E-16,-3.0531133177191805E-16,-2.1510571102112408E-16,2.1163626406917047E-16,8.1878948066105295E-16,-3.9118014383277E-16,-3.0253577421035516E-15,-2.4980018054066022E-16,1.0408340855860843E-16,-7.9797279894933126E-16,9.0205620750793969E-16,1.1310397063368782E-15,-1.1379786002407855E-15,-6.5225602696727947E-16,1.1379786002407855E-15,2.1649348980190553E-15,2.9351521213527576E-15,2.2065682614424986E-15,1.8873791418627661E-15,-3.5665914666083154E-15,-3.0531133177191805E-16,1.1102230246251565E-16,6.9388939039072284E-18,-4.1494585545365226E-15,3.8163916471489756E-16,-7.3769115815913722E-16,-8.6042284408449632E-16,1.0217521273503394E-15,-1.1103314448424051E-15,-1.1102230246251565E-15,9.9573127521068727E-16,1.2628786905111156E-15,-1.9012569296705806E-15,9.9920072216264089E-16,3.0878077872387166E-16,3.3497510321112145E-15,1.915134717478395E-15,-1.3253287356462806E-15,-2.3800406090401793E-15,1.4224732503009818E-16,-1.5439038936193583E-15,-1.4432899320127035E-15,3.7470027081099033E-16,-3.7470027081099033E-16,-3.3167912860676552E-15,-8.81239525796218E-16,1.5386997231914279E-15,-1.9081958235744878E-15,3.8094527532450684E-15,-1.8752360775309285E-15,-4.9808247803984074E-16,3.039235529911366E-15,2.8727020762175925E-15,2.6367796834847468E-15,1.6707555478001623E-16,-1.9428902930940239E-16,-2.6853519408120974E-15,-2.3314683517128287E-15,-3.5735303605122226E-16,-1.3600232051658168E-15,-2.248201624865942E-15,1.9905951886833861E-16,6.0368376963992887E-16,1.7694179454963432E-15,3.1051550219984847E-15,-1.9567680809018384E-15,3.8857805861880479E-15,-2.3141211169530607E-15,1.7468665403086447E-15,-2.3314683517128287E-15,-1.8735013540549517E-16,1.762479051592436E-15,4.6143644460983069E-16,1.7902346272080649E-15,6.2450045135165055E-16,2.7061686225238191E-16,2.3592239273284576E-16,-1.6583956430338276E-15,-1.1865508575681361E-15,-7.9103390504542404E-16,1.9775847626135601E-16]
[-4.275911190318271E-3,2.9700053190168108E-4,5.6427568397345365E-4,1.76380326864514E-3,2.8934974825460996E-4,7.5526523066264423E-4,-3.8958951130988904E-3,-9.7296297263899361E-4,1.2256203378984349E-3,4.0309317983927458E-3,-3.890222104734569E-4,3.2501370405847276E-3,1.0931387871381719E-4,6.1566327996976001E-5,3.8037998332177868E-4,-2.8170202720850042E-3,-3.068512002072807E-3,-7.4948765522157596E-4,-1.3648143080458688E-3,3.1361299607685265E-3,1.4725671254028126E-3,-2.5909165117118092E-4,-2.1343545871505684E-3,-1.9339640695980012E-3,-1.004309960246811E-3,3.22631023401999E-3,4.2167703470785288E-4,-8.873615637967205E-4,9.1997771610670181E-5,-6.1076667064419426E-4,3.4517226188386335E-3,-1.1338629047542314E-3,1.1511745368843319E-3,2.6888064181533008E-3,-1.4158529130255983E-3,-1.8750083509326038E-3,-2.2007129659020281E-3,-2.9135631964720583E-3,1.1184121748904635E-3,9.5951467158176133E-5,1.2575677051118994E-3,7.0272608167909641E-4,-2.3677097586504463E-5,-2.0317685695141973E-3,-1.3672869730715969E-3,2.2432018652020383E-3,-1.6720626104733004E-3,1.3575621076183993E-4,2.9532750212419448E-3,-6.5814192648538971E-4,2.7718774917344902E-3,2.6843687891484635E-3,-1.4554959972903311E-3,-2.1596294218182905E-4,-2.238960730175139E-3,1.9541115086822705E-3,2.2367151380025679E-3,1.1963717100319008E-3,1.9136021491497442E-4,2.1080600313203037E-3,-1.7356864974996875E-3,1.7514798039680902E-3,-1.2216012313511781E-3,-6.8601995766762495E-4,2.1338769815155562E-3,-2.4246898010556201E-3,2.8787486980377834E-3,-2.1434434132655993E-3,1.966681451296502E-3,2.1801238850791848E-3,-2.4751451785702868E-3,1.5716079794004563E-4,-3.5352658328360585E-3,5.3285674128015776E-4,2.0368505276264302E-3,4.6603354607330878E-3,1.4164000034622625E-3,-1.6311782454267491E-3,-2.7379730146307167E-3,1.2056825334200339E-3,4.4291281279682676E-4,-1.3032714160845951E-3,1.1216083329859113E-3,-4.453629705590996E-3,1.9623486102523045E-3,6.9970411653403919E-5,1.9625696288696369E-3,-2.7321977415497491E-3,2.7868103529024219E-3,-2.1443444200027161E-3,-3.7345739970508622E-3,-4.4508301142927873E-4,-3.8804377426753982E-3,2.3244843861156168E-3,3.9904434425886451E-4,5.8411650407686313E-4,6.1508901732588726E-5,7.3661643061395438E-4,-7.3627136918147222E-4,6.2979123675617357E-4,null,8.8644369622414843E-16,-1.3045120539345589E-15,-6.9388939039072284E-17,-1.1102230246251565E-16,3.8857805861880479E-16,6.9388939039072284E-17,-1.0824674490095276E-15,-5.0653925498522767E-16,4.163336342344337E-16,-5.9674487573602164E-16,5.5511151231257827E-17,-2.6090241078691179E-15,-8.8817841970012523E-16,-7.4940054162198066E-16,6.9388939039072284E-18,2.6714741530042829E-16,-1.1796119636642288E-16,2.7755575615628914E-17,7.9797279894933126E-17,6.9388939039072284E-17,-3.8163916471489756E-16,-1.3877787807814457E-17,2.9143354396410359E-16,1.9428902930940239E-16,-3.5735303605122226E-16,4.5796699765787707E-16,-9.7144514654701197E-17,1.1102230246251565E-16,-6.2450045135165055E-16,2.7755575615628914E-17,-4.8572257327350599E-17,4.7878367936959876E-16,2.7755575615628914E-17,-1.5265566588595902E-16,-7.6327832942979512E-17,-3.6082248300317588E-16,2.2204460492503131E-16,1.6653345369377348E-16,4.163336342344337E-16,3.1918911957973251E-16,-6.2450045135165055E-16,2.4286128663675299E-17,4.4408920985006262E-16,-1.5265566588595902E-16,5.990217002982412E-17,-8.6042284408449632E-16,-1.5265566588595902E-16,2.2616457318047622E-16,-4.8572257327350599E-16,1.3183898417423734E-16,-9.7144514654701197E-17,-1.8041124150158794E-16,4.163336342344337E-16,2.2204460492503131E-16,1.5612511283791264E-17,-4.7184478546569153E-16,2.2898349882893854E-16,-6.8001160258290838E-16,-1.0408340855860843E-16,3.8857805861880479E-16,-6.106226635438361E-16,0,0,-1.3877787807814457E-15,2.8796409701214998E-16,-1.7347234759768071E-18,-2.9837243786801082E-16,-1.6653345369377348E-16,-4.7531423241764514E-16,-5.2930750060742326E-16,-2.9837243786801082E-16,2.7755575615628914E-16,-6.9388939039072284E-17,-2.4589705271971241E-16,4.163336342344337E-17,4.4408920985006262E-16,6.3837823915946501E-16,-1.5959455978986625E-16,-9.7144514654701197E-17,-2.0816681711721685E-16,-1.3314002678121994E-16,-1.0408340855860843E-17,-6.2450045135165055E-16,2.0816681711721685E-17,-5.5511151231257827E-17,6.9388939039072284E-17,-9.7144514654701197E-17,4.3194614551822497E-16,-1.1102230246251565E-16,-9.0205620750793969E-17,-5.5511151231257827E-17,4.8572257327350599E-17,-2.0816681711721685E-16,0,2.2898349882893854E-16,2.7755575615628914E-16,-8.0491169285323849E-16,-2.6367796834847468E-16,-2.7755575615628914E-17,-1.5265566588595902E-16]
[-2.1649013481698193E-3,-4.2504521693120549E-3,2.2520206973118163E-3,1.4905933675891225E-3,-4.1193138725115581E-3,1.5848659085326673E-3,-4.6633195991617688E-3,-2.7736182632096501E-3,2.925626733037508E-3,2.4251908852544971E-3,-6.1138329488596952E-5,6.3085402065781266E-3,4.9430743931401355E-3,4.5235073321456308E-3,-4.536979346721495E-4,-5.1828038383448251E-4,-3.1921451887515963E-3,4.7730649570513753E-3,-1.3447813581174189E-3,-1.7849500719283582E-3,1.0319498189978753E-3,9.8084688211755794E-6,-1.8796367772714309E-3,-4.4646085219479971E-3,-1.4882321976192746E-3,3.1694066600487739E-3,-1.8671932166658505E-3,-1.132877809286474E-3,-4.1030726257040261E-3,1.5219289197598205E-3,3.2761951492249296E-4,-3.8922986050501287E-3,-6.2784926925444349E-4,-8.5562668319136173E-4,-2.0178404559232756E-3,-3.2722067449999551E-3,-4.7361504439378713E-4,-4.5910718714476202E-3,4.4706894515526945E-3,5.6050699244355046E-3,1.1763355735110305E-3,-2.0254489628673037E-3,5.2720111911623733E-3,-6.1601289985886048E-4,-2.1707353054872943E-4,4.2734922802910528E-3,-4.7261969284201192E-4,1.8448269413101177E-3,4.6378964973186982E-3,-1.1561775318933349E-3,-1.3430359236953284E-3,3.4370978483601266E-3,-4.926045636086914E-4,-2.1122614357508293E-3,-3.4616307802269922E-3,-4.1593180238069525E-3,-1.3067927927336506E-3,2.6191050993771073E-3,8.1665017851118818E-4,2.586624392092418E-3,1.2104480725509605E-3,-1.6186532070039674E-3,-1.3281107572424879E-3,4.0381642765509552E-3,2.868413680726357E-3,-1.4694655251277318E-3,2.9766843434078896E-3,-4.3270086110235679E-3,8.404828669919738E-4,1.9136142782400869E-3,-5.6356881961569455E-3,-2.4153835059140902E-3,2.7526270125227789E-4,-1.4327004687652235E-3,-1.7097702782055556E-3,3.4980371516863513E-3,3.1123785421845592E-3,1.5792644885755046E-4,3.3281843421485318E-3,4.1366000535131208E-3,2.8552185433401998E-4,-2.3535828849311212E-4,-3.2833652912279592E-3,-1.3960626759889924E-3,1.7230739963052918E-3,-3.859705887463451E-3,1.6801500000609222E-3,-5.1375199052237416E-3,-1.3091271082398953E-3,-4.200991467496547E-3,-1.5770153036472503E-3,8.8876065629981164E-4,-4.5775994523724797E-3,-1.9438307505177832E-3,7.8496642510446422E-4,2.2154009937591953E-3,2.1618622544876697E-3,8.9802977257351759E-4,1.9074064462673908E-3,-2.548531968751332E-4,null,-2.1458529397833104E-15,-2.4980018054066022E-16,-1.3183898417423734E-16,-1.3183898417423734E-16,3.4694469519536142E-16,1.7971735211119721E-15,-1.5126788710517758E-15,1.1379786002407855E-15,-4.4408920985006262E-16,4.3715031594615539E-16,-2.0816681711721685E-17,2.491062911502695E-15,1.609823385706477E-15,1.3461454173580023E-15,-5.5511151231257827E-17,4.5623227418190027E-16,1.6028844918025698E-15,8.4654505627668186E-16,-1.3877787807814457E-16,7.6327832942979512E-16,4.6143644460983069E-16,2.9837243786801082E-16,6.9388939039072284E-17,-1.8179902028236938E-15,-1.1449174941446927E-16,-2.4980018054066022E-15,-3.1225022567582528E-16,1.9428902930940239E-16,-4.163336342344337E-17,-1.6653345369377348E-16,1.6375789613221059E-15,-1.429412144204889E-15,-3.4694469519536142E-16,7.6327832942979512E-16,6.2450045135165055E-17,1.2698175844150228E-15,-2.7755575615628914E-17,-3.3306690738754696E-16,-2.1371793224034263E-15,-8.7430063189231078E-16,8.6042284408449632E-16,-4.8572257327350599E-16,-1.6514567491299204E-15,3.8857805861880479E-16,1.1872013788716274E-16,4.9960036108132044E-16,-1.1275702593849246E-16,-5.4448633102222033E-16,-5.6898930012039273E-16,-3.6082248300317588E-16,7.6327832942979512E-17,3.1225022567582528E-16,9.0205620750793969E-16,9.3675067702747583E-17,3.3653635433950058E-16,-4.5796699765787707E-16,9.7144514654701197E-17,1.2975731600306517E-15,-4.5102810375396984E-16,-3.0669911055269949E-15,2.7755575615628914E-16,-8.3266726846886741E-16,-2.7755575615628914E-15,6.8001160258290838E-16,-2.5673907444456745E-16,-4.4235448637408581E-16,-1.3183898417423734E-16,-4.2327252813834093E-16,5.5858095926453188E-16,8.1965684239904135E-17,3.1918911957973251E-16,1.3877787807814457E-17,2.2204460492503131E-16,3.673276960380889E-16,-5.8980598183211441E-16,-1.1518563880485999E-15,-1.0408340855860843E-15,5.4123372450476381E-16,-6.9388939039072284E-16,6.106226635438361E-16,6.4618449480136064E-16,-2.8796409701214998E-16,3.5388358909926865E-16,4.6837533851373792E-16,-1.457167719820518E-16,4.7184478546569153E-16,-1.1102230246251565E-15,-1.429412144204889E-15,-9.1593399531575415E-16,-2.0816681711721685E-17,1.1518563880485999E-15,5.8286708792820718E-16,-6.591949208711867E-16,-2.3592239273284576E-16,1.8041124150158794E-16,3.6082248300317588E-16,-4.3021142204224816E-16,-1.3877787807814457E-17,6.8001160258290838E-16,-3.6429192995512949E-16]
[-7.3291464959360656E-3,-2.215374035465172E-3,-9.0621770248608977E-4,2.770198855524369E-3,-4.3305365789293206E-3,1.8228158595256241E-3,-7.0466658668776874E-3,-1.9076820017795196E-3,3.672359862712476E-4,4.9926082296479751E-3,6.1192885428241691E-4,7.849407151810487E-3,2.5893540579158235E-3,4.6261085812173437E-3,1.1574142777941469E-3,-1.7318749925963673E-3,-3.9050676599709415E-3,4.4625846822103398E-3,-4.7093437611002908E-3,8.6021337291327369E-4,2.6619539746557722E-3,-2.0057208085813081E-3,-3.7099238132636794E-3,-5.8532476145529699E-3,-1.5316287672497216E-3,5.9521138472361859E-3,-1.3297032113325394E-3,-2.2821344200352248E-3,-3.1067090369775474E-3,1.7140973243974591E-3,6.9679264701624061E-4,-4.6242446182893724E-3,3.0609104431868262E-5,5.457308962153139E-4,-6.0178160643000432E-4,-4.6210698492434258E-3,8.9758052937028679E-4,-1.831241386276605E-3,7.5220123973706744E-3,4.7072638747035801E-3,2.7108484752130608E-3,2.0745293412845859E-4,6.2224840881906409E-3,-1.473209455093026E-3,-2.6006405548815305E-3,7.8537792542272954E-3,-1.9799996328780326E-3,6.9163509744924465E-4,6.1159512185344289E-3,-2.4967692503453853E-3,-5.884481639491959E-4,2.3525496577489137E-3,-6.1321156254313361E-4,-1.1362755830047683E-3,-4.5485852042417034E-3,-2.7489489131696512E-3,-4.4199086433313658E-3,2.9947830606757218E-3,-3.6170881967208663E-4,3.3965893118383665E-3,-5.6685400358170997E-5,-2.8343252580004404E-3,-9.7357083279977651E-4,2.729620422635453E-3,4.5833655689387267E-3,-9.0727609543260165E-4,2.7922321877273709E-3,-4.5383025092692311E-3,1.4657742996874235E-3,3.4078999104270665E-3,-6.0921069041461762E-3,-2.266475829832883E-3,-2.6038030642050402E-3,-1.6244946508686775E-3,9.5308654600608411E-4,7.5838066460642865E-3,1.9916211462721232E-3,-1.4015651191361671E-3,1.8263618385098255E-3,4.948104704550726E-3,1.3476738897196313E-3,-1.3616940315301139E-3,-3.7592617821239106E-3,-3.1183704787652125E-3,2.6168698441290557E-3,-6.5505030925475192E-3,3.0458397161448758E-4,-9.2665227758625054E-3,9.0846676910043452E-4,-5.5511081598609655E-3,-1.2552739476851009E-3,1.7321473914959583E-3,-2.0555765153029977E-3,6.9851482131305794E-4,1.5507569627564285E-3,6.6966966164195372E-3,1.7363071713930958E-3,1.2535144527719645E-3,1.7096446835548143E-3,-9.3934389278887563E-4,null,-3.4590386110977533E-15,1.4432899320127035E-15,-8.3266726846886741E-16,-9.7144514654701197E-17,1.5543122344752192E-15,3.6082248300317588E-16,-6.106226635438361E-16,2.7061686225238191E-15,2.2204460492503131E-15,-7.4940054162198066E-16,1.3877787807814457E-16,-5.5927484865492261E-15,-3.6637359812630166E-15,-4.2188474935755949E-15,1.0824674490095276E-15,-6.8695049648681561E-16,1.1657341758564144E-15,2.1649348980190553E-15,1.0269562977782698E-15,4.3853809472693683E-15,2.5673907444456745E-16,-9.7144514654701197E-16,-1.27675647831893E-15,2.2204460492503131E-16,-9.055256544598933E-16,-1.609823385706477E-15,9.9920072216264089E-16,-3.3306690738754696E-16,2.0539125955565396E-15,3.3306690738754696E-16,2.0677903833643541E-15,2.2204460492503131E-16,-2.2204460492503131E-16,1.4155343563970746E-15,1.8179902028236938E-15,1.9290125052862095E-15,-1.3461454173580023E-15,-1.27675647831893E-15,-4.0523140398818214E-15,-4.1355807667287081E-15,-7.2164496600635175E-16,-9.4368957093138306E-16,-4.6629367034256575E-15,-1.0824674490095276E-15,7.215365457891032E-16,-3.8302694349567901E-15,-1.1379786002407855E-15,-9.9052710478275685E-16,6.9388939039072284E-16,2.4980018054066022E-16,1.915134717478395E-15,-7.0776717819853729E-16,-1.6653345369377348E-16,4.0245584642661925E-16,1.1102230246251565E-15,4.801714581503802E-15,7.3552275381416621E-16,5.2735593669694936E-16,1.8041124150158794E-16,-1.2073675392798577E-15,-2.0539125955565396E-15,9.9920072216264089E-16,-1.7763568394002505E-15,-2.1094237467877974E-15,-2.3592239273284576E-16,-2.0851376181241221E-15,3.4278135885301708E-15,-6.9388939039072284E-16,1.8388068845354155E-16,3.0964814046186007E-16,8.8817841970012523E-16,3.9690473130349346E-15,1.3600232051658168E-15,5.4340212884973482E-16,-7.4940054162198066E-16,5.2319260035460502E-15,7.7715611723760958E-16,5.9674487573602164E-16,2.8310687127941492E-15,-1.915134717478395E-15,-2.9386215683047112E-15,-2.3592239273284576E-16,-1.609823385706477E-15,-4.8572257327350599E-17,-2.3592239273284576E-15,6.2172489379008766E-15,8.7430063189231078E-16,2.6922908347160046E-15,1.1102230246251565E-15,-1.3461454173580023E-15,1.609823385706477E-15,-2.1094237467877974E-15,2.3869795029440866E-15,-2.7755575615628914E-16,1.6930901125533637E-15,2.4980018054066022E-16,-2.9976021664879227E-15,1.6653345369377348E-16,-1.9428902930940239E-15,2.7061686225238191E-16]
[-4.7351572421576007E-3,-2.583286028172955E-3,1.9775039225585793E-3,1.6796078762202503E-3,-2.1033959702449049E-3,2.4310563327747405E-3,-5.9303303479768749E-3,-3.9544713326871653E-3,-2.7307949821196078E-5,2.8423510199902051E-3,1.7736540065653455E-4,3.9921027420862327E-3,1.5875826964869806E-3,5.3082445864558146E-3,5.8925282635455419E-4,-1.4989248639432446E-3,-4.3796135496001433E-3,2.3536566090622975E-3,-2.2361108488982854E-3,7.2795670637407683E-4,1.7195194693190616E-3,-4.4940544499210084E-4,-4.643036444460613E-3,-6.1742675221274305E-3,-1.4650737037061011E-3,3.9822751829436797E-3,-3.1850384442846176E-3,-9.0510211331431352E-4,-2.1658083220542825E-3,6.9968456215200551E-4,1.3154748940178856E-3,-1.90005057263428E-3,2.49047423878395E-3,5.6242362271111395E-4,-3.2733210746169184E-4,-9.1917718650165068E-4,-2.0819817491159326E-3,-3.2414988511815482E-3,4.0943602322007196E-3,3.943923906201431E-3,1.0563560950385084E-3,-9.7220330971629852E-7,2.9743178014856428E-3,1.0331886752874232E-3,-1.9600584512798696E-3,7.0824765573089844E-3,-1.8302794755121156E-3,1.3042699294737064E-3,6.12152860038078E-3,-2.3549569734378664E-3,2.7748894578942559E-3,2.5720681923845591E-3,2.2970345975779108E-4,-3.8954802077156571E-4,-1.8426401508934585E-3,-5.1139601060285779E-4,-2.2442214269777693E-4,3.0528795090406418E-3,1.0452058651567336E-3,3.5392637774946077E-3,2.8457208268815705E-3,7.1826199803004217E-4,-2.7211474034198211E-3,1.7111046704733081E-3,1.2203943830949066E-3,-4.4450482393041555E-3,2.755726435445712E-3,-3.5604843079106254E-3,3.6050397874266989E-3,2.0740887202759955E-3,-3.61010406253396E-3,-1.63515269378024E-3,-1.7465385195491289E-3,4.3693925818868269E-4,6.0514840628125149E-4,3.4452484581229265E-3,1.8687592957121009E-3,-2.4517550839054151E-3,1.764161020667343E-3,2.9245384740955276E-3,-9.2653049311943879E-4,-2.3000825579406778E-3,-2.2891372507291199E-3,-2.7110191149197402E-3,-4.0964367671493426E-4,-1.3113767237658647E-3,1.7167164154038078E-3,-4.1707383071455054E-3,1.3740875195801514E-4,-4.4217172158307581E-3,-2.635913991123263E-3,-1.4726798506843805E-3,-4.3523818645820689E-3,-5.1067604285034377E-4,2.0696616147992393E-3,3.5958303612720825E-3,-6.2437958437203882E-5,6.279675551803842E-4,-1.3114791421572292E-4,1.5225308811896237E-3,null,2.8137214780343811E-15,-2.6367796834847468E-16,-4.4408920985006262E-16,1.5317608292875207E-15,-2.7755575615628914E-17,-1.7208456881689926E-15,1.2281842209915794E-15,1.6306400674181987E-15,-6.5086824818649802E-15,-7.2511441295830537E-16,-4.0592529337857286E-16,-5.3568260938163803E-15,-3.858025010572419E-15,-2.9282132274488504E-15,1.3010426069826053E-15,4.1980308118638732E-16,-9.7491459349896559E-16,-5.2735593669694936E-15,-1.8735013540549517E-16,1.7208456881689926E-15,6.9388939039072284E-16,6.591949208711867E-16,2.2412627309620348E-15,9.0483176506950258E-15,2.437286483747414E-16,-3.1225022567582528E-16,3.1225022567582528E-16,8.6736173798840355E-17,1.1379786002407855E-15,-2.9490299091605721E-15,-3.1225022567582528E-17,4.163336342344337E-15,-2.0400348077487251E-15,1.0269562977782698E-15,2.4286128663675299E-15,6.106226635438361E-16,-8.7777007884426439E-16,1.9498291869979312E-15,-1.8041124150158794E-15,-4.1841530240560587E-15,-6.591949208711867E-16,6.2450045135165055E-16,-2.095545958979983E-15,-1.5959455978986625E-16,-8.3190832694812755E-16,-2.3592239273284576E-15,-9.7144514654701197E-17,-1.1094640831044167E-15,-2.3592239273284576E-16,1.2108369862318114E-15,-8.1185058675714572E-16,-3.3931191190106347E-15,3.1363800445660672E-15,6.5225602696727947E-16,1.2507356261792779E-15,-8.8817841970012523E-16,-1.2628786905111156E-15,-8.2225892761300656E-16,-3.9551695252271202E-16,-1.8873791418627661E-15,-6.3837823915946501E-16,8.4654505627668186E-16,1.3183898417423734E-15,-6.2450045135165055E-15,1.1102230246251565E-15,-8.8817841970012523E-16,9.540979117872439E-16,4.5657921887709563E-15,1.560383766641138E-15,-1.1431827706687159E-15,-1.7798262863522041E-15,1.9081958235744878E-15,1.3183898417423734E-15,-8.1922316153004715E-16,5.7592819402429996E-16,1.2420620087993939E-15,-2.5951463200613034E-15,1.0894063429134349E-15,-1.762479051592436E-15,-5.5511151231257827E-15,-3.0791341698588326E-17,-6.8174632605888519E-16,2.310651670001107E-15,2.985459102156085E-15,-1.6861512186494565E-15,-4.5102810375396984E-15,-8.8817841970012523E-16,-1.6913553890773869E-15,1.3947176746853529E-15,-7.2858385991025898E-16,-3.3167912860676552E-15,-3.7470027081099033E-16,1.7971735211119721E-15,6.5225602696727947E-16,5.6551985316843911E-16,-3.282096816548119E-15,-1.457167719820518E-15,-2.4286128663675299E-16,-4.7184478546569153E-16,-5.6725457664441592E-16]
[1.8983079228441745E-3,-1.9950363554389994E-4,-2.0293451261001638E-3,4.578727020373188E-4,9.2115328578023538E-4,-1.2111357025377292E-4,1.8140156175337023E-3,2.9586866920800958E-3,5.2287019868289602E-4,-1.0145067579216164E-3,-1.4309885129285302E-3,3.275555572746349E-4,1.9512796458314478E-3,4.7958925984491907E-4,8.9378651917373713E-4,1.2137541278445737E-3,3.7200360575043996E-3,-4.4428318773675671E-4,8.388962731706429E-4,-1.7440367207191326E-3,-1.4175207370017452E-3,1.1151151864518588E-3,9.5151723748149674E-4,5.2886151853476539E-3,3.0799377110110414E-4,-4.1577277734294446E-3,3.5650578384023583E-5,-3.3860144265382999E-4,2.0763073533611236E-4,-1.6671970896374253E-3,-4.1451570645262897E-3,-5.4672968332613063E-4,-2.3568741460278653E-3,-1.705333659948369E-4,-2.9211123540907679E-4,-8.0461046304758995E-4,2.4703331465329428E-3,3.8021114148559356E-3,-1.0128119161644045E-3,4.6724928119848056E-4,2.2167789398368329E-3,1.0579554902396852E-3,2.3011252284604608E-3,2.7485919032817322E-4,2.3503304930419497E-4,-3.224844882154923E-3,7.0451636255993734E-4,-6.0373839181832891E-4,-3.8740916844789575E-3,-1.0934376382317054E-3,-2.1771535845238896E-3,-1.6751402723334703E-3,4.3393966101667688E-4,1.853883897266801E-3,6.4236740045497129E-4,-3.0476343856119673E-3,-1.5118155305639696E-3,-1.2869567778306546E-3,-4.4057897075273144E-5,-4.7922008253263347E-5,1.1624445281857639E-3,-2.2673001026725305E-3,1.2968384304329328E-3,1.2771493240694128E-3,-4.6054590820625974E-4,2.1796693705250485E-3,-3.4843194552456923E-3,8.7259591825917897E-4,-1.8198139672465747E-3,-1.8527163419163784E-3,-1.665280301086317E-5,-1.2022615402659874E-4,7.9752934348560948E-4,-9.5800185978342565E-4,1.0402354736811801E-4,-5.5267013087529542E-4,-6.8383730350797913E-4,6.3621341010580202E-4,8.8123218437798762E-4,-2.1753389276143124E-3,2.6741968157267286E-3,2.5851593521486124E-4,-1.9048616568263605E-3,1.1740600760705074E-4,2.9494447766482105E-4,-3.1605302047971948E-3,-1.8678538738374326E-3,-3.4993288543165016E-4,-6.122193075167098E-4,2.6698209832496287E-3,1.6612039838217567E-3,2.3751336425787881E-3,3.5911837571265147E-3,3.7941126590192479E-4,-1.4657296920731347E-3,-5.604089943919931E-6,2.839163806621824E-3,4.8464191845975455E-4,-1.7087968321379164E-4,4.3131286981369117E-4,null,2.9594382500164329E-15,-3.5388358909926865E-15,8.3266726846886741E-17,-2.2759572004815709E-15,2.3869795029440866E-15,2.2828960943854781E-15,3.8441472227646045E-15,-1.3877787807814457E-17,-2.0677903833643541E-15,-2.5188184871183239E-15,-2.6367796834847468E-16,-1.3739009929736312E-15,1.7902346272080649E-15,7.2164496600635175E-16,-4.0939474033052647E-16,8.3960616237277463E-16,4.7878367936959876E-16,3.1641356201816961E-15,3.677613769070831E-16,4.163336342344337E-17,3.4694469519536142E-17,6.9388939039072284E-17,2.7408630920433552E-15,6.6613381477509392E-16,4.8051840284557557E-16,-9.7144514654701197E-16,1.7277845820728999E-15,2.6367796834847468E-16,-2.3592239273284576E-16,-1.1518563880485999E-15,-3.5041414214731503E-15,5.8980598183211441E-16,-2.8588242884097781E-15,-4.5796699765787707E-15,2.2828960943854781E-15,-2.7616797737550769E-15,1.214306433183765E-15,1.3877787807814457E-15,2.9420910152566648E-15,-1.0547118733938987E-15,-2.4286128663675299E-15,3.4000580129145419E-16,-1.0408340855860843E-15,1.9428902930940239E-15,1.6300437562233316E-15,-4.9960036108132044E-15,1.3739009929736312E-15,-3.185385982762412E-16,-2.4841240175987878E-15,9.5062846483529029E-16,-1.915134717478395E-15,5.9674487573602164E-16,1.0130785099704553E-15,-4.9266146717741321E-16,-5.3602955407683339E-16,-3.8441472227646045E-15,-2.1233015345956119E-15,1.5612511283791264E-15,-1.3253287356462806E-15,1.5959455978986625E-15,6.9388939039072284E-16,6.3837823915946501E-16,1.27675647831893E-15,8.0491169285323849E-16,-1.3773704399255848E-15,3.5527136788005009E-15,-1.4224732503009818E-15,1.8943180357666733E-15,-3.236994006172722E-15,-3.696912567741073E-15,-1.0200174038743626E-15,9.9920072216264089E-16,1.6792123247455493E-15,6.1712787657874912E-16,6.7307270867900115E-16,-1.1934897514720433E-15,2.6506574712925612E-15,2.4771851236948805E-15,3.1780134079895106E-15,5.5511151231257827E-17,9.3848540050345264E-16,1.762479051592436E-15,-2.7755575615628914E-17,6.7654215563095477E-16,-9.0205620750793969E-16,-2.55351295663786E-15,1.1102230246251565E-16,4.2327252813834093E-15,-2.8310687127941492E-15,1.9359513991901167E-15,5.5372373353179682E-15,1.4779844015322396E-15,3.1918911957973251E-16,-1.3322676295501878E-15,-2.3314683517128287E-15,-1.0685896612017132E-15,-1.1796119636642288E-15,1.3530843112619095E-16,3.0253577421035516E-15,-6.4184768611141862E-16]
[4.3761446344039619E-3,2.7272916247897193E-3,-2.3933608484570778E-3,-2.8939022339753138E-3,2.2696634825011869E-3,-2.8880088342383091E-3,8.1157835477325014E-3,4.5164074507694973E-3,-4.0505067482762514E-3,-4.5393805676301208E-3,1.7865264060799766E-3,-6.0934714201367687E-3,-2.5931618223448841E-3,-5.6258678523738899E-3,-2.173872182971461E-4,2.4264500590865496E-3,5.7476458557737713E-3,-1.8382578494738212E-3,1.3452476283047252E-3,-6.9864755672800706E-4,-2.1239680683196975E-3,-6.4751440883667564E-4,3.5479663688880677E-3,4.5522335867742604E-3,9.4573397810750399E-4,-3.6006689721827922E-3,2.0466551764487216E-3,1.8953468093001612E-3,3.0648905207168826E-3,-1.3417047992265007E-3,-4.5885470472339408E-3,3.0239226985503049E-3,-5.5648445272511054E-4,-2.0379643341512849E-3,2.6876876164838486E-3,9.4041956859180055E-4,3.1724040347508552E-3,4.4802947704038051E-3,-5.0959584660628179E-3,-4.8058917784761087E-3,-2.1522662008316464E-3,-3.5150405064793668E-4,-3.778929461353889E-3,2.2434521265683452E-3,1.5787888608723537E-3,-5.3975409143475969E-3,1.9224781347066129E-3,-1.7564980371974175E-3,-6.7598382972855727E-3,2.7784718392373916E-3,-1.5386691412448033E-3,-3.9077898809742294E-3,3.3492219804366636E-3,7.0791391425197676E-4,4.7049503719140979E-3,2.6901742295533659E-3,-1.4389018471006431E-4,-2.7313680905551524E-3,-2.0743140670473246E-3,-5.4069938355512121E-3,-7.1295581855586115E-4,1.7331860635335888E-3,2.2275177269731935E-3,-2.9484996108122422E-3,-3.5796677621347602E-3,4.8139377283131501E-3,-5.3835037051369345E-3,4.4027536512125584E-3,-4.9599071352573231E-3,-3.8014627878727742E-3,6.0774957154365672E-3,3.2961677284114766E-3,2.6123856251300428E-3,1.8196813646020075E-3,6.376149635673019E-4,-5.463253761386234E-3,-1.8582436028670396E-3,3.0881261242445127E-3,-1.7172905517085287E-3,-2.5577493078736361E-3,-5.6987491457121276E-4,1.934462612471021E-3,2.6263366681043188E-3,2.1876317217939209E-3,-2.7459220807491431E-3,1.769130992664826E-3,-2.9580196851501065E-3,6.2100485112950134E-3,-8.5566916564251282E-4,5.8978047159682573E-3,3.2367643508445453E-3,-8.9805055339829085E-5,8.6325215473724588E-3,-6.0828315289308268E-4,-3.8432552666220988E-3,-3.6558705041195177E-3,-1.5623211696752625E-3,-1.3996631405915538E-3,5.6990848982268224E-4,-5.8547585872846899E-4,null,4.0319310390390939E-15,-3.5735303605122226E-16,-3.8163916471489756E-16,6.6526645303710552E-16,1.1206313654810174E-15,-5.1868231931706532E-16,1.6688039838896884E-15,-9.280770596475918E-16,4.2361947283353629E-15,-1.0477729794899915E-15,-1.5959455978986625E-16,-1.3010426069826053E-16,1.0998146837692957E-15,1.7139067942650854E-15,-6.6873589998905913E-16,7.2684913643428217E-16,3.1589314497537657E-15,-2.6506574712925612E-15,5.4557053319470583E-16,-5.3429483060085659E-16,-4.0766001685454967E-17,-7.6327832942979512E-17,2.4390212072233908E-15,-1.2073675392798577E-15,4.7965104110758716E-16,-2.4685115063149965E-15,-1.1882855810441129E-15,-5.9847959921199845E-16,-1.214306433183765E-15,-7.3205330686221259E-16,-2.1892210266827306E-15,2.4806545706468341E-16,-1.6306400674181987E-16,1.7555401576885288E-15,-4.163336342344337E-17,5.0827397846120448E-16,2.7183116868556567E-15,9.8532293435482643E-16,1.762479051592436E-15,-3.7487374315858801E-15,-1.1657341758564144E-15,-4.8225312632155237E-16,-5.1382509358433026E-15,-1.6167622796103842E-15,7.7433719158914727E-16,-2.3592239273284576E-16,-5.0914134019919288E-16,1.625191951501459E-15,-3.0427049768633196E-15,-6.83481049534862E-16,1.078998002057574E-15,-2.8275992658421956E-16,6.0715321659188248E-16,8.7430063189231078E-16,4.2587461335230614E-16,-1.2351231148954867E-15,6.7654215563095477E-16,-3.7643499428696714E-16,6.0715321659188248E-17,-7.5980888247784151E-16,-2.976785484776201E-15,1.6930901125533637E-15,2.293304435241339E-15,7.3205330686221259E-16,-1.3079815008865125E-15,-2.9325500361387924E-15,-1.5543122344752192E-15,-1.2351231148954867E-15,1.9775847626135601E-16,-2.9034392078075566E-15,-4.3368086899420177E-17,-4.1980308118638732E-16,-1.4710455076283324E-15,1.207611484768667E-15,6.0368376963992887E-16,-2.4286128663675299E-15,1.9428902930940239E-15,-1.7347234759768071E-18,-5.6274429560687622E-15,-1.2038980923279041E-15,-1.0456045751450205E-15,-1.0581813203458523E-16,-1.3773704399255848E-15,-1.0772632785815972E-15,1.0477729794899915E-15,3.1641356201816961E-15,-1.2993078835066285E-15,2.5045070184415152E-15,-3.5284275501368256E-15,4.550179677487165E-15,1.5161483180037294E-15,1.8301332671555315E-15,-2.4962670819306254E-15,4.6837533851373792E-16,-5.3429483060085659E-16,-3.12944115066216E-15,1.8492152253912764E-15,-7.3031858338623579E-16,2.5916768731093498E-15,-3.183217578417441E-16]
[8.2056963570253712E-3,-1.4341653016671282E-3,9.8383811581084064E-4,-1.9613227240970112E-3,1.6034660591146789E-3,-5.493184159888429E-4,4.1686689514056916E-3,2.3839961350491418E-3,5.295476297017326E-4,-5.3902703019575622E-3,-1.5928399577080029E-3,-3.0959944509943264E-3,1.8153160468343515E-3,-2.0493375814634065E-3,-1.1737433834554812E-3,2.7126776371267994E-3,4.9060354045260867E-3,3.6475454042118638E-4,4.6275259874090056E-3,-5.1474205277805152E-3,-3.2480115839810192E-3,1.4908031533060664E-3,3.5827283297808835E-3,4.6939074532504161E-3,2.3063095074035479E-3,-6.5425821714602773E-3,7.5676799971941618E-4,4.0448916442372595E-4,-5.6069701744567942E-4,2.9671359831818768E-4,-3.4932261402983596E-3,6.5763100440292919E-4,-3.7347922388602812E-3,-2.3169056223995921E-3,6.5989780508872659E-4,2.8685967023826583E-3,1.7143256750929655E-3,1.1325549785152088E-3,-2.2027112534208225E-3,-5.9492324626236556E-4,-2.1051618681783178E-3,-2.7584907778728513E-4,-2.8590752630257266E-4,1.0699979450027204E-3,3.0888259303826732E-3,-6.4717207210283623E-3,2.497207981878287E-3,-1.0520097039728718E-3,-5.778616267371384E-3,1.0298236197914523E-3,-4.9366497727123789E-3,-1.9463408446418497E-3,6.3610346027033666E-4,-3.9477733858722409E-4,2.9108579617103405E-3,-3.5141620935712692E-3,-8.8187756204360208E-4,-1.4663642684634205E-3,8.4051017170037499E-5,-2.6301558856476224E-3,1.9451416716091891E-3,-2.6531784514514721E-3,2.0834756623870445E-3,1.0003833694672999E-3,-1.8655006978234043E-3,3.0906521895804973E-3,-4.0006892909077449E-3,2.4057060629627393E-3,-1.763732080197112E-3,-3.2973992190622392E-3,2.4691356171729056E-3,7.462136971340957E-4,6.2880683225532931E-3,-1.2942701903158546E-3,-2.9969148850128003E-3,-5.5062454021559517E-3,-1.1420986219565432E-3,3.3278049856270628E-3,1.1248691815045199E-3,-2.6592068358418678E-3,1.466412809944717E-3,2.1177821558474108E-3,-2.066133145816293E-4,5.1118663664963121E-3,-7.6415706006482086E-4,-1.3464351503549238E-3,-4.2134129514061902E-4,4.9014064750403791E-3,-4.181255547713595E-3,3.6510655820099934E-3,4.1799490088349853E-3,1.4091187820515294E-3,3.2549826662483542E-3,-1.6867905499708823E-3,-1.3381860374909445E-3,-3.6003717068255601E-3,5.1985286001436297E-5,-4.35564474719537E-4,5.766176369438879E-4,3.0962300008183073E-4,null,1.9116652705264414E-15,-2.9698465908722937E-15,5.2735593669694936E-16,-1.0061396160665481E-16,5.8841820305133297E-15,-1.6653345369377348E-15,-4.163336342344337E-16,-4.163336342344337E-17,-1.8873791418627661E-15,-4.0245584642661925E-16,-1.1102230246251565E-15,-1.1657341758564144E-15,-6.9388939039072284E-16,-3.8025138593411612E-15,-1.2698175844150228E-15,-5.8286708792820718E-16,-3.4694469519536142E-16,-1.7486012637846216E-15,1.0061396160665481E-15,2.3314683517128287E-15,-8.0491169285323849E-16,7.4940054162198066E-16,1.3947176746853529E-15,6.4392935428259079E-15,-9.8879238130678004E-16,1.4016565685892601E-15,-1.1796119636642288E-15,-1.2212453270876722E-15,-2.8033131371785203E-15,-2.7616797737550769E-15,9.5756735873919752E-16,2.8727020762175925E-15,-1.3739009929736312E-15,1.3045120539345589E-15,2.6367796834847468E-16,2.6367796834847468E-15,-2.5396351688300456E-15,1.4016565685892601E-15,-1.3877787807814457E-16,-1.3877787807814457E-17,2.4980018054066022E-16,1.9775847626135601E-15,-2.3314683517128287E-15,-4.7184478546569153E-16,1.2507356261792779E-15,-6.5503158452884236E-15,-1.9081958235744878E-16,4.5211230592645535E-16,-5.8286708792820718E-16,-4.3715031594615539E-16,-2.3592239273284576E-16,-2.2828960943854781E-15,0,1.1518563880485999E-15,3.4659775050016606E-15,6.9388939039072284E-16,1.4988010832439613E-15,-3.6082248300317588E-16,2.9143354396410359E-16,-1.5681900222830336E-15,4.4408920985006262E-16,6.3837823915946501E-16,9.4368957093138306E-16,-2.4980018054066022E-15,-2.7408630920433552E-15,-3.0531133177191805E-16,4.4408920985006262E-16,1.1102230246251565E-15,1.5508427875232655E-15,-2.2815950517784955E-15,-3.8719027983802334E-15,5.2735593669694936E-16,-7.7715611723760958E-16,-1.3929829512093761E-15,2.8449465006019636E-16,-6.9388939039072284E-17,6.3837823915946501E-16,3.4000580129145419E-16,-1.3877787807814457E-16,-1.0547118733938987E-15,-1.3877787807814457E-16,-7.3552275381416621E-16,3.2335245592207684E-15,2.3314683517128287E-15,-9.7144514654701197E-17,-3.6914915568786455E-15,-7.4940054162198066E-16,-2.0747292772682613E-15,-1.1657341758564144E-15,1.5265566588595902E-16,-1.27675647831893E-15,3.5388358909926865E-16,7.2164496600635175E-16,1.8596235662471372E-15,2.4980018054066022E-16,-3.7192471324942744E-15,2.7755575615628914E-17,-4.8572257327350599E-16,-1.1102230246251565E-16,3.1225022567582528E-16]
[-1.8638915970911561E-3,2.530381540367754E-3,-1.1489570899655421E-3,1.761363447091999E-4,2.411031754786931E-3,-7.6501435699156994E-4,1.1202252738447857E-3,7.2144382048613151E-4,-4.4891477787925034E-4,8.6358212765042549E-4,3.7006193806499599E-4,-9.2252902865824088E-4,-2.5384711412661321E-3,-1.448120295096665E-3,1.3244672406805659E-3,-7.7329688576468624E-4,-4.415232927384075E-4,-2.9524346469432181E-3,-1.0828617655831668E-3,2.1612122655818287E-3,1.7897975506658484E-4,-7.6481187665788442E-5,-1.634086880531105E-4,3.6877581569256515E-4,-5.6550571550507099E-4,2.6820879717267166E-4,1.2845678503229268E-3,1.0377012750254857E-3,2.1691159975514422E-3,-1.3360491374381838E-3,2.2111715387917209E-3,1.7013975390397153E-3,3.1211276739356517E-4,1.8498176302915097E-3,-3.8647021993163598E-4,7.1783090848538493E-4,-8.8675004754128E-4,9.2091803380510523E-5,-1.4837104495743498E-3,-2.3885083327685156E-3,3.5808087689992712E-4,1.2441923101892637E-3,-2.9750136859646426E-3,-1.0216421635926359E-3,-1.7497112815940178E-3,2.3950386024565494E-4,-4.0206904298217614E-5,-1.2086784684893631E-3,5.5556637926693487E-4,9.8182470699657246E-4,2.8331071336692389E-3,6.329347113600516E-5,2.8996480221931748E-4,3.6840365938489993E-4,1.0692246047090117E-3,3.2207663618044262E-3,1.7709107250376635E-3,-9.0095442088441384E-4,-1.5998938651659862E-5,4.641181800284686E-4,-2.0699028434352407E-3,2.3670009257392576E-3,-5.5879913967566276E-4,-2.3682634934201032E-3,-1.815998390910471E-3,-1.0458869631636541E-3,-1.6683568037382894E-4,1.2855500546358038E-3,-8.2390146485211159E-4,-7.0593617746301867E-4,2.8592800076183995E-3,1.4409559168889485E-3,-2.9491787921781627E-3,1.8261487917717559E-3,1.9688215175518433E-3,1.9765274512607983E-3,-4.7933548280919969E-4,-5.7131747175264336E-4,-2.544307969899589E-3,-1.4829006215565006E-3,-1.4454969364627341E-3,-1.3513417853481438E-3,1.6128948992842767E-3,-2.4845021848654597E-3,5.595296361639193E-4,2.504632004615555E-3,6.8672814628824644E-4,1.0453058991304492E-3,2.2274525705658758E-3,4.9395976617696658E-4,-1.6720233321196186E-3,-7.8008847528700882E-4,-1.718554780064749E-4,2.0223236614872677E-3,-1.0017475418363257E-3,3.0991238841150958E-4,-1.0157434847280515E-3,-9.8308876820016387E-4,-8.7633136862861412E-4,6.2186513474452943E-4,null,-2.2377932840100812E-15,1.2490009027033011E-15,4.4408920985006262E-16,5.2735593669694936E-16,1.7486012637846216E-15,1.2351231148954867E-15,2.0261570199409107E-15,-1.5265566588595902E-16,5.134781488891349E-16,-5.2041704279304213E-16,-3.1225022567582528E-16,4.8155923693116165E-15,7.0776717819853729E-16,-1.9428902930940239E-16,-4.163336342344337E-16,1.0234868508263162E-15,8.8817841970012523E-16,1.0824674490095276E-15,2.1163626406917047E-15,-1.1102230246251565E-16,-2.7373936450914016E-15,-1.1102230246251565E-16,-1.7763568394002505E-15,-3.9135361618036768E-15,1.214306433183765E-16,-1.1587952819525071E-15,2.4980018054066022E-16,-7.1470607210244452E-16,3.0531133177191805E-15,2.2898349882893854E-15,5.620504062164855E-16,-4.6074255521943996E-15,-6.9388939039072284E-16,0,-2.6090241078691179E-15,1.2073675392798577E-15,8.8817841970012523E-16,-1.6653345369377348E-16,1.6653345369377348E-16,-2.4841240175987878E-15,1.8179902028236938E-15,4.9266146717741321E-16,-3.1780134079895106E-15,1.0408340855860843E-16,-8.9457521251778971E-16,-1.5265566588595902E-15,6.9735883734267645E-16,-3.9811903773667723E-16,-3.6082248300317588E-16,-1.5959455978986625E-15,-1.3600232051658168E-15,3.4694469519536142E-16,-5.5511151231257827E-17,1.1587952819525071E-15,-3.2578106878844437E-15,7.2164496600635175E-16,2.0677903833643541E-15,-2.7269853042355408E-15,1.7902346272080649E-15,-2.6992297286199118E-15,-5.5511151231257827E-17,-5.6621374255882984E-15,-1.2212453270876722E-15,-3.1225022567582528E-15,1.6167622796103842E-15,4.6646714269016343E-15,4.0939474033052647E-16,-3.7608804959177178E-15,-3.3306690738754696E-16,-7.1991024253037494E-17,-7.4940054162198066E-16,5.4123372450476381E-16,-2.4980018054066022E-16,-2.0383000842727483E-16,1.1657341758564144E-15,-4.163336342344337E-17,3.0531133177191805E-16,-5.620504062164855E-16,-2.1094237467877974E-15,2.0816681711721685E-15,1.7924030315530359E-15,-5.8286708792820718E-16,-7.6327832942979512E-16,-1.8214596497756474E-15,-3.1918911957973251E-16,6.6613381477509392E-16,-1.8735013540549517E-16,3.5440400614206169E-15,8.4654505627668186E-16,1.1102230246251565E-16,1.8457457784393227E-15,-3.7470027081099033E-16,-7.7715611723760958E-16,3.7470027081099033E-15,-6.2450045135165055E-17,1.4432899320127035E-15,-1.5959455978986625E-15,-5.620504062164855E-16,-1.0269562977782698E-15,-4.6143644460983069E-16]
[-5.0040118379264262E-3,4.9908604524813334E-3,-1.6935478862833533E-4,3.4960687021773841E-3,7.7034615199815422E-3,-1.1656789632118586E-4,-1.2346934717125638E-3,8.1913425932673273E-4,4.9437713358974787E-3,4.0758406614989917E-3,-3.931225826908449E-5,6.3237953282714262E-4,-5.8082687641708873E-3,-4.2367316081785168E-3,9.0461745710740046E-4,-5.0032854059865618E-3,-4.1868869514305723E-3,-8.6067409221451743E-3,7.8220620128344892E-4,8.9445181612618895E-3,1.0360539851375649E-3,2.9518978909539462E-3,-1.4941618994284088E-3,5.6539168678685636E-3,3.2891071250961345E-4,6.2487610311381112E-4,2.8674839139068418E-3,-1.2377401385489926E-3,4.0212051422291424E-3,-5.9276834685970904E-3,7.4973649473132325E-3,1.7320041452547215E-3,4.797598672335663E-3,7.8073043231342261E-3,-4.2142380692270854E-3,1.5494682696241581E-3,-6.2931746622416412E-3,4.8886456318002745E-4,-4.3168828419645755E-3,-4.2136064116839117E-3,3.3039284622664376E-3,2.2600713415088535E-3,-4.425796994303839E-3,-4.571208280720703E-3,-1.4097518496151448E-3,-4.0051908955240209E-3,-1.5686188121804834E-3,4.3714205155013109E-4,-4.9333962836682383E-4,-8.2390233791110963E-4,7.4471424307334042E-3,7.5419293774778534E-4,-5.0862793169012118E-3,6.0195534957563986E-4,-1.6727042784822732E-3,5.6544752518376193E-3,7.5419598046462619E-3,-3.7320874197132193E-4,1.8987388541938728E-3,1.7576079451315477E-3,-4.2659825997973808E-3,7.7099218321107135E-3,2.4824657872187608E-3,-5.2986451763051999E-3,3.788759773786796E-4,-4.6550233946033252E-3,3.2833443126059091E-3,1.0220761327509279E-3,4.8427572610368801E-3,2.0363499143682558E-3,1.2562222867782196E-3,2.5781383604187584E-3,-6.4223663910418886E-3,1.5469720322939893E-3,3.5634970875000169E-3,4.0913306658590899E-3,-2.6771623317230395E-3,-5.1010920621954664E-3,-6.5608061352960857E-3,-4.2520120304931691E-3,1.6373460018022682E-4,-2.3032923279884595E-3,3.5824660549629967E-3,-5.7947347996628439E-3,2.511729639110772E-3,8.2958450937151811E-3,1.9179562079681869E-3,-1.8194363121309769E-4,6.996731702380736E-3,1.0667019164012212E-3,-7.0511362633945166E-3,-1.8822999642853519E-3,-5.7407663895988302E-3,5.2707913775555844E-3,4.7326305203448477E-4,-4.2531723676627166E-3,1.0308589537170213E-3,-4.5170158730330093E-4,-6.5064784067427007E-3,5.7116073740265828E-4,null,1.2281842209915794E-15,2.7755575615628914E-16,8.6042284408449632E-16,-3.6082248300317588E-16,-1.609823385706477E-15,-2.7755575615628914E-17,3.8857805861880479E-16,-1.2073675392798577E-15,2.4424906541753444E-15,-3.0114799542957371E-15,-2.7755575615628914E-16,3.6082248300317588E-16,5.5511151231257827E-17,4.7739590058881731E-15,-2.0816681711721685E-16,8.8817841970012523E-16,1.3739009929736312E-15,8.8817841970012523E-16,-1.1518563880485999E-15,-2.9976021664879227E-15,4.0245584642661925E-16,8.3266726846886741E-16,3.8857805861880479E-16,-6.2727600891321345E-15,-8.7777007884426439E-16,-2.6090241078691179E-15,-2.3869795029440866E-15,7.9103390504542404E-16,-3.2751579226442118E-15,-2.3037127760971998E-15,-3.2474023470285829E-15,1.6653345369377348E-16,3.8857805861880479E-16,-9.9920072216264089E-16,1.0408340855860843E-15,-1.5543122344752192E-15,-8.3266726846886741E-16,-3.3306690738754696E-16,3.7747582837255322E-15,1.4432899320127035E-15,-1.2212453270876722E-15,-8.6042284408449632E-16,1.7208456881689926E-15,-5.5511151231257827E-16,5.2171808540002473E-16,1.9984014443252818E-15,-3.0531133177191805E-16,2.0786324050892091E-15,2.3592239273284576E-15,-4.7184478546569153E-16,1.5543122344752192E-15,5.9674487573602164E-16,2.7755575615628914E-16,3.4694469519536142E-16,1.4155343563970746E-15,-3.7192471324942744E-15,-8.6042284408449632E-16,3.3584246494910985E-15,-2.2204460492503131E-16,8.4654505627668186E-16,-3.8857805861880479E-16,-3.3306690738754696E-16,5.5511151231257827E-17,4.9960036108132044E-16,1.1379786002407855E-15,-2.293304435241339E-15,-2.3592239273284576E-16,-2.2759572004815709E-15,-4.8572257327350599E-17,0,-3.1641356201816961E-15,9.4368957093138306E-16,7.4940054162198066E-16,-2.7712207528729493E-16,1.2628786905111156E-15,-2.7755575615628914E-17,1.4988010832439613E-15,-3.1918911957973251E-16,1.8873791418627661E-15,2.9976021664879227E-15,1.474514954580286E-17,-4.163336342344337E-17,1.2212453270876722E-15,4.163336342344337E-16,-1.4155343563970746E-15,7.2164496600635175E-16,6.106226635438361E-16,-8.2225892761300656E-16,-1.7486012637846216E-15,1.7486012637846216E-15,6.6613381477509392E-16,4.8572257327350599E-16,1.4849232954361469E-15,-2.2204460492503131E-16,4.7184478546569153E-16,-4.7184478546569153E-16,1.7208456881689926E-15,-1.1032841307212493E-15,2.1094237467877974E-15,-1.3114509478384662E-15]
[6.8151160160368103E-3,1.8767035467898076E-3,-2.249108349882142E-3,-3.3642665951308403E-3,2.0961397701458936E-3,-3.0415936765086048E-3,8.6779741596829958E-3,5.0494663926265969E-3,-1.896952243196124E-3,-5.5892409124116216E-3,3.2076185607405477E-4,-6.4864903077833215E-3,-3.2019411279517436E-3,-6.173029475659713E-3,-5.2362334647941598E-4,4.0571529636882564E-3,8.0296301817110987E-3,-1.7667402019821085E-3,2.5359868101144105E-3,-2.4033460233528941E-3,-3.5661334341423297E-3,-1.096243699680112E-3,5.3643791777793345E-3,5.801375649541857E-3,3.0796057166299E-3,-6.1415222637019942E-3,6.2610104636107698E-4,-5.616317046546829E-5,2.1560999639314645E-3,-1.1539213674068091E-4,-4.2945522605124789E-3,1.1602355609963279E-3,-2.695474034533935E-3,-3.1338458466848226E-3,2.4158927946649109E-3,2.5232332303586655E-3,3.016179500322359E-3,5.9870576373109718E-3,-4.7739108756178206E-3,-4.0484410901568376E-3,-2.6487611921946529E-3,1.4207984551457601E-3,-1.8098385799206614E-3,9.4636116548797299E-4,1.8556088218365083E-3,-8.0694858057114779E-3,3.1494622261587727E-3,-2.4014066778506593E-3,-8.0078785642070521E-3,1.8559176616923161E-3,-4.2554799711370687E-3,-4.0934894117867467E-3,6.8589953018488657E-4,8.7853615921809213E-4,4.7889606425162079E-3,-8.0136357573857805E-4,-2.3966236125340153E-3,-2.6214272255105807E-3,-2.3564441520651253E-3,-4.6855943120988463E-3,-9.2727109996052783E-4,-2.9548436832350197E-3,3.7692787091768202E-3,-2.1112429954948998E-3,-3.2119184919697273E-3,6.5422807723771789E-3,-5.8753793419638618E-3,5.4759481600522974E-3,-5.1869637739959829E-3,-2.4496175984629795E-3,4.5761605838902349E-3,2.3815233577942027E-3,4.4979362542965891E-3,-1.1484934504086671E-4,-1.8940705641817712E-4,-6.8100980220196609E-3,-2.5806856030303033E-3,3.8012503631784092E-3,7.09575744639109E-4,-2.9001976795686459E-3,1.0821571870919635E-3,2.26471516533333E-3,6.2799604646825613E-4,5.7279211354121316E-3,-1.6790931455456333E-3,-6.6662222722561654E-4,-2.9852748799199537E-3,6.2916829323618135E-3,-1.6785448555250572E-3,6.5607887874508898E-3,6.3174138809439177E-3,1.7103074111008264E-3,9.4551103177906836E-3,-2.7384610186586892E-6,-2.5462630978188177E-3,-2.5541523354746056E-3,-1.5037968668702084E-3,3.8055862144148315E-4,1.5419215622166E-3,-8.2386979919419061E-4,null,-4.2205822170515717E-15,2.5847379792054426E-16,4.2240516640035253E-16,2.7879174663292261E-15,-1.6306400674181987E-15,1.087671619437458E-15,-3.3775066077268434E-15,5.7722923663128256E-16,2.1553939189011828E-15,1.9858246991244499E-15,-1.0807327255335508E-15,6.9623126708329153E-15,-2.0036056147532122E-15,2.84147705365001E-15,-1.4072944198861848E-15,3.8207284558389176E-16,-4.064457104213659E-15,-1.996666720849305E-15,-4.5883435939586548E-16,3.462508058049707E-15,2.0231212538579513E-15,-3.0878077872387166E-16,7.0646613559155469E-16,1.0963452368173421E-15,-1.7457823381361592E-15,7.7195194680967916E-17,-3.6533276404071557E-15,-4.4278816724308001E-16,-2.2776919239575477E-15,-1.2134390714457766E-15,3.907464629637758E-16,-3.0669911055269949E-15,-1.3843093338294921E-15,2.6957602816679582E-15,-1.9428902930940239E-15,8.2659573630294858E-16,-1.6926564316843695E-15,-2.8293339893181724E-15,2.2742224770055941E-15,4.6481915538798546E-15,3.2300551122688148E-15,9.2374025095764978E-16,1.6792123247455493E-15,-1.2407609661924113E-15,-1.4290733310259873E-15,4.7531423241764514E-15,-1.3235940121703038E-15,1.2051584773534185E-15,2.0530452338185512E-15,-1.1969591984239969E-16,2.3939183968479938E-16,1.1006820455072841E-15,-2.4563684419831588E-15,-5.7202506620335214E-16,-3.067207945961492E-15,-4.4200754167889045E-15,-1.1613973671664723E-15,2.0855712989931163E-15,1.0807327255335508E-15,-1.2611439670351388E-15,-1.2611439670351388E-15,1.1813466871402056E-15,-1.1414480471927391E-15,7.7368667028565596E-16,2.3765711620882257E-15,-3.1780134079895106E-15,1.8990885253256096E-15,-1.5022705301959149E-15,3.0807604731175608E-15,1.81958940102811E-15,-3.6637359812630166E-15,-6.1756155744774333E-16,-5.0393716977126246E-16,-1.9411013595094229E-15,-1.5833688526978307E-15,6.0281640790194047E-16,-9.0899510141184692E-16,-1.6662018986757232E-15,-3.0357660829594124E-16,-1.2646134139870924E-15,1.1921616038107485E-15,-2.5504771905549006E-15,-4.6924270025172632E-16,-1.3671789395042211E-15,-1.8821749714348357E-16,-5.0671272733282535E-15,6.8781785822480401E-16,-4.5886688546104004E-15,-3.4520997171938461E-16,-1.9238083348582791E-15,-3.5908775952719907E-15,2.8492833092919057E-16,-2.6107588313450947E-15,1.8882465036007545E-15,1.4341826337638253E-15,-1.8717666305789749E-15,1.7520707107365752E-15,6.4401609045638963E-16,-1.313185671314443E-15,1.7520707107365752E-16]
[-2.1737188927119211E-3,-1.9242410192462512E-3,5.0655023504649055E-4,1.8046096207588365E-3,-2.4082331370791654E-3,1.4838009070245006E-3,-3.5994325270296669E-3,-1.8892147644896705E-3,7.4125286263181274E-4,2.0572897782529086E-3,-1.2953951021864863E-4,5.1338933575253405E-3,1.7388021142302737E-3,2.8509209572395344E-3,3.1411955143820794E-4,-1.2983395046178372E-3,-4.7008749461861359E-4,1.9107414355802623E-3,-1.3005782473758138E-3,-1.1311080479010321E-3,-1.620612232876416E-4,-7.2749161158036147E-4,-1.0325309257869864E-3,-2.0362929590938446E-3,9.8292191339926973E-4,2.3267618752220542E-3,-1.1762154225486076E-3,-1.3949354089095249E-3,-1.9730346834157353E-3,1.0486795647429686E-3,1.6224333311543916E-4,-2.8803506901565949E-3,-7.8762094942749219E-4,-1.1461002562570361E-4,-1.1526074445281746E-3,-9.7599942618912204E-4,-4.6296616351181605E-4,-1.1294115766805543E-3,3.4622004246452173E-3,2.3807735422089415E-3,1.4066858248928586E-3,3.3168838508871391E-4,3.2859334493683941E-3,-7.6977500093689693E-4,-6.9284480117634952E-4,4.5221448193921692E-3,-3.0661858073419742E-5,9.548038559192188E-4,2.6632188531626909E-3,-2.078094412842619E-3,-1.6867995278326017E-4,2.6609859540727716E-3,-8.05290281156811E-4,-1.604273295335284E-3,-1.6258247623331008E-3,-2.7714226043520761E-3,-8.3028841779504725E-4,2.0884050743200039E-3,7.5120128506749224E-4,2.1897992217355228E-3,1.8541745919859697E-3,-1.8549037116126202E-3,-9.3082418243858314E-4,2.0729058700935492E-3,2.3318207814199948E-3,-1.8584118808222083E-3,7.4136026271667073E-4,-2.1150259495657949E-3,6.5879718315495531E-4,1.9815411710798841E-3,-3.5395798329082842E-3,-2.188869044924561E-3,3.0578575514088574E-4,-4.4459230717420117E-4,-7.8572122559530803E-4,1.2967156493805566E-3,2.1857220710390407E-3,-1.3287517935784551E-3,1.1461133042378056E-3,2.209447683304098E-3,7.0903485276426902E-4,-1.1314068547963649E-3,-2.226846979544719E-3,-1.8945591039339462E-4,6.7706530408629588E-4,-2.4040251956505485E-3,-7.1681822006809323E-4,-3.4171613464696314E-3,-8.8924098351385924E-4,-2.8682151676600637E-3,-2.2868693961375919E-4,-4.4678672319147363E-4,-1.8285989080276499E-3,-3.15768105460032E-4,4.1149830748195987E-4,2.9004219295037576E-3,-3.816427207887334E-4,7.1165968655833222E-4,9.849120215506134E-4,4.7012410143246815E-4,null,-7.7021722333370235E-16,2.1649348980190553E-15,1.2212453270876722E-15,-4.5102810375396984E-16,-3.8857805861880479E-15,2.2204460492503131E-16,1.2212453270876722E-15,6.106226635438361E-16,4.1078251911130792E-15,-1.9428902930940239E-15,6.5225602696727947E-16,-8.3266726846886741E-17,2.2204460492503131E-16,3.8302694349567901E-15,-7.4940054162198066E-16,-2.4286128663675299E-16,9.298117831235686E-16,3.5527136788005009E-15,1.8041124150158794E-16,9.9920072216264089E-16,9.7144514654701197E-16,1.4432899320127035E-15,-4.5796699765787707E-16,-3.7192471324942744E-15,1.6306400674181987E-16,-9.9920072216264089E-16,7.2164496600635175E-16,2.7755575615628914E-17,-2.4980018054066022E-15,-4.9960036108132044E-16,-1.2490009027033011E-15,-6.6613381477509392E-16,-8.3266726846886741E-16,1.0547118733938987E-15,6.3837823915946501E-16,-1.0547118733938987E-15,-3.6082248300317588E-16,-8.3266726846886741E-16,-1.7763568394002505E-15,4.9960036108132044E-16,6.6613381477509392E-16,-2.9143354396410359E-16,7.7715611723760958E-16,-1.5820678100908481E-15,-3.6862873864507151E-18,-1.1102230246251565E-16,-3.5388358909926865E-16,2.3939183968479938E-16,3.0531133177191805E-15,-1.0963452368173421E-15,2.7755575615628914E-17,4.9960036108132044E-16,-1.4432899320127035E-15,1.3877787807814457E-16,1.2490009027033011E-16,-8.8817841970012523E-16,1.4432899320127035E-15,1.5820678100908481E-15,1.1102230246251565E-15,1.4710455076283324E-15,4.4408920985006262E-16,5.5511151231257827E-16,-1.2212453270876722E-15,2.2204460492503131E-16,5.5511151231257827E-17,-4.5796699765787707E-16,-1.6653345369377348E-16,-2.0816681711721685E-15,-1.8388068845354155E-16,-7.0256300777060687E-17,-1.9428902930940239E-15,1.1102230246251565E-15,7.2164496600635175E-16,-2.2508037100799072E-16,-1.124100812432971E-15,1.0547118733938987E-15,1.4432899320127035E-15,-9.7144514654701197E-17,9.4368957093138306E-16,0,9.7491459349896559E-16,-1.5265566588595902E-16,-4.9960036108132044E-16,-1.2351231148954867E-15,-6.6613381477509392E-16,1.609823385706477E-15,-7.4940054162198066E-16,1.9498291869979312E-15,1.8318679906315083E-15,-1.3322676295501878E-15,5.5511151231257827E-17,4.8572257327350599E-16,-9.4368957093138306E-16,1.4710455076283324E-15,5.5511151231257827E-17,4.496403249731884E-15,-2.7755575615628914E-17,-5.9674487573602164E-16,-1.6653345369377348E-16,-6.9388939039072284E-16]
[2.2202826736392855E-3,2.9412456460207329E-3,-8.8322725948766084E-4,-9.9531054158161149E-4,2.4390487289608687E-3,-7.876935700174136E-4,3.7761730452315948E-3,2.1475247994346453E-3,-1.4284496402536129E-4,-1.2000545029182623E-3,-2.6127440045807423E-4,-2.6704443083893285E-3,-1.2671686856670264E-3,-3.3235666270220762E-3,-2.8191387472938692E-5,-1.1853884196927418E-4,2.79427854878978E-3,-2.6628202236564924E-3,1.4168129083137902E-3,1.2990290734559871E-3,-1.5953725120882928E-3,1.2448009614244447E-3,2.3127861979470123E-3,6.1477582895140053E-3,8.7901683670315504E-4,-3.271164455509382E-3,1.6810857610786661E-3,-4.5750523566313726E-4,2.0824501863064104E-3,-2.1965443881837906E-3,-1.1104311663628021E-3,1.3106829858232532E-3,-4.6028951276145738E-4,9.2626704291495939E-4,-7.130913146811823E-5,9.6118973084367647E-4,-4.0034271208507559E-5,3.5909598826980335E-3,-3.5144534413301429E-3,-3.426633614046987E-3,4.2068398410185966E-4,7.5300019808755838E-4,-2.222639779695858E-3,-9.7035772627037428E-4,1.4124162063277701E-3,-5.7336878223849651E-3,7.5841807788003387E-4,-1.1271886474740862E-3,-5.3014139460799128E-3,5.7607766991695224E-4,-1.0441333785072666E-3,-1.9000744016225213E-3,-2.3474630064215446E-4,1.0312889379691266E-3,1.1663880838565898E-3,9.416545857316664E-4,1.3089297841848231E-3,-1.8334420824673767E-3,1.3353697652591671E-4,-1.6298172644606478E-3,-1.7306635346721142E-3,8.470152950755881E-4,2.6509044069917068E-3,-1.318065230694434E-3,-4.2713990885901477E-6,1.0064405298241673E-3,-2.4047237869105516E-3,2.6321510827405749E-3,-1.4149605496530391E-3,-3.460200085607026E-4,2.3756122276119497E-3,1.8114670513341507E-3,4.7502143337617783E-4,-5.5440562354702353E-5,5.6081162124022954E-4,-2.6728354838584495E-3,-2.2187952344026596E-3,-2.1872048434198906E-4,-1.7773496489468042E-3,-4.2669866549008874E-3,9.5344787732519877E-4,1.147363845804848E-3,1.7235924084663258E-3,1.9855804788687587E-3,3.632411020450948E-4,2.741474172287043E-3,-2.0683263036844896E-3,2.1817021375678367E-3,7.0052429698197363E-4,3.2944417594497218E-3,1.2190032340954182E-3,8.4560197793590551E-4,3.3130689333792022E-3,1.9681964371810741E-3,-4.0179714908541243E-4,-3.1975624874857242E-3,6.2579770483307546E-4,-5.7501226112788458E-4,-1.5942385731932992E-3,-6.8361457855740612E-4,null,-3.1918911957973251E-16,-8.3266726846886741E-17,1.6792123247455493E-15,1.465841337200402E-15,-7.3552275381416621E-16,4.7184478546569153E-16,-1.2906342661267445E-15,-1.0269562977782698E-15,1.2698175844150228E-15,-1.0963452368173421E-15,-1.1587952819525071E-15,6.0784710598227321E-15,2.2828960943854781E-15,-7.2164496600635175E-16,4.1286418728248009E-16,1.3235940121703038E-15,2.7096380694757727E-15,4.5796699765787707E-16,1.4224732503009818E-16,2.6367796834847468E-15,9.2287288921966137E-16,3.4000580129145419E-16,1.8353374375834619E-15,-4.801714581503802E-15,-7.7195194680967916E-16,-3.2127078775090467E-15,-1.1379786002407855E-15,1.0269562977782698E-15,-1.5334955527634975E-15,-2.4771851236948805E-15,-1.6237011735142914E-15,-4.586608870482678E-15,-1.9428902930940239E-15,-1.1518563880485999E-15,-5.8286708792820718E-16,-6.8001160258290838E-16,-2.0816681711721685E-15,-4.163336342344337E-17,1.2073675392798577E-15,4.5033421436357912E-15,9.5756735873919752E-16,-4.0939474033052647E-16,4.3923198411732756E-15,1.5473733405713119E-15,-5.6351407914934093E-16,-3.4694469519536142E-16,-1.8231943732516243E-15,1.3835503923087522E-15,5.2180482157382357E-15,4.5102810375396984E-17,-2.8033131371785203E-15,2.0192181260370035E-15,1.033895191682177E-15,1.016547956922409E-15,8.1705475718507614E-16,-2.9420910152566648E-15,-6.9388939039072284E-18,3.434752482434078E-15,1.0894063429134349E-15,3.4694469519536142E-16,-9.298117831235686E-16,-1.0269562977782698E-15,-6.9388939039072284E-16,4.3021142204224816E-16,4.8138576458356397E-15,-1.9298798670241979E-15,2.536165721878092E-15,5.5511151231257827E-17,3.5050087832111387E-15,1.1548921541315593E-15,-3.462508058049707E-15,-8.8817841970012523E-16,2.4424906541753444E-15,-2.3779806249124569E-15,-2.1233015345956119E-15,2.6922908347160046E-15,-1.6653345369377348E-15,-1.7555401576885288E-15,4.3021142204224816E-16,-1.0547118733938987E-15,-6.5767703782970699E-16,-4.2153780466236412E-16,-3.0669911055269949E-15,5.7939764097625357E-16,-1.1310397063368782E-15,4.98212582300539E-15,1.2281842209915794E-15,-3.8181263706249524E-15,-1.0269562977782698E-15,-6.9388939039072284E-18,1.4641066137244252E-15,-3.1918911957973251E-16,-9.8185348740287282E-16,1.9845236565174673E-15,8.7430063189231078E-16,-2.3592239273284576E-16,-4.0245584642661925E-16,-1.3877787807814457E-16,9.4368957093138306E-16,-3.1571967262777889E-16]
[4.4083286825526737E-3,-2.1065247516364715E-4,-1.0195259596291804E-3,-2.4561078794303362E-3,-1.7920006377775317E-3,-3.1340823712125718E-3,4.0911191823630828E-3,1.317140246505105E-3,-4.0701867203276542E-3,-3.8660054317489383E-3,1.7167697205349986E-3,-4.2032181690889467E-3,-1.9992864132596963E-3,-3.0503555712181234E-3,-6.890717723738723E-4,2.961964402974848E-3,3.986877779789854E-3,2.4252667656872681E-3,2.0586395230446131E-4,-2.8915236735574785E-3,-1.0984716292114177E-3,-2.5726469952846959E-3,1.0887708055774626E-3,-2.2865962535989774E-3,1.6978622477912143E-3,3.7871335086240795E-4,5.3218730242565097E-4,1.4808069289232995E-3,-2.2171892750857727E-4,1.7872545609703735E-3,-3.273717904507663E-3,3.5065638005896105E-4,-1.8142850553696784E-3,-3.4450308749820299E-3,3.1840901761457561E-3,8.6122197772265827E-4,3.0324880447781932E-3,8.764554715804992E-4,3.8526066711583337E-5,-1.4257555835132851E-3,-4.1723377970266824E-3,-7.1044970776498783E-4,-5.6391493468326589E-4,1.1903327294435656E-3,1.9089517868294743E-3,3.0405760004895903E-4,1.506031318567642E-3,-1.5220496379194086E-3,-8.5125529321965405E-4,8.3284367940920651E-4,-2.9550912961339966E-3,-1.8685347608376024E-3,2.6691105123580862E-3,-5.8209291150309206E-4,3.2938493488638395E-3,-1.0459330522258939E-3,-2.1814651816559594E-3,-7.3413242607824655E-4,-3.7560617601465598E-4,-3.1947438386461429E-3,-4.5103233150049061E-4,-2.6654977424889858E-3,-3.2793382362710747E-4,-1.6667862618287871E-3,-2.8576935643945317E-3,3.8518170231320163E-3,-2.7476378724743508E-3,2.2325012760470741E-3,-3.7990687630925332E-3,-1.2107918781561759E-3,2.2363028033974401E-3,1.2211931393209306E-3,3.2883158915308361E-3,4.563933125539199E-4,-1.2446434822068229E-4,-4.4046017505686352E-3,1.2317732377379765E-3,2.7886156829250329E-3,2.2972144432927151E-3,2.0503667305439574E-3,-4.528638389945988E-4,1.852051092932709E-3,8.8194267294290445E-4,3.6227788655205126E-3,-1.901575076709986E-3,-1.7956841283746105E-3,-1.7527790734656096E-3,3.6447608832110975E-3,-2.3575876156984705E-3,2.6542748818784699E-3,4.0766876084506951E-3,-5.2135915861820392E-5,4.4611304049451111E-3,-1.9668444472465238E-3,-1.5968033355856063E-3,9.991833239098183E-4,-3.6268783177431361E-3,6.9546612798268537E-5,3.4937041848990512E-3,-6.7007172835477032E-4,null,2.445960101127298E-15,-2.3592239273284576E-15,6.9388939039072284E-16,2.338407245616736E-15,5.2735593669694936E-16,-5.5511151231257827E-16,4.3298697960381105E-15,3.1363800445660672E-15,3.7192471324942744E-15,2.7200464103316335E-15,-1.0269562977782698E-15,-6.0645932720149176E-15,-1.4988010832439613E-15,1.5543122344752192E-15,4.8572257327350599E-17,-2.0226875729889571E-15,1.5959455978986625E-15,3.8302694349567901E-15,2.6645352591003757E-15,1.2490009027033011E-15,-8.0491169285323849E-16,1.8318679906315083E-15,1.1102230246251565E-16,-2.7755575615628914E-16,-3.3653635433950058E-16,-1.6237011735142914E-15,1.7486012637846216E-15,-5.5511151231257827E-16,-4.163336342344337E-16,-2.7755575615628914E-17,4.8572257327350599E-16,3.7331249203020889E-15,3.3306690738754696E-16,3.9135361618036768E-15,1.2212453270876722E-15,-7.9103390504542404E-16,-7.3552275381416621E-16,-3.0531133177191805E-16,-4.829470157119431E-15,-3.1363800445660672E-15,7.4940054162198066E-16,-3.0531133177191805E-16,2.8310687127941492E-15,-1.9012569296705806E-15,2.6487059073820873E-15,-5.3845816694320092E-15,3.7470027081099033E-16,-1.1180292802670522E-15,-3.4139358007223564E-15,-1.124100812432971E-15,1.8735013540549517E-15,-1.9428902930940239E-16,-2.1094237467877974E-15,4.163336342344337E-16,-6.3837823915946501E-16,-3.2474023470285829E-15,2.5118795932144167E-15,-1.5265566588595902E-16,1.4432899320127035E-15,4.4408920985006262E-16,3.2751579226442118E-15,5.467848396278896E-15,-5.5511151231257827E-16,-1.609823385706477E-15,-4.2812975387107599E-15,-2.0539125955565396E-15,-2.2967738821932926E-15,3.9690473130349346E-15,-6.2796989830360417E-16,-8.066464163292153E-17,-3.4694469519536142E-16,2.6090241078691179E-15,3.8857805861880479E-16,2.2204460492503131E-16,-1.9567680809018384E-15,1.5265566588595902E-16,4.4408920985006262E-15,-3.2751579226442118E-15,1.609823385706477E-15,-1.5820678100908481E-15,8.7516799363029918E-16,4.0245584642661925E-16,-2.5257573810222311E-15,2.3592239273284576E-16,-1.0824674490095276E-15,-5.8286708792820718E-16,9.4368957093138306E-16,4.1563974484404298E-15,-4.9960036108132044E-16,3.7331249203020889E-15,-3.4694469519536142E-15,1.1102230246251565E-15,-2.2065682614424986E-15,1.0269562977782698E-15,-1.0824674490095276E-15,3.8857805861880479E-16,1.7763568394002505E-15,-2.0816681711721685E-17,-4.1910919179599659E-15,-2.5673907444456745E-16]
[2.8237289523338534E-3,8.4303394580412846E-4,-9.0525540327458342E-4,-6.6264869241755965E-4,2.1759423235766036E-3,-1.6843691757360535E-3,3.957302480351893E-3,3.5617322823085478E-3,-3.5329706453932812E-4,-2.326433260384723E-3,3.8939966623444106E-4,-2.1270176317394703E-3,-1.4462598009616734E-3,-3.3546333302319005E-3,5.840819686337783E-4,9.7090462384770784E-4,4.840886194759279E-3,-1.5232593553274215E-3,5.3795431265607279E-4,-4.6195118136856269E-4,-1.0340769545421336E-3,-8.0259183174423963E-4,3.5265114396955256E-3,4.0615966415510933E-3,1.1213381870916347E-4,-3.635763992338809E-3,2.3809153365396659E-3,8.6902568030470295E-6,9.7461570743334733E-4,-1.3530497489246827E-3,-2.1422196824194334E-3,2.2576126847096212E-4,-1.6538627868324398E-3,-1.0584487998791506E-3,8.1769198771562939E-4,-4.5558343136870683E-4,1.6532535667193888E-3,3.6978022705267694E-3,-2.2867515075415579E-3,-2.3137502061841525E-3,-8.2979503829353504E-4,-9.9254965655061261E-4,-4.5979046183974214E-4,-1.9478478870668033E-4,1.3565571632122805E-3,-5.4136872771945602E-3,4.3309582747245307E-4,-8.2737679338716565E-4,-5.7125671017409421E-3,6.4450444753143764E-4,-2.8100404254724504E-3,-2.2236820779801807E-3,5.568177049247062E-4,5.2415145276608335E-4,2.6194880489644082E-3,-8.3674538150082958E-4,-4.9505966732862937E-4,-2.403372851810011E-3,-3.9964151038528227E-4,-2.2636554322987019E-3,-1.4725336810851382E-3,4.6067533447013954E-4,2.1114839658458221E-3,-8.501968709316199E-4,-1.2086012744200007E-3,4.8497745699889695E-3,-3.9298084777151243E-3,1.3367094029711507E-3,-2.9550858146471996E-3,-2.8368483448634619E-3,3.3734694496041872E-3,1.4165637510666078E-3,1.6488864015747813E-3,3.8778216762127941E-4,8.9972644886086482E-4,-2.5797685202940835E-3,9.0018243676726276E-5,2.7953281997115638E-3,-4.9659148053001487E-4,-1.5579785220834895E-3,7.5236491599268843E-4,1.788352223929408E-3,1.8833592659255503E-3,3.7234973452931005E-5,-4.449305522712892E-4,-3.814720352615819E-4,-1.9833280278241218E-3,1.828789832733241E-3,6.6335036738888651E-4,3.1446763865232694E-3,2.5826031404864052E-3,2.1152481310294045E-3,4.9825884847154471E-3,4.780491576154311E-4,-3.0718933625133566E-3,-1.2647097471952824E-3,-1.140696831587764E-3,-4.1797705901324888E-5,4.3687432414235532E-5,3.7286443878749798E-5,null,5.3429483060085659E-16,5.5511151231257827E-16,-3.1918911957973251E-16,-8.3266726846886741E-16,4.163336342344337E-16,-4.0523140398818214E-15,-7.2164496600635175E-16,-1.3739009929736312E-15,1.6653345369377348E-15,5.2735593669694936E-16,1.5959455978986625E-16,-1.1518563880485999E-15,-1.4710455076283324E-15,-8.3266726846886741E-16,2.6367796834847468E-16,-4.891920202254596E-16,-3.0531133177191805E-15,-4.7184478546569153E-16,7.9103390504542404E-16,1.4988010832439613E-15,4.649058915617843E-16,-1.8318679906315083E-15,-8.4654505627668186E-16,3.4972025275692431E-15,-2.8796409701214998E-16,2.9420910152566648E-15,-7.4940054162198066E-16,-9.9920072216264089E-16,9.4368957093138306E-16,6.3837823915946501E-16,1.0824674490095276E-15,8.1878948066105295E-16,-5.5511151231257827E-17,2.4980018054066022E-15,-5.8286708792820718E-16,-7.2164496600635175E-16,1.3322676295501878E-15,5.8286708792820718E-16,2.581268532253489E-15,2.7616797737550769E-15,-8.6042284408449632E-16,1.6653345369377348E-16,-4.163336342344337E-16,6.9388939039072284E-17,-5.6454407121320216E-16,-2.7200464103316335E-15,-8.9511731360403246E-16,5.2020020235854503E-16,-2.7755575615628914E-17,6.2450045135165055E-17,-1.3461454173580023E-15,-1.8457457784393227E-15,2.3592239273284576E-15,-4.163336342344337E-17,1.3773704399255848E-15,4.7462034302725442E-15,-1.5820678100908481E-15,-1.4849232954361469E-15,8.3266726846886741E-17,2.8588242884097781E-15,-1.4432899320127035E-15,5.5511151231257827E-16,8.3266726846886741E-17,-2.3314683517128287E-15,-1.2559397966072083E-15,2.3245294578089215E-16,-5.0653925498522767E-16,6.5225602696727947E-16,3.1918911957973251E-16,-2.940356291780688E-16,2.4980018054066022E-15,1.0824674490095276E-15,2.8588242884097781E-15,5.3581271364233629E-16,-8.8817841970012523E-16,-9.9920072216264089E-16,-5.5511151231257827E-16,6.3837823915946501E-16,-2.1094237467877974E-15,-1.1379786002407855E-15,-2.441623292437356E-15,2.9837243786801082E-16,-1.3739009929736312E-15,-1.9359513991901167E-15,-8.3266726846886741E-17,-1.1657341758564144E-15,-2.7755575615628914E-16,-1.5959455978986625E-16,8.6042284408449632E-16,-3.1918911957973251E-16,-5.3290705182007514E-15,-6.2450045135165055E-17,-7.0776717819853729E-16,-1.3877787807814457E-15,4.5796699765787707E-16,1.6653345369377348E-16,-1.3877787807814457E-16,-7.6327832942979512E-16,-8.3266726846886741E-17,5.5511151231257827E-16]
[4.1535567646943002E-3,-1.9595838695100612E-3,-1.3094905070682435E-3,-2.9195728438256205E-3,-3.9811597670681691E-3,-3.3168076178947216E-4,3.0215622219601891E-3,2.0945241426901223E-3,-1.7430048907723032E-3,-4.8168875780953456E-3,1.3637542129781269E-3,-2.3576877751165519E-3,1.4581565494916225E-3,6.6595249650323635E-4,-1.6597207515632881E-3,2.5329188211405547E-3,4.5317018231089872E-3,3.3902252269471232E-3,2.012693914447014E-4,-4.284852894888766E-3,-8.7557776145172556E-4,-1.4429845356300946E-3,2.9371991939246152E-3,-7.8335305597517163E-4,4.2637927936798771E-6,-1.3084034576185232E-3,-1.3113981995975272E-3,-2.8514070619476832E-4,-1.8408623796599948E-3,2.6674860094165484E-3,-4.7322271023621694E-3,-1.1986072013633368E-3,-2.3225474556907723E-3,-4.6211038933821232E-3,1.8362919194745695E-3,-1.6927238032608187E-4,3.4453745060231975E-3,2.3344649230707462E-3,5.7408165758659677E-4,2.0715266526057209E-3,-1.8254598768240593E-3,-4.4304127563164986E-4,3.0649023966792103E-3,3.0661360960734644E-3,9.53793372405602E-4,-1.6797824498864082E-3,1.195545234854916E-3,-6.3370318120277338E-5,-3.1941373688860143E-3,1.4795098101350772E-3,-5.0703620322199551E-3,-1.8407206344865381E-3,1.8059177521401379E-3,-9.1651458830927391E-4,5.5998651611614163E-4,-3.0719202773708846E-3,-5.1375781997350586E-3,6.9064824642786334E-4,-1.0073288768454706E-3,-2.3688522929747272E-3,1.3107354277051644E-3,-3.5554849222997355E-3,6.8645844787361778E-4,1.8540628506583667E-3,-1.9096183436069676E-4,4.1656176902714701E-3,-3.2918321600229491E-3,2.7113903214694032E-4,-4.6534418097255942E-3,-7.6293834807152376E-4,-2.1983334776459258E-4,-1.1299002701304673E-3,5.7581845454611636E-3,-1.3185289326421571E-3,-2.1165780759172712E-3,-3.8739795077814233E-3,5.5230595593412472E-4,3.3250473219910434E-3,3.5246179475911577E-3,1.9286118495762427E-3,1.1642081973101412E-3,1.8764239023590953E-3,-1.6472375840595028E-3,4.6574931470384252E-3,-1.8849902803627023E-3,-4.4685911824429905E-3,-2.1337443502086146E-3,9.0287486025796752E-4,-2.8000635390012002E-3,1.0711682937429581E-3,5.63909191028171E-3,8.0490448026828765E-4,5.6333379776414309E-3,-2.8436967206476186E-3,-9.6290982309730144E-4,1.5140836905332179E-3,-3.2813783874088517E-4,1.0048089503223623E-3,4.2855984845832779E-3,-1.746726072985171E-3,null,-1.4918621893400541E-15,-5.5511151231257827E-17,-2.7755575615628914E-17,4.3021142204224816E-16,-1.7208456881689926E-15,5.8286708792820718E-16,2.1926904736346842E-15,-1.0547118733938987E-15,-1.1657341758564144E-15,-3.8857805861880479E-16,9.0205620750793969E-16,-1.3045120539345589E-15,3.6082248300317588E-16,-3.3306690738754696E-16,0,2.4216739724636227E-15,8.6042284408449632E-16,1.5543122344752192E-15,1.3877787807814457E-16,-1.1102230246251565E-15,8.7430063189231078E-16,-2.4980018054066022E-16,-4.0245584642661925E-16,1.7208456881689926E-15,-2.7408630920433552E-16,1.8318679906315083E-15,3.7470027081099033E-16,-8.3266726846886741E-17,-9.7144514654701197E-16,1.4432899320127035E-15,-1.6514567491299204E-15,-1.0824674490095276E-15,-9.9920072216264089E-16,-1.1379786002407855E-15,1.1518563880485999E-15,-1.0963452368173421E-15,2.6229018956769323E-15,-6.9388939039072284E-16,-1.2212453270876722E-15,1.0547118733938987E-15,-1.9428902930940239E-16,-1.0755285551056204E-15,-2.7755575615628914E-16,1.7902346272080649E-15,8.803721640582296E-17,5.6066262743570405E-15,1.0269562977782698E-15,-1.468009741545373E-15,-9.7144514654701197E-16,4.7184478546569153E-16,-1.4710455076283324E-15,-1.1657341758564144E-15,1.7486012637846216E-15,8.7430063189231078E-16,5.0653925498522767E-16,9.9920072216264089E-16,-9.4368957093138306E-16,-1.5265566588595902E-16,-1.3739009929736312E-15,-9.0205620750793969E-16,-2.0539125955565396E-15,-1.6653345369377348E-16,-7.7715611723760958E-16,-2.3869795029440866E-15,-1.4224732503009818E-15,3.4555691641457997E-15,-2.5049406993105094E-15,5.8286708792820718E-16,-3.767819389821625E-15,-1.4085954624931674E-15,2.6367796834847468E-16,5.8286708792820718E-16,1.9428902930940239E-15,-6.0715321659188248E-18,2.581268532253489E-15,-2.1094237467877974E-15,6.6613381477509392E-16,1.8735013540549517E-15,-4.4408920985006262E-16,1.4432899320127035E-15,1.6358442378461291E-15,9.0899510141184692E-16,-6.6613381477509392E-16,9.9920072216264089E-16,-2.1094237467877974E-15,-2.1094237467877974E-15,-2.0816681711721685E-15,2.095545958979983E-15,-1.915134717478395E-15,1.5543122344752192E-15,2.1926904736346842E-15,9.7144514654701197E-16,-1.3877787807814457E-17,1.7486012637846216E-15,-8.0491169285323849E-16,7.4940054162198066E-16,-8.8817841970012523E-16,1.5265566588595902E-16,1.4988010832439613E-15,9.7144514654701197E-17]
[1.1678146213117398E-3,-2.5181370305561233E-3,1.5456405014833434E-3,9.2672794625507486E-4,-9.5728992807427363E-4,1.1752168975416278E-3,-2.1551695726209174E-3,2.4531986095560105E-3,4.3724440222739844E-3,-1.8944392771583602E-3,-1.0346554441769756E-3,5.4566317602644529E-3,3.4665104610000939E-3,4.3505867848383306E-3,-1.8142645590651335E-3,-1.0361936392338038E-3,2.0373248947717845E-3,1.3459188028478537E-3,1.2184411212320199E-3,-2.101632506502933E-4,-1.2944363169491344E-3,2.8991538993006098E-5,2.0086357777528573E-3,2.2969027616935814E-3,2.9382442910467011E-5,-1.6088960975936693E-3,1.3453819245939954E-3,-1.2785688753699047E-3,-3.6487870909976015E-3,-8.4818607232857587E-4,-6.0849517949054213E-4,-3.5963366534185631E-3,-2.8625231493709744E-3,2.4083875517937322E-4,-3.398497563496456E-3,-2.2401811430602853E-3,-1.3588445137342677E-3,-5.4311024587838045E-4,7.7935087452635676E-4,2.319143118769418E-3,5.469854774714524E-4,2.3965733097076653E-3,5.0660332886885125E-3,-2.8428423528890703E-3,5.6100421904179255E-4,-3.595688493908256E-3,4.377493334662761E-4,2.0466293152478971E-3,-3.3121995881107255E-3,-2.0041143870130943E-3,-1.2845509625090789E-3,2.4429647724551235E-3,-1.7994091570982008E-3,-2.1086874749287636E-3,-3.5518461018575974E-3,-7.2648223186085343E-3,-1.0911482255472982E-3,3.4506224194585013E-3,2.7055538756660868E-3,2.1104480129433569E-3,2.1053868654961156E-3,-2.9956522874861635E-3,-8.5687276427084071E-5,3.7818532994056287E-3,2.3004123302714048E-3,6.478029113875804E-5,-2.9492936548799653E-3,-3.0542275848646498E-3,-1.487023997086415E-3,2.5455388964474865E-3,-4.1234238679263638E-3,-3.5118041264169987E-3,2.9598373269777737E-3,-2.8462508159170282E-3,-2.8289762537570249E-3,-6.8075453195304313E-4,3.3587009957279836E-3,1.5275085427803189E-4,3.0439304813018844E-3,3.2772685249374587E-4,3.1128408361479338E-3,1.55804987228782E-3,-2.5205396232756846E-3,7.4805068901361493E-4,5.709203717329317E-4,-2.1847620194363477E-3,-3.8328885365848821E-4,-3.1202333533736654E-3,-5.2552432146301721E-4,-2.0434369530990422E-4,5.4023059364656121E-4,1.9178177136418731E-3,-1.0224344878027698E-3,5.5233367544591579E-4,-1.8400606476617154E-3,7.8074321233554203E-4,2.2638024845996496E-3,1.9713881494878255E-3,8.6390195967464382E-4,-2.0034015564785353E-3,null,2.9733160378242474E-15,-9.4368957093138306E-16,7.2164496600635175E-16,-2.1094237467877974E-15,4.3576253716537394E-15,4.163336342344337E-17,3.3306690738754696E-16,5.4123372450476381E-16,1.9706458687096529E-15,1.0547118733938987E-15,1.2628786905111156E-15,-3.7470027081099033E-16,3.8857805861880479E-16,7.7715611723760958E-16,4.0939474033052647E-16,-6.8001160258290838E-16,-2.0677903833643541E-15,2.2204460492503131E-15,2.7061686225238191E-16,-2.9143354396410359E-15,-1.1796119636642288E-16,-2.7755575615628914E-16,-1.9012569296705806E-15,4.9404924595819466E-15,-4.9960036108132044E-16,-2.3314683517128287E-15,2.248201624865942E-15,-1.2351231148954867E-15,6.9388939039072284E-16,8.8817841970012523E-16,-1.9845236565174673E-15,-9.8532293435482643E-16,-1.6653345369377348E-15,1.8318679906315083E-15,1.5265566588595902E-15,-6.8001160258290838E-16,1.4016565685892601E-15,4.2743586448068527E-15,1.1102230246251565E-16,1.27675647831893E-15,2.1371793224034263E-15,-1.1102230246251565E-16,2.8310687127941492E-15,-1.1518563880485999E-15,-5.4730525667068264E-16,-4.8849813083506888E-15,1.4641066137244252E-15,1.8453120975703285E-16,-2.7755575615628914E-15,-9.7144514654701197E-17,-2.6922908347160046E-15,-5.134781488891349E-16,2.6090241078691179E-15,7.0776717819853729E-16,2.1510571102112408E-15,-4.4408920985006262E-16,-6.9388939039072284E-16,-1.915134717478395E-15,6.9388939039072284E-16,1.5959455978986625E-15,-4.4408920985006262E-16,2.55351295663786E-15,4.2188474935755949E-15,-6.9388939039072284E-16,-5.2041704279304213E-16,2.598615767013257E-15,-3.5388358909926865E-15,2.248201624865942E-15,-5.0758008907081376E-15,-9.2330657008865558E-16,9.1593399531575415E-16,1.3877787807814457E-15,-2.4980018054066022E-16,-4.9656459499836103E-17,-1.7208456881689926E-15,-1.3739009929736312E-15,1.9984014443252818E-15,-1.6375789613221059E-15,3.6082248300317588E-16,-4.4408920985006262E-15,1.0902737046514233E-15,2.7755575615628914E-17,-1.8318679906315083E-15,6.106226635438361E-16,5.5511151231257827E-16,-4.6629367034256575E-15,-1.3877787807814457E-15,3.6290415117434804E-15,-3.3306690738754696E-16,-2.248201624865942E-15,-3.219646771412954E-15,2.2065682614424986E-15,2.3037127760971998E-15,-8.3266726846886741E-17,-2.6367796834847468E-15,6.9388939039072284E-16,3.4694469519536142E-15,-9.2287288921966137E-16,-2.1371793224034263E-15,1.0130785099704553E-15]
[2.0865619958014554E-3,4.38810696507162E-3,-9.5359690593428117E-4,-3.6577950440412036E-4,6.7648868152066612E-3,-1.5147735967758751E-3,4.0243169074300339E-3,3.635608746003831E-3,1.0133728073626112E-3,-4.9948108300016509E-4,-9.0418946687947856E-5,-3.9537179820805434E-3,-4.1365671471102284E-3,-4.3294994346474713E-3,1.0319667963977644E-3,-2.2691140149652564E-4,1.201113310818546E-3,-7.3312710992190664E-3,3.336861330498628E-3,3.4879596123950207E-3,-7.4769621826295898E-4,2.0094763036647024E-3,2.7385814153835153E-3,7.0507666564408947E-3,4.4655494764028384E-4,-4.7061489588718711E-3,2.7897701727533615E-3,8.6205299002252553E-4,3.6052598318392962E-3,-4.2010354440509467E-3,1.2960079301925806E-3,4.0244937180254218E-3,1.0358768376520628E-3,2.4262883112998973E-3,-6.0363193694996855E-4,1.7917467869942071E-3,-2.0090630472898432E-3,3.3812433442438603E-3,-6.5267162065900429E-3,-5.4913513662958654E-3,1.1953613984050828E-3,2.2418592342158636E-4,-6.207022454382715E-3,-1.4339101284366852E-3,1.9580922642038867E-4,-7.300210636242279E-3,7.90925348680616E-4,-2.540520029621751E-4,-5.1503976126377861E-3,2.04834169735554E-3,2.8676462738704746E-3,-1.5468865177373141E-3,-1.5990025388868778E-3,2.0616680675187961E-3,2.3319999941748006E-3,4.3469853624925744E-3,4.0567797307354972E-3,-3.1779317078024522E-3,-3.5882419917991593E-5,-1.443172070770811E-3,-2.6495794342248249E-3,4.9693509364370416E-3,2.7095080332919627E-3,-3.8625313490821744E-3,-2.5324385454500472E-3,6.1204236147660942E-4,-1.9569912024832272E-3,3.5805716451961364E-3,-2.8972755766158096E-4,-2.4411209605970413E-3,5.1021839837421474E-3,3.1171056467353981E-3,-2.1984186135648952E-3,2.0032433737133086E-3,1.662326325030001E-3,-1.8914304523532861E-3,-4.1348752624220291E-3,-4.7067884234436818E-4,-3.8437674338269176E-3,-5.2718507627770592E-3,-7.4735921990195305E-4,-1.9481923240083381E-4,3.0147197703246763E-3,-1.2572810709430284E-3,9.8323153806937767E-5,6.0868208570829425E-3,-9.044571089065292E-4,4.7517168337328766E-3,3.3421762093279591E-3,4.5896239547751289E-3,-1.2197948169964461E-3,1.4052436225708815E-4,7.425729255588218E-4,2.6563543440257407E-3,-6.2086853436477075E-4,-4.3498790214611055E-3,5.2654987521006812E-4,-1.9699619154538912E-3,-3.9958447124829469E-3,6.5645114252691633E-4,null,6.8001160258290838E-16,1.1934897514720433E-15,1.8457457784393227E-15,-7.6327832942979512E-17,-1.6653345369377348E-16,-1.1171619185290638E-15,-3.1502578323738817E-15,5.9674487573602164E-16,6.25888230132432E-15,-5.6898930012039273E-16,-1.7347234759768071E-16,-4.4408920985006262E-16,5.6898930012039273E-16,3.1918911957973251E-15,-7.0082828429463007E-16,-1.214306433183765E-16,1.1310397063368782E-15,-1.1657341758564144E-15,-9.7144514654701197E-17,5.5511151231257827E-16,6.1756155744774333E-16,1.6792123247455493E-15,-3.6082248300317588E-16,-3.2474023470285829E-15,-2.6367796834847468E-16,-5.3498871999124731E-15,-1.1518563880485999E-15,2.2898349882893854E-16,-3.5388358909926865E-15,-1.2351231148954867E-15,-1.1726730697603216E-15,5.5511151231257827E-17,5.5511151231257827E-17,1.8041124150158794E-16,-1.5681900222830336E-15,3.7470027081099033E-16,-1.609823385706477E-15,2.6367796834847468E-16,-1.0824674490095276E-15,2.4286128663675299E-15,1.1102230246251565E-15,5.2041704279304213E-17,5.2735593669694936E-16,-1.3808398868775384E-15,-1.3118846287074604E-17,2.1371793224034263E-15,-1.7347234759768071E-17,1.8136533941337518E-15,1.4155343563970746E-15,-1.1726730697603216E-15,2.4980018054066022E-16,5.134781488891349E-16,-1.2212453270876722E-15,8.0491169285323849E-16,3.3254649034475392E-15,9.9920072216264089E-16,1.9706458687096529E-15,1.4224732503009818E-15,1.0963452368173421E-15,7.4246164771807344E-16,-2.1094237467877974E-15,3.0531133177191805E-16,5.5511151231257827E-16,1.1102230246251565E-16,8.3613671542082102E-16,-2.2360585605341043E-15,3.434752482434078E-16,-2.2412627309620348E-15,8.2399365108898337E-16,-2.1814147710408349E-16,-1.9984014443252818E-15,-2.2204460492503131E-16,9.0205620750793969E-16,-1.3205582460873444E-16,4.8572257327350599E-17,-9.8532293435482643E-16,1.915134717478395E-15,-7.7715611723760958E-16,1.6653345369377348E-16,1.609823385706477E-15,-4.9266146717741321E-16,7.9797279894933126E-16,-5.9674487573602164E-16,-7.4940054162198066E-16,-6.8001160258290838E-16,4.8433479449272454E-15,-2.7755575615628914E-17,1.313185671314443E-15,-6.106226635438361E-16,1.8735013540549517E-16,-1.6653345369377348E-16,7.4940054162198066E-16,-6.0368376963992887E-16,2.1788126858268697E-15,6.4531713306337224E-16,-3.8857805861880479E-16,2.1718737919229625E-15,-5.0653925498522767E-16,-1.6653345369377348E-16,-4.9960036108132044E-16]
[4.2412461342775029E-3,-2.9571956157044494E-3,2.0191055634545259E-3,-1.723154790962406E-3,-3.4913648674845931E-3,4.4739018910153346E-4,2.3982691234163687E-4,-4.8364774037061402E-4,-7.2463713169471523E-4,-2.5170774242958523E-3,3.1044348558108249E-4,3.5476672240169994E-4,2.4343353556152063E-3,2.7403092280621449E-3,-8.1809581687052307E-4,2.5364509285191496E-3,1.7754832163714897E-3,4.3274960862895043E-3,1.3791938602926567E-3,-4.0985344044254515E-3,-1.9250541348454575E-3,-1.3766953751972791E-3,2.4712292011679778E-3,-1.7325683890484004E-3,8.4261084768813023E-4,-1.0657005805304602E-3,-4.2220392939302143E-4,2.3888437040591847E-4,-2.7281752908015103E-3,3.0896170575575375E-3,-2.6585291334217578E-3,-1.4953493086310484E-3,-2.8968490340282402E-3,-3.1468488373057701E-3,7.6944331454344711E-5,-1.2668249656661718E-3,7.0957894565344584E-4,-1.2072188659669318E-3,1.9161043510641787E-3,2.4671654000206103E-3,-2.1422132273720257E-3,-1.4409015660830705E-3,2.4968960240107649E-3,1.4938049050469853E-3,2.304354422854306E-3,-4.2928048849592528E-4,7.1900272032516719E-4,4.4344804741210336E-4,-1.0429195179446963E-3,-2.1329259594491851E-4,-4.0369529288912572E-3,9.6382225619093517E-5,7.4650561036399932E-4,-2.2519108120981973E-4,-4.2278227165369213E-4,-5.4607541731894515E-3,-2.3963061576732897E-3,4.1580887911415364E-4,5.8538312172152791E-4,-5.7672578605605425E-6,2.9500170197478393E-3,-3.7201300013178043E-3,-1.4007579693745716E-3,3.57645140428432E-3,6.0512100272022901E-4,2.2693674594828216E-3,-1.2655963067984325E-3,-2.7848630546124759E-4,-1.9137070476377012E-3,-1.1180063491427615E-3,-1.9939810059346622E-3,-2.0940978458450538E-3,4.0786469689106236E-3,-1.192146778407047E-3,-3.6315629645181039E-3,-3.6187756860137149E-3,2.0284813950374354E-3,2.3008766700803054E-3,4.8191660045366503E-3,1.5638324340967952E-3,8.8820965405302359E-4,2.0533657420711399E-3,-1.1403158767708428E-3,3.4257729984801359E-3,-1.0782199876806992E-3,-3.4582181322533397E-3,3.9098429851780947E-4,1.2399306754973484E-3,-2.6093957324591415E-3,-1.1730874837424957E-3,4.0985147418170827E-3,1.0012342962616523E-3,4.1487977401347056E-4,-3.8417698582642649E-3,-2.8168679257611841E-4,-4.856324685416812E-4,-1.0569763799449052E-3,1.1448447267270751E-3,3.3611308202841344E-3,-1.7480014055402701E-3,null,1.2420620087993939E-15,-2.3869795029440866E-15,1.5543122344752192E-15,9.3328123007552222E-16,1.0269562977782698E-15,-6.9388939039072284E-18,-2.1371793224034263E-15,-3.8857805861880479E-16,-3.7470027081099033E-16,-1.2628786905111156E-15,-1.3114509478384662E-15,4.2049697057677804E-15,-1.6237011735142914E-15,2.4980018054066022E-15,-2.3592239273284576E-16,1.7520707107365752E-15,-1.9984014443252818E-15,8.8817841970012523E-16,7.4940054162198066E-16,-1.3877787807814457E-15,-5.7245874707234634E-16,2.4286128663675299E-16,5.5511151231257827E-17,1.6930901125533637E-15,-4.3541559247017858E-16,-5.3429483060085659E-16,-1.9428902930940239E-16,-2.0816681711721685E-17,-1.0408340855860843E-15,-3.8857805861880479E-16,1.9775847626135601E-15,6.106226635438361E-16,-7.2164496600635175E-16,-2.7755575615628914E-17,-2.0400348077487251E-15,-5.2041704279304213E-16,-4.7184478546569153E-16,-1.1657341758564144E-15,1.6653345369377348E-16,-1.3183898417423734E-15,-9.1593399531575415E-16,2.3592239273284576E-16,6.5225602696727947E-16,1.5057399771478686E-15,3.9952850056090838E-16,-2.8588242884097781E-15,-1.2698175844150228E-15,1.803245053277891E-15,1.0963452368173421E-15,-2.3592239273284576E-16,1.3877787807814457E-16,9.6450625264310474E-16,-1.5265566588595902E-16,-3.4694469519536142E-16,-1.5282913823355671E-15,-3.1086244689504383E-15,-8.3266726846886741E-17,-1.2698175844150228E-15,-1.3877787807814457E-16,-2.0816681711721685E-17,-4.9960036108132044E-16,-2.3314683517128287E-15,-1.0269562977782698E-15,-2.6784130469081902E-15,1.4328815911568427E-15,-2.3939183968479938E-16,1.3496148643099559E-15,-2.0816681711721685E-16,1.8023776915399026E-15,-2.4242760576775879E-16,4.5102810375396984E-16,1.3877787807814457E-17,-5.5511151231257827E-17,-3.9833587817117433E-16,2.7061686225238191E-16,1.9845236565174673E-15,-9.9920072216264089E-16,2.1857515797307769E-15,-2.2204460492503131E-16,-1.2490009027033011E-15,-9.540979117872439E-16,-2.9837243786801082E-16,2.3037127760971998E-15,2.2551405187698492E-15,-2.2204460492503131E-16,-3.1918911957973251E-16,1.0685896612017132E-15,-2.0036056147532122E-15,-2.0816681711721685E-16,-7.9797279894933126E-16,-1.6514567491299204E-15,-4.8572257327350599E-16,5.8980598183211441E-16,2.7755575615628914E-16,2.1510571102112408E-15,-5.5511151231257827E-16,-1.5959455978986625E-15,5.0653925498522767E-16,6.3837823915946501E-16,-1.016547956922409E-15]
[2.5724330619150216E-3,-4.4010591756715994E-3,1.6737414085426761E-3,-3.7048667007326402E-4,-5.3867321192905037E-3,3.871991579102185E-4,-7.3203102859195352E-4,-8.0941312087336734E-4,-3.1160565501803512E-3,-2.7260498690431872E-3,5.215126291051791E-4,1.4662175174771125E-3,3.0708119769221136E-3,4.2159952536202317E-3,7.2877753244484731E-5,2.5011915621125477E-3,3.1705045033981411E-3,6.0902060434037571E-3,-1.2239419988236487E-3,-6.2269109066800735E-3,-4.6812422206868174E-4,-3.3213942609858038E-3,3.5298915067567203E-4,-4.8032966409931963E-3,-1.6303515810315074E-5,-2.5416985167397754E-4,-5.5514945010648247E-4,2.0492602323608348E-3,-3.0917561332375284E-3,3.0159581954374848E-3,-4.6009156888701594E-3,-2.9607790500500008E-3,-4.8697413314354836E-3,-5.5246413713982935E-3,1.3791913956203495E-3,-2.2015349158099758E-3,3.9082872992640301E-3,-1.6112653989838568E-3,4.2603280621043059E-3,3.0515766999596864E-3,-2.6136128417220332E-3,-1.2615100060199608E-3,4.6438773538121456E-3,2.1325089346052001E-3,1.4928113524343611E-3,4.5569550297203049E-3,7.9173118064627853E-5,-1.7256864106688301E-4,1.0811598659612367E-3,-1.1826601785530294E-3,-5.7584994430506095E-3,9.7695563322881427E-4,3.4301015733111846E-3,-1.430456694529807E-3,1.8387233432707775E-3,-6.1552515975404759E-3,-4.3149007992466784E-3,1.9897451196873826E-3,6.1130553028325061E-4,-3.9342655104174446E-4,4.515447194573142E-3,-4.9205184238833967E-3,-2.7417464821715455E-3,3.74391012957727E-3,-4.4009089710473725E-4,3.8797457114019699E-3,-2.7386184187085153E-3,-1.9635299287919005E-3,-3.0712548586893122E-3,-2.2202181808334419E-3,-6.9806586354999637E-4,-2.7015388075893993E-3,4.7103909096511106E-3,-4.2751957226814656E-4,-1.2497129108056011E-3,-2.3405986834632141E-3,5.1696115289404905E-3,4.1136390622695373E-3,4.5072553755190507E-3,4.0587468892766647E-3,7.7510254070730386E-4,1.7548434948604483E-3,-3.6777871934428894E-3,1.3275861085334474E-3,-2.5035923651658015E-3,-6.7887871868627216E-3,-1.1443650301538868E-3,-5.136119967216621E-4,-4.5122921773204433E-3,-1.3184868038981612E-3,4.3042373259766127E-3,1.1878061203179574E-3,2.5402801316701915E-3,-4.4932605832158704E-3,-2.2633089690149268E-3,3.9620924788588193E-3,-2.2018178693758972E-3,1.3196999689020939E-3,5.0930108064398752E-3,4.7052135609665623E-4,null,-6.7307270867900115E-15,-1.0547118733938987E-15,-2.2759572004815709E-15,-9.298117831235686E-16,-1.7208456881689926E-15,-1.3322676295501878E-15,-2.4147350785597155E-15,1.0130785099704553E-15,-9.4368957093138306E-16,4.8711035205428743E-15,8.0491169285323849E-16,1.8318679906315083E-15,1.5820678100908481E-15,-3.4416913763379853E-15,-9.7144514654701197E-16,-1.1379786002407855E-15,-7.6327832942979512E-16,4.4408920985006262E-15,1.1102230246251565E-16,-2.7755575615628914E-16,-8.4654505627668186E-16,-2.4702462297909733E-15,-2.6367796834847468E-16,-7.2164496600635175E-16,-4.5102810375396984E-16,1.3877787807814457E-15,7.0776717819853729E-16,-7.0776717819853729E-16,-7.7715611723760958E-16,2.9143354396410359E-15,1.2212453270876722E-15,-8.8817841970012523E-16,-3.0531133177191805E-16,-2.4980018054066022E-16,-2.0816681711721685E-16,-2.2204460492503131E-15,1.6653345369377348E-15,1.915134717478395E-15,2.7755575615628914E-16,1.0269562977782698E-15,3.6082248300317588E-16,2.9143354396410359E-16,-1.9984014443252818E-15,8.1878948066105295E-16,3.6971294081755701E-16,-9.9920072216264089E-16,1.6653345369377348E-16,-1.2854300956988141E-15,-4.7184478546569153E-16,-8.1878948066105295E-16,-2.8033131371785203E-15,-2.9143354396410359E-16,0,-1.3461454173580023E-15,-1.1379786002407855E-15,4.9960036108132044E-16,-3.6914915568786455E-15,-2.8033131371785203E-15,-3.7470027081099033E-16,9.7144514654701197E-17,6.6613381477509392E-16,-4.1078251911130792E-15,-2.1649348980190553E-15,8.8817841970012523E-16,6.9388939039072284E-18,1.6826817716975029E-15,-1.5959455978986625E-15,-3.7192471324942744E-15,-1.7034984534092246E-15,4.4755865680201623E-16,4.7045700668491008E-15,-1.0824674490095276E-15,8.0491169285323849E-16,6.4271504784940703E-16,-1.5959455978986625E-15,-1.4432899320127035E-15,1.3322676295501878E-15,1.0685896612017132E-15,4.4408920985006262E-16,2.6645352591003757E-15,1.0972125985553305E-15,5.8286708792820718E-16,2.2204460492503131E-16,1.3877787807814457E-15,1.9428902930940239E-16,-3.3306690738754696E-15,-6.5225602696727947E-16,-3.2335245592207684E-15,-7.2164496600635175E-16,-3.0531133177191805E-15,9.7144514654701197E-16,4.163336342344337E-16,1.762479051592436E-15,-2.2204460492503131E-15,3.8857805861880479E-16,2.7755575615628914E-15,-5.5511151231257827E-16,3.7470027081099033E-16,1.2212453270876722E-15,-7.0082828429463007E-16]
[2.1363201689461524E-3,3.6469983729310422E-4,-1.5084775695844174E-3,-1.9083409494551349E-3,-1.5371389899812191E-3,-1.2908812068008677E-3,2.7104983361867941E-3,9.4657219335918925E-4,-6.2379080196868332E-3,-2.4352185835570567E-3,4.3883477379571065E-4,-5.4677386655091077E-3,-8.5970288590899585E-4,-1.4504857798047881E-3,4.8892461948924219E-4,2.3605520484700809E-3,4.3868525978761532E-3,1.2269729800566953E-3,-1.0979578319319466E-3,-2.1117734806530455E-3,-1.3352723497277168E-3,-2.6892777473208991E-3,2.5140304812799034E-4,-1.5092564512778892E-3,1.5548211473416095E-3,-1.3347677562262374E-3,1.1540185038973081E-3,1.5636856963156416E-3,1.6442833926233638E-3,7.0130215988263133E-4,-3.3973594914567928E-3,5.0627777884211403E-4,-1.3807604982914996E-3,-2.447588082402842E-3,3.3945099162530248E-3,1.4224494801713249E-3,3.7970516234441449E-3,3.2911110470614144E-3,5.2782746948409182E-4,-3.457712430561677E-3,-3.1732638548963321E-3,2.0585777818010154E-4,-1.8427873604018939E-3,2.3131092547419995E-3,6.8095814255791248E-4,1.7028565498911905E-3,5.485208118749589E-4,-1.8983242030469743E-3,-1.0715063735459995E-3,1.4939437692687572E-3,-1.8653124244150329E-3,-2.1251855814393089E-3,4.0011907702585045E-3,3.3074339812501021E-4,4.5659338649232332E-3,9.6571147972638379E-4,-3.3875027300707475E-3,-1.256306335869161E-3,-8.9898946920524768E-4,-2.8776128946806324E-3,-2.5628619225146902E-4,-2.7195791850772818E-3,-9.5732633174938978E-4,-1.1378743695530068E-3,-2.0052449888240428E-3,3.3094785115328224E-3,-3.3841701186397058E-3,1.7544131196130552E-3,-3.0374693613868216E-3,-2.8476938812111515E-3,3.8050380869622427E-3,7.6374276274256061E-4,8.3564633397983782E-4,8.668989597858355E-4,1.7823967142707182E-3,-2.0961017677111177E-3,5.572568632566361E-4,2.5469251801531687E-3,3.0806330261897938E-4,-1.3069769226281627E-6,-2.1354416976970169E-4,6.173768758721748E-4,6.7351928455889752E-4,2.1711430737807605E-3,-2.287628155540324E-3,-1.8041597508826484E-3,-2.1686022668901237E-3,2.2986374196143577E-3,-1.1712148186324026E-3,2.3773747520357655E-3,4.1272831308581254E-3,5.8987251954902454E-4,6.1555482968765176E-3,-2.2900035873678767E-5,-2.3875144176235233E-3,2.3173287547369557E-3,-3.7755513805051016E-3,-2.9568563872012303E-4,2.0293536389116335E-3,9.1419238118370209E-4,null,-3.2890357104520263E-15,6.6613381477509392E-16,0,-1.3877787807814457E-17,1.3877787807814457E-15,2.55351295663786E-15,-1.6375789613221059E-15,1.0269562977782698E-15,1.7486012637846216E-15,7.2164496600635175E-16,-5.5511151231257827E-17,3.3584246494910985E-15,7.7715611723760958E-16,2.3314683517128287E-15,1.0408340855860843E-16,7.2164496600635175E-16,7.3552275381416621E-16,5.5511151231257827E-17,-2.8449465006019636E-16,-1.4155343563970746E-15,-1.8735013540549517E-16,1.0408340855860843E-15,3.8857805861880479E-16,-3.2751579226442118E-15,-2.4286128663675299E-17,-4.3853809472693683E-15,-7.2164496600635175E-16,-3.1918911957973251E-16,2.3869795029440866E-15,1.1102230246251565E-16,4.8572257327350599E-16,-2.3731017151362721E-15,-9.7144514654701197E-16,-8.3266726846886741E-16,-1.3461454173580023E-15,8.1878948066105295E-16,-5.5511151231257827E-16,-2.4980018054066022E-16,-4.9960036108132044E-16,8.1878948066105295E-16,1.3877787807814457E-15,3.4694469519536142E-17,-3.219646771412954E-15,1.0408340855860843E-15,-4.0180532512312794E-16,-8.3266726846886741E-16,-2.7755575615628914E-16,-2.4719809532669501E-17,-2.0816681711721685E-15,-1.124100812432971E-15,-5.9674487573602164E-16,1.27675647831893E-15,6.3837823915946501E-16,1.0130785099704553E-15,-6.0368376963992887E-16,-1.3877787807814457E-15,3.8857805861880479E-16,1.2628786905111156E-15,4.0245584642661925E-16,-4.3159920082302961E-15,-2.1094237467877974E-15,-3.7747582837255322E-15,-1.9984014443252818E-15,8.8817841970012523E-16,3.1918911957973251E-16,-1.2663481374630692E-15,1.3877787807814457E-16,-1.1379786002407855E-15,2.1857515797307769E-16,1.5573480005581786E-15,-5.4123372450476381E-16,0,-1.9428902930940239E-16,7.3855851989712562E-16,2.6367796834847468E-16,-2.3037127760971998E-15,-6.3837823915946501E-16,-2.0816681711721685E-16,-1.5543122344752192E-15,2.0539125955565396E-15,-2.2204460492503131E-16,-9.7144514654701197E-17,1.9428902930940239E-16,-6.8001160258290838E-16,-5.5511151231257827E-17,8.0491169285323849E-16,-5.8286708792820718E-16,-7.7715611723760958E-16,-1.915134717478395E-15,2.0261570199409107E-15,1.4710455076283324E-15,2.9143354396410359E-16,6.5225602696727947E-16,6.3837823915946501E-16,6.9388939039072284E-16,-5.5511151231257827E-16,8.6042284408449632E-16,-3.8857805861880479E-16,-2.7755575615628914E-16,-4.5102810375396984E-16]
[-3.9316816403790348E-3,2.1169537896407597E-4,1.5860090301854396E-3,2.1399829416503769E-3,1.6789521437884842E-3,1.6169480809716441E-3,-5.4245621109689926E-3,-1.3437663238149377E-3,3.4571520046740036E-3,4.1334621556469728E-3,1.5473447961827173E-4,4.0982008373167469E-3,6.1259494997386752E-4,1.549468453238274E-3,3.3670274140908341E-4,-4.2329540114726628E-3,-4.4049438822814568E-3,-2.1688523107591343E-3,-2.022000942532424E-3,3.9603322325206802E-3,1.6751795076846269E-3,2.5609617328742541E-4,-1.4500821441273736E-3,5.0535712760708517E-4,-2.371260400328464E-3,3.1570769744635389E-3,2.1947901347654031E-3,-1.3056936017048083E-3,-8.8120328716546228E-5,-2.332364918995816E-3,4.6438239681821283E-3,-1.1834983158453799E-3,2.0387042164199997E-3,3.6930836941385875E-3,-3.0120470855382144E-3,-2.1296171820186179E-3,-3.9464418901901605E-3,-1.5460893843094617E-3,1.0557008963842649E-3,7.7746114135317332E-4,2.9561235349650286E-3,-9.2962141321880124E-5,1.1408647489593079E-3,-3.3098769381597693E-3,-1.0024030688490259E-3,-7.3762044005736905E-4,-1.940699190318677E-3,1.6945791076378421E-3,7.0775606836280026E-4,-6.0839401588294692E-4,3.2741388783761095E-3,2.2174306964140343E-3,-3.0361716627639369E-3,3.0534783952119006E-4,-3.7089761846682309E-3,1.0746871603418172E-5,2.3762839466904381E-3,1.1523382246554829E-3,1.8042768430640364E-3,4.0492153075394471E-3,-1.4335651745394989E-3,3.2893912953518385E-3,-7.15700733134296E-4,6.21442321947677E-4,3.0106141156282279E-3,-3.3715186631090755E-3,3.1692807676102653E-3,-3.1178006443789747E-3,3.1735471551058944E-3,3.0535238409031759E-3,-1.8951283745330314E-3,-1.4100396963848845E-3,-3.5564482860714263E-3,-8.2223514229708887E-4,6.132666329607242E-4,4.1402453725244304E-3,1.2572624735129724E-3,-3.0879706377548656E-3,-1.518010760664313E-3,-3.0778717069367226E-6,9.6133905171401032E-4,-6.145250091164244E-4,2.7129982071040038E-4,-4.0487796525714298E-3,4.1488380134740953E-3,2.5300376826499688E-3,1.2132962258332887E-3,-4.4923204960299395E-3,3.6141190314024785E-3,-2.5480794259303149E-3,-4.8877437254937926E-3,2.8813937203946442E-4,-5.0870393943670536E-3,2.6152769919842813E-3,1.3117964609776125E-3,-5.2075756847446591E-4,1.8707889480655293E-3,1.8619277733626847E-4,-3.1076571391491217E-3,-3.6911222982087446E-4,null,1.0755285551056204E-15,-3.3306690738754696E-16,-2.2204460492503131E-16,-3.3306690738754696E-16,8.3266726846886741E-16,-7.7715611723760958E-16,8.3266726846886741E-17,4.163336342344337E-16,9.1593399531575415E-16,8.3266726846886741E-17,-2.2204460492503131E-16,-1.1379786002407855E-15,-1.1102230246251565E-16,-1.1102230246251565E-15,-2.9143354396410359E-16,3.4694469519536142E-16,-9.9920072216264089E-16,4.4408920985006262E-16,-1.1102230246251565E-16,4.4408920985006262E-16,3.2612801348363973E-16,-6.106226635438361E-16,-1.9428902930940239E-16,1.6653345369377348E-16,-5.863365348801608E-16,9.1593399531575415E-16,-1.9428902930940239E-16,-1.6653345369377348E-16,-1.9428902930940239E-16,3.3306690738754696E-16,-2.6367796834847468E-16,5.8286708792820718E-16,-1.3877787807814457E-16,1.6653345369377348E-16,-3.8857805861880479E-16,-7.2164496600635175E-16,-5.2735593669694936E-16,-2.4980018054066022E-16,7.2164496600635175E-16,-6.9388939039072284E-16,-5.8286708792820718E-16,5.620504062164855E-16,5.5511151231257827E-17,3.0531133177191805E-16,-3.1398494915180208E-16,-1.4432899320127035E-15,-1.3183898417423734E-16,5.2128440453103053E-16,-3.0531133177191805E-16,2.2204460492503131E-16,-3.8857805861880479E-16,-6.3837823915946501E-16,2.2204460492503131E-16,2.4980018054066022E-16,-4.0245584642661925E-16,-2.0539125955565396E-15,-3.8857805861880479E-16,1.1102230246251565E-16,-2.2204460492503131E-16,1.5265566588595902E-15,-9.9920072216264089E-16,-4.4408920985006262E-16,6.6613381477509392E-16,1.6653345369377348E-16,-6.9388939039072284E-17,-1.1102230246251565E-16,-7.4940054162198066E-16,4.7184478546569153E-16,5.2041704279304213E-17,1.2923689896027213E-16,-2.2204460492503131E-16,1.0824674490095276E-15,-9.1593399531575415E-16,2.0599841277224584E-16,3.7470027081099033E-16,8.3266726846886741E-16,2.2204460492503131E-16,-2.2204460492503131E-16,1.1657341758564144E-15,-3.3306690738754696E-16,-2.454633718507182E-16,0,-6.6613381477509392E-16,3.4694469519536142E-17,-5.5511151231257827E-16,1.1102230246251565E-16,-2.0816681711721685E-16,-9.7144514654701197E-16,8.0491169285323849E-16,4.7184478546569153E-16,-5.5511151231257827E-16,2.7755575615628914E-17,2.4980018054066022E-16,-8.3266726846886741E-17,3.6082248300317588E-16,-2.7755575615628914E-17,-1.3877787807814457E-16,-5.5511151231257827E-17,-8.8817841970012523E-16,-4.9266146717741321E-16]
[7.0045571515643743E-4,3.742191210285455E-3,2.156128822592038E-4,8.7307242442582892E-4,4.9297422414495322E-3,-3.0614149397646792E-4,7.2387039451727632E-4,-3.2570951946821414E-4,2.3461927102627518E-3,4.9849241724699044E-4,-7.2433490521267964E-4,-3.138406562604609E-3,-3.4371125788695157E-3,-3.920135883673099E-3,4.2410674381513724E-4,-2.2326935974700092E-3,-2.098341715961698E-3,-5.822554000221092E-3,1.8334970198171702E-3,3.8089525877786378E-3,-2.3973954245651955E-4,3.0568005894715494E-3,2.3990264230717702E-4,4.1002643694344875E-3,6.4837387139957917E-4,-2.2589041966549696E-3,1.8972422835824598E-3,-4.3438564362373999E-4,3.1885136311221433E-3,-2.1259268586392081E-3,4.6556017913124571E-3,3.1461348030243082E-3,3.1353508921311323E-3,4.2040321126139901E-3,-1.5923852811226403E-3,3.0680612007974299E-3,-3.370352348357706E-3,1.6655697139843241E-3,-4.0149655061880027E-3,-4.1177105869767911E-3,3.3581445887981547E-4,5.9645921277154878E-4,-5.9423371758414141E-3,-1.3048922777903285E-3,-6.0284391016130086E-5,-5.6220954564820099E-3,-3.8010225204215787E-4,2.9808118950380225E-4,-2.5768531524182643E-3,2.1752289813797268E-4,2.8054528099359147E-3,-3.3308311848878158E-4,-2.4058943512929314E-3,9.6645037489168474E-4,5.8210459052408943E-4,4.1082855836430694E-3,4.5163488118103766E-3,-2.2121550056903474E-3,1.5344662205402551E-3,-6.8381649410880093E-4,-3.7442732833050706E-3,3.5736343351097689E-3,2.3005901866546153E-3,-2.1786623046221661E-3,-6.3095830698291265E-4,-2.3666619014946215E-3,1.5793255105183768E-3,1.8294824272340568E-3,3.9526172492179634E-3,6.8414701648063215E-4,3.4099169026603629E-3,2.0220883018916497E-3,-2.6803272578129452E-3,8.9985553532739805E-4,6.6479023530470482E-4,-2.8661664777051622E-4,-2.1599015519130809E-3,-2.6685698838706156E-3,-3.2962653351660594E-3,-5.0243599911759078E-3,-1.1125595767443872E-3,-4.1770130121615302E-4,2.9795559185395773E-3,-2.2785672347931199E-4,2.4963863966577147E-3,7.9174272226383707E-3,8.1958737551169705E-6,2.2809233043261622E-3,2.2828533203491466E-3,1.0375379053830349E-3,-2.8393564996972561E-3,-9.5067700911976628E-4,-3.0407840337019669E-3,2.186558975251553E-3,1.7360175132206269E-3,-4.1012524514243516E-3,7.4951450917504821E-4,-6.1049411979583097E-4,-4.3218237714051254E-3,1.2709319117864158E-3,null,-1.1587952819525071E-15,3.9690473130349346E-15,3.0531133177191805E-16,-1.3877787807814457E-17,-1.3877787807814457E-16,4.0245584642661925E-16,-4.0523140398818214E-15,-4.163336342344337E-16,2.3314683517128287E-15,-6.6613381477509392E-16,4.8572257327350599E-16,-1.4988010832439613E-15,-3.524958103184872E-15,-1.7208456881689926E-15,2.7755575615628914E-17,-1.5265566588595902E-16,-4.8572257327350599E-16,4.4408920985006262E-15,1.2490009027033011E-15,2.2204460492503131E-15,7.2164496600635175E-16,-1.6653345369377348E-16,-1.0755285551056204E-15,3.4416913763379853E-15,7.0429773124658368E-16,-1.4016565685892601E-15,2.0539125955565396E-15,-1.5959455978986625E-15,2.4286128663675299E-15,-1.5959455978986625E-15,2.8727020762175925E-15,-4.163336342344337E-17,1.3045120539345589E-15,3.0531133177191805E-15,-9.298117831235686E-16,-1.5126788710517758E-15,-1.4155343563970746E-15,-5.6898930012039273E-16,-3.1918911957973251E-15,-1.5681900222830336E-15,-4.9960036108132044E-16,-1.6375789613221059E-15,2.9976021664879227E-15,1.3877787807814457E-15,1.2457482961858446E-16,3.6082248300317588E-16,3.1571967262777889E-16,9.8532293435482643E-16,-4.2466030691912238E-15,7.1470607210244452E-16,-7.6327832942979512E-16,9.9920072216264089E-16,2.5673907444456745E-15,1.4155343563970746E-15,6.591949208711867E-17,4.6074255521943996E-15,2.3037127760971998E-15,-1.8596235662471372E-15,-4.7184478546569153E-16,1.3114509478384662E-15,-4.2188474935755949E-15,1.6930901125533637E-15,9.4368957093138306E-16,9.4368957093138306E-16,-6.7307270867900115E-16,1.717376241217039E-15,2.0261570199409107E-15,2.5257573810222311E-15,-6.7654215563095477E-16,-7.0256300777060687E-16,5.7315263646273706E-15,1.7763568394002505E-15,-5.5511151231257827E-16,1.2368578383714635E-15,1.3045120539345589E-15,6.2450045135165055E-16,1.3045120539345589E-15,2.1024848528838902E-15,-4.9127368839663177E-15,-5.1902926401226068E-15,-6.7567479389296636E-16,4.9960036108132044E-16,6.6613381477509392E-16,-4.7184478546569153E-16,-4.163336342344337E-17,2.0539125955565396E-15,-9.9920072216264089E-16,5.7991805801904661E-15,3.8857805861880479E-16,-3.039235529911366E-15,-8.3266726846886741E-17,-1.0477729794899915E-15,-4.7184478546569153E-16,1.5265566588595902E-15,4.163336342344337E-17,-1.8873791418627661E-15,8.1878948066105295E-16,-1.214306433183765E-15,-1.0269562977782698E-15,8.5348395018058909E-16]
[-7.0479123382602394E-6,2.8569483309275412E-3,-2.4769087226453766E-3,-5.9091389199293274E-4,3.2349670883903793E-3,-2.0240269946647416E-3,3.8900949770167173E-3,2.5220441322741133E-3,-6.0910005131888329E-4,-1.7876250885892855E-4,3.0747803568187935E-4,-4.1230974779953213E-3,-3.6731147499286633E-3,-4.3807385868479881E-3,1.0756067057322628E-3,7.3979619414923795E-4,6.0901839422269487E-4,-3.7839080936233828E-3,9.5852200641416668E-4,2.6782440624561954E-3,-1.1286997052033395E-4,1.1983350719305024E-3,1.4361722076008704E-3,4.0455466132410054E-3,3.5846265883527484E-4,-1.3712124529658431E-3,1.0276093308436744E-3,4.2250288330894362E-4,2.6132507898044563E-3,-1.5629984772457183E-3,-2.0383051027145655E-4,1.9093756343508577E-3,1.8544589631399756E-3,1.2594995674066103E-3,2.6361500451043546E-4,1.2507343646841794E-3,4.0895599021063697E-4,3.2838366352458989E-3,-3.4180376551642085E-3,-3.1615482377939531E-3,4.5328665291561855E-4,8.4181258256344586E-5,-2.7658577766704771E-3,-2.5145836842824736E-4,5.5871613406158183E-4,-4.5835438595044206E-3,4.6136311168898392E-4,-1.7997611982793632E-3,-3.2613587199630716E-3,1.9240247697727305E-4,8.9864590294154445E-4,-2.8124935426868552E-3,-7.4666617428991659E-4,1.4295801180261992E-3,1.2747927969666822E-3,3.8793282550007428E-3,1.0426442124916527E-3,-1.8524642372103083E-3,-1.1711084939133661E-3,-2.2418220730939901E-3,-3.1349258831373824E-3,1.5741736528905562E-3,3.3809678072545708E-3,-3.3943989606961713E-3,-1.3642852951683525E-3,1.6741047959516649E-3,-7.6528312990162262E-4,2.9315601449842956E-3,-1.9596158466587317E-4,-6.5087899782945179E-4,3.1296437002429306E-3,2.3651336027926814E-3,-1.4894637204076167E-3,3.7842731489410073E-4,2.2774291858040272E-3,-9.2688613356449933E-4,-3.1096673936506732E-3,2.3616779099785526E-4,-2.488002949490053E-3,-3.1807538311290802E-3,-6.8020101859044306E-4,-1.6427306068020139E-4,1.3272609907007688E-3,2.184210797695945E-4,6.1321548572930949E-4,3.1270503779736378E-3,-1.1975203209617245E-3,2.9012865173501387E-3,1.9087359596286812E-3,3.3591491626555376E-3,-4.8004811420949945E-4,-9.7416695660363181E-5,3.0110033394813752E-3,2.4209599179000709E-3,9.3684428043453371E-4,-2.4169655575141313E-3,1.6370823857009997E-4,1.324923675149351E-4,-2.1307279975658357E-3,2.6103450818819795E-4,null,3.6429192995512949E-16,-3.0808688933348094E-15,-7.6327832942979512E-16,-1.7937040741600185E-15,2.6645352591003757E-15,-4.163336342344337E-16,8.6042284408449632E-16,4.0939474033052647E-16,6.6613381477509392E-16,3.0184188481996443E-15,1.6653345369377348E-16,1.1379786002407855E-15,2.3175905639050143E-15,3.1363800445660672E-15,7.9797279894933126E-16,-1.700029006457271E-16,1.9498291869979312E-15,3.3306690738754696E-15,1.2281842209915794E-15,-3.9412917374193057E-15,-1.2836953722228372E-15,-2.095545958979983E-15,1.700029006457271E-15,-6.9388939039072284E-15,-1.8908485888147197E-16,1.0269562977782698E-15,-9.7144514654701197E-16,3.4000580129145419E-16,-3.1918911957973251E-15,2.581268532253489E-15,-3.5110803153770576E-15,-1.5820678100908481E-15,-1.5126788710517758E-15,-1.9984014443252818E-15,3.5388358909926865E-16,-1.4155343563970746E-15,5.7870375158586285E-15,1.7208456881689926E-15,3.0531133177191805E-16,2.2620794126737565E-15,-2.3869795029440866E-15,-1.5265566588595902E-16,-7.1748162966400741E-15,9.298117831235686E-16,1.5887898635602582E-15,-4.163336342344337E-15,2.6020852139652106E-16,-5.7441031098282025E-16,-3.0808688933348094E-15,-1.2212453270876722E-15,-2.0677903833643541E-15,9.0205620750793969E-17,1.4988010832439613E-15,-1.3877787807814457E-16,-1.2524703496552547E-15,-2.6367796834847468E-15,-2.4424906541753444E-15,-3.3931191190106347E-15,-1.1032841307212493E-15,1.3877787807814457E-16,7.7715611723760958E-16,-2.2204460492503131E-16,7.4940054162198066E-16,-1.1102230246251565E-16,-3.4243441415782172E-15,2.3765711620882257E-15,-4.2951753265185744E-15,1.1102230246251565E-16,-4.3038489438984584E-15,-1.130606025467884E-15,1.5959455978986625E-15,1.9984014443252818E-15,-1.9428902930940239E-16,1.1351596745923231E-15,-2.4286128663675299E-16,-5.5372373353179682E-15,3.0808688933348094E-15,-1.1102230246251565E-15,-2.3592239273284576E-15,4.6351811278100286E-15,-9.540979117872439E-18,7.3552275381416621E-16,1.9428902930940239E-16,-1.1102230246251565E-16,2.1371793224034263E-15,9.1593399531575415E-16,-2.310651670001107E-15,1.7676832220203664E-15,-3.3584246494910985E-15,2.8727020762175925E-15,2.8310687127941492E-15,2.3522850334245504E-15,-1.0477729794899915E-15,-2.2065682614424986E-15,-3.282096816548119E-15,3.6914915568786455E-15,5.5511151231257827E-17,2.0122792321330962E-16,2.5257573810222311E-15,-4.5102810375396984E-16]
[-8.3160464095980997E-4,4.0257270639198614E-3,-2.4510418987319773E-4,9.9971086389536107E-4,6.9571019767566038E-3,1.7181993348807509E-4,2.1954355585723445E-3,1.8231880260935608E-3,1.8049097408095066E-3,2.4385564365133781E-4,-6.261754458444979E-4,-3.2092219414293342E-3,-3.8160219145234623E-3,-2.6181253034659028E-3,5.956031003609369E-4,-1.5432876041025073E-3,-4.5180089058439039E-4,-7.3286240699807379E-3,2.4214447331291104E-3,4.505693507340907E-3,1.6812847176520221E-5,3.7519075983408795E-3,-3.9929876447520376E-4,6.6466901783429483E-3,4.8557887596005126E-4,-3.4992830201134866E-3,1.3901254004446385E-3,1.1021608236230444E-3,3.0489069299409655E-3,-4.4059183797717982E-3,1.7400866550380185E-3,3.915766165542363E-3,2.7426768959077277E-3,4.6053160161986777E-3,-1.1252887887994354E-3,2.8595309890023022E-3,-3.2299905158449408E-3,2.5269559804038245E-3,-4.837445018650066E-3,-4.050247639303067E-3,1.8751118019047781E-3,9.9468541128756166E-4,-4.1920877129081498E-3,-1.0673080228258205E-3,-8.0312931251788492E-4,-5.5599978178113669E-3,-3.1037773632523103E-5,-3.6231987058366901E-4,-3.2959843000190405E-3,-1.2467990593201231E-4,4.1061741184559774E-3,-2.4891822736478162E-3,-2.2790100193464994E-3,1.8971219754004625E-3,1.2353751936382243E-3,4.3479614043308553E-3,5.3399217368887602E-3,-1.8703722742582102E-3,7.7778401390057308E-4,-2.2161119249092229E-4,-1.5546246565043499E-3,4.955077478851426E-3,2.2055272566493707E-3,-3.5796627761924206E-3,-1.6963279963918229E-3,-2.44735732962528E-3,-6.8798230101356928E-4,2.4694921716179891E-3,2.1082981074321042E-3,-6.3283962183458887E-4,3.6024464165102525E-3,2.6744767782765745E-3,-2.854113506878067E-3,7.7708161355921732E-4,1.5240313189697893E-3,1.3383743750830193E-4,-3.4945464462375255E-3,-2.7630493555724812E-3,-4.6299755078249702E-3,-5.5238304725237063E-3,1.180210796891354E-4,-7.0460082654490077E-4,1.7291139893297637E-3,-1.8702858440645448E-3,-4.6030521046227987E-4,6.7924902595771193E-3,3.0005560374609199E-4,3.1562295901040355E-3,3.2584331626384481E-3,3.5299541854527197E-3,-3.5593237626203415E-3,-1.6116388272308213E-4,-9.5398403352050219E-4,3.4050369399051287E-3,7.9836497889847896E-4,-4.0538171982328272E-3,1.2024856843050064E-3,-9.0870501575214047E-4,-5.6294585700594844E-3,1.0996281526532068E-3,null,-2.3783058855642025E-15,-2.1371793224034263E-15,1.8735013540549517E-15,-1.1796119636642288E-16,-2.8727020762175925E-15,-1.9359513991901167E-15,-2.3939183968479938E-15,1.4675760606763788E-15,-4.649058915617843E-16,-4.649058915617843E-16,-2.0816681711721685E-17,2.733924198139448E-15,5.3637649877202875E-15,-4.2604808569990382E-15,6.2450045135165055E-16,1.4779844015322396E-15,7.0082828429463007E-16,3.7331249203020889E-15,6.4531713306337224E-16,1.609823385706477E-15,-6.2450045135165055E-17,-1.3253287356462806E-15,-1.0408340855860843E-17,8.7430063189231078E-16,-1.5308934675495323E-15,-7.2164496600635175E-16,4.7531423241764514E-16,-1.3773704399255848E-15,-4.496403249731884E-15,-1.3600232051658168E-15,-2.6714741530042829E-16,-3.5874081483200371E-15,-2.7547408798511697E-15,-1.6514567491299204E-15,-2.7720881146109377E-15,-3.6984304507825527E-15,-3.1988300897012323E-15,-9.0205620750793969E-17,2.4980018054066022E-15,-8.3266726846886741E-17,-6.9388939039072284E-17,2.931682674400804E-16,2.8657631823136853E-15,-1.3079815008865125E-15,-1.368154721459458E-15,5.1625370645069779E-15,-1.214306433183765E-15,1.9847404969519644E-15,3.1641356201816961E-15,-9.4022012397942945E-16,-8.5348395018058909E-16,1.1483869410966463E-15,1.1102230246251565E-15,-1.1726730697603216E-15,-9.7664931697494239E-16,-1.2073675392798577E-15,-3.0878077872387166E-15,1.5369649997154511E-15,1.6271706204662451E-15,3.8927194800919551E-15,8.6042284408449632E-16,-6.1894933622852477E-15,-1.3600232051658168E-15,-2.8588242884097781E-15,2.7911700728466826E-15,-4.6143644460983069E-16,-2.7582103268031233E-15,-4.4686476741162551E-15,-1.3704315460216776E-16,2.5251068597187398E-15,-3.3202607330196088E-15,-4.2257863874795021E-15,2.4702462297909733E-15,-7.3823325924537997E-16,-1.5334955527634975E-15,1.9845236565174673E-15,3.1502578323738817E-15,2.6610658121484221E-15,1.6237011735142914E-15,6.3837823915946501E-16,-5.9847959921199845E-17,1.2403272853234171E-15,-2.3939183968479938E-15,7.2858385991025898E-16,-3.3306690738754696E-16,-4.3992587350771828E-15,1.1102230246251565E-15,-5.6907603629419157E-15,-1.9220736113823023E-15,-5.2596815791616791E-15,5.2735593669694936E-16,1.6306400674181987E-16,4.0245584642661925E-16,2.6367796834847468E-16,6.0368376963992887E-16,1.4432899320127035E-15,-2.2690183065776637E-15,1.7937040741600185E-15,1.915134717478395E-15,-1.9741153156616065E-15]
[-3.9509326661985641E-3,-4.9665970617295812E-3,2.6393742450923209E-3,2.2279799802729537E-3,-5.6317676567579095E-3,3.1313743164166925E-3,-8.9815063929189129E-3,-2.8402778707178173E-3,9.6983524050747207E-4,3.8838816658379716E-3,-1.7898816992215638E-3,8.7301854360996543E-3,4.7040003349391622E-3,8.3442585429205612E-3,4.0020485394872595E-4,-1.8249034775745256E-3,-1.6879325048431741E-3,5.3726271567041692E-3,-2.1014948491982935E-3,-1.8756658414738996E-3,1.6243267736884281E-3,-2.687103459769817E-3,-2.3893249132411276E-3,-5.5939952034184341E-3,-3.9861683027645248E-4,4.7430169501303191E-3,-1.9870445062556892E-3,-1.023565486536883E-3,-4.7426893598534973E-3,2.2254533976376347E-3,-7.1063308966933404E-4,-6.0569138446043584E-3,-1.9265573780134276E-3,-1.3428693652095657E-3,-1.4889101089872779E-3,-4.1867198186422714E-3,-5.7220743115567803E-4,-3.9746321201982113E-3,7.8055210501636746E-3,6.6897200876714653E-3,1.9387163789218141E-3,1.1952594983084856E-3,7.4737973819884E-3,-7.175593234039514E-4,-1.2798725812782454E-3,8.4954874200676607E-3,-1.0312457479806658E-3,1.5592687495891769E-3,5.4881676649826865E-3,-4.2744978670139506E-3,-1.8623403291855257E-3,5.2306691276707788E-3,-7.3231906370802805E-4,-1.6706137461681488E-3,-3.9708589686272937E-3,-7.2607717647484521E-3,-2.8565934937900676E-3,4.6222410655229109E-3,2.4738679654594331E-3,4.8399059906054451E-3,4.9282657890946102E-3,-4.2608889940823798E-3,-4.2449283884211488E-3,5.3319981283817455E-3,4.3285844137909927E-3,-2.4792663680835861E-3,1.0460154526992259E-3,-6.2089971576888567E-3,1.4234706689106185E-3,2.8816948371917978E-3,-7.3436680791431428E-3,-5.069599489308089E-3,5.0031251807499105E-4,-1.218018116974478E-3,-1.1441000111063473E-3,3.7706517159246905E-3,4.3893064608828405E-3,-9.6602534513239274E-4,3.8445249965213825E-3,4.8978327175441885E-3,2.373994729814794E-3,-6.4889039742820759E-4,-5.1744649899097116E-3,-2.4161870053087567E-3,3.7183342135910274E-4,-7.3618579012863566E-3,2.0856285773074019E-3,-8.006407888124574E-3,-8.7557554017405595E-4,-5.7538406938553903E-3,-5.9184148439709412E-4,9.6674700638487679E-4,-4.2017190690932845E-3,-1.346151569127104E-3,-1.8056704438566633E-4,5.6944952663069833E-3,6.265018338478739E-4,1.921738940759849E-3,3.3404525518741725E-3,-1.8393050548924148E-4,null,1.6792123247455493E-15,1.3045120539345589E-15,6.3837823915946501E-16,-5.5511151231257827E-17,-4.5519144009631418E-15,-2.5951463200613034E-15,2.1094237467877974E-15,-3.0045410603918299E-15,-3.4278135885301708E-15,-2.8449465006019636E-16,-1.0408340855860843E-16,-5.2735593669694936E-16,1.5265566588595902E-15,-1.6653345369377348E-15,5.2041704279304213E-16,3.7470027081099033E-16,1.3530843112619095E-15,-1.4155343563970746E-15,-1.5265566588595902E-16,3.9690473130349346E-15,1.1345091532888318E-15,6.106226635438361E-16,1.9081958235744878E-15,3.6637359812630166E-15,2.1475876632592872E-15,1.0755285551056204E-15,-5.5511151231257827E-16,6.2450045135165055E-16,3.1918911957973251E-16,-3.1780134079895106E-15,-8.81239525796218E-16,6.9388939039072284E-16,-1.4849232954361469E-15,1.6653345369377348E-16,-7.2164496600635175E-16,-3.7470027081099033E-16,-6.9388939039072284E-17,7.4940054162198066E-16,2.4980018054066022E-15,5.1625370645069779E-15,-2.2065682614424986E-15,1.457167719820518E-16,3.6221026178395732E-15,2.3661628212323649E-15,-3.5084782301630923E-16,3.0531133177191805E-16,-8.9858676055598607E-16,-6.0173220572945496E-16,8.6042284408449632E-16,7.7715611723760958E-16,-3.3306690738754696E-16,-1.762479051592436E-15,5.4817261840867104E-15,1.0547118733938987E-15,2.3817753325161561E-15,5.9396931817445875E-15,-6.7307270867900115E-16,2.0192181260370035E-15,-9.298117831235686E-16,2.3453461395206432E-15,-5.5511151231257827E-17,1.6653345369377348E-16,1.9984014443252818E-15,-1.0685896612017132E-15,2.0122792321330962E-15,-3.1571967262777889E-16,7.4593109467002705E-16,1.915134717478395E-15,1.8960527592426502E-15,-2.400857290751901E-15,2.1094237467877974E-15,-2.9004576518332215E-15,3.4833247397614286E-15,-2.9967348047499343E-16,1.3877787807814457E-16,-9.8532293435482643E-16,-3.8857805861880479E-15,1.2073675392798577E-15,-6.1617377866696188E-15,-1.5681900222830336E-15,-8.9815307968699187E-16,8.6736173798840355E-16,2.8310687127941492E-15,9.1593399531575415E-16,-7.0776717819853729E-16,4.4408920985006262E-15,-1.4849232954361469E-15,-3.075664722906879E-15,-1.5265566588595902E-15,2.7061686225238191E-15,1.3877787807814457E-17,1.1102230246251565E-16,-5.620504062164855E-16,-7.4940054162198066E-16,1.3322676295501878E-15,-8.3266726846886741E-17,-2.4841240175987878E-15,-1.5543122344752192E-15,2.0261570199409107E-15,3.434752482434078E-16]
[1.7645755863253149E-3,2.9057375795497241E-4,-1.8983975865176533E-3,-2.3499144206617258E-3,-2.8189867816708346E-4,-9.7066662187425242E-4,1.9522227852360405E-3,9.2616479331911953E-4,-3.9124064380445297E-3,-1.5340552756544965E-3,1.8226813654620151E-4,-4.0249806103867325E-3,-1.5336297053610949E-3,-1.7815703583492159E-3,4.3498209104461861E-4,2.348975982332119E-3,2.9615457975806238E-3,5.5975517200716881E-4,-4.4645805151153774E-5,-1.8529461552545241E-3,-1.0611522222863444E-3,-8.2600228904482372E-4,7.6356635489649883E-4,-1.0794783227479827E-3,1.6195545141423702E-4,-5.1523305745769141E-4,-3.5039857920927373E-4,1.1260403116691786E-3,9.4213080154147177E-4,3.4285841316931119E-4,-1.6110983173431776E-3,1.6262239136700044E-3,-1.1162973428497209E-3,-1.7069266582230124E-3,2.881155471182912E-3,9.6386009431475596E-4,2.352654634039871E-3,1.2099373581957106E-3,1.9857989275461326E-4,-2.3042829941588667E-3,-1.8729511260530158E-3,-6.955150434809226E-4,-1.8560098926042208E-3,2.4226226842195323E-3,6.1137146003501994E-4,8.6602943945646496E-4,-1.8615902208145006E-5,-2.1169547026378601E-3,1.0023084418365307E-4,1.6902492945090127E-3,-9.914912539310775E-4,-1.9898395089859872E-3,2.6117752804638776E-3,1.2355168306879766E-3,3.1892101324990756E-3,1.452197504505021E-3,-1.6885010750912067E-3,-2.2583388501573099E-3,-9.591868406529239E-4,-2.3660383652516826E-3,1.5536628598860111E-3,-9.802763150442114E-4,-1.0708213507602238E-3,-1.0319279311694202E-3,-1.8188707607491414E-3,1.9688677880100253E-3,-1.3754918567690866E-3,2.4067935093785679E-3,-1.0002652190313787E-3,-2.0698662911150653E-3,3.4993391866754106E-3,2.9574807037021939E-4,8.9085248710450021E-4,1.054635821369179E-3,6.0300659764988575E-4,-2.7917450565432306E-3,-1.8346428219748672E-4,1.7323063309892619E-3,7.1402198018264768E-5,-6.152131919109667E-4,-8.9613790165733829E-4,5.0117709607936842E-4,1.4398631160988306E-3,2.1228992867788178E-3,-1.7229533252914918E-3,4.9830444189079936E-5,-7.1468080588516945E-4,3.2373587462277741E-3,-1.1453511328115306E-3,1.2911388693529367E-3,3.0148581820038768E-3,2.5760517019393159E-4,3.2366958650135785E-3,-1.602452628260205E-3,-1.4885763598355964E-3,-2.0693472639659083E-5,-2.3707512145537848E-3,-1.622320175670927E-3,1.7421884438435654E-3,1.1099042740593927E-3,null,-1.1518563880485999E-15,-3.4972025275692431E-15,2.1094237467877974E-15,-4.2327252813834093E-15,9.7144514654701197E-16,-3.1918911957973251E-15,7.7715611723760958E-16,1.8873791418627661E-15,1.9428902930940239E-16,4.5796699765787707E-16,-3.8857805861880479E-16,1.5265566588595902E-16,3.524958103184872E-15,-2.3314683517128287E-15,-1.2351231148954867E-15,-1.5404344466674047E-15,1.2490009027033011E-16,6.1339822110539899E-15,7.2858385991025898E-16,-3.7747582837255322E-15,-6.5225602696727947E-16,-3.6082248300317588E-15,1.9567680809018384E-15,4.1078251911130792E-15,5.2041704279304213E-17,-3.8025138593411612E-15,3.7470027081099033E-16,1.9428902930940239E-16,-2.7478019859472624E-15,2.7755575615628914E-17,-2.7061686225238191E-15,-1.0130785099704553E-15,-2.9420910152566648E-15,-1.9428902930940239E-15,1.5820678100908481E-15,-3.2751579226442118E-15,-1.7763568394002505E-15,3.9968028886505635E-15,4.1078251911130792E-15,1.3877787807814457E-15,-1.9706458687096529E-15,1.3739009929736312E-15,3.1918911957973251E-15,-4.8572257327350599E-16,1.8243869956413583E-15,-1.4988010832439613E-15,1.1900203045200897E-15,1.014596393011935E-15,-1.7208456881689926E-15,-7.0776717819853729E-16,-3.6082248300317588E-15,-6.9388939039072284E-17,1.3877787807814457E-15,-2.2343238370581275E-15,4.9057979900624105E-15,-2.1094237467877974E-15,-3.5943470422239443E-15,1.6792123247455493E-15,-3.3306690738754696E-16,-1.0130785099704553E-15,-1.1102230246251565E-16,-5.9396931817445875E-15,1.5820678100908481E-15,2.1649348980190553E-15,-7.6327832942979512E-17,-7.1123662515049091E-16,-2.6853519408120974E-15,-3.2474023470285829E-15,-5.0827397846120448E-15,-1.37997252513955E-15,1.0269562977782698E-15,1.0269562977782698E-15,3.5527136788005009E-15,-1.3903808659954109E-15,-2.1649348980190553E-15,-3.5943470422239443E-15,1.9984014443252818E-15,3.5388358909926865E-15,5.9119376061289586E-15,5.5511151231257827E-16,-7.0603245472256049E-16,2.8935187579293142E-15,4.1355807667287081E-15,2.6367796834847468E-15,-6.6613381477509392E-16,-2.8033131371785203E-15,-1.1102230246251565E-16,-2.050443148604586E-15,-1.9984014443252818E-15,-2.0122792321330962E-15,3.3029134982598407E-15,2.4286128663675299E-16,5.0931481254679056E-15,-2.7478019859472624E-15,-2.0261570199409107E-15,-1.3600232051658168E-15,-2.4980018054066022E-15,2.9143354396410359E-16,4.3576253716537394E-15,-1.8110513089197866E-15]
[3.1842403714690029E-4,-2.5272568017516289E-3,1.1654706399787517E-3,6.6951370430763798E-4,-2.1686130614811858E-3,1.3485168133902747E-3,-1.6507392958457537E-3,-6.3650240485625665E-5,1.9530406575086435E-3,-1.082182591693651E-3,-7.0499731738766082E-4,4.1430249789725423E-3,3.0416775780750414E-3,3.8027300767265334E-3,-1.0118059917521706E-3,-2.5052410000895621E-4,1.8523138089377889E-3,2.5243530779421124E-3,1.4063767623309794E-3,-2.9668828533885717E-3,-1.3699619848006664E-3,4.7987239588535505E-4,5.7049086362265288E-4,1.4423781347529909E-3,8.2154077198006489E-4,-4.5991625751559077E-4,-1.833353942477653E-3,-1.1239504101375833E-3,-3.2059154209683523E-3,4.1333873787186736E-4,-2.0147935784343737E-3,-3.5163949102079849E-3,-1.3998589581488469E-3,-4.2161652882197648E-4,-1.2713945557172857E-3,-9.2531470041335622E-4,-1.2432546955182366E-3,1.2772779959090625E-3,1.766009183799879E-3,4.0691165790427471E-3,1.0273874503450413E-3,1.5960815979826598E-3,5.3312249572151785E-3,-2.680462002775842E-4,8.1115131577186956E-4,-7.0273089001813638E-4,3.1242922551475072E-6,5.2887373809309371E-4,-7.2242849763052913E-4,-2.7091600311533225E-3,-2.4016740304403056E-3,3.8112151391563905E-4,-2.0615006927491419E-3,-1.0917086397457861E-3,-2.3859175291438069E-3,-6.3073251534618326E-3,-1.0945822049738742E-3,2.709564978891528E-3,1.5382894650747003E-3,1.4455329305650909E-3,2.7676822929325064E-3,-4.0626851904665565E-3,7.402319204714451E-4,2.9997016026921709E-3,1.9816050044526939E-3,-3.3589363399836182E-4,-1.3062993275158921E-3,-1.4547505323201859E-3,-2.5597274552236505E-5,2.5389511849152036E-3,-4.7442349805578718E-3,-3.0474203135584239E-3,3.8408606207828004E-3,-1.8141889789363775E-3,-2.8419089460395412E-3,-7.7910616910988105E-4,1.4735852654015388E-3,-1.1451295147390658E-3,3.2463854803610674E-3,4.8040656843524227E-5,1.8636450180079566E-3,1.2552694677713553E-3,-3.5836443999567404E-3,2.1581188927546628E-3,1.9170550616030038E-4,-3.2984765719247791E-3,-6.5351398227488664E-4,-2.921504469049012E-3,-1.6465923921802534E-3,-8.3840868986960742E-4,1.0633415275994205E-3,1.8846694817678327E-3,-6.700398719913682E-4,-1.0274532335045735E-3,6.8551944150121384E-4,1.7380026893136686E-3,1.7880581829701361E-3,2.21892487957749E-3,4.5294845853346375E-4,-7.656617837521341E-4,null,6.2103100439969694E-16,3.0531133177191805E-16,5.134781488891349E-16,-3.920475055707584E-16,-1.1102230246251565E-16,-1.8735013540549517E-15,2.4147350785597155E-15,-8.8817841970012523E-16,1.9706458687096529E-15,-1.0130785099704553E-15,0,3.1918911957973251E-16,3.8857805861880479E-16,-1.4432899320127035E-15,4.0939474033052647E-16,7.2858385991025898E-16,-1.700029006457271E-15,-6.6613381477509392E-16,8.1878948066105295E-16,2.0539125955565396E-15,-6.106226635438361E-16,-3.8857805861880479E-16,-1.0963452368173421E-15,4.163336342344337E-16,-2.7582103268031233E-16,1.6237011735142914E-15,-4.163336342344337E-16,-8.4654505627668186E-16,6.5225602696727947E-16,-3.3306690738754696E-16,-2.2204460492503131E-16,-1.5265566588595902E-16,6.3837823915946501E-16,1.5265566588595902E-15,-6.2450045135165055E-16,-5.8286708792820718E-16,1.0547118733938987E-15,8.1878948066105295E-16,3.6359804056473877E-15,2.0400348077487251E-15,1.5265566588595902E-16,2.0122792321330962E-16,-3.7747582837255322E-15,-1.0408340855860843E-15,-8.7386695102331657E-17,1.4432899320127035E-15,-4.3368086899420177E-16,3.1268390654481948E-16,-7.4940054162198066E-16,-3.8857805861880479E-16,2.3592239273284576E-16,-9.5062846483529029E-16,8.1878948066105295E-16,6.4531713306337224E-16,-4.4408920985006262E-16,3.524958103184872E-15,1.2490009027033011E-16,-1.4016565685892601E-15,3.8857805861880479E-16,2.1233015345956119E-15,-1.27675647831893E-15,-1.0269562977782698E-15,9.9920072216264089E-16,-1.4710455076283324E-15,5.134781488891349E-16,-2.8275992658421956E-16,5.2735593669694936E-16,1.2628786905111156E-15,-4.7878367936959876E-16,-7.4072692424209663E-16,1.2490009027033011E-16,8.1878948066105295E-16,9.7144514654701197E-16,1.6089560239684886E-16,3.6082248300317588E-16,-1.0269562977782698E-15,-1.9428902930940239E-16,2.9837243786801082E-16,-3.1086244689504383E-15,-1.3600232051658168E-15,-1.3461454173580023E-15,6.9388939039072284E-17,1.1102230246251565E-15,1.3530843112619095E-16,8.4654505627668186E-16,1.3877787807814457E-16,-5.9674487573602164E-16,1.1102230246251565E-15,-8.0491169285323849E-16,-5.6898930012039273E-16,-6.106226635438361E-16,4.649058915617843E-16,-2.8449465006019636E-16,7.7715611723760958E-16,1.6653345369377348E-16,-8.3266726846886741E-17,-9.7144514654701197E-17,-5.134781488891349E-16,2.7755575615628914E-16,-2.3245294578089215E-16]
[2.550860317732126E-3,1.0526709090062575E-3,-1.785543005482624E-3,-2.2234055420567956E-3,-7.7817671021898388E-4,-1.2538577976716025E-3,3.2628630856753678E-3,-7.3695901694571862E-4,-3.3290330981527723E-3,-1.7352667209506079E-3,6.6082562443042564E-4,-4.8800343830845104E-3,-2.0835804669656387E-3,-3.030098914133042E-3,-9.680800814951745E-4,3.0760782897736117E-3,2.2336050429249725E-4,1.5623257164836494E-3,-1.5503070204500512E-5,-1.9899153746071167E-3,-6.3482725725858317E-4,-1.1954299501627387E-3,6.6490620237279652E-4,-3.4414328516461034E-3,1.8361082575746424E-4,2.3065202534573048E-4,-1.0759416722713017E-3,9.4417519404331744E-4,5.8961287535653324E-4,3.2407341453336998E-3,1.1303304594181428E-4,2.1555501312850384E-3,-6.6875783620986662E-4,-2.3969275572597623E-3,3.370665292537052E-3,2.1253361120299194E-3,3.2508509393164285E-3,-6.7271585809541715E-4,-9.525565723498946E-4,-1.3307776127291255E-3,-3.5050798369439858E-3,-1.582216610113177E-3,-3.3326848038680553E-3,2.485121448327183E-3,2.3236341373484605E-4,1.8882569677363312E-3,2.3776165124775856E-5,-1.9017324050573385E-3,1.5463162582298399E-3,2.9184437722092425E-3,-1.2076377495150821E-3,-1.7146279725161785E-3,3.5597638329502791E-3,4.332835214252377E-4,2.9473234545283286E-3,3.8902117874752154E-3,-1.8380349269433657E-3,-1.6357718165123352E-3,-2.1773891640593955E-3,-3.0322942182767782E-3,-1.1791800045991329E-3,-1.0978810872804491E-3,-8.9296370386870581E-4,-1.2208234979503034E-3,-2.0566774592117344E-3,1.0795579305640285E-3,8.516558796555719E-4,2.3043567995637425E-3,-1.2667903608771039E-3,-1.9165441039770649E-3,3.7018500006983624E-3,1.6355201592553516E-3,2.297856052974403E-4,7.8733550683526647E-4,2.142179997592961E-4,-1.9314534032552385E-3,-2.1139034922973513E-4,2.7384485795347397E-3,-2.9169028269357996E-4,1.2837002362349548E-3,-2.9450466393096428E-3,4.1829598992483406E-4,2.1563694565204746E-3,3.02302239976206E-3,-1.6256555993082818E-3,2.7398227018417016E-5,1.3542952513186999E-4,4.1807594803974424E-3,-1.9004457085405335E-3,5.49215188555098E-4,2.7576793646220156E-3,-1.7697022062589164E-3,2.4998378087384026E-3,-1.5434596322247435E-3,-4.3448041361236766E-4,-7.2383267836322778E-4,-3.0408817554079082E-3,-1.0104779812198227E-3,1.9038470348808562E-3,6.0662568731197552E-4,null,4.8299038379884252E-15,2.8796409701214998E-16,8.3266726846886741E-17,5.8416813053518979E-16,2.6367796834847468E-15,1.9862583799934441E-16,1.4935969128160309E-15,-2.9577035265404561E-16,1.2993078835066285E-15,-2.7287200277115176E-15,-7.6674777638174874E-16,5.4860629927766524E-15,2.2638141361497333E-15,4.3472170307978786E-15,1.0581813203458523E-15,2.2967738821932926E-15,5.4739199284448148E-15,-3.5388358909926865E-16,1.7607443281164592E-16,1.7208456881689926E-15,-1.7126057516581028E-15,-5.7592819402429996E-16,9.9052710478275685E-16,-7.0360384185619296E-15,-1.3092825434934952E-15,-3.3644961816570174E-15,-1.7806936480901925E-15,7.814929259275516E-16,-9.5756735873919752E-16,-2.2551405187698492E-17,-1.9914625504213745E-15,-8.6215756756047313E-16,-7.337880303381894E-16,-2.4147350785597155E-15,4.163336342344337E-17,2.9186722483309779E-15,2.6948929199299698E-15,-1.4363510381087963E-15,1.1587952819525071E-15,1.4346163146328195E-15,-3.0878077872387166E-16,-5.8807125835613761E-16,-4.9942688873372276E-15,8.5348395018058909E-16,5.1389827723097303E-16,-6.3143934525555778E-16,-1.5764299587939234E-15,1.70889235921734E-15,2.6836172173361206E-15,2.2551405187698492E-16,1.9810542095655137E-15,7.1730815731640973E-16,1.420738526825005E-15,1.321859288694327E-15,7.4593109467002705E-17,-2.2655488596257101E-15,6.8868521996279242E-16,-1.2307863062055446E-15,8.7343327015432237E-16,-2.7772922850388682E-15,-1.1622647289044608E-15,-2.293304435241339E-15,-5.5164206536062466E-16,-4.145989107584569E-16,6.0888794006785929E-16,1.0989473220313073E-15,6.4748553740834325E-16,-1.1275702593849246E-15,2.1332761945824785E-15,-4.2248648156328894E-16,-2.6706067912662945E-15,4.2500725161431774E-16,2.2898349882893854E-15,-8.9373495583411344E-16,1.5092094240998222E-16,8.2746309804093698E-16,-1.5508427875232655E-15,-1.2290515827295678E-15,-3.2578106878844437E-15,1.4484941024406339E-15,-1.3915734883851449E-15,-8.1011586328116891E-16,1.8682971836270212E-15,1.6523241108679088E-15,-5.0480453150925086E-16,8.2538142986976482E-15,-1.9862583799934441E-16,-1.6022339704990785E-15,-2.886579864025407E-15,3.9300160348254565E-15,1.4623718902484484E-15,-2.8709673527416157E-16,-2.0729945537922845E-16,1.412064909445121E-15,1.7694179454963432E-16,-1.8839096949108125E-15,-2.3297336282368519E-15,-9.7578195523695399E-16,2.1302404284995191E-15,6.7090430433403014E-16]
[-2.4593728479936415E-3,-3.4606455971644798E-3,2.1287226661263572E-3,1.5762189935663192E-3,-2.2894248831490539E-3,3.2285074391871366E-3,-4.0191799090170174E-3,-2.7918768757238771E-3,2.0321926205420131E-3,2.2727026245405917E-3,-1.5926426464269536E-3,5.7187162397407156E-3,4.4327692137191383E-3,4.7324227594994937E-3,-8.7655995949487359E-4,-8.5859121669677513E-4,-3.2678730400741624E-3,2.5522956263942225E-3,3.0151771329638963E-4,-7.1201197335241421E-4,9.4166362438051162E-4,1.7757163459231114E-3,-2.5447082866768378E-3,-1.292439433814637E-3,-9.7166947024254801E-4,2.2306617675845464E-3,-2.7172909158301806E-3,-6.186506846174273E-4,-2.2823967649244796E-3,2.9023100909559012E-4,1.4218216018250802E-4,-1.6439627960172674E-3,1.2838846864800197E-4,8.5598020675261861E-4,-1.4504151866594215E-3,-1.5030416132414055E-3,-2.1321030470629432E-3,-2.5561322467266569E-3,3.8821552956737142E-3,5.1951294328868303E-3,3.0956487228940206E-3,-2.5626852188547552E-4,4.3994135156160295E-3,6.1584673288834178E-4,2.0230449631685493E-4,2.7691766552371557E-3,-4.7965396364265631E-4,1.3933700827322331E-3,3.47092990640356E-3,-1.9274268333497821E-3,-2.6508496501234603E-4,1.8271890024854132E-3,-2.2114428154931358E-3,-1.0154521421466304E-3,-4.161195956365403E-3,-2.1486021464083922E-3,-4.2503769657211712E-4,2.1462346689998537E-3,6.7052606591564649E-4,2.7724423346015825E-3,2.6002086267177104E-3,-1.1653561423940087E-3,-6.48071872848904E-4,3.416659503028034E-3,2.2355864541116098E-3,-3.8107247432070069E-3,3.0105057429949279E-3,-2.9751774289312441E-3,3.2096354052399993E-3,2.0055499680268628E-3,-5.1484429610687303E-3,-1.5884107618154785E-3,1.0146643116776372E-3,-2.2555490855038726E-3,-1.9752331681851822E-3,3.3107013334292053E-3,2.6304194802561915E-4,-1.961477442933077E-3,1.6981703821117508E-3,9.0906351727221106E-4,7.5762185644144325E-4,-7.6398043536630956E-4,-3.5446431970814658E-3,-7.5032706337563348E-4,1.4279455534327247E-4,-2.3129906120542159E-3,2.2631496522066905E-3,-4.2269937905849387E-3,-6.4093959859770058E-4,-3.049150835467084E-3,-1.6784120331574215E-3,3.1025338608194698E-4,-5.0255811565865123E-3,-1.4280383585148035E-3,2.6062940392738887E-3,2.2275343471012352E-4,3.2561382258478062E-3,2.5347138092038178E-4,-1.0439118994571811E-3,-2.6949821050455591E-4,null,-1.5005358067199381E-16,1.0963452368173421E-15,1.0026701691145945E-15,6.852157730108388E-17,-3.3445468616832841E-15,-1.259409243559162E-15,1.8769708010069053E-15,9.3328123007552222E-16,2.8796409701214998E-16,-9.3328123007552222E-16,5.4470317145671743E-16,-3.8337388819087437E-15,-2.1649348980190553E-15,-1.429412144204889E-15,-2.4286128663675299E-16,5.386316392907986E-16,-1.8283985436795547E-15,2.55351295663786E-15,5.2041704279304213E-17,1.9428902930940239E-15,2.8796409701214998E-16,5.4817261840867104E-16,-1.457167719820518E-15,-9.6450625264310474E-16,-5.2475385148298415E-17,1.6306400674181987E-15,6.591949208711867E-17,4.4235448637408581E-16,-1.6826817716975029E-15,1.5265566588595902E-16,-6.3143934525555778E-16,5.9674487573602164E-16,3.4694469519536142E-18,9.7144514654701197E-17,9.4368957093138306E-16,7.2164496600635175E-16,-2.1233015345956119E-15,-1.6063539387545234E-15,-1.6445178552260131E-15,-2.4320823133194835E-15,-7.6327832942979512E-16,-1.0408340855860843E-16,3.8892500331400015E-15,-1.0234868508263162E-15,5.9544383312903904E-16,3.8441472227646045E-15,1.9949319973733282E-17,-1.3055420459984202E-15,9.0205620750793969E-16,6.6266436782314031E-16,-7.3899220076611982E-16,-5.4470317145671743E-16,-4.40619762898109E-16,6.9388939039072284E-18,6.591949208711867E-16,2.6784130469081902E-15,-6.0368376963992887E-16,-6.5746019739520989E-16,4.145989107584569E-16,3.0444397003392965E-15,2.2204460492503131E-16,-5.5511151231257827E-17,-6.9388939039072284E-16,2.7061686225238191E-16,3.6429192995512949E-16,1.5798994057458771E-15,2.0816681711721685E-16,-8.6042284408449632E-16,2.8579569266717897E-16,-9.536642309182497E-16,5.6898930012039273E-16,-4.2674197509029455E-16,3.2612801348363973E-16,-3.3003114130458755E-16,-9.540979117872439E-17,-2.7061686225238191E-16,1.1587952819525071E-15,-9.783840404509192E-16,2.9976021664879227E-15,1.5126788710517758E-15,5.3158432516964282E-16,5.1521287236511171E-16,2.9837243786801082E-16,-8.2833045977892539E-16,-1.4398204850607499E-15,1.5681900222830336E-15,8.3960616237277463E-16,2.6320091939258106E-15,1.7416623698807143E-15,-1.7763568394002505E-15,1.5265566588595902E-15,-9.8532293435482643E-16,-9.4542429440735987E-16,9.4715901788333667E-16,-5.7592819402429996E-16,2.4980018054066022E-15,-9.055256544598933E-16,-5.2215176626901894E-16,-1.8041124150158794E-15,3.8077180297690916E-16]
[2.2887108766746368E-3,-2.0159714308285444E-3,4.9012384594704166E-4,-1.7491987842806166E-3,-2.0822058212203003E-3,8.612687667979925E-4,1.0376393555858558E-3,-6.2370295613522792E-4,2.0664685817759471E-4,-3.3126389447521109E-3,-1.9338281676102546E-4,-8.7382228055792001E-4,1.0247306611115546E-3,1.4929712398067865E-3,-1.681765968987257E-3,2.9586580774051247E-3,5.8844235737001444E-4,1.510400656267306E-3,1.2468087262886521E-3,-3.0700596674934767E-3,-1.9412377650809547E-3,-8.1100472173557936E-5,6.4732857229829173E-4,-1.6701567524914597E-3,2.6896745052106062E-4,-1.8349420186101085E-3,-2.1138895513162928E-3,3.5798225986864246E-4,-1.9111607661667701E-3,2.3633110401681512E-3,-1.4255340058069281E-3,3.4517187799984657E-4,-1.7132280487682961E-3,-2.9007040119062247E-3,9.0725708459394325E-4,1.5496053145196689E-3,2.3668143744738236E-4,-1.6595239536594183E-3,5.047225204623582E-4,2.2248905530625955E-3,-2.0224303838112336E-3,4.9934608307683568E-4,1.1619324662998467E-3,2.5513752049447381E-3,5.7260266649207937E-4,4.0928556766564556E-4,1.2308123392970338E-3,3.656589062360821E-4,6.9760783121042301E-6,7.4959069289034196E-4,-1.1914418227997781E-3,-1.7600540438361478E-4,1.1767238992189167E-3,-7.2514534668301428E-4,2.1783046534645063E-4,-2.7651968341553595E-3,-1.8387830749740266E-3,1.6206058786928381E-3,-2.7051516409912576E-4,-6.6650141796964219E-4,3.0164932434898085E-3,-2.2763717076606047E-3,-7.2460434342024873E-4,2.3284526516057441E-3,-8.7534304237223029E-4,7.6227876052616561E-4,-8.9452920841210292E-4,6.5500411074394726E-4,-1.222015398987762E-3,-9.9767816279106958E-4,-1.1567571840020038E-4,-1.1428426330001031E-3,4.0387744708405933E-3,-1.3106209942705457E-4,-2.3122440121171907E-3,-2.5985878437817544E-3,-1.5084720508382515E-4,1.7656101674749921E-3,1.2598210801688706E-3,1.0848261012753417E-3,-2.2526028733877706E-4,6.5742946432415211E-4,-1.09563261996574E-3,3.7617586981428322E-3,-1.8487044281865414E-3,-2.3371047244436804E-3,8.9023577586992502E-4,2.4416820174383911E-3,-2.6659899708483766E-3,2.8050750549163969E-4,2.8997518303284743E-3,-5.5829892985684282E-4,9.7480413358560928E-4,-2.12405932615272E-3,3.1076063539567958E-4,3.5962543406205721E-4,4.3143236255845617E-4,-2.2928328531715089E-4,1.2601431801700694E-3,2.7411668784415775E-4,null,-1.7468665403086447E-15,-8.8817841970012523E-16,1.033895191682177E-15,6.2970462177958098E-16,-2.7894353493707058E-15,1.1032841307212493E-15,-5.3568260938163803E-15,-1.7763568394002505E-15,2.0122792321330962E-15,1.1726730697603216E-15,-1.9428902930940239E-16,2.1233015345956119E-15,3.9343528435153985E-15,5.1902926401226068E-15,-8.7430063189231078E-16,1.1969591984239969E-16,-4.5102810375396984E-16,2.9559688030644793E-15,-1.259409243559162E-15,-2.5118795932144167E-15,1.7208456881689926E-15,3.8857805861880479E-16,-2.5222879340702775E-15,-5.9674487573602164E-16,-5.629177679544739E-16,7.9103390504542404E-16,-1.609823385706477E-15,-2.3939183968479938E-16,-8.1185058675714572E-16,1.8041124150158794E-16,-2.0122792321330962E-15,-3.3931191190106347E-15,2.6367796834847468E-16,-2.9073965457371287E-15,-1.9810542095655137E-15,-4.8572257327350599E-16,-2.6957602816679582E-15,-1.8943180357666733E-15,2.4563684419831588E-15,6.1894933622852477E-15,1.2490009027033011E-15,1.3877787807814457E-16,7.5217609918354356E-15,1.0894063429134349E-15,2.0670314418436142E-16,7.8964612626464259E-15,4.6837533851373792E-17,3.8716859579457363E-16,-3.2057689836051395E-15,-1.5022705301959149E-15,-7.0082828429463007E-16,9.9226182825873366E-16,-4.7878367936959876E-16,-2.0469737016526324E-16,-1.0547118733938987E-15,-4.163336342344337E-16,1.4918621893400541E-15,2.6818824938601438E-15,-5.4817261840867104E-16,1.4398204850607499E-15,-6.2450045135165055E-16,-3.1225022567582528E-15,4.8572257327350599E-16,5.1070259132757201E-15,1.1345091532888318E-15,-1.4918621893400541E-16,1.4710455076283324E-15,-3.1016855750465311E-15,9.540979117872439E-17,3.5865407865820487E-16,-1.9775847626135601E-16,-2.9490299091605721E-15,1.3877787807814457E-17,-2.4253602598500734E-16,5.2041704279304213E-17,8.4654505627668186E-16,2.9282132274488504E-15,1.2038980923279041E-15,2.2204460492503131E-16,9.4368957093138306E-16,1.1353765150268202E-15,5.1868231931706532E-16,-3.4902636336653359E-15,7.9797279894933126E-17,-3.6082248300317588E-16,-4.0245584642661925E-16,8.3266726846886741E-17,1.0755285551056204E-15,-1.2490009027033011E-15,-2.3800406090401793E-15,1.5543122344752192E-15,3.8510861166685117E-16,-7.2164496600635175E-16,-8.6736173798840355E-16,3.920475055707584E-16,1.9220736113823023E-15,3.1780134079895106E-15,5.5858095926453188E-16,-3.1918911957973251E-16,-9.6971042307103517E-16]
[3.5074368546560175E-3,4.1165675779450709E-4,1.6966361551415058E-3,6.4858929949614293E-4,3.9492093074566673E-3,2.4826375623165165E-3,1.8216540928799201E-4,1.9284476446151558E-3,4.1181903751210574E-3,-2.2863468602201714E-3,-2.3984572558114303E-3,6.5387516550097463E-4,2.365176446996492E-3,1.1274381289115962E-3,-1.4076865230603715E-3,-1.3249616855048325E-3,8.2562816805602885E-4,-4.0465450206271384E-3,3.4507649228366893E-3,9.6158496236668843E-4,-2.38224382192648E-3,3.1553081253833334E-3,1.7386418998184597E-3,6.7776398024353198E-3,1.4896960851118062E-4,-6.0979862651431615E-3,1.0469214445176125E-3,4.1133083424248874E-4,2.1330094930220529E-4,-2.7486032425207202E-3,1.1459069519898831E-3,1.0729702553733094E-3,-3.7854183815996529E-5,1.7401853397537425E-3,-2.9310643429103036E-3,1.899601112644297E-3,-3.1457628775519984E-3,1.6363433621085313E-3,-2.8316073871235861E-3,-4.5187453515081641E-4,1.7169307293838185E-3,8.582361336062378E-4,-2.0183280708309124E-4,-1.0714304523681323E-3,1.3561995190503454E-3,-7.3245182809971278E-3,6.308840986887171E-4,1.7702559349253716E-3,-5.1351750848966692E-3,5.7663126293891347E-5,1.9089847506646943E-4,-1.6316176349945725E-4,-2.1329986447582447E-3,2.2537295858216006E-5,-3.8950082930300602E-4,-2.1190862498149145E-3,1.8840992948295546E-3,-1.0973396976757444E-5,2.0849301825596901E-3,-2.907725283294668E-5,8.3604694757616793E-4,6.2191392696064451E-4,2.1445177939730712E-3,2.5000801751038004E-3,-3.1056096913762696E-4,-1.5773201646278497E-3,-1.1153925127240607E-3,6.9668785531815417E-4,1.8308927931638375E-3,2.6097276991980596E-4,2.8397106193414065E-4,-7.8425564874108058E-4,1.7721001872466368E-3,-2.0660006034462072E-3,-2.8546437555922411E-3,-2.1018615618627169E-3,-1.081145438744458E-3,-1.8536328173112944E-3,-5.0714692704913135E-4,-4.5009702681298091E-3,1.0624806366994087E-3,9.5357846264203889E-4,6.0394480017966603E-5,1.8856519188900187E-3,7.4819200012580199E-4,3.3037730813553039E-3,-3.2305455625244669E-4,1.0918621674570988E-3,-4.0882733730223319E-4,1.7229242964311355E-3,-8.8994940514691289E-4,8.6239521462569169E-5,-1.2041002167556909E-3,1.1764304479940702E-3,-2.9884456446417856E-4,-3.9713006712488027E-3,3.4967456681393133E-3,-4.1209081243425474E-4,-3.4968162231909928E-3,-3.1922172713694577E-4,null,2.8449465006019636E-16,-3.8857805861880479E-16,0,-3.1918911957973251E-16,3.6637359812630166E-15,-1.5265566588595902E-15,2.55351295663786E-15,-2.4980018054066022E-16,1.3600232051658168E-15,5.134781488891349E-16,1.5265566588595902E-16,1.6653345369377348E-15,1.5543122344752192E-15,5.5511151231257827E-16,-3.0531133177191805E-16,-1.0616507672978059E-15,1.4849232954361469E-15,3.0531133177191805E-15,5.5511151231257827E-16,-3.3306690738754696E-16,-1.7902346272080649E-15,2.7755575615628914E-17,-9.7144514654701197E-17,-1.2212453270876722E-15,2.3661628212323649E-15,-4.5519144009631418E-15,1.4988010832439613E-15,-3.0531133177191805E-16,1.4155343563970746E-15,-2.1371793224034263E-15,-1.9706458687096529E-15,-5.5511151231257827E-17,-4.7184478546569153E-16,-5.5511151231257827E-17,-2.0261570199409107E-15,-2.6090241078691179E-15,1.4155343563970746E-15,7.4940054162198066E-16,-9.9920072216264089E-16,1.3877787807814457E-16,-2.0816681711721685E-15,3.6082248300317588E-16,3.219646771412954E-15,4.7184478546569153E-16,1.9775847626135601E-15,-1.9984014443252818E-15,-6.2450045135165055E-17,1.0521097881799335E-15,-2.6090241078691179E-15,-5.5511151231257827E-16,-2.6090241078691179E-15,-5.134781488891349E-16,9.1593399531575415E-16,1.1379786002407855E-15,-1.1796119636642288E-16,1.2212453270876722E-15,2.7755575615628914E-16,-1.6930901125533637E-15,7.9103390504542404E-16,-1.2490009027033011E-16,-2.8310687127941492E-15,-2.2759572004815709E-15,1.6653345369377348E-16,3.3861802251067274E-15,1.457167719820518E-15,-1.1206313654810174E-15,-1.1934897514720433E-15,-2.1649348980190553E-15,2.3939183968479938E-16,-3.1571967262777889E-16,3.6637359812630166E-15,-4.4408920985006262E-16,5.5511151231257827E-17,1.949395506128937E-15,-2.9976021664879227E-15,-9.4368957093138306E-16,2.3314683517128287E-15,-1.0824674490095276E-15,-2.2204460492503131E-15,-6.6613381477509392E-16,-4.8225312632155237E-16,4.5796699765787707E-16,-1.915134717478395E-15,-9.7144514654701197E-16,1.9428902930940239E-15,4.7184478546569153E-15,-9.1593399531575415E-16,2.994132719535969E-15,-1.6653345369377348E-15,1.0547118733938987E-15,2.1649348980190553E-15,1.3322676295501878E-15,1.4849232954361469E-15,-3.0531133177191805E-16,-2.7755575615628914E-16,-4.9960036108132044E-16,2.1371793224034263E-15,-3.6082248300317588E-16,6.106226635438361E-16,-8.7430063189231078E-16]
[-6.3310599552318823E-3,-4.0325005363213927E-4,1.6218664294670899E-3,2.6303263881982371E-3,-8.4874912378912531E-4,1.5992584865554265E-3,-5.3746691522193243E-3,-3.1144426273908574E-3,1.9927261476056263E-3,5.8925419661198424E-3,3.5289592199870773E-4,6.0179708433275208E-3,-1.4716779306908176E-4,2.6149649614893695E-3,1.5162760351129015E-3,-2.9439337470477996E-3,-6.8472509115324659E-3,-5.5321924761826593E-4,-2.1496518187647997E-3,3.20987501585094E-3,2.9144159056371543E-3,1.2170762244853768E-3,-3.0165309655611518E-3,-2.467809808458486E-3,-1.830705947857733E-3,6.4589406083499917E-3,-4.8312490244648162E-4,-7.643529785303178E-4,-1.2345326580217946E-3,-7.628003435103983E-4,3.8189775511073341E-3,-1.2578662088061424E-3,3.1486470780937355E-3,2.0145029891392194E-3,-2.2850689732509832E-3,-3.2676569624474311E-3,-4.1475083722045713E-3,-4.3218669003610589E-3,3.0687373867108437E-3,3.9774102489074136E-3,3.7244885259669551E-3,-1.8630479362819277E-3,2.2604349859699151E-3,-1.3170204402008262E-3,-2.0051586643768885E-3,3.9973417958443927E-3,-1.7124353147122107E-3,2.517561888436097E-3,5.2650991251121312E-3,-9.959263021079134E-4,3.8387813685372011E-3,3.3877999856247397E-3,-3.1264815872366104E-3,3.5090251504837157E-4,-4.2936924573600179E-3,2.154048402423421E-3,2.8635107174243193E-3,7.4261393187717269E-4,1.2431392734195503E-3,4.358964027231277E-3,-7.0473059280201633E-4,3.6741884740945519E-3,-1.2024664988408353E-3,5.4855235305424795E-4,3.1945408303161063E-3,-3.9940202601255574E-3,5.8480024043096428E-3,-3.2756401947748185E-3,4.4309516730603781E-3,2.6133446977675908E-3,-4.5811480649395565E-3,-6.4923566671312206E-4,-3.6604257274783151E-3,3.6144324655015505E-4,1.3223143016328734E-3,5.3972054683057418E-3,-5.9424596407500459E-4,-2.6868381403896231E-3,-1.1534092663106166E-3,2.1163230912559393E-3,-5.5515293937594308E-4,-2.2231941843277995E-3,-9.727618182454544E-4,-5.6756987714193883E-3,2.38552407045189E-3,1.1034367851400428E-3,2.5416401922475503E-3,-5.4345831552954837E-3,2.8332999379616914E-3,-4.7364336282543365E-3,-5.2704065857099042E-3,-9.045823143886975E-4,-6.7552258301547784E-3,5.2759113216550976E-4,2.6921487269380307E-3,6.5880859509962657E-4,1.8079779342045621E-3,-8.9310047909262297E-4,-2.9873746924943905E-3,-6.6621166392944961E-4,null,2.4980018054066022E-16,-1.1657341758564144E-15,2.4980018054066022E-15,2.2620794126737565E-15,-2.0539125955565396E-15,1.1934897514720433E-15,-2.7478019859472624E-15,-2.733924198139448E-15,6.6058269965196814E-15,2.1788126858268697E-15,-6.106226635438361E-16,6.8001160258290838E-15,1.609823385706477E-15,4.3853809472693683E-15,-1.3461454173580023E-15,-1.3877787807814457E-16,5.9674487573602164E-16,4.829470157119431E-15,1.1379786002407855E-15,1.0547118733938987E-15,-8.3266726846886741E-16,-2.7478019859472624E-15,-3.8025138593411612E-15,-5.773159728050814E-15,-4.8225312632155237E-16,8.6042284408449632E-16,-1.3461454173580023E-15,-6.2450045135165055E-16,-3.8025138593411612E-15,1.9984014443252818E-15,2.2204460492503131E-16,-3.6637359812630166E-15,1.3045120539345589E-15,4.9960036108132044E-16,-1.7486012637846216E-15,1.2490009027033011E-15,-1.0824674490095276E-15,-3.3306690738754696E-15,2.2759572004815709E-15,3.8302694349567901E-15,1.915134717478395E-15,-9.4368957093138306E-16,4.1078251911130792E-15,-3.0531133177191805E-16,-1.6544925152128798E-16,2.886579864025407E-15,-2.5951463200613034E-15,2.6081567461311295E-15,5.6066262743570405E-15,-1.1934897514720433E-15,1.8041124150158794E-15,3.2335245592207684E-15,-1.1934897514720433E-15,-1.1102230246251565E-15,-3.372302437298913E-15,-2.9420910152566648E-15,2.248201624865942E-15,-1.9428902930940239E-16,2.0539125955565396E-15,3.8996583739958623E-15,8.8817841970012523E-16,-2.6090241078691179E-15,-1.8873791418627661E-15,1.6653345369377348E-15,3.5180192092809648E-15,-2.7165769633796799E-15,4.2743586448068527E-15,-3.3861802251067274E-15,3.3341385208274232E-15,9.8965974304476845E-16,-9.9920072216264089E-16,-1.5265566588595902E-15,-9.4368957093138306E-16,-1.708702623837155E-15,-2.1510571102112408E-15,6.3560268159790212E-15,3.5527136788005009E-15,-8.6042284408449632E-16,-1.1102230246251565E-16,2.2204460492503131E-16,-1.0035375308525829E-15,-6.3837823915946501E-16,-1.5543122344752192E-15,1.0963452368173421E-15,-4.7184478546569153E-16,3.1641356201816961E-15,2.0122792321330962E-15,-6.2796989830360417E-15,-2.7755575615628914E-15,-5.6343818499726694E-15,-3.9968028886505635E-15,-7.9103390504542404E-16,2.2204460492503131E-16,-3.3306690738754696E-16,2.5673907444456745E-15,4.9404924595819466E-15,-1.4988010832439613E-15,8.2572837456496018E-16,-5.5511151231257827E-16,-3.8163916471489756E-16]
[-5.3985388889552432E-3,-3.1307772802741628E-3,1.4824015832736559E-3,9.1849112723394919E-4,-5.2215691305480582E-3,3.139109428145998E-3,-6.8340761350719065E-3,-3.5667268473761385E-3,-3.9576953826160713E-4,3.6619299293195102E-3,1.6794273777862443E-5,6.4922695688480574E-3,3.8935096742129523E-3,6.7489449328307378E-3,1.8123590650124874E-4,-1.3657220211590424E-3,-3.661989328132447E-3,4.7270224506000694E-3,-2.7517345171341389E-3,-1.0662120775282971E-3,1.8872496294417237E-3,-8.4061911233338014E-4,-3.6234569362814219E-3,-6.502261191725413E-3,-1.8719803076232143E-3,5.3860727018027925E-3,-2.6355247975717168E-3,-1.156572071276352E-3,-2.7260636120246566E-3,1.7439583529384249E-3,6.6263607679236964E-4,-3.3889187767660225E-3,-4.1158986270455858E-4,-1.037997269851845E-3,-4.679379817750396E-4,-3.6532945588341331E-3,-1.0897048103232618E-3,-4.9822452840693017E-3,6.1880923431208686E-3,5.6086184687534303E-3,1.0273504438881181E-3,-8.8661944445649337E-4,4.5883949410166925E-3,7.0297914057818804E-4,-2.0974380237682023E-3,7.8889667217087317E-3,-1.2065609081583772E-3,2.2552979309553847E-3,6.4951917130868916E-3,-2.071594008988935E-3,1.9322303298284764E-3,2.535856258031325E-3,1.3294565797165097E-4,-6.5652330350081736E-4,-3.3368522963153936E-3,-2.3673072289202676E-3,-2.5144374544870595E-3,4.1260083895728397E-3,-1.0560522676905041E-4,3.7089464286700949E-3,3.6351404406176264E-3,-1.9679167467688717E-3,-3.6084876509860191E-3,3.5678991909341615E-3,3.7943059976709701E-3,-2.9968005954663351E-3,2.8353917675218009E-3,-4.7398772035651396E-3,2.1585255752159466E-3,2.5414393568546556E-3,-5.8190708029275187E-3,-3.6052077425018977E-3,-1.0982715327438406E-3,-8.5056203168119583E-5,1.0122217824322072E-4,4.3148718715542945E-3,3.1460849029425631E-3,-1.2642199573644614E-3,2.1835312328532708E-3,5.2314636444417573E-3,1.2148899351949341E-4,-1.5520681056589588E-3,-3.2631948407082427E-3,-2.085530336447232E-3,-3.9828464493456235E-4,-4.0345874408419212E-3,2.2070306684417763E-3,-5.9830268224493888E-3,-4.8583184516408405E-4,-5.386706191794181E-3,-1.2597289252525656E-3,-4.7527023908873689E-4,-4.0274193997032462E-3,-8.5981879642728462E-4,1.1527852582993829E-3,4.329710170987381E-3,6.9942072169203824E-4,3.2851548932401738E-4,1.415247820534059E-3,-1.8668269118016147E-4,null,1.3877787807814457E-16,7.7715611723760958E-16,-2.2204460492503131E-16,-5.4470317145671743E-16,3.6082248300317588E-15,2.9143354396410359E-16,-3.6082248300317588E-16,3.6082248300317588E-16,-3.7192471324942744E-15,1.4155343563970746E-15,1.6653345369377348E-16,1.9845236565174673E-15,6.3837823915946501E-16,-8.3266726846886741E-16,6.6613381477509392E-16,1.1449174941446927E-16,9.2287288921966137E-16,-4.163336342344337E-16,1.3877787807814457E-16,-1.1102230246251565E-16,-2.0469737016526324E-16,-4.649058915617843E-16,1.8110513089197866E-15,-2.3592239273284576E-15,-1.6479873021779667E-16,-5.134781488891349E-16,1.3183898417423734E-15,4.2327252813834093E-16,3.3306690738754696E-16,-9.1593399531575415E-16,-4.9960036108132044E-16,-1.6237011735142914E-15,-1.1518563880485999E-15,-2.0539125955565396E-15,-4.0939474033052647E-16,4.9266146717741321E-16,1.519617764955683E-15,1.3045120539345589E-15,-1.2212453270876722E-15,3.858025010572419E-15,-1.0130785099704553E-15,3.5041414214731503E-16,-1.6930901125533637E-15,2.3522850334245504E-15,-3.426078865054194E-17,-1.0547118733938987E-15,-5.7592819402429996E-16,-9.9638179651417857E-16,4.5796699765787707E-16,-4.8572257327350599E-17,-2.733924198139448E-15,-2.8449465006019636E-16,2.0122792321330962E-15,1.4432899320127035E-15,1.7798262863522041E-15,-5.5511151231257827E-17,-5.6898930012039273E-16,-1.4918621893400541E-15,-2.7061686225238191E-16,-1.5265566588595902E-15,-1.2490009027033011E-15,-7.7715611723760958E-16,8.0491169285323849E-16,-6.2450045135165055E-16,4.163336342344337E-16,6.609296443471635E-16,-5.6551985316843911E-16,7.3552275381416621E-16,8.7777007884426439E-16,1.0842021724855044E-16,2.2135071553464059E-15,-3.1918911957973251E-16,2.9143354396410359E-16,2.9056618222611519E-17,-5.6898930012039273E-16,-8.7430063189231078E-16,-1.6375789613221059E-15,9.5756735873919752E-16,-4.4408920985006262E-15,-4.163336342344337E-16,-4.167673151034279E-16,-4.7878367936959876E-16,-1.1102230246251565E-16,1.4641066137244252E-15,6.3837823915946501E-16,5.9396931817445875E-15,-1.2490009027033011E-15,-1.0737938316296436E-15,-1.8041124150158794E-15,1.2628786905111156E-15,3.5943470422239443E-15,1.1310397063368782E-15,1.1796119636642288E-16,-4.4408920985006262E-16,-2.0816681711721685E-16,1.1657341758564144E-15,-2.3592239273284576E-16,-9.7144514654701197E-16,1.1102230246251565E-16,7.0429773124658368E-16]
[-3.8043684286626694E-3,-3.0624776730629757E-3,3.8662438527174228E-3,3.2758755787787031E-3,-1.6198809771399054E-3,4.5078106485098501E-3,-5.6777412765882966E-3,-1.2624679841896191E-3,7.0601941949604702E-3,1.6590567553739944E-3,4.4407634815177548E-4,9.7830775445009368E-3,4.3925991729843851E-3,7.5795050690056652E-3,-2.4453162099477652E-3,-4.5336997355475209E-3,-3.9304646515077157E-3,1.3336372504445199E-3,-1.0909463936117406E-3,2.2098579623964438E-3,1.8321949444285665E-3,9.4855908334747288E-5,-5.1285017644509268E-5,-1.0689224406244334E-3,-3.6512038516076637E-3,2.9855905472151237E-3,3.2482942394001276E-4,-1.3047802870228302E-3,-3.7192188569849945E-3,-1.4630529563347421E-3,1.3692445020993883E-3,-5.3343304198767262E-3,1.1087713870435111E-3,2.1797439662766078E-3,-4.9525791796804055E-3,-4.9008035970051862E-3,-4.2125272283205489E-3,-2.6075329237731544E-3,3.5851485311458316E-3,6.5909990286519482E-3,3.3840783316744501E-3,1.8988684503514965E-3,7.9495323715647204E-3,-3.7894239218695686E-3,-1.04582304882585E-3,-1.1891071777726152E-3,-2.1176070460080096E-3,3.1469666232740172E-3,-2.2885597290028784E-4,-2.2441484653003096E-3,3.5706098380058052E-4,4.868915484893801E-3,-5.3037494096660458E-3,-3.3484751442950014E-3,-7.1009423800947481E-3,-7.2460362973274231E-3,3.5101265258790168E-4,6.2963371049032379E-3,2.715099797419596E-3,5.5070125014469295E-3,5.5221641217822906E-4,7.5858773914657296E-4,-7.9263552100070436E-4,5.3999743745292549E-3,3.9395132034977416E-3,-3.2943869559779663E-3,1.8242201393970344E-3,-6.4759841764272675E-3,8.8119002810180258E-4,4.5918541191497094E-3,-7.6737430561703525E-3,-4.4358216256259898E-3,8.8204210081313311E-4,-3.0320858799675783E-3,-2.7503190089459054E-3,4.8642542233563136E-3,2.8583075326140614E-3,-1.9773360106141095E-3,2.8935425441573362E-3,1.6557401627468936E-3,3.2664128481797983E-3,5.2284454027732598E-4,-4.0640066752800526E-3,-3.7306660820565028E-3,2.4121932113058226E-3,-3.0538605319599559E-3,1.6671244591061841E-3,-8.4010514480144741E-3,1.9057490189853244E-3,-4.3295704301527871E-3,-3.5619591939032151E-3,5.2585901389371869E-4,-5.2103889441600781E-3,1.2628623606472959E-3,1.0070805359733753E-3,2.4426809469719176E-3,4.463375847418077E-3,2.7373108515732171E-3,3.7479114053763055E-4,-3.2234744764538582E-3,null,-1.0410509260205814E-15,4.0210890173142388E-15,2.8969882048812678E-16,-2.1779453240888813E-15,-1.7590096046404824E-15,-3.2959746043559335E-15,1.9671764217576992E-15,-9.8792501956879164E-16,2.6922908347160046E-15,-2.2143745170843943E-15,3.9898639947466563E-16,3.1086244689504383E-15,-1.4675760606763788E-15,5.3082538364890297E-16,-1.7650811368064012E-15,1.7477339020466331E-16,-4.2023676205538152E-15,4.9751869291014827E-15,5.7592819402429996E-16,1.3704315460216776E-16,-1.8778381627448937E-16,-4.8745729674948279E-16,-1.5716594692349872E-15,3.9517000782751666E-15,-1.2082349010178461E-15,-5.0202897394768797E-15,1.8188575645616822E-15,-9.8358821087884962E-16,3.138114768042044E-15,2.7269853042355408E-15,-1.9177368026923602E-15,1.7555401576885288E-15,-1.0842021724855044E-15,2.1076890233118206E-15,3.1710745140856034E-15,3.0045410603918299E-15,-8.6736173798840355E-18,3.5561831257524545E-15,-4.1217029789208937E-15,3.6958283655685875E-15,3.4867941867133823E-16,7.2424705122031696E-17,1.2958384365546749E-15,-2.7755575615628914E-17,-1.0807801593785971E-15,-3.4451608232899389E-15,9.6493993351209895E-16,4.5390123951105643E-16,6.591949208711867E-16,1.3435433321440371E-15,-9.2200552748167297E-16,-2.3592239273284576E-16,1.1032841307212493E-15,-2.6194324487249787E-16,5.9117207656944615E-15,3.8909847566159783E-15,-3.2786273695961654E-16,-2.4277455046295415E-15,-5.9847959921199845E-16,-3.2699537522162814E-15,-5.9674487573602164E-15,2.2360585605341043E-15,2.0677903833643541E-15,-4.6837533851373792E-17,-5.8980598183211441E-16,2.5563318822863224E-15,-1.3643600138557588E-15,-7.6501305290577193E-16,-6.1519799671172493E-15,-2.6656736713814855E-15,3.1979627279632439E-15,3.7001651742585295E-15,2.6922908347160046E-15,-6.0430718588910803E-16,-1.8708992688409865E-15,-7.0516509298457208E-16,-1.9550333574258616E-15,2.1562612806391712E-15,1.5681900222830336E-15,-6.3542920925030444E-15,-1.8832049634986969E-15,2.3982552055379358E-16,3.6411845760753181E-15,2.5786664470395237E-15,-2.041769531224702E-15,-1.420738526825005E-15,-4.6143644460983069E-16,2.6484890669475902E-15,-1.3947176746853529E-15,-3.4035274598664955E-15,-3.0166841247236675E-15,-1.0850695342234928E-15,3.5874081483200371E-15,1.0859368959614812E-15,6.6613381477509392E-16,-2.2343238370581275E-15,-2.1857515797307769E-16,-6.4531713306337224E-16,-2.5882074261573962E-15,1.5452049362263409E-15]
[-4.9619914297523518E-4,2.1997584669680137E-3,-2.1514571872598264E-3,-6.6799434186522774E-4,-5.3862559414927854E-5,-2.0696975629540524E-3,2.6265889949489271E-3,-2.8407827098919159E-4,-4.1941049614095298E-3,3.7029067269011971E-4,1.2149225070427511E-3,-4.0869911577662505E-3,-3.3909142698603915E-3,-2.9951416538360628E-3,2.2164568913705857E-3,1.279512015811839E-3,8.8742750990994834E-4,-5.9568572928480115E-4,-1.8647923681826E-3,8.4934012500982559E-5,1.1446766637707843E-3,-1.5460097102499304E-3,-2.8603791334325698E-4,-1.2311444525228172E-3,1.7087882529468886E-4,2.1832686188826052E-3,-2.0460007109714728E-4,9.1817526765546043E-4,1.9556950987004483E-3,1.9962582476476171E-3,-8.6048101531379414E-4,1.2837697646930091E-3,1.0395381274523375E-3,-1.7691949683655787E-3,3.1849931126268008E-3,9.4904116343624064E-4,2.8134438763883943E-3,1.9832602268649198E-3,3.358174077823073E-4,-1.2364787284092527E-3,-3.3731356565507302E-4,-9.338944305480769E-4,-2.509467587700662E-3,1.5341590348956391E-3,-1.0271737638702441E-3,1.6599721510263113E-3,-6.8459552858850508E-4,-1.0007749494835574E-3,2.4680285634141581E-4,1.2349400798594169E-3,-8.7337347979902992E-4,-1.6252524668503095E-3,1.5596337690680741E-3,1.2432061730847917E-3,2.2624614514811705E-3,4.052573176018431E-3,-1.3498218639661297E-3,-2.9958122832838994E-3,-1.8077510494695819E-3,-2.2509879574897566E-3,-1.5593982646441228E-3,8.9677438638647775E-4,7.1657532079957701E-4,-2.4597567618302972E-3,-1.8665725650203158E-3,1.6579595915934724E-3,7.1362097337460519E-4,1.1568161209953136E-3,-6.7054211007871946E-4,-1.2638942056181165E-3,2.518467278155136E-3,1.355516964046972E-3,-1.3419462129703717E-3,1.4021794101981946E-3,1.8385513517942349E-3,-1.1088755069339153E-3,-2.2915105577382567E-3,1.9659547968777671E-3,-5.0610759839863283E-4,2.4200219948097222E-4,-1.0008195926037404E-3,-4.5017159504667114E-4,1.4325290528462815E-3,2.3763952609544986E-4,-3.0661068763039855E-4,5.1143808882152437E-4,-1.676587602006415E-3,1.0637037538860931E-3,-1.2160927775173086E-4,3.7311979758044699E-4,1.4162997856657651E-3,-7.4562779364437172E-5,2.7673227350231149E-3,-4.9178899671122771E-4,5.3996121049210773E-4,4.4892092428271211E-4,-1.881773924209403E-3,-1.0773591806670134E-3,1.3014708334227545E-3,5.3919753528821441E-4,null,-1.4467593789646571E-15,-3.3306690738754696E-16,5.5511151231257827E-17,-1.7347234759768071E-16,-2.2759572004815709E-15,-6.9388939039072284E-16,1.3877787807814457E-15,-2.6367796834847468E-16,1.8318679906315083E-15,2.3592239273284576E-16,-2.6367796834847468E-16,2.4147350785597155E-15,1.8041124150158794E-15,-2.7755575615628914E-16,9.7144514654701197E-17,8.3266726846886741E-16,-1.9706458687096529E-15,2.7200464103316335E-15,-2.9143354396410359E-16,-1.1102230246251565E-16,1.457167719820518E-16,-9.0205620750793969E-16,4.8572257327350599E-16,-3.0531133177191805E-15,-1.1587952819525071E-15,1.3877787807814457E-17,-2.7894353493707058E-15,-1.1102230246251565E-16,-3.2751579226442118E-15,1.1934897514720433E-15,-5.9674487573602164E-16,5.8286708792820718E-16,-7.2164496600635175E-16,1.0547118733938987E-15,9.5756735873919752E-16,-1.4155343563970746E-15,1.457167719820518E-15,-9.4368957093138306E-16,2.3869795029440866E-15,-2.4980018054066022E-16,4.9960036108132044E-16,-9.7144514654701197E-17,2.0539125955565396E-15,-2.6367796834847468E-16,-1.7429634124876969E-15,2.9976021664879227E-15,-7.0082828429463007E-16,1.7234477733829578E-15,1.7486012637846216E-15,7.0776717819853729E-16,1.6653345369377348E-16,-1.9428902930940239E-16,2.1094237467877974E-15,1.8041124150158794E-16,1.2524703496552547E-15,-3.8857805861880479E-16,-2.9004576518332215E-15,-9.4368957093138306E-16,7.7715611723760958E-16,1.3045120539345589E-15,1.1102230246251565E-15,-1.3322676295501878E-15,-1.9428902930940239E-15,-1.9428902930940239E-15,2.2898349882893854E-16,1.6653345369377348E-16,5.0653925498522767E-16,-6.2450045135165055E-16,-6.2796989830360417E-16,-3.7990444123892075E-16,-2.8033131371785203E-15,-1.3600232051658168E-15,1.3877787807814457E-16,4.8138576458356397E-17,-1.1379786002407855E-15,-1.1102230246251565E-15,1.1657341758564144E-15,-5.8286708792820718E-16,1.609823385706477E-15,2.7755575615628914E-16,-1.465841337200402E-15,-5.8980598183211441E-16,-1.1934897514720433E-15,-1.0408340855860843E-15,-2.7755575615628914E-16,-1.2490009027033011E-15,3.8857805861880479E-16,-1.0477729794899915E-15,-1.1657341758564144E-15,-4.9960036108132044E-16,-6.3837823915946501E-16,6.5225602696727947E-16,-2.095545958979983E-15,-4.163336342344337E-16,-8.3266726846886741E-17,8.8817841970012523E-16,-1.0130785099704553E-15,-5.2041704279304213E-16,2.2204460492503131E-16,-2.4286128663675299E-16]
[-2.1833096756870314E-4,-2.8911729875164059E-3,-9.1023405207412106E-4,-1.3180689060233227E-3,-4.6238366888489641E-3,5.0561099120328241E-4,-6.2651027814803601E-4,-9.4879673783537701E-4,-3.2792415014801946E-3,9.7686273318714408E-5,5.2889824904622882E-4,1.7939582077715363E-3,2.667366475469138E-3,3.2980368986442292E-3,7.6612978838004684E-4,2.3619954653746975E-3,6.6722863176691858E-4,5.5273966520974988E-3,-2.2350560221498206E-3,-3.4884824642502739E-3,1.8759123696924891E-4,-1.1995852718723146E-3,-8.2977452317350986E-4,-5.2208408853729087E-3,-8.1835160102556193E-4,1.925422449387339E-3,-1.923263370028565E-3,7.3355264462671166E-4,-3.0734273948961775E-3,2.9367060502169893E-3,-3.1637350216573695E-3,-1.0033717329467192E-3,-1.5326739333305676E-3,-2.9480725260089802E-3,1.78069100513247E-3,-2.4274673282473295E-3,2.1486411850313394E-3,-2.0140828565805768E-3,3.0885807246407229E-3,2.7357301409891657E-3,-7.1956167971271739E-4,-1.7645211679099126E-3,3.104652214863857E-3,2.1859456649052237E-3,-2.1483861036972765E-4,5.6365147704292018E-3,3.2598291114147932E-4,8.963761685629938E-4,3.8412652632235332E-3,-1.939215915033723E-4,-2.885020408349378E-4,2.6537782738537784E-4,3.5545889071998894E-3,-6.771103358657113E-4,-3.5691022609339276E-4,-2.1111869234490392E-3,-2.9283544778950792E-3,1.4297704939808266E-3,-8.9500864758938813E-4,6.1503489586991729E-4,3.6106392204719971E-3,-1.990868551170233E-3,-2.7793787108176113E-3,1.3985140578123049E-3,5.9347976787908936E-4,8.0471638460317615E-4,-1.6690282161019388E-4,-1.264443150139988E-3,-2.1934428511159814E-3,-1.2552456976924892E-3,-3.1432823368340956E-3,-1.6473854818676093E-3,1.0834132441207781E-3,4.0554986116381485E-4,-1.1314463265613161E-3,6.9628139625051719E-5,1.6137823144752386E-3,1.265063252265592E-3,2.9725299864021312E-3,3.216643853417878E-3,-5.3182045742722361E-4,-6.5261844750047265E-4,-2.4114819620092982E-3,7.4830671967277571E-4,-1.7762806050987238E-3,-4.4882584314134642E-3,2.1117975164494155E-4,-6.4838116030134149E-4,-2.4670286267943231E-3,-1.8283520641658101E-3,1.9884741237091914E-3,3.000635033812689E-4,1.5382636623880914E-3,-3.2914167610242342E-3,-4.8335814084405216E-4,3.2847824328090915E-3,1.1076167326521095E-4,3.5643823837276808E-4,3.0374891230429686E-3,-3.6217813364608649E-4,null,1.9290125052862095E-15,6.6613381477509392E-16,-5.5511151231257827E-16,-9.9920072216264089E-16,1.6653345369377348E-16,1.8041124150158794E-16,-8.8817841970012523E-16,2.4980018054066022E-16,-1.7208456881689926E-15,-1.2906342661267445E-15,6.2450045135165055E-16,2.7755575615628914E-17,-1.27675647831893E-15,1.1657341758564144E-15,1.8041124150158794E-16,1.0963452368173421E-15,-1.5959455978986625E-15,2.55351295663786E-15,4.8572257327350599E-16,-2.55351295663786E-15,5.7592819402429996E-16,-9.298117831235686E-16,3.8857805861880479E-16,3.2751579226442118E-15,-5.6898930012039273E-16,-3.1918911957973251E-16,1.3877787807814457E-17,2.0816681711721685E-16,2.0816681711721685E-15,-8.3266726846886741E-17,-9.298117831235686E-16,-1.4988010832439613E-15,-1.5265566588595902E-15,2.8588242884097781E-15,4.7184478546569153E-16,1.3183898417423734E-15,1.1379786002407855E-15,1.8596235662471372E-15,6.106226635438361E-16,1.7208456881689926E-15,1.1102230246251565E-15,1.3183898417423734E-16,3.4139358007223564E-15,-2.7755575615628914E-16,-3.5128150388530344E-17,-1.1657341758564144E-15,1.214306433183765E-15,-5.5554519318157247E-16,-3.524958103184872E-15,8.6042284408449632E-16,-3.6082248300317588E-15,-1.2073675392798577E-15,2.8033131371785203E-15,2.0816681711721685E-16,1.4536982728685643E-15,3.0531133177191805E-16,2.9143354396410359E-16,3.0531133177191805E-16,-6.106226635438361E-16,-1.609823385706477E-15,1.2212453270876722E-15,7.2164496600635175E-16,4.9960036108132044E-16,-1.4710455076283324E-15,7.3552275381416621E-16,1.6792123247455493E-15,-1.2490009027033011E-15,3.0253577421035516E-15,-1.5473733405713119E-15,1.6306400674181987E-16,-6.5225602696727947E-16,6.3837823915946501E-16,2.7478019859472624E-15,-4.7314582807267414E-16,-1.27675647831893E-15,-6.3837823915946501E-16,-1.4432899320127035E-15,9.7144514654701197E-17,-1.7208456881689926E-15,-2.8588242884097781E-15,1.0547118733938987E-15,-4.163336342344337E-17,-1.7763568394002505E-15,1.8804402479588589E-15,-1.3877787807814457E-15,-2.9420910152566648E-15,-2.0261570199409107E-15,3.8788416922841407E-15,7.2164496600635175E-16,-1.2490009027033011E-16,-1.27675647831893E-15,8.0491169285323849E-16,1.5126788710517758E-15,2.4980018054066022E-16,-1.0685896612017132E-15,-8.0491169285323849E-16,4.4408920985006262E-16,-7.5633943552588789E-16,-1.2212453270876722E-15,9.7144514654701197E-16]
[4.4412042616540559E-3,2.8266644201203487E-3,9.1523072780120857E-4,-1.3483159493576813E-3,4.0958691803320811E-3,-1.2580048628149951E-3,2.5843870147422882E-3,1.012584722994869E-3,-1.552872416899353E-3,-2.3863401468750085E-3,-8.022975901823869E-4,-6.317024990711584E-3,-7.8488134070399905E-4,-3.6055115724377357E-3,-1.1871464353401696E-5,-3.1255232509035135E-5,1.6883870153626154E-3,-2.6612689369547218E-3,3.2625931845327357E-3,-7.8979301208754592E-4,-1.7590486578105342E-3,1.0282920198083937E-3,6.9795623615416568E-4,2.9261572918372596E-3,3.2233991832185302E-3,-5.0669741781519916E-3,2.5906089116417078E-3,1.3440458520535556E-3,3.5580187110444516E-3,-1.2441250561663166E-3,1.3038664612347543E-3,4.2616657042436725E-3,4.1631226165905554E-4,4.4397871170221743E-4,7.3278535109801905E-4,5.6423188348686286E-3,-5.9799709361736447E-4,1.4729556607911722E-3,-5.7073691693910007E-3,-7.2292328525967184E-3,-3.1682872598752703E-3,9.2178359260195418E-4,-7.9621701058117372E-3,1.8803402921387867E-4,2.1692904298627148E-3,-3.1407372776158212E-3,5.2199213539748152E-4,-1.0739952661097561E-3,-2.7629535807716225E-3,1.1491958949380965E-3,1.3433266997170137E-3,-2.7803152891375709E-3,1.6628800643940552E-3,6.3050704554806032E-4,4.5712502483282189E-3,2.3921620858810386E-3,2.8241774548750675E-3,-2.7037288493528991E-3,-7.6474311060092818E-5,-3.1665210903242826E-3,-6.0933652747737768E-4,1.0410549495085142E-3,2.4108714718055297E-4,-3.8373435936114989E-3,-2.1106469725163451E-3,-5.8320487906863444E-4,-2.1089750786679666E-3,3.2153242863697073E-3,7.6277923647998967E-4,-2.1753220576752061E-3,5.2830184246371809E-3,3.2158359605757563E-3,7.4971043761435513E-4,1.6148479329244291E-3,4.7056640894643597E-4,-3.6962948815991306E-3,-8.7509777945132437E-4,-1.1208415115307757E-3,-3.3053383638788972E-3,-4.2957542396527357E-3,-4.7918124792587749E-4,8.3501118977605845E-4,3.3070540118695859E-3,2.9265202495143486E-3,-1.683597405876333E-3,6.1071591442581775E-3,9.7056408927327764E-5,6.8001481860324869E-3,-1.5393501422310478E-3,3.8455900676267305E-3,8.9500048980729722E-4,-1.4036551882140476E-3,7.784609489776222E-4,1.0344539768662117E-3,-3.8139506859366268E-4,-3.6642954022628716E-3,-3.0674499568610625E-3,-1.556223891599634E-3,-2.2710055742654989E-3,2.4976130740802177E-3,null,-7.1470607210244452E-16,-1.1102230246251565E-15,2.7755575615628914E-17,1.4155343563970746E-15,-1.0103029524088925E-14,-6.9388939039072284E-16,-3.5527136788005009E-15,-1.3183898417423734E-15,-1.4988010832439613E-15,4.9960036108132044E-16,-4.163336342344337E-16,-1.5265566588595902E-15,-8.6042284408449632E-16,4.0523140398818214E-15,-7.7715611723760958E-16,4.5102810375396984E-15,4.163336342344337E-17,6.6613381477509392E-15,-1.2490009027033011E-15,-1.9428902930940239E-15,-1.2073675392798577E-15,-3.1918911957973251E-15,-3.0531133177191805E-16,-3.2751579226442118E-15,1.2351231148954867E-15,2.8727020762175925E-15,-5.5511151231257827E-15,5.8286708792820718E-16,-4.9682480351975755E-15,5.5233595475101538E-15,-4.5519144009631418E-15,-2.9698465908722937E-15,-2.4147350785597155E-15,-2.3314683517128287E-15,1.5681900222830336E-15,4.4408920985006262E-16,8.3266726846886741E-16,-4.9682480351975755E-15,8.3266726846886741E-16,1.7763568394002505E-15,1.6653345369377348E-16,-8.6042284408449632E-16,2.9976021664879227E-15,3.219646771412954E-15,4.4885969940899884E-16,2.6645352591003757E-15,1.3877787807814457E-16,3.2395960913866872E-16,3.3584246494910985E-15,-6.6613381477509392E-16,-3.7747582837255322E-15,2.7755575615628914E-17,4.8572257327350599E-15,-1.3322676295501878E-15,-1.4710455076283324E-15,-5.0515147620444623E-15,-5.4956039718945249E-15,4.5796699765787707E-16,2.9143354396410359E-16,1.3600232051658168E-15,3.7192471324942744E-15,-5.8286708792820718E-15,-5.8286708792820718E-15,5.3845816694320092E-15,2.2412627309620348E-15,-7.1817551905439814E-16,2.7616797737550769E-15,-6.9388939039072284E-16,3.9551695252271202E-16,6.9562411386669964E-16,-3.1780134079895106E-15,-1.8041124150158794E-15,6.0507154842071031E-15,-1.5920424700777147E-15,-1.5820678100908481E-15,-1.915134717478395E-15,2.2204460492503131E-16,-4.5796699765787707E-16,4.7739590058881731E-15,5.4956039718945249E-15,1.1796119636642288E-16,7.3552275381416621E-16,-1.5820678100908481E-15,-6.7307270867900115E-16,-3.1363800445660672E-15,-3.4972025275692431E-15,-1.3877787807814457E-17,-3.70536934468646E-15,-4.2188474935755949E-15,-1.9984014443252818E-15,1.3877787807814457E-15,-8.4654505627668186E-16,-7.9103390504542404E-16,-3.5527136788005009E-15,3.1918911957973251E-16,3.2474023470285829E-15,-2.0816681711721685E-15,-5.5511151231257827E-16,2.2204460492503131E-15,9.0899510141184692E-16]
[-3.4499920372885655E-5,2.2929816231917668E-3,-1.5028912963294093E-3,2.7266423949172288E-4,2.4766298409079901E-3,-1.4949044600444138E-3,2.213956682217738E-3,-6.0875745854333365E-4,1.1281584747028446E-4,6.3381388072622014E-4,2.1643639171248479E-4,-3.6778907523937043E-3,-3.1224691294373455E-3,-3.9342870995950161E-3,1.1738876312656639E-3,1.0155068652072967E-3,-1.7881109169089234E-3,-2.9628680046213289E-3,8.3437232514284461E-4,1.3656173015949916E-3,2.898940127493232E-4,1.6797205475021907E-3,-1.0752619798300776E-3,-1.8830439492210108E-4,4.1612242143399404E-4,-6.3292051969934078E-4,-4.6511097025421136E-4,3.2501821594953852E-4,1.586829747969291E-3,4.0794902532793371E-4,1.8594007067438373E-3,3.0319023698575868E-3,1.1759560285073798E-3,9.1369342829491324E-4,8.0854016051915565E-4,2.0670865892083745E-3,-5.3114065867378049E-4,-1.4095897139485469E-3,-2.8645362867505244E-3,-2.0576430332271411E-3,-1.1494323066032468E-3,1.032948951456137E-4,-4.4883143048837426E-3,7.5538584435030432E-4,-2.9466487632921247E-4,2.9080232390022923E-4,1.8865628348430644E-4,-1.248367660390718E-3,1.5695501113994939E-3,1.0680567412231579E-3,1.9222837418852372E-3,-2.3665634839292382E-4,-1.5333092352036773E-4,1.2096970173648724E-3,2.0742737979508601E-3,4.464824611026358E-3,3.3779910091424935E-3,-1.7303904992629628E-3,-1.0002270009289076E-3,-1.4866881720575441E-3,-1.9279104705179713E-3,2.8267197639348113E-3,8.4344121826118875E-4,-2.6471455863203539E-3,-2.8063104394044865E-3,-6.9580608894852431E-4,1.5369415124505291E-3,2.0853945395065249E-3,1.794239895633149E-3,-1.3565935540860246E-3,3.9709670587480053E-3,2.4331069603458814E-3,-2.3390336992368831E-3,2.8036247257386196E-3,1.1532330287324362E-3,2.3742147455260053E-4,-9.439041103965494E-4,5.1658862778573031E-4,-2.2762504860413678E-3,-1.1851237378990543E-3,-3.4986963616856844E-3,-8.8967543694381396E-4,2.4067449407893272E-3,-1.3671084236327755E-3,2.1346712830582726E-4,3.9290026697788357E-3,1.002188966177202E-3,3.5889173567913968E-3,4.6274081441674927E-4,5.8705864368374639E-4,-2.6449210217709992E-3,-2.016859559028512E-3,-1.585715438656679E-3,2.1619700105025057E-4,4.0535175239268768E-4,-1.1046356689904356E-3,-9.5999988740617232E-4,-1.1886744508996649E-3,-1.9459004316830036E-3,1.3420896587270771E-3,null,2.1718737919229625E-15,4.9960036108132044E-16,3.8857805861880479E-16,-9.7144514654701197E-17,2.7755575615628914E-16,1.3600232051658168E-15,2.886579864025407E-15,9.4368957093138306E-16,-5.5511151231257827E-17,3.6082248300317588E-16,-4.4408920985006262E-16,1.1657341758564144E-15,-1.3877787807814457E-16,-1.1657341758564144E-15,8.3266726846886741E-17,1.9706458687096529E-15,2.1788126858268697E-15,-1.3877787807814457E-15,4.9960036108132044E-16,7.7715611723760958E-16,1.7763568394002505E-15,-1.1102230246251565E-16,2.400857290751901E-15,1.609823385706477E-15,-9.3675067702747583E-17,-3.0531133177191805E-16,-4.4408920985006262E-16,3.7470027081099033E-16,-1.3045120539345589E-15,-1.2490009027033011E-15,-1.3600232051658168E-15,-2.4980018054066022E-16,-1.27675647831893E-15,7.7715611723760958E-16,-2.4980018054066022E-16,-3.6082248300317588E-16,2.0539125955565396E-15,1.3877787807814457E-15,-2.1094237467877974E-15,-1.5265566588595902E-15,4.7184478546569153E-16,-1.2490009027033011E-16,4.9960036108132044E-16,6.8001160258290838E-16,-1.235773636198978E-15,3.1641356201816961E-15,-4.0245584642661925E-16,3.2742905609062234E-16,1.7486012637846216E-15,1.5404344466674047E-15,-1.9428902930940239E-16,-1.0685896612017132E-15,1.4432899320127035E-15,1.609823385706477E-15,-3.4694469519536142E-16,-9.4368957093138306E-16,-7.2164496600635175E-16,4.5796699765787707E-16,-6.9388939039072284E-16,-1.9428902930940239E-16,-5.5511151231257827E-16,1.9984014443252818E-15,1.1657341758564144E-15,-3.2751579226442118E-15,3.6082248300317588E-16,5.5164206536062466E-16,-7.0776717819853729E-16,2.581268532253489E-15,1.0373646386341306E-15,-9.9746599868666408E-16,-6.6613381477509392E-16,2.4980018054066022E-16,-1.4432899320127035E-15,-7.3205330686221259E-16,-4.163336342344337E-16,1.4988010832439613E-15,-1.3877787807814457E-15,1.3877787807814457E-15,-2.1649348980190553E-15,-3.219646771412954E-15,6.2450045135165055E-16,-1.2281842209915794E-15,-2.7478019859472624E-15,3.2612801348363973E-16,-4.7184478546569153E-16,-1.4988010832439613E-15,-1.1379786002407855E-15,-3.6082248300317588E-16,-7.7715611723760958E-16,2.8588242884097781E-15,2.1094237467877974E-15,1.0408340855860843E-15,1.1796119636642288E-15,2.1371793224034263E-15,-3.1918911957973251E-16,-1.9984014443252818E-15,-1.1657341758564144E-15,-2.7755575615628914E-16,6.6613381477509392E-16,-5.0653925498522767E-16]
[4.3078620639001468E-4,-3.8037488317557303E-3,2.0304929302482635E-3,-5.6464851022397164E-4,-3.968626033699023E-3,1.7509369920566589E-3,-2.8869226256523642E-3,-1.3261261620519983E-3,-2.5881213515896212E-3,-1.2796700866691509E-3,-1.0701121562292823E-3,1.7279757642788621E-3,2.6620680569652546E-3,4.4547981800499873E-3,-9.6297597247263869E-4,4.8950260785213479E-4,1.2507363680912085E-3,4.0630281688406947E-3,-9.2549534583895744E-4,-3.6148335090360269E-3,-8.1086375345158031E-4,-1.7263428875670703E-3,-1.2071031565193662E-3,-4.3932606080961537E-3,-2.8140864800217723E-4,1.5520084791345512E-3,-1.6057399476729595E-3,1.4355677567292218E-3,-2.2421874288696499E-3,2.3843815325331366E-3,-1.4890105504172205E-3,-1.8553735649292549E-3,-2.2369202207419593E-3,-2.6994455610784905E-3,1.3991997873742668E-3,-1.6560128971824482E-3,1.3873369457698408E-3,-2.4140049480670172E-3,4.3513630888756018E-3,1.9272459257443995E-3,-2.6044464300175548E-3,8.2204935524302742E-4,2.7517513460950925E-3,1.3778288832207181E-3,1.2924673485248363E-5,4.7638388130461966E-3,5.095810279418017E-4,3.2164300527060308E-5,2.9814470769323961E-3,-1.0938886673264811E-3,-1.8926382254261574E-3,1.0800203847173245E-3,2.4809185567111931E-3,-1.0191592575739951E-3,4.2905484974074646E-4,-3.5927907692557596E-3,-1.7306517291418764E-3,1.4082436018655606E-3,1.1593393595413499E-3,1.2036896449207812E-3,4.4059989974549836E-3,-3.703036361207748E-3,-3.9019952875277062E-3,3.2397403463334611E-3,-6.7570419018342029E-4,-3.2301436866278801E-4,-8.286734146430465E-4,-1.753141583530553E-3,-2.8904790695285961E-4,5.6066551251178251E-5,-1.5489357297929233E-3,-2.4880983351910275E-3,2.8500116780477737E-3,-3.2716043264234395E-5,-1.1789318253514148E-3,-1.8233106411028183E-3,3.7543173976045167E-3,1.1643213629426242E-3,3.7124588084073672E-3,3.4312085500343647E-3,-8.1081361210469038E-5,6.8540476774960654E-4,-2.1836600142087054E-3,6.4989103413684731E-4,-2.1357981622566534E-3,-3.5167572213796378E-3,1.1563778248580925E-3,-2.9786958143719221E-4,-3.0226326681489554E-3,-1.7393995287704133E-3,2.5842096719179432E-3,-9.6059677520897902E-4,-1.2967443236670557E-3,-2.5138603589631315E-3,-1.4186624337417897E-3,3.0250516169862589E-3,-1.7296317706523047E-3,6.6263520617863836E-4,3.9144012253561553E-3,6.5370637771039258E-4,null,4.9647785882456219E-15,-3.4139358007223564E-15,1.8596235662471372E-15,2.8900493109773606E-15,5.773159728050814E-15,3.1225022567582528E-15,6.9388939039072284E-16,-1.4016565685892601E-15,2.2204460492503131E-16,-3.1710745140856034E-15,-8.2572837456496018E-16,1.5681900222830336E-15,-3.1363800445660672E-15,4.0245584642661925E-15,2.0816681711721685E-16,1.85268467234323E-15,4.6421200217139358E-15,-3.7470027081099033E-15,2.157996004115148E-15,1.6930901125533637E-15,-2.976785484776201E-15,3.4694469519536142E-16,1.0963452368173421E-15,8.1046280797636427E-15,1.2160411566597418E-15,9.7144514654701197E-17,-1.0130785099704553E-15,9.9920072216264089E-16,4.5796699765787707E-16,-1.5820678100908481E-15,1.2073675392798577E-15,1.7347234759768071E-15,3.6082248300317588E-16,-7.4940054162198066E-16,-8.0491169285323849E-16,2.0122792321330962E-15,-3.1918911957973251E-16,-3.9968028886505635E-15,-5.5511151231257827E-16,-5.6482596377804839E-15,8.3266726846886741E-17,-7.2858385991025898E-16,-1.6653345369377348E-16,8.4654505627668186E-16,2.0686577451023425E-15,-7.6050277186823223E-15,-3.5735303605122226E-16,7.4940054162198066E-16,-6.106226635438361E-16,-2.9143354396410359E-16,1.7208456881689926E-15,-2.338407245616736E-15,1.9428902930940239E-16,2.7061686225238191E-16,-3.7261860263981816E-15,-2.0261570199409107E-15,2.9004576518332215E-15,3.3306690738754696E-16,5.6898930012039273E-16,-1.8665624601510444E-15,1.9706458687096529E-15,-7.4940054162198066E-16,-1.1379786002407855E-15,-3.219646771412954E-15,-3.0531133177191805E-16,2.4806545706468341E-16,4.558853294867049E-15,1.5404344466674047E-15,3.2005648131772091E-15,-2.1588633658531364E-15,-3.0114799542957371E-15,-7.4940054162198066E-16,-1.1102230246251565E-15,-1.2598429244281562E-16,2.1233015345956119E-15,4.1772141301521515E-15,-1.0547118733938987E-15,7.2164496600635175E-16,1.6653345369377348E-16,-2.3592239273284576E-15,3.4564365258837881E-16,-9.2287288921966137E-16,2.7061686225238191E-15,2.2169766022983595E-15,-8.3266726846886741E-17,2.2759572004815709E-15,1.2351231148954867E-15,-3.9985376121265404E-15,-8.3266726846886741E-16,2.5396351688300456E-15,-1.4432899320127035E-15,-1.0200174038743626E-15,7.2858385991025898E-16,-1.0963452368173421E-15,2.4980018054066022E-15,-4.5796699765787707E-15,-2.3731017151362721E-15,-1.4224732503009818E-15,1.3600232051658168E-15,-1.3322676295501878E-15]

{"sheet":"VBA Inverse","index":12,"n_rows":101,"n_cols":201,"rows_kept":101,"cut":false,"hidden":false,"merged":[]}
["Inverse by Excel mInverse function",null,null,null,null,null,null,null,null,null,null,null,null,null,null,null,null,null,null,null,null,null,null,null,null,null,null,null,null,null,null,null,null,null,null,null,null,null,null,null,null,null,null,null,null,null,null,null,null,null,null,null,null,null,null,null,null,null,null,null,null,null,null,null,null,null,null,null,null,null,null,null,null,null,null,null,null,null,null,null,null,null,null,null,null,null,null,null,null,null,null,null,null,null,null,null,null,null,null,null,null,"Errors in product of matrix and its inverse"]
[{"$f":"gaussJordanInv(A)","v":{"$error":"#NAME?"}},{"$error":"#NAME?"},{"$error":"#NAME?"},{"$error":"#NAME?"},{"$error":"#NAME?"},{"$error":"#NAME?"},{"$error":"#NAME?"},{"$error":"#NAME?"},{"$error":"#NAME?"},{"$error":"#NAME?"},{"$error":"#NAME?"},{"$error":"#NAME?"},{"$error":"#NAME?"},{"$error":"#NAME?"},{"$error":"#NAME?"},{"$error":"#NAME?"},{"$error":"#NAME?"},{"$error":"#NAME?"},{"$error":"#NAME?"},{"$error":"#NAME?"},{"$error":"#NAME?"},{"$error":"#NAME?"},{"$error":"#NAME?"},{"$error":"#NAME?"},{"$error":"#NAME?"},{"$error":"#NAME?"},{"$error":"#NAME?"},{"$error":"#NAME?"},{"$error":"#NAME?"},{"$error":"#NAME?"},{"$error":"#NAME?"},{"$error":"#NAME?"},{"$error":"#NAME?"},{"$error":"#NAME?"},{"$error":"#NAME?"},{"$error":"#NAME?"},{"$error":"#NAME?"},{"$error":"#NAME?"},{"$error":"#NAME?"},{"$error":"#NAME?"},{"$error":"#NAME?"},{"$error":"#NAME?"},{"$error":"#NAME?"},{"$error":"#NAME?"},{"$error":"#NAME?"},{"$error":"#NAME?"},{"$error":"#NAME?"},{"$error":"#NAME?"},{"$error":"#NAME?"},{"$error":"#NAME?"},{"$error":"#NAME?"},{"$error":"#NAME?"},{"$error":"#NAME?"},{"$error":"#NAME?"},{"$error":"#NAME?"},{"$error":"#NAME?"},{"$error":"#NAME?"},{"$error":"#NAME?"},{"$error":"#NAME?"},{"$error":"#NAME?"},{"$error":"#NAME?"},{"$error":"#NAME?"},{"$error":"#NAME?"},{"$error":"#NAME?"},{"$error":"#NAME?"},{"$error":"#NAME?"},{"$error":"#NAME?"},{"$error":"#NAME?"},{"$error":"#NAME?"},{"$error":"#NAME?"},{"$error":"#NAME?"},{"$error":"#NAME?"},{"$error":"#NAME?"},{"$error":"#NAME?"},{"$error":"#NAME?"},{"$error":"#NAME?"},{"$error":"#NAME?"},{"$error":"#NAME?"},{"$error":"#NAME?"},{"$error":"#NAME?"},{"$error":"#NAME?"},{"$error":"#NAME?"},{"$error":"#NAME?"},{"$error":"#NAME?"},{"$error":"#NAME?"},{"$error":"#NAME?"},{"$error":"#NAME?"},{"$error":"#NAME?"},{"$error":"#NAME?"},{"$error":"#NAME?"},{"$error":"#NAME?"},{"$error":"#NAME?"},{"$error":"#NAME?"},{"$error":"#NAME?"},{"$error":"#NAME?"},{"$error":"#NAME?"},{"$error":"#NAME?"},{"$error":"#NAME?"},{"$error":"#NAME?"},{"$error":"#NAME?"},null,{"$f":"MMULT(A,A2:CV101)-unitMatrix(100)","v":{"$error":"#NAME?"}},{"$error":"#NAME?"},{"$error":"#NAME?"},{"$error":"#NAME?"},{"$error":"#NAME?"},{"$error":"#NAME?"},{"$error":"#NAME?"},{"$error":"#NAME?"},{"$error":"#NAME?"},{"$error":"#NAME?"},{"$error":"#NAME?"},{"$error":"#NAME?"},{"$error":"#NAME?"},{"$error":"#NAME?"},{"$error":"#NAME?"},{"$error":"#NAME?"},{"$error":"#NAME?"},{"$error":"#NAME?"},{"$error":"#NAME?"},{"$error":"#NAME?"},{"$error":"#NAME?"},{"$error":"#NAME?"},{"$error":"#NAME?"},{"$error":"#NAME?"},{"$error":"#NAME?"},{"$error":"#NAME?"},{"$error":"#NAME?"},{"$error":"#NAME?"},{"$error":"#NAME?"},{"$error":"#NAME?"},{"$error":"#NAME?"},{"$error":"#NAME?"},{"$error":"#NAME?"},{"$error":"#NAME?"},{"$error":"#NAME?"},{"$error":"#NAME?"},{"$error":"#NAME?"},{"$error":"#NAME?"},{"$error":"#NAME?"},{"$error":"#NAME?"},{"$error":"#NAME?"},{"$error":"#NAME?"},{"$error":"#NAME?"},{"$error":"#NAME?"},{"$error":"#NAME?"},{"$error":"#NAME?"},{"$error":"#NAME?"},{"$error":"#NAME?"},{"$error":"#NAME?"},{"$error":"#NAME?"},{"$error":"#NAME?"},{"$error":"#NAME?"},{"$error":"#NAME?"},{"$error":"#NAME?"},{"$error":"#NAME?"},{"$error":"#NAME?"},{"$error":"#NAME?"},{"$error":"#NAME?"},{"$error":"#NAME?"},{"$error":"#NAME?"},{"$error":"#NAME?"},{"$error":"#NAME?"},{"$error":"#NAME?"},{"$error":"#NAME?"},{"$error":"#NAME?"},{"$error":"#NAME?"},{"$error":"#NAME?"},{"$error":"#NAME?"},{"$error":"#NAME?"},{"$error":"#NAME?"},{"$error":"#NAME?"},{"$error":"#NAME?"},{"$error":"#NAME?"},{"$error":"#NAME?"},{"$error":"#NAME?"},{"$error":"#NAME?"},{"$error":"#NAME?"},{"$error":"#NAME?"},{"$error":"#NAME?"},{"$error":"#NAME?"},{"$error":"#NAME?"},{"$error":"#NAME?"},{"$error":"#NAME?"},{"$error":"#NAME?"},{"$error":"#NAME?"},{"$error":"#NAME?"},{"$error":"#NAME?"},{"$error":"#NAME?"},{"$error":"#NAME?"},{"$error":"#NAME?"},{"$error":"#NAME?"},{"$error":"#NAME?"},{"$error":"#NAME?"},{"$error":"#NAME?"},{"$error":"#NAME?"},{"$error":"#NAME?"},{"$error":"#NAME?"},{"$error":"#NAME?"},{"$error":"#NAME?"},{"$error":"#NAME?"}]
[{"$error":"#NAME?"},{"$error":"#NAME?"},{"$error":"#NAME?"},{"$error":"#NAME?"},{"$error":"#NAME?"},{"$error":"#NAME?"},{"$error":"#NAME?"},{"$error":"#NAME?"},{"$error":"#NAME?"},{"$error":"#NAME?"},{"$error":"#NAME?"},{"$error":"#NAME?"},{"$error":"#NAME?"},{"$error":"#NAME?"},{"$error":"#NAME?"},{"$error":"#NAME?"},{"$error":"#NAME?"},{"$error":"#NAME?"},{"$error":"#NAME?"},{"$error":"#NAME?"},{"$error":"#NAME?"},{"$error":"#NAME?"},{"$error":"#NAME?"},{"$error":"#NAME?"},{"$error":"#NAME?"},{"$error":"#NAME?"},{"$error":"#NAME?"},{"$error":"#NAME?"},{"$error":"#NAME?"},{"$error":"#NAME?"},{"$error":"#NAME?"},{"$error":"#NAME?"},{"$error":"#NAME?"},{"$error":"#NAME?"},{"$error":"#NAME?"},{"$error":"#NAME?"},{"$error":"#NAME?"},{"$error":"#NAME?"},{"$error":"#NAME?"},{"$error":"#NAME?"},{"$error":"#NAME?"},{"$error":"#NAME?"},{"$error":"#NAME?"},{"$error":"#NAME?"},{"$error":"#NAME?"},{"$error":"#NAME?"},{"$error":"#NAME?"},{"$error":"#NAME?"},{"$error":"#NAME?"},{"$error":"#NAME?"},{"$error":"#NAME?"},{"$error":"#NAME?"},{"$error":"#NAME?"},{"$error":"#NAME?"},{"$error":"#NAME?"},{"$error":"#NAME?"},{"$error":"#NAME?"},{"$error":"#NAME?"},{"$error":"#NAME?"},{"$error":"#NAME?"},{"$error":"#NAME?"},{"$error":"#NAME?"},{"$error":"#NAME?"},{"$error":"#NAME?"},{"$error":"#NAME?"},{"$error":"#NAME?"},{"$error":"#NAME?"},{"$error":"#NAME?"},{"$error":"#NAME?"},{"$error":"#NAME?"},{"$error":"#NAME?"},{"$error":"#NAME?"},{"$error":"#NAME?"},{"$error":"#NAME?"},{"$error":"#NAME?"},{"$error":"#NAME?"},{"$error":"#NAME?"},{"$error":"#NAME?"},{"$error":"#NAME?"},{"$error":"#NAME?"},{"$error":"#NAME?"},{"$error":"#NAME?"},{"$error":"#NAME?"},{"$error":"#NAME?"},{"$error":"#NAME?"},{"$error":"#NAME?"},{"$error":"#NAME?"},{"$error":"#NAME?"},{"$error":"#NAME?"},{"$error":"#NAME?"},{"$error":"#NAME?"},{"$error":"#NAME?"},{"$error":"#NAME?"},{"$error":"#NAME?"},{"$error":"#NAME?"},{"$error":"#NAME?"},{"$error":"#NAME?"},{"$error":"#NAME?"},{"$error":"#NAME?"},{"$error":"#NAME?"},null,{"$error":"#NAME?"},{"$error":"#NAME?"},{"$error":"#NAME?"},{"$error":"#NAME?"},{"$error":"#NAME?"},{"$error":"#NAME?"},{"$error":"#NAME?"},{"$error":"#NAME?"},{"$error":"#NAME?"},{"$error":"#NAME?"},{"$error":"#NAME?"},{"$error":"#NAME?"},{"$error":"#NAME?"},{"$error":"#NAME?"},{"$error":"#NAME?"},{"$error":"#NAME?"},{"$error":"#NAME?"},{"$error":"#NAME?"},{"$error":"#NAME?"},{"$error":"#NAME?"},{"$error":"#NAME?"},{"$error":"#NAME?"},{"$error":"#NAME?"},{"$error":"#NAME?"},{"$error":"#NAME?"},{"$error":"#NAME?"},{"$error":"#NAME?"},{"$error":"#NAME?"},{"$error":"#NAME?"},{"$error":"#NAME?"},{"$error":"#NAME?"},{"$error":"#NAME?"},{"$error":"#NAME?"},{"$error":"#NAME?"},{"$error":"#NAME?"},{"$error":"#NAME?"},{"$error":"#NAME?"},{"$error":"#NAME?"},{"$error":"#NAME?"},{"$error":"#NAME?"},{"$error":"#NAME?"},{"$error":"#NAME?"},{"$error":"#NAME?"},{"$error":"#NAME?"},{"$error":"#NAME?"},{"$error":"#NAME?"},{"$error":"#NAME?"},{"$error":"#NAME?"},{"$error":"#NAME?"},{"$error":"#NAME?"},{"$error":"#NAME?"},{"$error":"#NAME?"},{"$error":"#NAME?"},{"$error":"#NAME?"},{"$error":"#NAME?"},{"$error":"#NAME?"},{"$error":"#NAME?"},{"$error":"#NAME?"},{"$error":"#NAME?"},{"$error":"#NAME?"},{"$error":"#NAME?"},{"$error":"#NAME?"},{"$error":"#NAME?"},{"$error":"#NAME?"},{"$error":"#NAME?"},{"$error":"#NAME?"},{"$error":"#NAME?"},{"$error":"#NAME?"},{"$error":"#NAME?"},{"$error":"#NAME?"},{"$error":"#NAME?"},{"$error":"#NAME?"},{"$error":"#NAME?"},{"$error":"#NAME?"},{"$error":"#NAME?"},{"$error":"#NAME?"},{"$error":"#NAME?"},{"$error":"#NAME?"},{"$error":"#NAME?"},{"$error":"#NAME?"},{"$error":"#NAME?"},{"$error":"#NAME?"},{"$error":"#NAME?"},{"$error":"#NAME?"},{"$error":"#NAME?"},{"$error":"#NAME?"},{"$error":"#NAME?"},{"$error":"#NAME?"},{"$error":"#NAME?"},{"$error":"#NAME?"},{"$error":"#NAME?"},{"$error":"#NAME?"},{"$error":"#NAME?"},{"$error":"#NAME?"},{"$error":"#NAME?"},{"$error":"#NAME?"},{"$error":"#NAME?"},{"$error":"#NAME?"},{"$error":"#NAME?"},{"$error":"#NAME?"}]
[{"$error":"#NAME?"},{"$error":"#NAME?"},{"$error":"#NAME?"},{"$error":"#NAME?"},{"$error":"#NAME?"},{"$error":"#NAME?"},{"$error":"#NAME?"},{"$error":"#NAME?"},{"$error":"#NAME?"},{"$error":"#NAME?"},{"$error":"#NAME?"},{"$error":"#NAME?"},{"$error":"#NAME?"},{"$error":"#NAME?"},{"$error":"#NAME?"},{"$error":"#NAME?"},{"$error":"#NAME?"},{"$error":"#NAME?"},{"$error":"#NAME?"},{"$error":"#NAME?"},{"$error":"#NAME?"},{"$error":"#NAME?"},{"$error":"#NAME?"},{"$error":"#NAME?"},{"$error":"#NAME?"},{"$error":"#NAME?"},{"$error":"#NAME?"},{"$error":"#NAME?"},{"$error":"#NAME?"},{"$error":"#NAME?"},{"$error":"#NAME?"},{"$error":"#NAME?"},{"$error":"#NAME?"},{"$error":"#NAME?"},{"$error":"#NAME?"},{"$error":"#NAME?"},{"$error":"#NAME?"},{"$error":"#NAME?"},{"$error":"#NAME?"},{"$error":"#NAME?"},{"$error":"#NAME?"},{"$error":"#NAME?"},{"$error":"#NAME?"},{"$error":"#NAME?"},{"$error":"#NAME?"},{"$error":"#NAME?"},{"$error":"#NAME?"},{"$error":"#NAME?"},{"$error":"#NAME?"},{"$error":"#NAME?"},{"$error":"#NAME?"},{"$error":"#NAME?"},{"$error":"#NAME?"},{"$error":"#NAME?"},{"$error":"#NAME?"},{"$error":"#NAME?"},{"$error":"#NAME?"},{"$error":"#NAME?"},{"$error":"#NAME?"},{"$error":"#NAME?"},{"$error":"#NAME?"},{"$error":"#NAME?"},{"$error":"#NAME?"},{"$error":"#NAME?"},{"$error":"#NAME?"},{"$error":"#NAME?"},{"$error":"#NAME?"},{"$error":"#NAME?"},{"$error":"#NAME?"},{"$error":"#NAME?"},{"$error":"#NAME?"},{"$error":"#NAME?"},{"$error":"#NAME?"},{"$error":"#NAME?"},{"$error":"#NAME?"},{"$error":"#NAME?"},{"$error":"#NAME?"},{"$error":"#NAME?"},{"$error":"#NAME?"},{"$error":"#NAME?"},{"$error":"#NAME?"},{"$error":"#NAME?"},{"$error":"#NAME?"},{"$error":"#NAME?"},{"$error":"#NAME?"},{"$error":"#NAME?"},{"$error":"#NAME?"},{"$error":"#NAME?"},{"$error":"#NAME?"},{"$error":"#NAME?"},{"$error":"#NAME?"},{"$error":"#NAME?"},{"$error":"#NAME?"},{"$error":"#NAME?"},{"$error":"#NAME?"},{"$error":"#NAME?"},{"$error":"#NAME?"},{"$error":"#NAME?"},{"$error":"#NAME?"},{"$error":"#NAME?"},null,{"$error":"#NAME?"},{"$error":"#NAME?"},{"$error":"#NAME?"},{"$error":"#NAME?"},{"$error":"#NAME?"},{"$error":"#NAME?"},{"$error":"#NAME?"},{"$error":"#NAME?"},{"$error":"#NAME?"},{"$error":"#NAME?"},{"$error":"#NAME?"},{"$error":"#NAME?"},{"$error":"#NAME?"},{"$error":"#NAME?"},{"$error":"#NAME?"},{"$error":"#NAME?"},{"$error":"#NAME?"},{"$error":"#NAME?"},{"$error":"#NAME?"},{"$error":"#NAME?"},{"$error":"#NAME?"},{"$error":"#NAME?"},{"$error":"#NAME?"},{"$error":"#NAME?"},{"$error":"#NAME?"},{"$error":"#NAME?"},{"$error":"#NAME?"},{"$error":"#NAME?"},{"$error":"#NAME?"},{"$error":"#NAME?"},{"$error":"#NAME?"},{"$error":"#NAME?"},{"$error":"#NAME?"},{"$error":"#NAME?"},{"$error":"#NAME?"},{"$error":"#NAME?"},{"$error":"#NAME?"},{"$error":"#NAME?"},{"$error":"#NAME?"},{"$error":"#NAME?"},{"$error":"#NAME?"},{"$error":"#NAME?"},{"$error":"#NAME?"},{"$error":"#NAME?"},{"$error":"#NAME?"},{"$error":"#NAME?"},{"$error":"#NAME?"},{"$error":"#NAME?"},{"$error":"#NAME?"},{"$error":"#NAME?"},{"$error":"#NAME?"},{"$error":"#NAME?"},{"$error":"#NAME?"},{"$error":"#NAME?"},{"$error":"#NAME?"},{"$error":"#NAME?"},{"$error":"#NAME?"},{"$error":"#NAME?"},{"$error":"#NAME?"},{"$error":"#NAME?"},{"$error":"#NAME?"},{"$error":"#NAME?"},{"$error":"#NAME?"},{"$error":"#NAME?"},{"$error":"#NAME?"},{"$error":"#NAME?"},{"$error":"#NAME?"},{"$error":"#NAME?"},{"$error":"#NAME?"},{"$error":"#NAME?"},{"$error":"#NAME?"},{"$error":"#NAME?"},{"$error":"#NAME?"},{"$error":"#NAME?"},{"$error":"#NAME?"},{"$error":"#NAME?"},{"$error":"#NAME?"},{"$error":"#NAME?"},{"$error":"#NAME?"},{"$error":"#NAME?"},{"$error":"#NAME?"},{"$error":"#NAME?"},{"$error":"#NAME?"},{"$error":"#NAME?"},{"$error":"#NAME?"},{"$error":"#NAME?"},{"$error":"#NAME?"},{"$error":"#NAME?"},{"$error":"#NAME?"},{"$error":"#NAME?"},{"$error":"#NAME?"},{"$error":"#NAME?"},{"$error":"#NAME?"},{"$error":"#NAME?"},{"$error":"#NAME?"},{"$error":"#NAME?"},{"$error":"#NAME?"},{"$error":"#NAME?"},{"$error":"#NAME?"},{"$error":"#NAME?"}]
[{"$error":"#NAME?"},{"$error":"#NAME?"},{"$error":"#NAME?"},{"$error":"#NAME?"},{"$error":"#NAME?"},{"$error":"#NAME?"},{"$error":"#NAME?"},{"$error":"#NAME?"},{"$error":"#NAME?"},{"$error":"#NAME?"},{"$error":"#NAME?"},{"$error":"#NAME?"},{"$error":"#NAME?"},{"$error":"#NAME?"},{"$error":"#NAME?"},{"$error":"#NAME?"},{"$error":"#NAME?"},{"$error":"#NAME?"},{"$error":"#NAME?"},{"$error":"#NAME?"},{"$error":"#NAME?"},{"$error":"#NAME?"},{"$error":"#NAME?"},{"$error":"#NAME?"},{"$error":"#NAME?"},{"$error":"#NAME?"},{"$error":"#NAME?"},{"$error":"#NAME?"},{"$error":"#NAME?"},{"$error":"#NAME?"},{"$error":"#NAME?"},{"$error":"#NAME?"},{"$error":"#NAME?"},{"$error":"#NAME?"},{"$error":"#NAME?"},{"$error":"#NAME?"},{"$error":"#NAME?"},{"$error":"#NAME?"},{"$error":"#NAME?"},{"$error":"#NAME?"},{"$error":"#NAME?"},{"$error":"#NAME?"},{"$error":"#NAME?"},{"$error":"#NAME?"},{"$error":"#NAME?"},{"$error":"#NAME?"},{"$error":"#NAME?"},{"$error":"#NAME?"},{"$error":"#NAME?"},{"$error":"#NAME?"},{"$error":"#NAME?"},{"$error":"#NAME?"},{"$error":"#NAME?"},{"$error":"#NAME?"},{"$error":"#NAME?"},{"$error":"#NAME?"},{"$error":"#NAME?"},{"$error":"#NAME?"},{"$error":"#NAME?"},{"$error":"#NAME?"},{"$error":"#NAME?"},{"$error":"#NAME?"},{"$error":"#NAME?"},{"$error":"#NAME?"},{"$error":"#NAME?"},{"$error":"#NAME?"},{"$error":"#NAME?"},{"$error":"#NAME?"},{"$error":"#NAME?"},{"$error":"#NAME?"},{"$error":"#NAME?"},{"$error":"#NAME?"},{"$error":"#NAME?"},{"$error":"#NAME?"},{"$error":"#NAME?"},{"$error":"#NAME?"},{"$error":"#NAME?"},{"$error":"#NAME?"},{"$error":"#NAME?"},{"$error":"#NAME?"},{"$error":"#NAME?"},{"$error":"#NAME?"},{"$error":"#NAME?"},{"$error":"#NAME?"},{"$error":"#NAME?"},{"$error":"#NAME?"},{"$error":"#NAME?"},{"$error":"#NAME?"},{"$error":"#NAME?"},{"$error":"#NAME?"},{"$error":"#NAME?"},{"$error":"#NAME?"},{"$error":"#NAME?"},{"$error":"#NAME?"},{"$error":"#NAME?"},{"$error":"#NAME?"},{"$error":"#NAME?"},{"$error":"#NAME?"},{"$error":"#NAME?"},{"$error":"#NAME?"},null,{"$error":"#NAME?"},{"$error":"#NAME?"},{"$error":"#NAME?"},{"$error":"#NAME?"},{"$error":"#NAME?"},{"$error":"#NAME?"},{"$error":"#NAME?"},{"$error":"#NAME?"},{"$error":"#NAME?"},{"$error":"#NAME?"},{"$error":"#NAME?"},{"$error":"#NAME?"},{"$error":"#NAME?"},{"$error":"#NAME?"},{"$error":"#NAME?"},{"$error":"#NAME?"},{"$error":"#NAME?"},{"$error":"#NAME?"},{"$error":"#NAME?"},{"$error":"#NAME?"},{"$error":"#NAME?"},{"$error":"#NAME?"},{"$error":"#NAME?"},{"$error":"#NAME?"},{"$error":"#NAME?"},{"$error":"#NAME?"},{"$error":"#NAME?"},{"$error":"#NAME?"},{"$error":"#NAME?"},{"$error":"#NAME?"},{"$error":"#NAME?"},{"$error":"#NAME?"},{"$error":"#NAME?"},{"$error":"#NAME?"},{"$error":"#NAME?"},{"$error":"#NAME?"},{"$error":"#NAME?"},{"$error":"#NAME?"},{"$error":"#NAME?"},{"$error":"#NAME?"},{"$error":"#NAME?"},{"$error":"#NAME?"},{"$error":"#NAME?"},{"$error":"#NAME?"},{"$error":"#NAME?"},{"$error":"#NAME?"},{"$error":"#NAME?"},{"$error":"#NAME?"},{"$error":"#NAME?"},{"$error":"#NAME?"},{"$error":"#NAME?"},{"$error":"#NAME?"},{"$error":"#NAME?"},{"$error":"#NAME?"},{"$error":"#NAME?"},{"$error":"#NAME?"},{"$error":"#NAME?"},{"$error":"#NAME?"},{"$error":"#NAME?"},{"$error":"#NAME?"},{"$error":"#NAME?"},{"$error":"#NAME?"},{"$error":"#NAME?"},{"$error":"#NAME?"},{"$error":"#NAME?"},{"$error":"#NAME?"},{"$error":"#NAME?"},{"$error":"#NAME?"},{"$error":"#NAME?"},{"$error":"#NAME?"},{"$error":"#NAME?"},{"$error":"#NAME?"},{"$error":"#NAME?"},{"$error":"#NAME?"},{"$error":"#NAME?"},{"$error":"#NAME?"},{"$error":"#NAME?"},{"$error":"#NAME?"},{"$error":"#NAME?"},{"$error":"#NAME?"},{"$error":"#NAME?"},{"$error":"#NAME?"},{"$error":"#NAME?"},{"$error":"#NAME?"},{"$error":"#NAME?"},{"$error":"#NAME?"},{"$error":"#NAME?"},{"$error":"#NAME?"},{"$error":"#NAME?"},{"$error":"#NAME?"},{"$error":"#NAME?"},{"$error":"#NAME?"},{"$error":"#NAME?"},{"$error":"#NAME?"},{"$error":"#NAME?"},{"$error":"#NAME?"},{"$error":"#NAME?"},{"$error":"#NAME?"},{"$error":"#NAME?"},{"$error":"#NAME?"}]
[{"$error":"#NAME?"},{"$error":"#NAME?"},{"$error":"#NAME?"},{"$error":"#NAME?"},{"$error":"#NAME?"},{"$error":"#NAME?"},{"$error":"#NAME?"},{"$error":"#NAME?"},{"$error":"#NAME?"},{"$error":"#NAME?"},{"$error":"#NAME?"},{"$error":"#NAME?"},{"$error":"#NAME?"},{"$error":"#NAME?"},{"$error":"#NAME?"},{"$error":"#NAME?"},{"$error":"#NAME?"},{"$error":"#NAME?"},{"$error":"#NAME?"},{"$error":"#NAME?"},{"$error":"#NAME?"},{"$error":"#NAME?"},{"$error":"#NAME?"},{"$error":"#NAME?"},{"$error":"#NAME?"},{"$error":"#NAME?"},{"$error":"#NAME?"},{"$error":"#NAME?"},{"$error":"#NAME?"},{"$error":"#NAME?"},{"$error":"#NAME?"},{"$error":"#NAME?"},{"$error":"#NAME?"},{"$error":"#NAME?"},{"$error":"#NAME?"},{"$error":"#NAME?"},{"$error":"#NAME?"},{"$error":"#NAME?"},{"$error":"#NAME?"},{"$error":"#NAME?"},{"$error":"#NAME?"},{"$error":"#NAME?"},{"$error":"#NAME?"},{"$error":"#NAME?"},{"$error":"#NAME?"},{"$error":"#NAME?"},{"$error":"#NAME?"},{"$error":"#NAME?"},{"$error":"#NAME?"},{"$error":"#NAME?"},{"$error":"#NAME?"},{"$error":"#NAME?"},{"$error":"#NAME?"},{"$error":"#NAME?"},{"$error":"#NAME?"},{"$error":"#NAME?"},{"$error":"#NAME?"},{"$error":"#NAME?"},{"$error":"#NAME?"},{"$error":"#NAME?"},{"$error":"#NAME?"},{"$error":"#NAME?"},{"$error":"#NAME?"},{"$error":"#NAME?"},{"$error":"#NAME?"},{"$error":"#NAME?"},{"$error":"#NAME?"},{"$error":"#NAME?"},{"$error":"#NAME?"},{"$error":"#NAME?"},{"$error":"#NAME?"},{"$error":"#NAME?"},{"$error":"#NAME?"},{"$error":"#NAME?"},{"$error":"#NAME?"},{"$error":"#NAME?"},{"$error":"#NAME?"},{"$error":"#NAME?"},{"$error":"#NAME?"},{"$error":"#NAME?"},{"$error":"#NAME?"},{"$error":"#NAME?"},{"$error":"#NAME?"},{"$error":"#NAME?"},{"$error":"#NAME?"},{"$error":"#NAME?"},{"$error":"#NAME?"},{"$error":"#NAME?"},{"$error":"#NAME?"},{"$error":"#NAME?"},{"$error":"#NAME?"},{"$error":"#NAME?"},{"$error":"#NAME?"},{"$error":"#NAME?"},{"$error":"#NAME?"},{"$error":"#NAME?"},{"$error":"#NAME?"},{"$error":"#NAME?"},{"$error":"#NAME?"},{"$error":"#NAME?"},null,{"$error":"#NAME?"},{"$error":"#NAME?"},{"$error":"#NAME?"},{"$error":"#NAME?"},{"$error":"#NAME?"},{"$error":"#NAME?"},{"$error":"#NAME?"},{"$error":"#NAME?"},{"$error":"#NAME?"},{"$error":"#NAME?"},{"$error":"#NAME?"},{"$error":"#NAME?"},{"$error":"#NAME?"},{"$error":"#NAME?"},{"$error":"#NAME?"},{"$error":"#NAME?"},{"$error":"#NAME?"},{"$error":"#NAME?"},{"$error":"#NAME?"},{"$error":"#NAME?"},{"$error":"#NAME?"},{"$error":"#NAME?"},{"$error":"#NAME?"},{"$error":"#NAME?"},{"$error":"#NAME?"},{"$error":"#NAME?"},{"$error":"#NAME?"},{"$error":"#NAME?"},{"$error":"#NAME?"},{"$error":"#NAME?"},{"$error":"#NAME?"},{"$error":"#NAME?"},{"$error":"#NAME?"},{"$error":"#NAME?"},{"$error":"#NAME?"},{"$error":"#NAME?"},{"$error":"#NAME?"},{"$error":"#NAME?"},{"$error":"#NAME?"},{"$error":"#NAME?"},{"$error":"#NAME?"},{"$error":"#NAME?"},{"$error":"#NAME?"},{"$error":"#NAME?"},{"$error":"#NAME?"},{"$error":"#NAME?"},{"$error":"#NAME?"},{"$error":"#NAME?"},{"$error":"#NAME?"},{"$error":"#NAME?"},{"$error":"#NAME?"},{"$error":"#NAME?"},{"$error":"#NAME?"},{"$error":"#NAME?"},{"$error":"#NAME?"},{"$error":"#NAME?"},{"$error":"#NAME?"},{"$error":"#NAME?"},{"$error":"#NAME?"},{"$error":"#NAME?"},{"$error":"#NAME?"},{"$error":"#NAME?"},{"$error":"#NAME?"},{"$error":"#NAME?"},{"$error":"#NAME?"},{"$error":"#NAME?"},{"$error":"#NAME?"},{"$error":"#NAME?"},{"$error":"#NAME?"},{"$error":"#NAME?"},{"$error":"#NAME?"},{"$error":"#NAME?"},{"$error":"#NAME?"},{"$error":"#NAME?"},{"$error":"#NAME?"},{"$error":"#NAME?"},{"$error":"#NAME?"},{"$error":"#NAME?"},{"$error":"#NAME?"},{"$error":"#NAME?"},{"$error":"#NAME?"},{"$error":"#NAME?"},{"$error":"#NAME?"},{"$error":"#NAME?"},{"$error":"#NAME?"},{"$error":"#NAME?"},{"$error":"#NAME?"},{"$error":"#NAME?"},{"$error":"#NAME?"},{"$error":"#NAME?"},{"$error":"#NAME?"},{"$error":"#NAME?"},{"$error":"#NAME?"},{"$error":"#NAME?"},{"$error":"#NAME?"},{"$error":"#NAME?"},{"$error":"#NAME?"},{"$error":"#NAME?"},{"$error":"#NAME?"},{"$error":"#NAME?"}]
[{"$error":"#NAME?"},{"$error":"#NAME?"},{"$error":"#NAME?"},{"$error":"#NAME?"},{"$error":"#NAME?"},{"$error":"#NAME?"},{"$error":"#NAME?"},{"$error":"#NAME?"},{"$error":"#NAME?"},{"$error":"#NAME?"},{"$error":"#NAME?"},{"$error":"#NAME?"},{"$error":"#NAME?"},{"$error":"#NAME?"},{"$error":"#NAME?"},{"$error":"#NAME?"},{"$error":"#NAME?"},{"$error":"#NAME?"},{"$error":"#NAME?"},{"$error":"#NAME?"},{"$error":"#NAME?"},{"$error":"#NAME?"},{"$error":"#NAME?"},{"$error":"#NAME?"},{"$error":"#NAME?"},{"$error":"#NAME?"},{"$error":"#NAME?"},{"$error":"#NAME?"},{"$error":"#NAME?"},{"$error":"#NAME?"},{"$error":"#NAME?"},{"$error":"#NAME?"},{"$error":"#NAME?"},{"$error":"#NAME?"},{"$error":"#NAME?"},{"$error":"#NAME?"},{"$error":"#NAME?"},{"$error":"#NAME?"},{"$error":"#NAME?"},{"$error":"#NAME?"},{"$error":"#NAME?"},{"$error":"#NAME?"},{"$error":"#NAME?"},{"$error":"#NAME?"},{"$error":"#NAME?"},{"$error":"#NAME?"},{"$error":"#NAME?"},{"$error":"#NAME?"},{"$error":"#NAME?"},{"$error":"#NAME?"},{"$error":"#NAME?"},{"$error":"#NAME?"},{"$error":"#NAME?"},{"$error":"#NAME?"},{"$error":"#NAME?"},{"$error":"#NAME?"},{"$error":"#NAME?"},{"$error":"#NAME?"},{"$error":"#NAME?"},{"$error":"#NAME?"},{"$error":"#NAME?"},{"$error":"#NAME?"},{"$error":"#NAME?"},{"$error":"#NAME?"},{"$error":"#NAME?"},{"$error":"#NAME?"},{"$error":"#NAME?"},{"$error":"#NAME?"},{"$error":"#NAME?"},{"$error":"#NAME?"},{"$error":"#NAME?"},{"$error":"#NAME?"},{"$error":"#NAME?"},{"$error":"#NAME?"},{"$error":"#NAME?"},{"$error":"#NAME?"},{"$error":"#NAME?"},{"$error":"#NAME?"},{"$error":"#NAME?"},{"$error":"#NAME?"},{"$error":"#NAME?"},{"$error":"#NAME?"},{"$error":"#NAME?"},{"$error":"#NAME?"},{"$error":"#NAME?"},{"$error":"#NAME?"},{"$error":"#NAME?"},{"$error":"#NAME?"},{"$error":"#NAME?"},{"$error":"#NAME?"},{"$error":"#NAME?"},{"$error":"#NAME?"},{"$error":"#NAME?"},{"$error":"#NAME?"},{"$error":"#NAME?"},{"$error":"#NAME?"},{"$error":"#NAME?"},{"$error":"#NAME?"},{"$error":"#NAME?"},{"$error":"#NAME?"},null,{"$error":"#NAME?"},{"$error":"#NAME?"},{"$error":"#NAME?"},{"$error":"#NAME?"},{"$error":"#NAME?"},{"$error":"#NAME?"},{"$error":"#NAME?"},{"$error":"#NAME?"},{"$error":"#NAME?"},{"$error":"#NAME?"},{"$error":"#NAME?"},{"$error":"#NAME?"},{"$error":"#NAME?"},{"$error":"#NAME?"},{"$error":"#NAME?"},{"$error":"#NAME?"},{"$error":"#NAME?"},{"$error":"#NAME?"},{"$error":"#NAME?"},{"$error":"#NAME?"},{"$error":"#NAME?"},{"$error":"#NAME?"},{"$error":"#NAME?"},{"$error":"#NAME?"},{"$error":"#NAME?"},{"$error":"#NAME?"},{"$error":"#NAME?"},{"$error":"#NAME?"},{"$error":"#NAME?"},{"$error":"#NAME?"},{"$error":"#NAME?"},{"$error":"#NAME?"},{"$error":"#NAME?"},{"$error":"#NAME?"},{"$error":"#NAME?"},{"$error":"#NAME?"},{"$error":"#NAME?"},{"$error":"#NAME?"},{"$error":"#NAME?"},{"$error":"#NAME?"},{"$error":"#NAME?"},{"$error":"#NAME?"},{"$error":"#NAME?"},{"$error":"#NAME?"},{"$error":"#NAME?"},{"$error":"#NAME?"},{"$error":"#NAME?"},{"$error":"#NAME?"},{"$error":"#NAME?"},{"$error":"#NAME?"},{"$error":"#NAME?"},{"$error":"#NAME?"},{"$error":"#NAME?"},{"$error":"#NAME?"},{"$error":"#NAME?"},{"$error":"#NAME?"},{"$error":"#NAME?"},{"$error":"#NAME?"},{"$error":"#NAME?"},{"$error":"#NAME?"},{"$error":"#NAME?"},{"$error":"#NAME?"},{"$error":"#NAME?"},{"$error":"#NAME?"},{"$error":"#NAME?"},{"$error":"#NAME?"},{"$error":"#NAME?"},{"$error":"#NAME?"},{"$error":"#NAME?"},{"$error":"#NAME?"},{"$error":"#NAME?"},{"$error":"#NAME?"},{"$error":"#NAME?"},{"$error":"#NAME?"},{"$error":"#NAME?"},{"$error":"#NAME?"},{"$error":"#NAME?"},{"$error":"#NAME?"},{"$error":"#NAME?"},{"$error":"#NAME?"},{"$error":"#NAME?"},{"$error":"#NAME?"},{"$error":"#NAME?"},{"$error":"#NAME?"},{"$error":"#NAME?"},{"$error":"#NAME?"},{"$error":"#NAME?"},{"$error":"#NAME?"},{"$error":"#NAME?"},{"$error":"#NAME?"},{"$error":"#NAME?"},{"$error":"#NAME?"},{"$error":"#NAME?"},{"$error":"#NAME?"},{"$error":"#NAME?"},{"$error":"#NAME?"},{"$error":"#NAME?"},{"$error":"#NAME?"},{"$error":"#NAME?"},{"$error":"#NAME?"}]
[{"$error":"#NAME?"},{"$error":"#NAME?"},{"$error":"#NAME?"},{"$error":"#NAME?"},{"$error":"#NAME?"},{"$error":"#NAME?"},{"$error":"#NAME?"},{"$error":"#NAME?"},{"$error":"#NAME?"},{"$error":"#NAME?"},{"$error":"#NAME?"},{"$error":"#NAME?"},{"$error":"#NAME?"},{"$error":"#NAME?"},{"$error":"#NAME?"},{"$error":"#NAME?"},{"$error":"#NAME?"},{"$error":"#NAME?"},{"$error":"#NAME?"},{"$error":"#NAME?"},{"$error":"#NAME?"},{"$error":"#NAME?"},{"$error":"#NAME?"},{"$error":"#NAME?"},{"$error":"#NAME?"},{"$error":"#NAME?"},{"$error":"#NAME?"},{"$error":"#NAME?"},{"$error":"#NAME?"},{"$error":"#NAME?"},{"$error":"#NAME?"},{"$error":"#NAME?"},{"$error":"#NAME?"},{"$error":"#NAME?"},{"$error":"#NAME?"},{"$error":"#NAME?"},{"$error":"#NAME?"},{"$error":"#NAME?"},{"$error":"#NAME?"},{"$error":"#NAME?"},{"$error":"#NAME?"},{"$error":"#NAME?"},{"$error":"#NAME?"},{"$error":"#NAME?"},{"$error":"#NAME?"},{"$error":"#NAME?"},{"$error":"#NAME?"},{"$error":"#NAME?"},{"$error":"#NAME?"},{"$error":"#NAME?"},{"$error":"#NAME?"},{"$error":"#NAME?"},{"$error":"#NAME?"},{"$error":"#NAME?"},{"$error":"#NAME?"},{"$error":"#NAME?"},{"$error":"#NAME?"},{"$error":"#NAME?"},{"$error":"#NAME?"},{"$error":"#NAME?"},{"$error":"#NAME?"},{"$error":"#NAME?"},{"$error":"#NAME?"},{"$error":"#NAME?"},{"$error":"#NAME?"},{"$error":"#NAME?"},{"$error":"#NAME?"},{"$error":"#NAME?"},{"$error":"#NAME?"},{"$error":"#NAME?"},{"$error":"#NAME?"},{"$error":"#NAME?"},{"$error":"#NAME?"},{"$error":"#NAME?"},{"$error":"#NAME?"},{"$error":"#NAME?"},{"$error":"#NAME?"},{"$error":"#NAME?"},{"$error":"#NAME?"},{"$error":"#NAME?"},{"$error":"#NAME?"},{"$error":"#NAME?"},{"$error":"#NAME?"},{"$error":"#NAME?"},{"$error":"#NAME?"},{"$error":"#NAME?"},{"$error":"#NAME?"},{"$error":"#NAME?"},{"$error":"#NAME?"},{"$error":"#NAME?"},{"$error":"#NAME?"},{"$error":"#NAME?"},{"$error":"#NAME?"},{"$error":"#NAME?"},{"$error":"#NAME?"},{"$error":"#NAME?"},{"$error":"#NAME?"},{"$error":"#NAME?"},{"$error":"#NAME?"},{"$error":"#NAME?"},null,{"$error":"#NAME?"},{"$error":"#NAME?"},{"$error":"#NAME?"},{"$error":"#NAME?"},{"$error":"#NAME?"},{"$error":"#NAME?"},{"$error":"#NAME?"},{"$error":"#NAME?"},{"$error":"#NAME?"},{"$error":"#NAME?"},{"$error":"#NAME?"},{"$error":"#NAME?"},{"$error":"#NAME?"},{"$error":"#NAME?"},{"$error":"#NAME?"},{"$error":"#NAME?"},{"$error":"#NAME?"},{"$error":"#NAME?"},{"$error":"#NAME?"},{"$error":"#NAME?"},{"$error":"#NAME?"},{"$error":"#NAME?"},{"$error":"#NAME?"},{"$error":"#NAME?"},{"$error":"#NAME?"},{"$error":"#NAME?"},{"$error":"#NAME?"},{"$error":"#NAME?"},{"$error":"#NAME?"},{"$error":"#NAME?"},{"$error":"#NAME?"},{"$error":"#NAME?"},{"$error":"#NAME?"},{"$error":"#NAME?"},{"$error":"#NAME?"},{"$error":"#NAME?"},{"$error":"#NAME?"},{"$error":"#NAME?"},{"$error":"#NAME?"},{"$error":"#NAME?"},{"$error":"#NAME?"},{"$error":"#NAME?"},{"$error":"#NAME?"},{"$error":"#NAME?"},{"$error":"#NAME?"},{"$error":"#NAME?"},{"$error":"#NAME?"},{"$error":"#NAME?"},{"$error":"#NAME?"},{"$error":"#NAME?"},{"$error":"#NAME?"},{"$error":"#NAME?"},{"$error":"#NAME?"},{"$error":"#NAME?"},{"$error":"#NAME?"},{"$error":"#NAME?"},{"$error":"#NAME?"},{"$error":"#NAME?"},{"$error":"#NAME?"},{"$error":"#NAME?"},{"$error":"#NAME?"},{"$error":"#NAME?"},{"$error":"#NAME?"},{"$error":"#NAME?"},{"$error":"#NAME?"},{"$error":"#NAME?"},{"$error":"#NAME?"},{"$error":"#NAME?"},{"$error":"#NAME?"},{"$error":"#NAME?"},{"$error":"#NAME?"},{"$error":"#NAME?"},{"$error":"#NAME?"},{"$error":"#NAME?"},{"$error":"#NAME?"},{"$error":"#NAME?"},{"$error":"#NAME?"},{"$error":"#NAME?"},{"$error":"#NAME?"},{"$error":"#NAME?"},{"$error":"#NAME?"},{"$error":"#NAME?"},{"$error":"#NAME?"},{"$error":"#NAME?"},{"$error":"#NAME?"},{"$error":"#NAME?"},{"$error":"#NAME?"},{"$error":"#NAME?"},{"$error":"#NAME?"},{"$error":"#NAME?"},{"$error":"#NAME?"},{"$error":"#NAME?"},{"$error":"#NAME?"},{"$error":"#NAME?"},{"$error":"#NAME?"},{"$error":"#NAME?"},{"$error":"#NAME?"},{"$error":"#NAME?"},{"$error":"#NAME?"},{"$error":"#NAME?"}]
[{"$error":"#NAME?"},{"$error":"#NAME?"},{"$error":"#NAME?"},{"$error":"#NAME?"},{"$error":"#NAME?"},{"$error":"#NAME?"},{"$error":"#NAME?"},{"$error":"#NAME?"},{"$error":"#NAME?"},{"$error":"#NAME?"},{"$error":"#NAME?"},{"$error":"#NAME?"},{"$error":"#NAME?"},{"$error":"#NAME?"},{"$error":"#NAME?"},{"$error":"#NAME?"},{"$error":"#NAME?"},{"$error":"#NAME?"},{"$error":"#NAME?"},{"$error":"#NAME?"},{"$error":"#NAME?"},{"$error":"#NAME?"},{"$error":"#NAME?"},{"$error":"#NAME?"},{"$error":"#NAME?"},{"$error":"#NAME?"},{"$error":"#NAME?"},{"$error":"#NAME?"},{"$error":"#NAME?"},{"$error":"#NAME?"},{"$error":"#NAME?"},{"$error":"#NAME?"},{"$error":"#NAME?"},{"$error":"#NAME?"},{"$error":"#NAME?"},{"$error":"#NAME?"},{"$error":"#NAME?"},{"$error":"#NAME?"},{"$error":"#NAME?"},{"$error":"#NAME?"},{"$error":"#NAME?"},{"$error":"#NAME?"},{"$error":"#NAME?"},{"$error":"#NAME?"},{"$error":"#NAME?"},{"$error":"#NAME?"},{"$error":"#NAME?"},{"$error":"#NAME?"},{"$error":"#NAME?"},{"$error":"#NAME?"},{"$error":"#NAME?"},{"$error":"#NAME?"},{"$error":"#NAME?"},{"$error":"#NAME?"},{"$error":"#NAME?"},{"$error":"#NAME?"},{"$error":"#NAME?"},{"$error":"#NAME?"},{"$error":"#NAME?"},{"$error":"#NAME?"},{"$error":"#NAME?"},{"$error":"#NAME?"},{"$error":"#NAME?"},{"$error":"#NAME?"},{"$error":"#NAME?"},{"$error":"#NAME?"},{"$error":"#NAME?"},{"$error":"#NAME?"},{"$error":"#NAME?"},{"$error":"#NAME?"},{"$error":"#NAME?"},{"$error":"#NAME?"},{"$error":"#NAME?"},{"$error":"#NAME?"},{"$error":"#NAME?"},{"$error":"#NAME?"},{"$error":"#NAME?"},{"$error":"#NAME?"},{"$error":"#NAME?"},{"$error":"#NAME?"},{"$error":"#NAME?"},{"$error":"#NAME?"},{"$error":"#NAME?"},{"$error":"#NAME?"},{"$error":"#NAME?"},{"$error":"#NAME?"},{"$error":"#NAME?"},{"$error":"#NAME?"},{"$error":"#NAME?"},{"$error":"#NAME?"},{"$error":"#NAME?"},{"$error":"#NAME?"},{"$error":"#NAME?"},{"$error":"#NAME?"},{"$error":"#NAME?"},{"$error":"#NAME?"},{"$error":"#NAME?"},{"$error":"#NAME?"},{"$error":"#NAME?"},{"$error":"#NAME?"},null,{"$error":"#NAME?"},{"$error":"#NAME?"},{"$error":"#NAME?"},{"$error":"#NAME?"},{"$error":"#NAME?"},{"$error":"#NAME?"},{"$error":"#NAME?"},{"$error":"#NAME?"},{"$error":"#NAME?"},{"$error":"#NAME?"},{"$error":"#NAME?"},{"$error":"#NAME?"},{"$error":"#NAME?"},{"$error":"#NAME?"},{"$error":"#NAME?"},{"$error":"#NAME?"},{"$error":"#NAME?"},{"$error":"#NAME?"},{"$error":"#NAME?"},{"$error":"#NAME?"},{"$error":"#NAME?"},{"$error":"#NAME?"},{"$error":"#NAME?"},{"$error":"#NAME?"},{"$error":"#NAME?"},{"$error":"#NAME?"},{"$error":"#NAME?"},{"$error":"#NAME?"},{"$error":"#NAME?"},{"$error":"#NAME?"},{"$error":"#NAME?"},{"$error":"#NAME?"},{"$error":"#NAME?"},{"$error":"#NAME?"},{"$error":"#NAME?"},{"$error":"#NAME?"},{"$error":"#NAME?"},{"$error":"#NAME?"},{"$error":"#NAME?"},{"$error":"#NAME?"},{"$error":"#NAME?"},{"$error":"#NAME?"},{"$error":"#NAME?"},{"$error":"#NAME?"},{"$error":"#NAME?"},{"$error":"#NAME?"},{"$error":"#NAME?"},{"$error":"#NAME?"},{"$error":"#NAME?"},{"$error":"#NAME?"},{"$error":"#NAME?"},{"$error":"#NAME?"},{"$error":"#NAME?"},{"$error":"#NAME?"},{"$error":"#NAME?"},{"$error":"#NAME?"},{"$error":"#NAME?"},{"$error":"#NAME?"},{"$error":"#NAME?"},{"$error":"#NAME?"},{"$error":"#NAME?"},{"$error":"#NAME?"},{"$error":"#NAME?"},{"$error":"#NAME?"},{"$error":"#NAME?"},{"$error":"#NAME?"},{"$error":"#NAME?"},{"$error":"#NAME?"},{"$error":"#NAME?"},{"$error":"#NAME?"},{"$error":"#NAME?"},{"$error":"#NAME?"},{"$error":"#NAME?"},{"$error":"#NAME?"},{"$error":"#NAME?"},{"$error":"#NAME?"},{"$error":"#NAME?"},{"$error":"#NAME?"},{"$error":"#NAME?"},{"$error":"#NAME?"},{"$error":"#NAME?"},{"$error":"#NAME?"},{"$error":"#NAME?"},{"$error":"#NAME?"},{"$error":"#NAME?"},{"$error":"#NAME?"},{"$error":"#NAME?"},{"$error":"#NAME?"},{"$error":"#NAME?"},{"$error":"#NAME?"},{"$error":"#NAME?"},{"$error":"#NAME?"},{"$error":"#NAME?"},{"$error":"#NAME?"},{"$error":"#NAME?"},{"$error":"#NAME?"},{"$error":"#NAME?"},{"$error":"#NAME?"},{"$error":"#NAME?"},{"$error":"#NAME?"}]
[{"$error":"#NAME?"},{"$error":"#NAME?"},{"$error":"#NAME?"},{"$error":"#NAME?"},{"$error":"#NAME?"},{"$error":"#NAME?"},{"$error":"#NAME?"},{"$error":"#NAME?"},{"$error":"#NAME?"},{"$error":"#NAME?"},{"$error":"#NAME?"},{"$error":"#NAME?"},{"$error":"#NAME?"},{"$error":"#NAME?"},{"$error":"#NAME?"},{"$error":"#NAME?"},{"$error":"#NAME?"},{"$error":"#NAME?"},{"$error":"#NAME?"},{"$error":"#NAME?"},{"$error":"#NAME?"},{"$error":"#NAME?"},{"$error":"#NAME?"},{"$error":"#NAME?"},{"$error":"#NAME?"},{"$error":"#NAME?"},{"$error":"#NAME?"},{"$error":"#NAME?"},{"$error":"#NAME?"},{"$error":"#NAME?"},{"$error":"#NAME?"},{"$error":"#NAME?"},{"$error":"#NAME?"},{"$error":"#NAME?"},{"$error":"#NAME?"},{"$error":"#NAME?"},{"$error":"#NAME?"},{"$error":"#NAME?"},{"$error":"#NAME?"},{"$error":"#NAME?"},{"$error":"#NAME?"},{"$error":"#NAME?"},{"$error":"#NAME?"},{"$error":"#NAME?"},{"$error":"#NAME?"},{"$error":"#NAME?"},{"$error":"#NAME?"},{"$error":"#NAME?"},{"$error":"#NAME?"},{"$error":"#NAME?"},{"$error":"#NAME?"},{"$error":"#NAME?"},{"$error":"#NAME?"},{"$error":"#NAME?"},{"$error":"#NAME?"},{"$error":"#NAME?"},{"$error":"#NAME?"},{"$error":"#NAME?"},{"$error":"#NAME?"},{"$error":"#NAME?"},{"$error":"#NAME?"},{"$error":"#NAME?"},{"$error":"#NAME?"},{"$error":"#NAME?"},{"$error":"#NAME?"},{"$error":"#NAME?"},{"$error":"#NAME?"},{"$error":"#NAME?"},{"$error":"#NAME?"},{"$error":"#NAME?"},{"$error":"#NAME?"},{"$error":"#NAME?"},{"$error":"#NAME?"},{"$error":"#NAME?"},{"$error":"#NAME?"},{"$error":"#NAME?"},{"$error":"#NAME?"},{"$error":"#NAME?"},{"$error":"#NAME?"},{"$error":"#NAME?"},{"$error":"#NAME?"},{"$error":"#NAME?"},{"$error":"#NAME?"},{"$error":"#NAME?"},{"$error":"#NAME?"},{"$error":"#NAME?"},{"$error":"#NAME?"},{"$error":"#NAME?"},{"$error":"#NAME?"},{"$error":"#NAME?"},{"$error":"#NAME?"},{"$error":"#NAME?"},{"$error":"#NAME?"},{"$error":"#NAME?"},{"$error":"#NAME?"},{"$error":"#NAME?"},{"$error":"#NAME?"},{"$error":"#NAME?"},{"$error":"#NAME?"},{"$error":"#NAME?"},null,{"$error":"#NAME?"},{"$error":"#NAME?"},{"$error":"#NAME?"},{"$error":"#NAME?"},{"$error":"#NAME?"},{"$error":"#NAME?"},{"$error":"#NAME?"},{"$error":"#NAME?"},{"$error":"#NAME?"},{"$error":"#NAME?"},{"$error":"#NAME?"},{"$error":"#NAME?"},{"$error":"#NAME?"},{"$error":"#NAME?"},{"$error":"#NAME?"},{"$error":"#NAME?"},{"$error":"#NAME?"},{"$error":"#NAME?"},{"$error":"#NAME?"},{"$error":"#NAME?"},{"$error":"#NAME?"},{"$error":"#NAME?"},{"$error":"#NAME?"},{"$error":"#NAME?"},{"$error":"#NAME?"},{"$error":"#NAME?"},{"$error":"#NAME?"},{"$error":"#NAME?"},{"$error":"#NAME?"},{"$error":"#NAME?"},{"$error":"#NAME?"},{"$error":"#NAME?"},{"$error":"#NAME?"},{"$error":"#NAME?"},{"$error":"#NAME?"},{"$error":"#NAME?"},{"$error":"#NAME?"},{"$error":"#NAME?"},{"$error":"#NAME?"},{"$error":"#NAME?"},{"$error":"#NAME?"},{"$error":"#NAME?"},{"$error":"#NAME?"},{"$error":"#NAME?"},{"$error":"#NAME?"},{"$error":"#NAME?"},{"$error":"#NAME?"},{"$error":"#NAME?"},{"$error":"#NAME?"},{"$error":"#NAME?"},{"$error":"#NAME?"},{"$error":"#NAME?"},{"$error":"#NAME?"},{"$error":"#NAME?"},{"$error":"#NAME?"},{"$error":"#NAME?"},{"$error":"#NAME?"},{"$error":"#NAME?"},{"$error":"#NAME?"},{"$error":"#NAME?"},{"$error":"#NAME?"},{"$error":"#NAME?"},{"$error":"#NAME?"},{"$error":"#NAME?"},{"$error":"#NAME?"},{"$error":"#NAME?"},{"$error":"#NAME?"},{"$error":"#NAME?"},{"$error":"#NAME?"},{"$error":"#NAME?"},{"$error":"#NAME?"},{"$error":"#NAME?"},{"$error":"#NAME?"},{"$error":"#NAME?"},{"$error":"#NAME?"},{"$error":"#NAME?"},{"$error":"#NAME?"},{"$error":"#NAME?"},{"$error":"#NAME?"},{"$error":"#NAME?"},{"$error":"#NAME?"},{"$error":"#NAME?"},{"$error":"#NAME?"},{"$error":"#NAME?"},{"$error":"#NAME?"},{"$error":"#NAME?"},{"$error":"#NAME?"},{"$error":"#NAME?"},{"$error":"#NAME?"},{"$error":"#NAME?"},{"$error":"#NAME?"},{"$error":"#NAME?"},{"$error":"#NAME?"},{"$error":"#NAME?"},{"$error":"#NAME?"},{"$error":"#NAME?"},{"$error":"#NAME?"},{"$error":"#NAME?"},{"$error":"#NAME?"},{"$error":"#NAME?"}]
[{"$error":"#NAME?"},{"$error":"#NAME?"},{"$error":"#NAME?"},{"$error":"#NAME?"},{"$error":"#NAME?"},{"$error":"#NAME?"},{"$error":"#NAME?"},{"$error":"#NAME?"},{"$error":"#NAME?"},{"$error":"#NAME?"},{"$error":"#NAME?"},{"$error":"#NAME?"},{"$error":"#NAME?"},{"$error":"#NAME?"},{"$error":"#NAME?"},{"$error":"#NAME?"},{"$error":"#NAME?"},{"$error":"#NAME?"},{"$error":"#NAME?"},{"$error":"#NAME?"},{"$error":"#NAME?"},{"$error":"#NAME?"},{"$error":"#NAME?"},{"$error":"#NAME?"},{"$error":"#NAME?"},{"$error":"#NAME?"},{"$error":"#NAME?"},{"$error":"#NAME?"},{"$error":"#NAME?"},{"$error":"#NAME?"},{"$error":"#NAME?"},{"$error":"#NAME?"},{"$error":"#NAME?"},{"$error":"#NAME?"},{"$error":"#NAME?"},{"$error":"#NAME?"},{"$error":"#NAME?"},{"$error":"#NAME?"},{"$error":"#NAME?"},{"$error":"#NAME?"},{"$error":"#NAME?"},{"$error":"#NAME?"},{"$error":"#NAME?"},{"$error":"#NAME?"},{"$error":"#NAME?"},{"$error":"#NAME?"},{"$error":"#NAME?"},{"$error":"#NAME?"},{"$error":"#NAME?"},{"$error":"#NAME?"},{"$error":"#NAME?"},{"$error":"#NAME?"},{"$error":"#NAME?"},{"$error":"#NAME?"},{"$error":"#NAME?"},{"$error":"#NAME?"},{"$error":"#NAME?"},{"$error":"#NAME?"},{"$error":"#NAME?"},{"$error":"#NAME?"},{"$error":"#NAME?"},{"$error":"#NAME?"},{"$error":"#NAME?"},{"$error":"#NAME?"},{"$error":"#NAME?"},{"$error":"#NAME?"},{"$error":"#NAME?"},{"$error":"#NAME?"},{"$error":"#NAME?"},{"$error":"#NAME?"},{"$error":"#NAME?"},{"$error":"#NAME?"},{"$error":"#NAME?"},{"$error":"#NAME?"},{"$error":"#NAME?"},{"$error":"#NAME?"},{"$error":"#NAME?"},{"$error":"#NAME?"},{"$error":"#NAME?"},{"$error":"#NAME?"},{"$error":"#NAME?"},{"$error":"#NAME?"},{"$error":"#NAME?"},{"$error":"#NAME?"},{"$error":"#NAME?"},{"$error":"#NAME?"},{"$error":"#NAME?"},{"$error":"#NAME?"},{"$error":"#NAME?"},{"$error":"#NAME?"},{"$error":"#NAME?"},{"$error":"#NAME?"},{"$error":"#NAME?"},{"$error":"#NAME?"},{"$error":"#NAME?"},{"$error":"#NAME?"},{"$error":"#NAME?"},{"$error":"#NAME?"},{"$error":"#NAME?"},{"$error":"#NAME?"},null,{"$error":"#NAME?"},{"$error":"#NAME?"},{"$error":"#NAME?"},{"$error":"#NAME?"},{"$error":"#NAME?"},{"$error":"#NAME?"},{"$error":"#NAME?"},{"$error":"#NAME?"},{"$error":"#NAME?"},{"$error":"#NAME?"},{"$error":"#NAME?"},{"$error":"#NAME?"},{"$error":"#NAME?"},{"$error":"#NAME?"},{"$error":"#NAME?"},{"$error":"#NAME?"},{"$error":"#NAME?"},{"$error":"#NAME?"},{"$error":"#NAME?"},{"$error":"#NAME?"},{"$error":"#NAME?"},{"$error":"#NAME?"},{"$error":"#NAME?"},{"$error":"#NAME?"},{"$error":"#NAME?"},{"$error":"#NAME?"},{"$error":"#NAME?"},{"$error":"#NAME?"},{"$error":"#NAME?"},{"$error":"#NAME?"},{"$error":"#NAME?"},{"$error":"#NAME?"},{"$error":"#NAME?"},{"$error":"#NAME?"},{"$error":"#NAME?"},{"$error":"#NAME?"},{"$error":"#NAME?"},{"$error":"#NAME?"},{"$error":"#NAME?"},{"$error":"#NAME?"},{"$error":"#NAME?"},{"$error":"#NAME?"},{"$error":"#NAME?"},{"$error":"#NAME?"},{"$error":"#NAME?"},{"$error":"#NAME?"},{"$error":"#NAME?"},{"$error":"#NAME?"},{"$error":"#NAME?"},{"$error":"#NAME?"},{"$error":"#NAME?"},{"$error":"#NAME?"},{"$error":"#NAME?"},{"$error":"#NAME?"},{"$error":"#NAME?"},{"$error":"#NAME?"},{"$error":"#NAME?"},{"$error":"#NAME?"},{"$error":"#NAME?"},{"$error":"#NAME?"},{"$error":"#NAME?"},{"$error":"#NAME?"},{"$error":"#NAME?"},{"$error":"#NAME?"},{"$error":"#NAME?"},{"$error":"#NAME?"},{"$error":"#NAME?"},{"$error":"#NAME?"},{"$error":"#NAME?"},{"$error":"#NAME?"},{"$error":"#NAME?"},{"$error":"#NAME?"},{"$error":"#NAME?"},{"$error":"#NAME?"},{"$error":"#NAME?"},{"$error":"#NAME?"},{"$error":"#NAME?"},{"$error":"#NAME?"},{"$error":"#NAME?"},{"$error":"#NAME?"},{"$error":"#NAME?"},{"$error":"#NAME?"},{"$error":"#NAME?"},{"$error":"#NAME?"},{"$error":"#NAME?"},{"$error":"#NAME?"},{"$error":"#NAME?"},{"$error":"#NAME?"},{"$error":"#NAME?"},{"$error":"#NAME?"},{"$error":"#NAME?"},{"$error":"#NAME?"},{"$error":"#NAME?"},{"$error":"#NAME?"},{"$error":"#NAME?"},{"$error":"#NAME?"},{"$error":"#NAME?"},{"$error":"#NAME?"},{"$error":"#NAME?"},{"$error":"#NAME?"}]
[{"$error":"#NAME?"},{"$error":"#NAME?"},{"$error":"#NAME?"},{"$error":"#NAME?"},{"$error":"#NAME?"},{"$error":"#NAME?"},{"$error":"#NAME?"},{"$error":"#NAME?"},{"$error":"#NAME?"},{"$error":"#NAME?"},{"$error":"#NAME?"},{"$error":"#NAME?"},{"$error":"#NAME?"},{"$error":"#NAME?"},{"$error":"#NAME?"},{"$error":"#NAME?"},{"$error":"#NAME?"},{"$error":"#NAME?"},{"$error":"#NAME?"},{"$error":"#NAME?"},{"$error":"#NAME?"},{"$error":"#NAME?"},{"$error":"#NAME?"},{"$error":"#NAME?"},{"$error":"#NAME?"},{"$error":"#NAME?"},{"$error":"#NAME?"},{"$error":"#NAME?"},{"$error":"#NAME?"},{"$error":"#NAME?"},{"$error":"#NAME?"},{"$error":"#NAME?"},{"$error":"#NAME?"},{"$error":"#NAME?"},{"$error":"#NAME?"},{"$error":"#NAME?"},{"$error":"#NAME?"},{"$error":"#NAME?"},{"$error":"#NAME?"},{"$error":"#NAME?"},{"$error":"#NAME?"},{"$error":"#NAME?"},{"$error":"#NAME?"},{"$error":"#NAME?"},{"$error":"#NAME?"},{"$error":"#NAME?"},{"$error":"#NAME?"},{"$error":"#NAME?"},{"$error":"#NAME?"},{"$error":"#NAME?"},{"$error":"#NAME?"},{"$error":"#NAME?"},{"$error":"#NAME?"},{"$error":"#NAME?"},{"$error":"#NAME?"},{"$error":"#NAME?"},{"$error":"#NAME?"},{"$error":"#NAME?"},{"$error":"#NAME?"},{"$error":"#NAME?"},{"$error":"#NAME?"},{"$error":"#NAME?"},{"$error":"#NAME?"},{"$error":"#NAME?"},{"$error":"#NAME?"},{"$error":"#NAME?"},{"$error":"#NAME?"},{"$error":"#NAME?"},{"$error":"#NAME?"},{"$error":"#NAME?"},{"$error":"#NAME?"},{"$error":"#NAME?"},{"$error":"#NAME?"},{"$error":"#NAME?"},{"$error":"#NAME?"},{"$error":"#NAME?"},{"$error":"#NAME?"},{"$error":"#NAME?"},{"$error":"#NAME?"},{"$error":"#NAME?"},{"$error":"#NAME?"},{"$error":"#NAME?"},{"$error":"#NAME?"},{"$error":"#NAME?"},{"$error":"#NAME?"},{"$error":"#NAME?"},{"$error":"#NAME?"},{"$error":"#NAME?"},{"$error":"#NAME?"},{"$error":"#NAME?"},{"$error":"#NAME?"},{"$error":"#NAME?"},{"$error":"#NAME?"},{"$error":"#NAME?"},{"$error":"#NAME?"},{"$error":"#NAME?"},{"$error":"#NAME?"},{"$error":"#NAME?"},{"$error":"#NAME?"},{"$error":"#NAME?"},null,{"$error":"#NAME?"},{"$error":"#NAME?"},{"$error":"#NAME?"},{"$error":"#NAME?"},{"$error":"#NAME?"},{"$error":"#NAME?"},{"$error":"#NAME?"},{"$error":"#NAME?"},{"$error":"#NAME?"},{"$error":"#NAME?"},{"$error":"#NAME?"},{"$error":"#NAME?"},{"$error":"#NAME?"},{"$error":"#NAME?"},{"$error":"#NAME?"},{"$error":"#NAME?"},{"$error":"#NAME?"},{"$error":"#NAME?"},{"$error":"#NAME?"},{"$error":"#NAME?"},{"$error":"#NAME?"},{"$error":"#NAME?"},{"$error":"#NAME?"},{"$error":"#NAME?"},{"$error":"#NAME?"},{"$error":"#NAME?"},{"$error":"#NAME?"},{"$error":"#NAME?"},{"$error":"#NAME?"},{"$error":"#NAME?"},{"$error":"#NAME?"},{"$error":"#NAME?"},{"$error":"#NAME?"},{"$error":"#NAME?"},{"$error":"#NAME?"},{"$error":"#NAME?"},{"$error":"#NAME?"},{"$error":"#NAME?"},{"$error":"#NAME?"},{"$error":"#NAME?"},{"$error":"#NAME?"},{"$error":"#NAME?"},{"$error":"#NAME?"},{"$error":"#NAME?"},{"$error":"#NAME?"},{"$error":"#NAME?"},{"$error":"#NAME?"},{"$error":"#NAME?"},{"$error":"#NAME?"},{"$error":"#NAME?"},{"$error":"#NAME?"},{"$error":"#NAME?"},{"$error":"#NAME?"},{"$error":"#NAME?"},{"$error":"#NAME?"},{"$error":"#NAME?"},{"$error":"#NAME?"},{"$error":"#NAME?"},{"$error":"#NAME?"},{"$error":"#NAME?"},{"$error":"#NAME?"},{"$error":"#NAME?"},{"$error":"#NAME?"},{"$error":"#NAME?"},{"$error":"#NAME?"},{"$error":"#NAME?"},{"$error":"#NAME?"},{"$error":"#NAME?"},{"$error":"#NAME?"},{"$error":"#NAME?"},{"$error":"#NAME?"},{"$error":"#NAME?"},{"$error":"#NAME?"},{"$error":"#NAME?"},{"$error":"#NAME?"},{"$error":"#NAME?"},{"$error":"#NAME?"},{"$error":"#NAME?"},{"$error":"#NAME?"},{"$error":"#NAME?"},{"$error":"#NAME?"},{"$error":"#NAME?"},{"$error":"#NAME?"},{"$error":"#NAME?"},{"$error":"#NAME?"},{"$error":"#NAME?"},{"$error":"#NAME?"},{"$error":"#NAME?"},{"$error":"#NAME?"},{"$error":"#NAME?"},{"$error":"#NAME?"},{"$error":"#NAME?"},{"$error":"#NAME?"},{"$error":"#NAME?"},{"$error":"#NAME?"},{"$error":"#NAME?"},{"$error":"#NAME?"},{"$error":"#NAME?"},{"$error":"#NAME?"},{"$error":"#NAME?"}]
[{"$error":"#NAME?"},{"$error":"#NAME?"},{"$error":"#NAME?"},{"$error":"#NAME?"},{"$error":"#NAME?"},{"$error":"#NAME?"},{"$error":"#NAME?"},{"$error":"#NAME?"},{"$error":"#NAME?"},{"$error":"#NAME?"},{"$error":"#NAME?"},{"$error":"#NAME?"},{"$error":"#NAME?"},{"$error":"#NAME?"},{"$error":"#NAME?"},{"$error":"#NAME?"},{"$error":"#NAME?"},{"$error":"#NAME?"},{"$error":"#NAME?"},{"$error":"#NAME?"},{"$error":"#NAME?"},{"$error":"#NAME?"},{"$error":"#NAME?"},{"$error":"#NAME?"},{"$error":"#NAME?"},{"$error":"#NAME?"},{"$error":"#NAME?"},{"$error":"#NAME?"},{"$error":"#NAME?"},{"$error":"#NAME?"},{"$error":"#NAME?"},{"$error":"#NAME?"},{"$error":"#NAME?"},{"$error":"#NAME?"},{"$error":"#NAME?"},{"$error":"#NAME?"},{"$error":"#NAME?"},{"$error":"#NAME?"},{"$error":"#NAME?"},{"$error":"#NAME?"},{"$error":"#NAME?"},{"$error":"#NAME?"},{"$error":"#NAME?"},{"$error":"#NAME?"},{"$error":"#NAME?"},{"$error":"#NAME?"},{"$error":"#NAME?"},{"$error":"#NAME?"},{"$error":"#NAME?"},{"$error":"#NAME?"},{"$error":"#NAME?"},{"$error":"#NAME?"},{"$error":"#NAME?"},{"$error":"#NAME?"},{"$error":"#NAME?"},{"$error":"#NAME?"},{"$error":"#NAME?"},{"$error":"#NAME?"},{"$error":"#NAME?"},{"$error":"#NAME?"},{"$error":"#NAME?"},{"$error":"#NAME?"},{"$error":"#NAME?"},{"$error":"#NAME?"},{"$error":"#NAME?"},{"$error":"#NAME?"},{"$error":"#NAME?"},{"$error":"#NAME?"},{"$error":"#NAME?"},{"$error":"#NAME?"},{"$error":"#NAME?"},{"$error":"#NAME?"},{"$error":"#NAME?"},{"$error":"#NAME?"},{"$error":"#NAME?"},{"$error":"#NAME?"},{"$error":"#NAME?"},{"$error":"#NAME?"},{"$error":"#NAME?"},{"$error":"#NAME?"},{"$error":"#NAME?"},{"$error":"#NAME?"},{"$error":"#NAME?"},{"$error":"#NAME?"},{"$error":"#NAME?"},{"$error":"#NAME?"},{"$error":"#NAME?"},{"$error":"#NAME?"},{"$error":"#NAME?"},{"$error":"#NAME?"},{"$error":"#NAME?"},{"$error":"#NAME?"},{"$error":"#NAME?"},{"$error":"#NAME?"},{"$error":"#NAME?"},{"$error":"#NAME?"},{"$error":"#NAME?"},{"$error":"#NAME?"},{"$error":"#NAME?"},{"$error":"#NAME?"},null,{"$error":"#NAME?"},{"$error":"#NAME?"},{"$error":"#NAME?"},{"$error":"#NAME?"},{"$error":"#NAME?"},{"$error":"#NAME?"},{"$error":"#NAME?"},{"$error":"#NAME?"},{"$error":"#NAME?"},{"$error":"#NAME?"},{"$error":"#NAME?"},{"$error":"#NAME?"},{"$error":"#NAME?"},{"$error":"#NAME?"},{"$error":"#NAME?"},{"$error":"#NAME?"},{"$error":"#NAME?"},{"$error":"#NAME?"},{"$error":"#NAME?"},{"$error":"#NAME?"},{"$error":"#NAME?"},{"$error":"#NAME?"},{"$error":"#NAME?"},{"$error":"#NAME?"},{"$error":"#NAME?"},{"$error":"#NAME?"},{"$error":"#NAME?"},{"$error":"#NAME?"},{"$error":"#NAME?"},{"$error":"#NAME?"},{"$error":"#NAME?"},{"$error":"#NAME?"},{"$error":"#NAME?"},{"$error":"#NAME?"},{"$error":"#NAME?"},{"$error":"#NAME?"},{"$error":"#NAME?"},{"$error":"#NAME?"},{"$error":"#NAME?"},{"$error":"#NAME?"},{"$error":"#NAME?"},{"$error":"#NAME?"},{"$error":"#NAME?"},{"$error":"#NAME?"},{"$error":"#NAME?"},{"$error":"#NAME?"},{"$error":"#NAME?"},{"$error":"#NAME?"},{"$error":"#NAME?"},{"$error":"#NAME?"},{"$error":"#NAME?"},{"$error":"#NAME?"},{"$error":"#NAME?"},{"$error":"#NAME?"},{"$error":"#NAME?"},{"$error":"#NAME?"},{"$error":"#NAME?"},{"$error":"#NAME?"},{"$error":"#NAME?"},{"$error":"#NAME?"},{"$error":"#NAME?"},{"$error":"#NAME?"},{"$error":"#NAME?"},{"$error":"#NAME?"},{"$error":"#NAME?"},{"$error":"#NAME?"},{"$error":"#NAME?"},{"$error":"#NAME?"},{"$error":"#NAME?"},{"$error":"#NAME?"},{"$error":"#NAME?"},{"$error":"#NAME?"},{"$error":"#NAME?"},{"$error":"#NAME?"},{"$error":"#NAME?"},{"$error":"#NAME?"},{"$error":"#NAME?"},{"$error":"#NAME?"},{"$error":"#NAME?"},{"$error":"#NAME?"},{"$error":"#NAME?"},{"$error":"#NAME?"},{"$error":"#NAME?"},{"$error":"#NAME?"},{"$error":"#NAME?"},{"$error":"#NAME?"},{"$error":"#NAME?"},{"$error":"#NAME?"},{"$error":"#NAME?"},{"$error":"#NAME?"},{"$error":"#NAME?"},{"$error":"#NAME?"},{"$error":"#NAME?"},{"$error":"#NAME?"},{"$error":"#NAME?"},{"$error":"#NAME?"},{"$error":"#NAME?"},{"$error":"#NAME?"},{"$error":"#NAME?"},{"$error":"#NAME?"}]
[{"$error":"#NAME?"},{"$error":"#NAME?"},{"$error":"#NAME?"},{"$error":"#NAME?"},{"$error":"#NAME?"},{"$error":"#NAME?"},{"$error":"#NAME?"},{"$error":"#NAME?"},{"$error":"#NAME?"},{"$error":"#NAME?"},{"$error":"#NAME?"},{"$error":"#NAME?"},{"$error":"#NAME?"},{"$error":"#NAME?"},{"$error":"#NAME?"},{"$error":"#NAME?"},{"$error":"#NAME?"},{"$error":"#NAME?"},{"$error":"#NAME?"},{"$error":"#NAME?"},{"$error":"#NAME?"},{"$error":"#NAME?"},{"$error":"#NAME?"},{"$error":"#NAME?"},{"$error":"#NAME?"},{"$error":"#NAME?"},{"$error":"#NAME?"},{"$error":"#NAME?"},{"$error":"#NAME?"},{"$error":"#NAME?"},{"$error":"#NAME?"},{"$error":"#NAME?"},{"$error":"#NAME?"},{"$error":"#NAME?"},{"$error":"#NAME?"},{"$error":"#NAME?"},{"$error":"#NAME?"},{"$error":"#NAME?"},{"$error":"#NAME?"},{"$error":"#NAME?"},{"$error":"#NAME?"},{"$error":"#NAME?"},{"$error":"#NAME?"},{"$error":"#NAME?"},{"$error":"#NAME?"},{"$error":"#NAME?"},{"$error":"#NAME?"},{"$error":"#NAME?"},{"$error":"#NAME?"},{"$error":"#NAME?"},{"$error":"#NAME?"},{"$error":"#NAME?"},{"$error":"#NAME?"},{"$error":"#NAME?"},{"$error":"#NAME?"},{"$error":"#NAME?"},{"$error":"#NAME?"},{"$error":"#NAME?"},{"$error":"#NAME?"},{"$error":"#NAME?"},{"$error":"#NAME?"},{"$error":"#NAME?"},{"$error":"#NAME?"},{"$error":"#NAME?"},{"$error":"#NAME?"},{"$error":"#NAME?"},{"$error":"#NAME?"},{"$error":"#NAME?"},{"$error":"#NAME?"},{"$error":"#NAME?"},{"$error":"#NAME?"},{"$error":"#NAME?"},{"$error":"#NAME?"},{"$error":"#NAME?"},{"$error":"#NAME?"},{"$error":"#NAME?"},{"$error":"#NAME?"},{"$error":"#NAME?"},{"$error":"#NAME?"},{"$error":"#NAME?"},{"$error":"#NAME?"},{"$error":"#NAME?"},{"$error":"#NAME?"},{"$error":"#NAME?"},{"$error":"#NAME?"},{"$error":"#NAME?"},{"$error":"#NAME?"},{"$error":"#NAME?"},{"$error":"#NAME?"},{"$error":"#NAME?"},{"$error":"#NAME?"},{"$error":"#NAME?"},{"$error":"#NAME?"},{"$error":"#NAME?"},{"$error":"#NAME?"},{"$error":"#NAME?"},{"$error":"#NAME?"},{"$error":"#NAME?"},{"$error":"#NAME?"},{"$error":"#NAME?"},null,{"$error":"#NAME?"},{"$error":"#NAME?"},{"$error":"#NAME?"},{"$error":"#NAME?"},{"$error":"#NAME?"},{"$error":"#NAME?"},{"$error":"#NAME?"},{"$error":"#NAME?"},{"$error":"#NAME?"},{"$error":"#NAME?"},{"$error":"#NAME?"},{"$error":"#NAME?"},{"$error":"#NAME?"},{"$error":"#NAME?"},{"$error":"#NAME?"},{"$error":"#NAME?"},{"$error":"#NAME?"},{"$error":"#NAME?"},{"$error":"#NAME?"},{"$error":"#NAME?"},{"$error":"#NAME?"},{"$error":"#NAME?"},{"$error":"#NAME?"},{"$error":"#NAME?"},{"$error":"#NAME?"},{"$error":"#NAME?"},{"$error":"#NAME?"},{"$error":"#NAME?"},{"$error":"#NAME?"},{"$error":"#NAME?"},{"$error":"#NAME?"},{"$error":"#NAME?"},{"$error":"#NAME?"},{"$error":"#NAME?"},{"$error":"#NAME?"},{"$error":"#NAME?"},{"$error":"#NAME?"},{"$error":"#NAME?"},{"$error":"#NAME?"},{"$error":"#NAME?"},{"$error":"#NAME?"},{"$error":"#NAME?"},{"$error":"#NAME?"},{"$error":"#NAME?"},{"$error":"#NAME?"},{"$error":"#NAME?"},{"$error":"#NAME?"},{"$error":"#NAME?"},{"$error":"#NAME?"},{"$error":"#NAME?"},{"$error":"#NAME?"},{"$error":"#NAME?"},{"$error":"#NAME?"},{"$error":"#NAME?"},{"$error":"#NAME?"},{"$error":"#NAME?"},{"$error":"#NAME?"},{"$error":"#NAME?"},{"$error":"#NAME?"},{"$error":"#NAME?"},{"$error":"#NAME?"},{"$error":"#NAME?"},{"$error":"#NAME?"},{"$error":"#NAME?"},{"$error":"#NAME?"},{"$error":"#NAME?"},{"$error":"#NAME?"},{"$error":"#NAME?"},{"$error":"#NAME?"},{"$error":"#NAME?"},{"$error":"#NAME?"},{"$error":"#NAME?"},{"$error":"#NAME?"},{"$error":"#NAME?"},{"$error":"#NAME?"},{"$error":"#NAME?"},{"$error":"#NAME?"},{"$error":"#NAME?"},{"$error":"#NAME?"},{"$error":"#NAME?"},{"$error":"#NAME?"},{"$error":"#NAME?"},{"$error":"#NAME?"},{"$error":"#NAME?"},{"$error":"#NAME?"},{"$error":"#NAME?"},{"$error":"#NAME?"},{"$error":"#NAME?"},{"$error":"#NAME?"},{"$error":"#NAME?"},{"$error":"#NAME?"},{"$error":"#NAME?"},{"$error":"#NAME?"},{"$error":"#NAME?"},{"$error":"#NAME?"},{"$error":"#NAME?"},{"$error":"#NAME?"},{"$error":"#NAME?"},{"$error":"#NAME?"},{"$error":"#NAME?"}]
[{"$error":"#NAME?"},{"$error":"#NAME?"},{"$error":"#NAME?"},{"$error":"#NAME?"},{"$error":"#NAME?"},{"$error":"#NAME?"},{"$error":"#NAME?"},{"$error":"#NAME?"},{"$error":"#NAME?"},{"$error":"#NAME?"},{"$error":"#NAME?"},{"$error":"#NAME?"},{"$error":"#NAME?"},{"$error":"#NAME?"},{"$error":"#NAME?"},{"$error":"#NAME?"},{"$error":"#NAME?"},{"$error":"#NAME?"},{"$error":"#NAME?"},{"$error":"#NAME?"},{"$error":"#NAME?"},{"$error":"#NAME?"},{"$error":"#NAME?"},{"$error":"#NAME?"},{"$error":"#NAME?"},{"$error":"#NAME?"},{"$error":"#NAME?"},{"$error":"#NAME?"},{"$error":"#NAME?"},{"$error":"#NAME?"},{"$error":"#NAME?"},{"$error":"#NAME?"},{"$error":"#NAME?"},{"$error":"#NAME?"},{"$error":"#NAME?"},{"$error":"#NAME?"},{"$error":"#NAME?"},{"$error":"#NAME?"},{"$error":"#NAME?"},{"$error":"#NAME?"},{"$error":"#NAME?"},{"$error":"#NAME?"},{"$error":"#NAME?"},{"$error":"#NAME?"},{"$error":"#NAME?"},{"$error":"#NAME?"},{"$error":"#NAME?"},{"$error":"#NAME?"},{"$error":"#NAME?"},{"$error":"#NAME?"},{"$error":"#NAME?"},{"$error":"#NAME?"},{"$error":"#NAME?"},{"$error":"#NAME?"},{"$error":"#NAME?"},{"$error":"#NAME?"},{"$error":"#NAME?"},{"$error":"#NAME?"},{"$error":"#NAME?"},{"$error":"#NAME?"},{"$error":"#NAME?"},{"$error":"#NAME?"},{"$error":"#NAME?"},{"$error":"#NAME?"},{"$error":"#NAME?"},{"$error":"#NAME?"},{"$error":"#NAME?"},{"$error":"#NAME?"},{"$error":"#NAME?"},{"$error":"#NAME?"},{"$error":"#NAME?"},{"$error":"#NAME?"},{"$error":"#NAME?"},{"$error":"#NAME?"},{"$error":"#NAME?"},{"$error":"#NAME?"},{"$error":"#NAME?"},{"$error":"#NAME?"},{"$error":"#NAME?"},{"$error":"#NAME?"},{"$error":"#NAME?"},{"$error":"#NAME?"},{"$error":"#NAME?"},{"$error":"#NAME?"},{"$error":"#NAME?"},{"$error":"#NAME?"},{"$error":"#NAME?"},{"$error":"#NAME?"},{"$error":"#NAME?"},{"$error":"#NAME?"},{"$error":"#NAME?"},{"$error":"#NAME?"},{"$error":"#NAME?"},{"$error":"#NAME?"},{"$error":"#NAME?"},{"$error":"#NAME?"},{"$error":"#NAME?"},{"$error":"#NAME?"},{"$error":"#NAME?"},{"$error":"#NAME?"},null,{"$error":"#NAME?"},{"$error":"#NAME?"},{"$error":"#NAME?"},{"$error":"#NAME?"},{"$error":"#NAME?"},{"$error":"#NAME?"},{"$error":"#NAME?"},{"$error":"#NAME?"},{"$error":"#NAME?"},{"$error":"#NAME?"},{"$error":"#NAME?"},{"$error":"#NAME?"},{"$error":"#NAME?"},{"$error":"#NAME?"},{"$error":"#NAME?"},{"$error":"#NAME?"},{"$error":"#NAME?"},{"$error":"#NAME?"},{"$error":"#NAME?"},{"$error":"#NAME?"},{"$error":"#NAME?"},{"$error":"#NAME?"},{"$error":"#NAME?"},{"$error":"#NAME?"},{"$error":"#NAME?"},{"$error":"#NAME?"},{"$error":"#NAME?"},{"$error":"#NAME?"},{"$error":"#NAME?"},{"$error":"#NAME?"},{"$error":"#NAME?"},{"$error":"#NAME?"},{"$error":"#NAME?"},{"$error":"#NAME?"},{"$error":"#NAME?"},{"$error":"#NAME?"},{"$error":"#NAME?"},{"$error":"#NAME?"},{"$error":"#NAME?"},{"$error":"#NAME?"},{"$error":"#NAME?"},{"$error":"#NAME?"},{"$error":"#NAME?"},{"$error":"#NAME?"},{"$error":"#NAME?"},{"$error":"#NAME?"},{"$error":"#NAME?"},{"$error":"#NAME?"},{"$error":"#NAME?"},{"$error":"#NAME?"},{"$error":"#NAME?"},{"$error":"#NAME?"},{"$error":"#NAME?"},{"$error":"#NAME?"},{"$error":"#NAME?"},{"$error":"#NAME?"},{"$error":"#NAME?"},{"$error":"#NAME?"},{"$error":"#NAME?"},{"$error":"#NAME?"},{"$error":"#NAME?"},{"$error":"#NAME?"},{"$error":"#NAME?"},{"$error":"#NAME?"},{"$error":"#NAME?"},{"$error":"#NAME?"},{"$error":"#NAME?"},{"$error":"#NAME?"},{"$error":"#NAME?"},{"$error":"#NAME?"},{"$error":"#NAME?"},{"$error":"#NAME?"},{"$error":"#NAME?"},{"$error":"#NAME?"},{"$error":"#NAME?"},{"$error":"#NAME?"},{"$error":"#NAME?"},{"$error":"#NAME?"},{"$error":"#NAME?"},{"$error":"#NAME?"},{"$error":"#NAME?"},{"$error":"#NAME?"},{"$error":"#NAME?"},{"$error":"#NAME?"},{"$error":"#NAME?"},{"$error":"#NAME?"},{"$error":"#NAME?"},{"$error":"#NAME?"},{"$error":"#NAME?"},{"$error":"#NAME?"},{"$error":"#NAME?"},{"$error":"#NAME?"},{"$error":"#NAME?"},{"$error":"#NAME?"},{"$error":"#NAME?"},{"$error":"#NAME?"},{"$error":"#NAME?"},{"$error":"#NAME?"},{"$error":"#NAME?"},{"$error":"#NAME?"}]
[{"$error":"#NAME?"},{"$error":"#NAME?"},{"$error":"#NAME?"},{"$error":"#NAME?"},{"$error":"#NAME?"},{"$error":"#NAME?"},{"$error":"#NAME?"},{"$error":"#NAME?"},{"$error":"#NAME?"},{"$error":"#NAME?"},{"$error":"#NAME?"},{"$error":"#NAME?"},{"$error":"#NAME?"},{"$error":"#NAME?"},{"$error":"#NAME?"},{"$error":"#NAME?"},{"$error":"#NAME?"},{"$error":"#NAME?"},{"$error":"#NAME?"},{"$error":"#NAME?"},{"$error":"#NAME?"},{"$error":"#NAME?"},{"$error":"#NAME?"},{"$error":"#NAME?"},{"$error":"#NAME?"},{"$error":"#NAME?"},{"$error":"#NAME?"},{"$error":"#NAME?"},{"$error":"#NAME?"},{"$error":"#NAME?"},{"$error":"#NAME?"},{"$error":"#NAME?"},{"$error":"#NAME?"},{"$error":"#NAME?"},{"$error":"#NAME?"},{"$error":"#NAME?"},{"$error":"#NAME?"},{"$error":"#NAME?"},{"$error":"#NAME?"},{"$error":"#NAME?"},{"$error":"#NAME?"},{"$error":"#NAME?"},{"$error":"#NAME?"},{"$error":"#NAME?"},{"$error":"#NAME?"},{"$error":"#NAME?"},{"$error":"#NAME?"},{"$error":"#NAME?"},{"$error":"#NAME?"},{"$error":"#NAME?"},{"$error":"#NAME?"},{"$error":"#NAME?"},{"$error":"#NAME?"},{"$error":"#NAME?"},{"$error":"#NAME?"},{"$error":"#NAME?"},{"$error":"#NAME?"},{"$error":"#NAME?"},{"$error":"#NAME?"},{"$error":"#NAME?"},{"$error":"#NAME?"},{"$error":"#NAME?"},{"$error":"#NAME?"},{"$error":"#NAME?"},{"$error":"#NAME?"},{"$error":"#NAME?"},{"$error":"#NAME?"},{"$error":"#NAME?"},{"$error":"#NAME?"},{"$error":"#NAME?"},{"$error":"#NAME?"},{"$error":"#NAME?"},{"$error":"#NAME?"},{"$error":"#NAME?"},{"$error":"#NAME?"},{"$error":"#NAME?"},{"$error":"#NAME?"},{"$error":"#NAME?"},{"$error":"#NAME?"},{"$error":"#NAME?"},{"$error":"#NAME?"},{"$error":"#NAME?"},{"$error":"#NAME?"},{"$error":"#NAME?"},{"$error":"#NAME?"},{"$error":"#NAME?"},{"$error":"#NAME?"},{"$error":"#NAME?"},{"$error":"#NAME?"},{"$error":"#NAME?"},{"$error":"#NAME?"},{"$error":"#NAME?"},{"$error":"#NAME?"},{"$error":"#NAME?"},{"$error":"#NAME?"},{"$error":"#NAME?"},{"$error":"#NAME?"},{"$error":"#NAME?"},{"$error":"#NAME?"},{"$error":"#NAME?"},null,{"$error":"#NAME?"},{"$error":"#NAME?"},{"$error":"#NAME?"},{"$error":"#NAME?"},{"$error":"#NAME?"},{"$error":"#NAME?"},{"$error":"#NAME?"},{"$error":"#NAME?"},{"$error":"#NAME?"},{"$error":"#NAME?"},{"$error":"#NAME?"},{"$error":"#NAME?"},{"$error":"#NAME?"},{"$error":"#NAME?"},{"$error":"#NAME?"},{"$error":"#NAME?"},{"$error":"#NAME?"},{"$error":"#NAME?"},{"$error":"#NAME?"},{"$error":"#NAME?"},{"$error":"#NAME?"},{"$error":"#NAME?"},{"$error":"#NAME?"},{"$error":"#NAME?"},{"$error":"#NAME?"},{"$error":"#NAME?"},{"$error":"#NAME?"},{"$error":"#NAME?"},{"$error":"#NAME?"},{"$error":"#NAME?"},{"$error":"#NAME?"},{"$error":"#NAME?"},{"$error":"#NAME?"},{"$error":"#NAME?"},{"$error":"#NAME?"},{"$error":"#NAME?"},{"$error":"#NAME?"},{"$error":"#NAME?"},{"$error":"#NAME?"},{"$error":"#NAME?"},{"$error":"#NAME?"},{"$error":"#NAME?"},{"$error":"#NAME?"},{"$error":"#NAME?"},{"$error":"#NAME?"},{"$error":"#NAME?"},{"$error":"#NAME?"},{"$error":"#NAME?"},{"$error":"#NAME?"},{"$error":"#NAME?"},{"$error":"#NAME?"},{"$error":"#NAME?"},{"$error":"#NAME?"},{"$error":"#NAME?"},{"$error":"#NAME?"},{"$error":"#NAME?"},{"$error":"#NAME?"},{"$error":"#NAME?"},{"$error":"#NAME?"},{"$error":"#NAME?"},{"$error":"#NAME?"},{"$error":"#NAME?"},{"$error":"#NAME?"},{"$error":"#NAME?"},{"$error":"#NAME?"},{"$error":"#NAME?"},{"$error":"#NAME?"},{"$error":"#NAME?"},{"$error":"#NAME?"},{"$error":"#NAME?"},{"$error":"#NAME?"},{"$error":"#NAME?"},{"$error":"#NAME?"},{"$error":"#NAME?"},{"$error":"#NAME?"},{"$error":"#NAME?"},{"$error":"#NAME?"},{"$error":"#NAME?"},{"$error":"#NAME?"},{"$error":"#NAME?"},{"$error":"#NAME?"},{"$error":"#NAME?"},{"$error":"#NAME?"},{"$error":"#NAME?"},{"$error":"#NAME?"},{"$error":"#NAME?"},{"$error":"#NAME?"},{"$error":"#NAME?"},{"$error":"#NAME?"},{"$error":"#NAME?"},{"$error":"#NAME?"},{"$error":"#NAME?"},{"$error":"#NAME?"},{"$error":"#NAME?"},{"$error":"#NAME?"},{"$error":"#NAME?"},{"$error":"#NAME?"},{"$error":"#NAME?"},{"$error":"#NAME?"},{"$error":"#NAME?"}]
[{"$error":"#NAME?"},{"$error":"#NAME?"},{"$error":"#NAME?"},{"$error":"#NAME?"},{"$error":"#NAME?"},{"$error":"#NAME?"},{"$error":"#NAME?"},{"$error":"#NAME?"},{"$error":"#NAME?"},{"$error":"#NAME?"},{"$error":"#NAME?"},{"$error":"#NAME?"},{"$error":"#NAME?"},{"$error":"#NAME?"},{"$error":"#NAME?"},{"$error":"#NAME?"},{"$error":"#NAME?"},{"$error":"#NAME?"},{"$error":"#NAME?"},{"$error":"#NAME?"},{"$error":"#NAME?"},{"$error":"#NAME?"},{"$error":"#NAME?"},{"$error":"#NAME?"},{"$error":"#NAME?"},{"$error":"#NAME?"},{"$error":"#NAME?"},{"$error":"#NAME?"},{"$error":"#NAME?"},{"$error":"#NAME?"},{"$error":"#NAME?"},{"$error":"#NAME?"},{"$error":"#NAME?"},{"$error":"#NAME?"},{"$error":"#NAME?"},{"$error":"#NAME?"},{"$error":"#NAME?"},{"$error":"#NAME?"},{"$error":"#NAME?"},{"$error":"#NAME?"},{"$error":"#NAME?"},{"$error":"#NAME?"},{"$error":"#NAME?"},{"$error":"#NAME?"},{"$error":"#NAME?"},{"$error":"#NAME?"},{"$error":"#NAME?"},{"$error":"#NAME?"},{"$error":"#NAME?"},{"$error":"#NAME?"},{"$error":"#NAME?"},{"$error":"#NAME?"},{"$error":"#NAME?"},{"$error":"#NAME?"},{"$error":"#NAME?"},{"$error":"#NAME?"},{"$error":"#NAME?"},{"$error":"#NAME?"},{"$error":"#NAME?"},{"$error":"#NAME?"},{"$error":"#NAME?"},{"$error":"#NAME?"},{"$error":"#NAME?"},{"$error":"#NAME?"},{"$error":"#NAME?"},{"$error":"#NAME?"},{"$error":"#NAME?"},{"$error":"#NAME?"},{"$error":"#NAME?"},{"$error":"#NAME?"},{"$error":"#NAME?"},{"$error":"#NAME?"},{"$error":"#NAME?"},{"$error":"#NAME?"},{"$error":"#NAME?"},{"$error":"#NAME?"},{"$error":"#NAME?"},{"$error":"#NAME?"},{"$error":"#NAME?"},{"$error":"#NAME?"},{"$error":"#NAME?"},{"$error":"#NAME?"},{"$error":"#NAME?"},{"$error":"#NAME?"},{"$error":"#NAME?"},{"$error":"#NAME?"},{"$error":"#NAME?"},{"$error":"#NAME?"},{"$error":"#NAME?"},{"$error":"#NAME?"},{"$error":"#NAME?"},{"$error":"#NAME?"},{"$error":"#NAME?"},{"$error":"#NAME?"},{"$error":"#NAME?"},{"$error":"#NAME?"},{"$error":"#NAME?"},{"$error":"#NAME?"},{"$error":"#NAME?"},{"$error":"#NAME?"},null,{"$error":"#NAME?"},{"$error":"#NAME?"},{"$error":"#NAME?"},{"$error":"#NAME?"},{"$error":"#NAME?"},{"$error":"#NAME?"},{"$error":"#NAME?"},{"$error":"#NAME?"},{"$error":"#NAME?"},{"$error":"#NAME?"},{"$error":"#NAME?"},{"$error":"#NAME?"},{"$error":"#NAME?"},{"$error":"#NAME?"},{"$error":"#NAME?"},{"$error":"#NAME?"},{"$error":"#NAME?"},{"$error":"#NAME?"},{"$error":"#NAME?"},{"$error":"#NAME?"},{"$error":"#NAME?"},{"$error":"#NAME?"},{"$error":"#NAME?"},{"$error":"#NAME?"},{"$error":"#NAME?"},{"$error":"#NAME?"},{"$error":"#NAME?"},{"$error":"#NAME?"},{"$error":"#NAME?"},{"$error":"#NAME?"},{"$error":"#NAME?"},{"$error":"#NAME?"},{"$error":"#NAME?"},{"$error":"#NAME?"},{"$error":"#NAME?"},{"$error":"#NAME?"},{"$error":"#NAME?"},{"$error":"#NAME?"},{"$error":"#NAME?"},{"$error":"#NAME?"},{"$error":"#NAME?"},{"$error":"#NAME?"},{"$error":"#NAME?"},{"$error":"#NAME?"},{"$error":"#NAME?"},{"$error":"#NAME?"},{"$error":"#NAME?"},{"$error":"#NAME?"},{"$error":"#NAME?"},{"$error":"#NAME?"},{"$error":"#NAME?"},{"$error":"#NAME?"},{"$error":"#NAME?"},{"$error":"#NAME?"},{"$error":"#NAME?"},{"$error":"#NAME?"},{"$error":"#NAME?"},{"$error":"#NAME?"},{"$error":"#NAME?"},{"$error":"#NAME?"},{"$error":"#NAME?"},{"$error":"#NAME?"},{"$error":"#NAME?"},{"$error":"#NAME?"},{"$error":"#NAME?"},{"$error":"#NAME?"},{"$error":"#NAME?"},{"$error":"#NAME?"},{"$error":"#NAME?"},{"$error":"#NAME?"},{"$error":"#NAME?"},{"$error":"#NAME?"},{"$error":"#NAME?"},{"$error":"#NAME?"},{"$error":"#NAME?"},{"$error":"#NAME?"},{"$error":"#NAME?"},{"$error":"#NAME?"},{"$error":"#NAME?"},{"$error":"#NAME?"},{"$error":"#NAME?"},{"$error":"#NAME?"},{"$error":"#NAME?"},{"$error":"#NAME?"},{"$error":"#NAME?"},{"$error":"#NAME?"},{"$error":"#NAME?"},{"$error":"#NAME?"},{"$error":"#NAME?"},{"$error":"#NAME?"},{"$error":"#NAME?"},{"$error":"#NAME?"},{"$error":"#NAME?"},{"$error":"#NAME?"},{"$error":"#NAME?"},{"$error":"#NAME?"},{"$error":"#NAME?"},{"$error":"#NAME?"},{"$error":"#NAME?"},{"$error":"#NAME?"}]
[{"$error":"#NAME?"},{"$error":"#NAME?"},{"$error":"#NAME?"},{"$error":"#NAME?"},{"$error":"#NAME?"},{"$error":"#NAME?"},{"$error":"#NAME?"},{"$error":"#NAME?"},{"$error":"#NAME?"},{"$error":"#NAME?"},{"$error":"#NAME?"},{"$error":"#NAME?"},{"$error":"#NAME?"},{"$error":"#NAME?"},{"$error":"#NAME?"},{"$error":"#NAME?"},{"$error":"#NAME?"},{"$error":"#NAME?"},{"$error":"#NAME?"},{"$error":"#NAME?"},{"$error":"#NAME?"},{"$error":"#NAME?"},{"$error":"#NAME?"},{"$error":"#NAME?"},{"$error":"#NAME?"},{"$error":"#NAME?"},{"$error":"#NAME?"},{"$error":"#NAME?"},{"$error":"#NAME?"},{"$error":"#NAME?"},{"$error":"#NAME?"},{"$error":"#NAME?"},{"$error":"#NAME?"},{"$error":"#NAME?"},{"$error":"#NAME?"},{"$error":"#NAME?"},{"$error":"#NAME?"},{"$error":"#NAME?"},{"$error":"#NAME?"},{"$error":"#NAME?"},{"$error":"#NAME?"},{"$error":"#NAME?"},{"$error":"#NAME?"},{"$error":"#NAME?"},{"$error":"#NAME?"},{"$error":"#NAME?"},{"$error":"#NAME?"},{"$error":"#NAME?"},{"$error":"#NAME?"},{"$error":"#NAME?"},{"$error":"#NAME?"},{"$error":"#NAME?"},{"$error":"#NAME?"},{"$error":"#NAME?"},{"$error":"#NAME?"},{"$error":"#NAME?"},{"$error":"#NAME?"},{"$error":"#NAME?"},{"$error":"#NAME?"},{"$error":"#NAME?"},{"$error":"#NAME?"},{"$error":"#NAME?"},{"$error":"#NAME?"},{"$error":"#NAME?"},{"$error":"#NAME?"},{"$error":"#NAME?"},{"$error":"#NAME?"},{"$error":"#NAME?"},{"$error":"#NAME?"},{"$error":"#NAME?"},{"$error":"#NAME?"},{"$error":"#NAME?"},{"$error":"#NAME?"},{"$error":"#NAME?"},{"$error":"#NAME?"},{"$error":"#NAME?"},{"$error":"#NAME?"},{"$error":"#NAME?"},{"$error":"#NAME?"},{"$error":"#NAME?"},{"$error":"#NAME?"},{"$error":"#NAME?"},{"$error":"#NAME?"},{"$error":"#NAME?"},{"$error":"#NAME?"},{"$error":"#NAME?"},{"$error":"#NAME?"},{"$error":"#NAME?"},{"$error":"#NAME?"},{"$error":"#NAME?"},{"$error":"#NAME?"},{"$error":"#NAME?"},{"$error":"#NAME?"},{"$error":"#NAME?"},{"$error":"#NAME?"},{"$error":"#NAME?"},{"$error":"#NAME?"},{"$error":"#NAME?"},{"$error":"#NAME?"},{"$error":"#NAME?"},null,{"$error":"#NAME?"},{"$error":"#NAME?"},{"$error":"#NAME?"},{"$error":"#NAME?"},{"$error":"#NAME?"},{"$error":"#NAME?"},{"$error":"#NAME?"},{"$error":"#NAME?"},{"$error":"#NAME?"},{"$error":"#NAME?"},{"$error":"#NAME?"},{"$error":"#NAME?"},{"$error":"#NAME?"},{"$error":"#NAME?"},{"$error":"#NAME?"},{"$error":"#NAME?"},{"$error":"#NAME?"},{"$error":"#NAME?"},{"$error":"#NAME?"},{"$error":"#NAME?"},{"$error":"#NAME?"},{"$error":"#NAME?"},{"$error":"#NAME?"},{"$error":"#NAME?"},{"$error":"#NAME?"},{"$error":"#NAME?"},{"$error":"#NAME?"},{"$error":"#NAME?"},{"$error":"#NAME?"},{"$error":"#NAME?"},{"$error":"#NAME?"},{"$error":"#NAME?"},{"$error":"#NAME?"},{"$error":"#NAME?"},{"$error":"#NAME?"},{"$error":"#NAME?"},{"$error":"#NAME?"},{"$error":"#NAME?"},{"$error":"#NAME?"},{"$error":"#NAME?"},{"$error":"#NAME?"},{"$error":"#NAME?"},{"$error":"#NAME?"},{"$error":"#NAME?"},{"$error":"#NAME?"},{"$error":"#NAME?"},{"$error":"#NAME?"},{"$error":"#NAME?"},{"$error":"#NAME?"},{"$error":"#NAME?"},{"$error":"#NAME?"},{"$error":"#NAME?"},{"$error":"#NAME?"},{"$error":"#NAME?"},{"$error":"#NAME?"},{"$error":"#NAME?"},{"$error":"#NAME?"},{"$error":"#NAME?"},{"$error":"#NAME?"},{"$error":"#NAME?"},{"$error":"#NAME?"},{"$error":"#NAME?"},{"$error":"#NAME?"},{"$error":"#NAME?"},{"$error":"#NAME?"},{"$error":"#NAME?"},{"$error":"#NAME?"},{"$error":"#NAME?"},{"$error":"#NAME?"},{"$error":"#NAME?"},{"$error":"#NAME?"},{"$error":"#NAME?"},{"$error":"#NAME?"},{"$error":"#NAME?"},{"$error":"#NAME?"},{"$error":"#NAME?"},{"$error":"#NAME?"},{"$error":"#NAME?"},{"$error":"#NAME?"},{"$error":"#NAME?"},{"$error":"#NAME?"},{"$error":"#NAME?"},{"$error":"#NAME?"},{"$error":"#NAME?"},{"$error":"#NAME?"},{"$error":"#NAME?"},{"$error":"#NAME?"},{"$error":"#NAME?"},{"$error":"#NAME?"},{"$error":"#NAME?"},{"$error":"#NAME?"},{"$error":"#NAME?"},{"$error":"#NAME?"},{"$error":"#NAME?"},{"$error":"#NAME?"},{"$error":"#NAME?"},{"$error":"#NAME?"},{"$error":"#NAME?"},{"$error":"#NAME?"},{"$error":"#NAME?"}]
[{"$error":"#NAME?"},{"$error":"#NAME?"},{"$error":"#NAME?"},{"$error":"#NAME?"},{"$error":"#NAME?"},{"$error":"#NAME?"},{"$error":"#NAME?"},{"$error":"#NAME?"},{"$error":"#NAME?"},{"$error":"#NAME?"},{"$error":"#NAME?"},{"$error":"#NAME?"},{"$error":"#NAME?"},{"$error":"#NAME?"},{"$error":"#NAME?"},{"$error":"#NAME?"},{"$error":"#NAME?"},{"$error":"#NAME?"},{"$error":"#NAME?"},{"$error":"#NAME?"},{"$error":"#NAME?"},{"$error":"#NAME?"},{"$error":"#NAME?"},{"$error":"#NAME?"},{"$error":"#NAME?"},{"$error":"#NAME?"},{"$error":"#NAME?"},{"$error":"#NAME?"},{"$error":"#NAME?"},{"$error":"#NAME?"},{"$error":"#NAME?"},{"$error":"#NAME?"},{"$error":"#NAME?"},{"$error":"#NAME?"},{"$error":"#NAME?"},{"$error":"#NAME?"},{"$error":"#NAME?"},{"$error":"#NAME?"},{"$error":"#NAME?"},{"$error":"#NAME?"},{"$error":"#NAME?"},{"$error":"#NAME?"},{"$error":"#NAME?"},{"$error":"#NAME?"},{"$error":"#NAME?"},{"$error":"#NAME?"},{"$error":"#NAME?"},{"$error":"#NAME?"},{"$error":"#NAME?"},{"$error":"#NAME?"},{"$error":"#NAME?"},{"$error":"#NAME?"},{"$error":"#NAME?"},{"$error":"#NAME?"},{"$error":"#NAME?"},{"$error":"#NAME?"},{"$error":"#NAME?"},{"$error":"#NAME?"},{"$error":"#NAME?"},{"$error":"#NAME?"},{"$error":"#NAME?"},{"$error":"#NAME?"},{"$error":"#NAME?"},{"$error":"#NAME?"},{"$error":"#NAME?"},{"$error":"#NAME?"},{"$error":"#NAME?"},{"$error":"#NAME?"},{"$error":"#NAME?"},{"$error":"#NAME?"},{"$error":"#NAME?"},{"$error":"#NAME?"},{"$error":"#NAME?"},{"$error":"#NAME?"},{"$error":"#NAME?"},{"$error":"#NAME?"},{"$error":"#NAME?"},{"$error":"#NAME?"},{"$error":"#NAME?"},{"$error":"#NAME?"},{"$error":"#NAME?"},{"$error":"#NAME?"},{"$error":"#NAME?"},{"$error":"#NAME?"},{"$error":"#NAME?"},{"$error":"#NAME?"},{"$error":"#NAME?"},{"$error":"#NAME?"},{"$error":"#NAME?"},{"$error":"#NAME?"},{"$error":"#NAME?"},{"$error":"#NAME?"},{"$error":"#NAME?"},{"$error":"#NAME?"},{"$error":"#NAME?"},{"$error":"#NAME?"},{"$error":"#NAME?"},{"$error":"#NAME?"},{"$error":"#NAME?"},{"$error":"#NAME?"},null,{"$error":"#NAME?"},{"$error":"#NAME?"},{"$error":"#NAME?"},{"$error":"#NAME?"},{"$error":"#NAME?"},{"$error":"#NAME?"},{"$error":"#NAME?"},{"$error":"#NAME?"},{"$error":"#NAME?"},{"$error":"#NAME?"},{"$error":"#NAME?"},{"$error":"#NAME?"},{"$error":"#NAME?"},{"$error":"#NAME?"},{"$error":"#NAME?"},{"$error":"#NAME?"},{"$error":"#NAME?"},{"$error":"#NAME?"},{"$error":"#NAME?"},{"$error":"#NAME?"},{"$error":"#NAME?"},{"$error":"#NAME?"},{"$error":"#NAME?"},{"$error":"#NAME?"},{"$error":"#NAME?"},{"$error":"#NAME?"},{"$error":"#NAME?"},{"$error":"#NAME?"},{"$error":"#NAME?"},{"$error":"#NAME?"},{"$error":"#NAME?"},{"$error":"#NAME?"},{"$error":"#NAME?"},{"$error":"#NAME?"},{"$error":"#NAME?"},{"$error":"#NAME?"},{"$error":"#NAME?"},{"$error":"#NAME?"},{"$error":"#NAME?"},{"$error":"#NAME?"},{"$error":"#NAME?"},{"$error":"#NAME?"},{"$error":"#NAME?"},{"$error":"#NAME?"},{"$error":"#NAME?"},{"$error":"#NAME?"},{"$error":"#NAME?"},{"$error":"#NAME?"},{"$error":"#NAME?"},{"$error":"#NAME?"},{"$error":"#NAME?"},{"$error":"#NAME?"},{"$error":"#NAME?"},{"$error":"#NAME?"},{"$error":"#NAME?"},{"$error":"#NAME?"},{"$error":"#NAME?"},{"$error":"#NAME?"},{"$error":"#NAME?"},{"$error":"#NAME?"},{"$error":"#NAME?"},{"$error":"#NAME?"},{"$error":"#NAME?"},{"$error":"#NAME?"},{"$error":"#NAME?"},{"$error":"#NAME?"},{"$error":"#NAME?"},{"$error":"#NAME?"},{"$error":"#NAME?"},{"$error":"#NAME?"},{"$error":"#NAME?"},{"$error":"#NAME?"},{"$error":"#NAME?"},{"$error":"#NAME?"},{"$error":"#NAME?"},{"$error":"#NAME?"},{"$error":"#NAME?"},{"$error":"#NAME?"},{"$error":"#NAME?"},{"$error":"#NAME?"},{"$error":"#NAME?"},{"$error":"#NAME?"},{"$error":"#NAME?"},{"$error":"#NAME?"},{"$error":"#NAME?"},{"$error":"#NAME?"},{"$error":"#NAME?"},{"$error":"#NAME?"},{"$error":"#NAME?"},{"$error":"#NAME?"},{"$error":"#NAME?"},{"$error":"#NAME?"},{"$error":"#NAME?"},{"$error":"#NAME?"},{"$error":"#NAME?"},{"$error":"#NAME?"},{"$error":"#NAME?"},{"$error":"#NAME?"},{"$error":"#NAME?"},{"$error":"#NAME?"}]
[{"$error":"#NAME?"},{"$error":"#NAME?"},{"$error":"#NAME?"},{"$error":"#NAME?"},{"$error":"#NAME?"},{"$error":"#NAME?"},{"$error":"#NAME?"},{"$error":"#NAME?"},{"$error":"#NAME?"},{"$error":"#NAME?"},{"$error":"#NAME?"},{"$error":"#NAME?"},{"$error":"#NAME?"},{"$error":"#NAME?"},{"$error":"#NAME?"},{"$error":"#NAME?"},{"$error":"#NAME?"},{"$error":"#NAME?"},{"$error":"#NAME?"},{"$error":"#NAME?"},{"$error":"#NAME?"},{"$error":"#NAME?"},{"$error":"#NAME?"},{"$error":"#NAME?"},{"$error":"#NAME?"},{"$error":"#NAME?"},{"$error":"#NAME?"},{"$error":"#NAME?"},{"$error":"#NAME?"},{"$error":"#NAME?"},{"$error":"#NAME?"},{"$error":"#NAME?"},{"$error":"#NAME?"},{"$error":"#NAME?"},{"$error":"#NAME?"},{"$error":"#NAME?"},{"$error":"#NAME?"},{"$error":"#NAME?"},{"$error":"#NAME?"},{"$error":"#NAME?"},{"$error":"#NAME?"},{"$error":"#NAME?"},{"$error":"#NAME?"},{"$error":"#NAME?"},{"$error":"#NAME?"},{"$error":"#NAME?"},{"$error":"#NAME?"},{"$error":"#NAME?"},{"$error":"#NAME?"},{"$error":"#NAME?"},{"$error":"#NAME?"},{"$error":"#NAME?"},{"$error":"#NAME?"},{"$error":"#NAME?"},{"$error":"#NAME?"},{"$error":"#NAME?"},{"$error":"#NAME?"},{"$error":"#NAME?"},{"$error":"#NAME?"},{"$error":"#NAME?"},{"$error":"#NAME?"},{"$error":"#NAME?"},{"$error":"#NAME?"},{"$error":"#NAME?"},{"$error":"#NAME?"},{"$error":"#NAME?"},{"$error":"#NAME?"},{"$error":"#NAME?"},{"$error":"#NAME?"},{"$error":"#NAME?"},{"$error":"#NAME?"},{"$error":"#NAME?"},{"$error":"#NAME?"},{"$error":"#NAME?"},{"$error":"#NAME?"},{"$error":"#NAME?"},{"$error":"#NAME?"},{"$error":"#NAME?"},{"$error":"#NAME?"},{"$error":"#NAME?"},{"$error":"#NAME?"},{"$error":"#NAME?"},{"$error":"#NAME?"},{"$error":"#NAME?"},{"$error":"#NAME?"},{"$error":"#NAME?"},{"$error":"#NAME?"},{"$error":"#NAME?"},{"$error":"#NAME?"},{"$error":"#NAME?"},{"$error":"#NAME?"},{"$error":"#NAME?"},{"$error":"#NAME?"},{"$error":"#NAME?"},{"$error":"#NAME?"},{"$error":"#NAME?"},{"$error":"#NAME?"},{"$error":"#NAME?"},{"$error":"#NAME?"},{"$error":"#NAME?"},null,{"$error":"#NAME?"},{"$error":"#NAME?"},{"$error":"#NAME?"},{"$error":"#NAME?"},{"$error":"#NAME?"},{"$error":"#NAME?"},{"$error":"#NAME?"},{"$error":"#NAME?"},{"$error":"#NAME?"},{"$error":"#NAME?"},{"$error":"#NAME?"},{"$error":"#NAME?"},{"$error":"#NAME?"},{"$error":"#NAME?"},{"$error":"#NAME?"},{"$error":"#NAME?"},{"$error":"#NAME?"},{"$error":"#NAME?"},{"$error":"#NAME?"},{"$error":"#NAME?"},{"$error":"#NAME?"},{"$error":"#NAME?"},{"$error":"#NAME?"},{"$error":"#NAME?"},{"$error":"#NAME?"},{"$error":"#NAME?"},{"$error":"#NAME?"},{"$error":"#NAME?"},{"$error":"#NAME?"},{"$error":"#NAME?"},{"$error":"#NAME?"},{"$error":"#NAME?"},{"$error":"#NAME?"},{"$error":"#NAME?"},{"$error":"#NAME?"},{"$error":"#NAME?"},{"$error":"#NAME?"},{"$error":"#NAME?"},{"$error":"#NAME?"},{"$error":"#NAME?"},{"$error":"#NAME?"},{"$error":"#NAME?"},{"$error":"#NAME?"},{"$error":"#NAME?"},{"$error":"#NAME?"},{"$error":"#NAME?"},{"$error":"#NAME?"},{"$error":"#NAME?"},{"$error":"#NAME?"},{"$error":"#NAME?"},{"$error":"#NAME?"},{"$error":"#NAME?"},{"$error":"#NAME?"},{"$error":"#NAME?"},{"$error":"#NAME?"},{"$error":"#NAME?"},{"$error":"#NAME?"},{"$error":"#NAME?"},{"$error":"#NAME?"},{"$error":"#NAME?"},{"$error":"#NAME?"},{"$error":"#NAME?"},{"$error":"#NAME?"},{"$error":"#NAME?"},{"$error":"#NAME?"},{"$error":"#NAME?"},{"$error":"#NAME?"},{"$error":"#NAME?"},{"$error":"#NAME?"},{"$error":"#NAME?"},{"$error":"#NAME?"},{"$error":"#NAME?"},{"$error":"#NAME?"},{"$error":"#NAME?"},{"$error":"#NAME?"},{"$error":"#NAME?"},{"$error":"#NAME?"},{"$error":"#NAME?"},{"$error":"#NAME?"},{"$error":"#NAME?"},{"$error":"#NAME?"},{"$error":"#NAME?"},{"$error":"#NAME?"},{"$error":"#NAME?"},{"$error":"#NAME?"},{"$error":"#NAME?"},{"$error":"#NAME?"},{"$error":"#NAME?"},{"$error":"#NAME?"},{"$error":"#NAME?"},{"$error":"#NAME?"},{"$error":"#NAME?"},{"$error":"#NAME?"},{"$error":"#NAME?"},{"$error":"#NAME?"},{"$error":"#NAME?"},{"$error":"#NAME?"},{"$error":"#NAME?"},{"$error":"#NAME?"},{"$error":"#NAME?"}]
[{"$error":"#NAME?"},{"$error":"#NAME?"},{"$error":"#NAME?"},{"$error":"#NAME?"},{"$error":"#NAME?"},{"$error":"#NAME?"},{"$error":"#NAME?"},{"$error":"#NAME?"},{"$error":"#NAME?"},{"$error":"#NAME?"},{"$error":"#NAME?"},{"$error":"#NAME?"},{"$error":"#NAME?"},{"$error":"#NAME?"},{"$error":"#NAME?"},{"$error":"#NAME?"},{"$error":"#NAME?"},{"$error":"#NAME?"},{"$error":"#NAME?"},{"$error":"#NAME?"},{"$error":"#NAME?"},{"$error":"#NAME?"},{"$error":"#NAME?"},{"$error":"#NAME?"},{"$error":"#NAME?"},{"$error":"#NAME?"},{"$error":"#NAME?"},{"$error":"#NAME?"},{"$error":"#NAME?"},{"$error":"#NAME?"},{"$error":"#NAME?"},{"$error":"#NAME?"},{"$error":"#NAME?"},{"$error":"#NAME?"},{"$error":"#NAME?"},{"$error":"#NAME?"},{"$error":"#NAME?"},{"$error":"#NAME?"},{"$error":"#NAME?"},{"$error":"#NAME?"},{"$error":"#NAME?"},{"$error":"#NAME?"},{"$error":"#NAME?"},{"$error":"#NAME?"},{"$error":"#NAME?"},{"$error":"#NAME?"},{"$error":"#NAME?"},{"$error":"#NAME?"},{"$error":"#NAME?"},{"$error":"#NAME?"},{"$error":"#NAME?"},{"$error":"#NAME?"},{"$error":"#NAME?"},{"$error":"#NAME?"},{"$error":"#NAME?"},{"$error":"#NAME?"},{"$error":"#NAME?"},{"$error":"#NAME?"},{"$error":"#NAME?"},{"$error":"#NAME?"},{"$error":"#NAME?"},{"$error":"#NAME?"},{"$error":"#NAME?"},{"$error":"#NAME?"},{"$error":"#NAME?"},{"$error":"#NAME?"},{"$error":"#NAME?"},{"$error":"#NAME?"},{"$error":"#NAME?"},{"$error":"#NAME?"},{"$error":"#NAME?"},{"$error":"#NAME?"},{"$error":"#NAME?"},{"$error":"#NAME?"},{"$error":"#NAME?"},{"$error":"#NAME?"},{"$error":"#NAME?"},{"$error":"#NAME?"},{"$error":"#NAME?"},{"$error":"#NAME?"},{"$error":"#NAME?"},{"$error":"#NAME?"},{"$error":"#NAME?"},{"$error":"#NAME?"},{"$error":"#NAME?"},{"$error":"#NAME?"},{"$error":"#NAME?"},{"$error":"#NAME?"},{"$error":"#NAME?"},{"$error":"#NAME?"},{"$error":"#NAME?"},{"$error":"#NAME?"},{"$error":"#NAME?"},{"$error":"#NAME?"},{"$error":"#NAME?"},{"$error":"#NAME?"},{"$error":"#NAME?"},{"$error":"#NAME?"},{"$error":"#NAME?"},{"$error":"#NAME?"},null,{"$error":"#NAME?"},{"$error":"#NAME?"},{"$error":"#NAME?"},{"$error":"#NAME?"},{"$error":"#NAME?"},{"$error":"#NAME?"},{"$error":"#NAME?"},{"$error":"#NAME?"},{"$error":"#NAME?"},{"$error":"#NAME?"},{"$error":"#NAME?"},{"$error":"#NAME?"},{"$error":"#NAME?"},{"$error":"#NAME?"},{"$error":"#NAME?"},{"$error":"#NAME?"},{"$error":"#NAME?"},{"$error":"#NAME?"},{"$error":"#NAME?"},{"$error":"#NAME?"},{"$error":"#NAME?"},{"$error":"#NAME?"},{"$error":"#NAME?"},{"$error":"#NAME?"},{"$error":"#NAME?"},{"$error":"#NAME?"},{"$error":"#NAME?"},{"$error":"#NAME?"},{"$error":"#NAME?"},{"$error":"#NAME?"},{"$error":"#NAME?"},{"$error":"#NAME?"},{"$error":"#NAME?"},{"$error":"#NAME?"},{"$error":"#NAME?"},{"$error":"#NAME?"},{"$error":"#NAME?"},{"$error":"#NAME?"},{"$error":"#NAME?"},{"$error":"#NAME?"},{"$error":"#NAME?"},{"$error":"#NAME?"},{"$error":"#NAME?"},{"$error":"#NAME?"},{"$error":"#NAME?"},{"$error":"#NAME?"},{"$error":"#NAME?"},{"$error":"#NAME?"},{"$error":"#NAME?"},{"$error":"#NAME?"},{"$error":"#NAME?"},{"$error":"#NAME?"},{"$error":"#NAME?"},{"$error":"#NAME?"},{"$error":"#NAME?"},{"$error":"#NAME?"},{"$error":"#NAME?"},{"$error":"#NAME?"},{"$error":"#NAME?"},{"$error":"#NAME?"},{"$error":"#NAME?"},{"$error":"#NAME?"},{"$error":"#NAME?"},{"$error":"#NAME?"},{"$error":"#NAME?"},{"$error":"#NAME?"},{"$error":"#NAME?"},{"$error":"#NAME?"},{"$error":"#NAME?"},{"$error":"#NAME?"},{"$error":"#NAME?"},{"$error":"#NAME?"},{"$error":"#NAME?"},{"$error":"#NAME?"},{"$error":"#NAME?"},{"$error":"#NAME?"},{"$error":"#NAME?"},{"$error":"#NAME?"},{"$error":"#NAME?"},{"$error":"#NAME?"},{"$error":"#NAME?"},{"$error":"#NAME?"},{"$error":"#NAME?"},{"$error":"#NAME?"},{"$error":"#NAME?"},{"$error":"#NAME?"},{"$error":"#NAME?"},{"$error":"#NAME?"},{"$error":"#NAME?"},{"$error":"#NAME?"},{"$error":"#NAME?"},{"$error":"#NAME?"},{"$error":"#NAME?"},{"$error":"#NAME?"},{"$error":"#NAME?"},{"$error":"#NAME?"},{"$error":"#NAME?"},{"$error":"#NAME?"},{"$error":"#NAME?"},{"$error":"#NAME?"}]
[{"$error":"#NAME?"},{"$error":"#NAME?"},{"$error":"#NAME?"},{"$error":"#NAME?"},{"$error":"#NAME?"},{"$error":"#NAME?"},{"$error":"#NAME?"},{"$error":"#NAME?"},{"$error":"#NAME?"},{"$error":"#NAME?"},{"$error":"#NAME?"},{"$error":"#NAME?"},{"$error":"#NAME?"},{"$error":"#NAME?"},{"$error":"#NAME?"},{"$error":"#NAME?"},{"$error":"#NAME?"},{"$error":"#NAME?"},{"$error":"#NAME?"},{"$error":"#NAME?"},{"$error":"#NAME?"},{"$error":"#NAME?"},{"$error":"#NAME?"},{"$error":"#NAME?"},{"$error":"#NAME?"},{"$error":"#NAME?"},{"$error":"#NAME?"},{"$error":"#NAME?"},{"$error":"#NAME?"},{"$error":"#NAME?"},{"$error":"#NAME?"},{"$error":"#NAME?"},{"$error":"#NAME?"},{"$error":"#NAME?"},{"$error":"#NAME?"},{"$error":"#NAME?"},{"$error":"#NAME?"},{"$error":"#NAME?"},{"$error":"#NAME?"},{"$error":"#NAME?"},{"$error":"#NAME?"},{"$error":"#NAME?"},{"$error":"#NAME?"},{"$error":"#NAME?"},{"$error":"#NAME?"},{"$error":"#NAME?"},{"$error":"#NAME?"},{"$error":"#NAME?"},{"$error":"#NAME?"},{"$error":"#NAME?"},{"$error":"#NAME?"},{"$error":"#NAME?"},{"$error":"#NAME?"},{"$error":"#NAME?"},{"$error":"#NAME?"},{"$error":"#NAME?"},{"$error":"#NAME?"},{"$error":"#NAME?"},{"$error":"#NAME?"},{"$error":"#NAME?"},{"$error":"#NAME?"},{"$error":"#NAME?"},{"$error":"#NAME?"},{"$error":"#NAME?"},{"$error":"#NAME?"},{"$error":"#NAME?"},{"$error":"#NAME?"},{"$error":"#NAME?"},{"$error":"#NAME?"},{"$error":"#NAME?"},{"$error":"#NAME?"},{"$error":"#NAME?"},{"$error":"#NAME?"},{"$error":"#NAME?"},{"$error":"#NAME?"},{"$error":"#NAME?"},{"$error":"#NAME?"},{"$error":"#NAME?"},{"$error":"#NAME?"},{"$error":"#NAME?"},{"$error":"#NAME?"},{"$error":"#NAME?"},{"$error":"#NAME?"},{"$error":"#NAME?"},{"$error":"#NAME?"},{"$error":"#NAME?"},{"$error":"#NAME?"},{"$error":"#NAME?"},{"$error":"#NAME?"},{"$error":"#NAME?"},{"$error":"#NAME?"},{"$error":"#NAME?"},{"$error":"#NAME?"},{"$error":"#NAME?"},{"$error":"#NAME?"},{"$error":"#NAME?"},{"$error":"#NAME?"},{"$error":"#NAME?"},{"$error":"#NAME?"},{"$error":"#NAME?"},null,{"$error":"#NAME?"},{"$error":"#NAME?"},{"$error":"#NAME?"},{"$error":"#NAME?"},{"$error":"#NAME?"},{"$error":"#NAME?"},{"$error":"#NAME?"},{"$error":"#NAME?"},{"$error":"#NAME?"},{"$error":"#NAME?"},{"$error":"#NAME?"},{"$error":"#NAME?"},{"$error":"#NAME?"},{"$error":"#NAME?"},{"$error":"#NAME?"},{"$error":"#NAME?"},{"$error":"#NAME?"},{"$error":"#NAME?"},{"$error":"#NAME?"},{"$error":"#NAME?"},{"$error":"#NAME?"},{"$error":"#NAME?"},{"$error":"#NAME?"},{"$error":"#NAME?"},{"$error":"#NAME?"},{"$error":"#NAME?"},{"$error":"#NAME?"},{"$error":"#NAME?"},{"$error":"#NAME?"},{"$error":"#NAME?"},{"$error":"#NAME?"},{"$error":"#NAME?"},{"$error":"#NAME?"},{"$error":"#NAME?"},{"$error":"#NAME?"},{"$error":"#NAME?"},{"$error":"#NAME?"},{"$error":"#NAME?"},{"$error":"#NAME?"},{"$error":"#NAME?"},{"$error":"#NAME?"},{"$error":"#NAME?"},{"$error":"#NAME?"},{"$error":"#NAME?"},{"$error":"#NAME?"},{"$error":"#NAME?"},{"$error":"#NAME?"},{"$error":"#NAME?"},{"$error":"#NAME?"},{"$error":"#NAME?"},{"$error":"#NAME?"},{"$error":"#NAME?"},{"$error":"#NAME?"},{"$error":"#NAME?"},{"$error":"#NAME?"},{"$error":"#NAME?"},{"$error":"#NAME?"},{"$error":"#NAME?"},{"$error":"#NAME?"},{"$error":"#NAME?"},{"$error":"#NAME?"},{"$error":"#NAME?"},{"$error":"#NAME?"},{"$error":"#NAME?"},{"$error":"#NAME?"},{"$error":"#NAME?"},{"$error":"#NAME?"},{"$error":"#NAME?"},{"$error":"#NAME?"},{"$error":"#NAME?"},{"$error":"#NAME?"},{"$error":"#NAME?"},{"$error":"#NAME?"},{"$error":"#NAME?"},{"$error":"#NAME?"},{"$error":"#NAME?"},{"$error":"#NAME?"},{"$error":"#NAME?"},{"$error":"#NAME?"},{"$error":"#NAME?"},{"$error":"#NAME?"},{"$error":"#NAME?"},{"$error":"#NAME?"},{"$error":"#NAME?"},{"$error":"#NAME?"},{"$error":"#NAME?"},{"$error":"#NAME?"},{"$error":"#NAME?"},{"$error":"#NAME?"},{"$error":"#NAME?"},{"$error":"#NAME?"},{"$error":"#NAME?"},{"$error":"#NAME?"},{"$error":"#NAME?"},{"$error":"#NAME?"},{"$error":"#NAME?"},{"$error":"#NAME?"},{"$error":"#NAME?"},{"$error":"#NAME?"},{"$error":"#NAME?"}]
[{"$error":"#NAME?"},{"$error":"#NAME?"},{"$error":"#NAME?"},{"$error":"#NAME?"},{"$error":"#NAME?"},{"$error":"#NAME?"},{"$error":"#NAME?"},{"$error":"#NAME?"},{"$error":"#NAME?"},{"$error":"#NAME?"},{"$error":"#NAME?"},{"$error":"#NAME?"},{"$error":"#NAME?"},{"$error":"#NAME?"},{"$error":"#NAME?"},{"$error":"#NAME?"},{"$error":"#NAME?"},{"$error":"#NAME?"},{"$error":"#NAME?"},{"$error":"#NAME?"},{"$error":"#NAME?"},{"$error":"#NAME?"},{"$error":"#NAME?"},{"$error":"#NAME?"},{"$error":"#NAME?"},{"$error":"#NAME?"},{"$error":"#NAME?"},{"$error":"#NAME?"},{"$error":"#NAME?"},{"$error":"#NAME?"},{"$error":"#NAME?"},{"$error":"#NAME?"},{"$error":"#NAME?"},{"$error":"#NAME?"},{"$error":"#NAME?"},{"$error":"#NAME?"},{"$error":"#NAME?"},{"$error":"#NAME?"},{"$error":"#NAME?"},{"$error":"#NAME?"},{"$error":"#NAME?"},{"$error":"#NAME?"},{"$error":"#NAME?"},{"$error":"#NAME?"},{"$error":"#NAME?"},{"$error":"#NAME?"},{"$error":"#NAME?"},{"$error":"#NAME?"},{"$error":"#NAME?"},{"$error":"#NAME?"},{"$error":"#NAME?"},{"$error":"#NAME?"},{"$error":"#NAME?"},{"$error":"#NAME?"},{"$error":"#NAME?"},{"$error":"#NAME?"},{"$error":"#NAME?"},{"$error":"#NAME?"},{"$error":"#NAME?"},{"$error":"#NAME?"},{"$error":"#NAME?"},{"$error":"#NAME?"},{"$error":"#NAME?"},{"$error":"#NAME?"},{"$error":"#NAME?"},{"$error":"#NAME?"},{"$error":"#NAME?"},{"$error":"#NAME?"},{"$error":"#NAME?"},{"$error":"#NAME?"},{"$error":"#NAME?"},{"$error":"#NAME?"},{"$error":"#NAME?"},{"$error":"#NAME?"},{"$error":"#NAME?"},{"$error":"#NAME?"},{"$error":"#NAME?"},{"$error":"#NAME?"},{"$error":"#NAME?"},{"$error":"#NAME?"},{"$error":"#NAME?"},{"$error":"#NAME?"},{"$error":"#NAME?"},{"$error":"#NAME?"},{"$error":"#NAME?"},{"$error":"#NAME?"},{"$error":"#NAME?"},{"$error":"#NAME?"},{"$error":"#NAME?"},{"$error":"#NAME?"},{"$error":"#NAME?"},{"$error":"#NAME?"},{"$error":"#NAME?"},{"$error":"#NAME?"},{"$error":"#NAME?"},{"$error":"#NAME?"},{"$error":"#NAME?"},{"$error":"#NAME?"},{"$error":"#NAME?"},{"$error":"#NAME?"},null,{"$error":"#NAME?"},{"$error":"#NAME?"},{"$error":"#NAME?"},{"$error":"#NAME?"},{"$error":"#NAME?"},{"$error":"#NAME?"},{"$error":"#NAME?"},{"$error":"#NAME?"},{"$error":"#NAME?"},{"$error":"#NAME?"},{"$error":"#NAME?"},{"$error":"#NAME?"},{"$error":"#NAME?"},{"$error":"#NAME?"},{"$error":"#NAME?"},{"$error":"#NAME?"},{"$error":"#NAME?"},{"$error":"#NAME?"},{"$error":"#NAME?"},{"$error":"#NAME?"},{"$error":"#NAME?"},{"$error":"#NAME?"},{"$error":"#NAME?"},{"$error":"#NAME?"},{"$error":"#NAME?"},{"$error":"#NAME?"},{"$error":"#NAME?"},{"$error":"#NAME?"},{"$error":"#NAME?"},{"$error":"#NAME?"},{"$error":"#NAME?"},{"$error":"#NAME?"},{"$error":"#NAME?"},{"$error":"#NAME?"},{"$error":"#NAME?"},{"$error":"#NAME?"},{"$error":"#NAME?"},{"$error":"#NAME?"},{"$error":"#NAME?"},{"$error":"#NAME?"},{"$error":"#NAME?"},{"$error":"#NAME?"},{"$error":"#NAME?"},{"$error":"#NAME?"},{"$error":"#NAME?"},{"$error":"#NAME?"},{"$error":"#NAME?"},{"$error":"#NAME?"},{"$error":"#NAME?"},{"$error":"#NAME?"},{"$error":"#NAME?"},{"$error":"#NAME?"},{"$error":"#NAME?"},{"$error":"#NAME?"},{"$error":"#NAME?"},{"$error":"#NAME?"},{"$error":"#NAME?"},{"$error":"#NAME?"},{"$error":"#NAME?"},{"$error":"#NAME?"},{"$error":"#NAME?"},{"$error":"#NAME?"},{"$error":"#NAME?"},{"$error":"#NAME?"},{"$error":"#NAME?"},{"$error":"#NAME?"},{"$error":"#NAME?"},{"$error":"#NAME?"},{"$error":"#NAME?"},{"$error":"#NAME?"},{"$error":"#NAME?"},{"$error":"#NAME?"},{"$error":"#NAME?"},{"$error":"#NAME?"},{"$error":"#NAME?"},{"$error":"#NAME?"},{"$error":"#NAME?"},{"$error":"#NAME?"},{"$error":"#NAME?"},{"$error":"#NAME?"},{"$error":"#NAME?"},{"$error":"#NAME?"},{"$error":"#NAME?"},{"$error":"#NAME?"},{"$error":"#NAME?"},{"$error":"#NAME?"},{"$error":"#NAME?"},{"$error":"#NAME?"},{"$error":"#NAME?"},{"$error":"#NAME?"},{"$error":"#NAME?"},{"$error":"#NAME?"},{"$error":"#NAME?"},{"$error":"#NAME?"},{"$error":"#NAME?"},{"$error":"#NAME?"},{"$error":"#NAME?"},{"$error":"#NAME?"},{"$error":"#NAME?"},{"$error":"#NAME?"}]
[{"$error":"#NAME?"},{"$error":"#NAME?"},{"$error":"#NAME?"},{"$error":"#NAME?"},{"$error":"#NAME?"},{"$error":"#NAME?"},{"$error":"#NAME?"},{"$error":"#NAME?"},{"$error":"#NAME?"},{"$error":"#NAME?"},{"$error":"#NAME?"},{"$error":"#NAME?"},{"$error":"#NAME?"},{"$error":"#NAME?"},{"$error":"#NAME?"},{"$error":"#NAME?"},{"$error":"#NAME?"},{"$error":"#NAME?"},{"$error":"#NAME?"},{"$error":"#NAME?"},{"$error":"#NAME?"},{"$error":"#NAME?"},{"$error":"#NAME?"},{"$error":"#NAME?"},{"$error":"#NAME?"},{"$error":"#NAME?"},{"$error":"#NAME?"},{"$error":"#NAME?"},{"$error":"#NAME?"},{"$error":"#NAME?"},{"$error":"#NAME?"},{"$error":"#NAME?"},{"$error":"#NAME?"},{"$error":"#NAME?"},{"$error":"#NAME?"},{"$error":"#NAME?"},{"$error":"#NAME?"},{"$error":"#NAME?"},{"$error":"#NAME?"},{"$error":"#NAME?"},{"$error":"#NAME?"},{"$error":"#NAME?"},{"$error":"#NAME?"},{"$error":"#NAME?"},{"$error":"#NAME?"},{"$error":"#NAME?"},{"$error":"#NAME?"},{"$error":"#NAME?"},{"$error":"#NAME?"},{"$error":"#NAME?"},{"$error":"#NAME?"},{"$error":"#NAME?"},{"$error":"#NAME?"},{"$error":"#NAME?"},{"$error":"#NAME?"},{"$error":"#NAME?"},{"$error":"#NAME?"},{"$error":"#NAME?"},{"$error":"#NAME?"},{"$error":"#NAME?"},{"$error":"#NAME?"},{"$error":"#NAME?"},{"$error":"#NAME?"},{"$error":"#NAME?"},{"$error":"#NAME?"},{"$error":"#NAME?"},{"$error":"#NAME?"},{"$error":"#NAME?"},{"$error":"#NAME?"},{"$error":"#NAME?"},{"$error":"#NAME?"},{"$error":"#NAME?"},{"$error":"#NAME?"},{"$error":"#NAME?"},{"$error":"#NAME?"},{"$error":"#NAME?"},{"$error":"#NAME?"},{"$error":"#NAME?"},{"$error":"#NAME?"},{"$error":"#NAME?"},{"$error":"#NAME?"},{"$error":"#NAME?"},{"$error":"#NAME?"},{"$error":"#NAME?"},{"$error":"#NAME?"},{"$error":"#NAME?"},{"$error":"#NAME?"},{"$error":"#NAME?"},{"$error":"#NAME?"},{"$error":"#NAME?"},{"$error":"#NAME?"},{"$error":"#NAME?"},{"$error":"#NAME?"},{"$error":"#NAME?"},{"$error":"#NAME?"},{"$error":"#NAME?"},{"$error":"#NAME?"},{"$error":"#NAME?"},{"$error":"#NAME?"},{"$error":"#NAME?"},null,{"$error":"#NAME?"},{"$error":"#NAME?"},{"$error":"#NAME?"},{"$error":"#NAME?"},{"$error":"#NAME?"},{"$error":"#NAME?"},{"$error":"#NAME?"},{"$error":"#NAME?"},{"$error":"#NAME?"},{"$error":"#NAME?"},{"$error":"#NAME?"},{"$error":"#NAME?"},{"$error":"#NAME?"},{"$error":"#NAME?"},{"$error":"#NAME?"},{"$error":"#NAME?"},{"$error":"#NAME?"},{"$error":"#NAME?"},{"$error":"#NAME?"},{"$error":"#NAME?"},{"$error":"#NAME?"},{"$error":"#NAME?"},{"$error":"#NAME?"},{"$error":"#NAME?"},{"$error":"#NAME?"},{"$error":"#NAME?"},{"$error":"#NAME?"},{"$error":"#NAME?"},{"$error":"#NAME?"},{"$error":"#NAME?"},{"$error":"#NAME?"},{"$error":"#NAME?"},{"$error":"#NAME?"},{"$error":"#NAME?"},{"$error":"#NAME?"},{"$error":"#NAME?"},{"$error":"#NAME?"},{"$error":"#NAME?"},{"$error":"#NAME?"},{"$error":"#NAME?"},{"$error":"#NAME?"},{"$error":"#NAME?"},{"$error":"#NAME?"},{"$error":"#NAME?"},{"$error":"#NAME?"},{"$error":"#NAME?"},{"$error":"#NAME?"},{"$error":"#NAME?"},{"$error":"#NAME?"},{"$error":"#NAME?"},{"$error":"#NAME?"},{"$error":"#NAME?"},{"$error":"#NAME?"},{"$error":"#NAME?"},{"$error":"#NAME?"},{"$error":"#NAME?"},{"$error":"#NAME?"},{"$error":"#NAME?"},{"$error":"#NAME?"},{"$error":"#NAME?"},{"$error":"#NAME?"},{"$error":"#NAME?"},{"$error":"#NAME?"},{"$error":"#NAME?"},{"$error":"#NAME?"},{"$error":"#NAME?"},{"$error":"#NAME?"},{"$error":"#NAME?"},{"$error":"#NAME?"},{"$error":"#NAME?"},{"$error":"#NAME?"},{"$error":"#NAME?"},{"$error":"#NAME?"},{"$error":"#NAME?"},{"$error":"#NAME?"},{"$error":"#NAME?"},{"$error":"#NAME?"},{"$error":"#NAME?"},{"$error":"#NAME?"},{"$error":"#NAME?"},{"$error":"#NAME?"},{"$error":"#NAME?"},{"$error":"#NAME?"},{"$error":"#NAME?"},{"$error":"#NAME?"},{"$error":"#NAME?"},{"$error":"#NAME?"},{"$error":"#NAME?"},{"$error":"#NAME?"},{"$error":"#NAME?"},{"$error":"#NAME?"},{"$error":"#NAME?"},{"$error":"#NAME?"},{"$error":"#NAME?"},{"$error":"#NAME?"},{"$error":"#NAME?"},{"$error":"#NAME?"},{"$error":"#NAME?"},{"$error":"#NAME?"},{"$error":"#NAME?"}]
[{"$error":"#NAME?"},{"$error":"#NAME?"},{"$error":"#NAME?"},{"$error":"#NAME?"},{"$error":"#NAME?"},{"$error":"#NAME?"},{"$error":"#NAME?"},{"$error":"#NAME?"},{"$error":"#NAME?"},{"$error":"#NAME?"},{"$error":"#NAME?"},{"$error":"#NAME?"},{"$error":"#NAME?"},{"$error":"#NAME?"},{"$error":"#NAME?"},{"$error":"#NAME?"},{"$error":"#NAME?"},{"$error":"#NAME?"},{"$error":"#NAME?"},{"$error":"#NAME?"},{"$error":"#NAME?"},{"$error":"#NAME?"},{"$error":"#NAME?"},{"$error":"#NAME?"},{"$error":"#NAME?"},{"$error":"#NAME?"},{"$error":"#NAME?"},{"$error":"#NAME?"},{"$error":"#NAME?"},{"$error":"#NAME?"},{"$error":"#NAME?"},{"$error":"#NAME?"},{"$error":"#NAME?"},{"$error":"#NAME?"},{"$error":"#NAME?"},{"$error":"#NAME?"},{"$error":"#NAME?"},{"$error":"#NAME?"},{"$error":"#NAME?"},{"$error":"#NAME?"},{"$error":"#NAME?"},{"$error":"#NAME?"},{"$error":"#NAME?"},{"$error":"#NAME?"},{"$error":"#NAME?"},{"$error":"#NAME?"},{"$error":"#NAME?"},{"$error":"#NAME?"},{"$error":"#NAME?"},{"$error":"#NAME?"},{"$error":"#NAME?"},{"$error":"#NAME?"},{"$error":"#NAME?"},{"$error":"#NAME?"},{"$error":"#NAME?"},{"$error":"#NAME?"},{"$error":"#NAME?"},{"$error":"#NAME?"},{"$error":"#NAME?"},{"$error":"#NAME?"},{"$error":"#NAME?"},{"$error":"#NAME?"},{"$error":"#NAME?"},{"$error":"#NAME?"},{"$error":"#NAME?"},{"$error":"#NAME?"},{"$error":"#NAME?"},{"$error":"#NAME?"},{"$error":"#NAME?"},{"$error":"#NAME?"},{"$error":"#NAME?"},{"$error":"#NAME?"},{"$error":"#NAME?"},{"$error":"#NAME?"},{"$error":"#NAME?"},{"$error":"#NAME?"},{"$error":"#NAME?"},{"$error":"#NAME?"},{"$error":"#NAME?"},{"$error":"#NAME?"},{"$error":"#NAME?"},{"$error":"#NAME?"},{"$error":"#NAME?"},{"$error":"#NAME?"},{"$error":"#NAME?"},{"$error":"#NAME?"},{"$error":"#NAME?"},{"$error":"#NAME?"},{"$error":"#NAME?"},{"$error":"#NAME?"},{"$error":"#NAME?"},{"$error":"#NAME?"},{"$error":"#NAME?"},{"$error":"#NAME?"},{"$error":"#NAME?"},{"$error":"#NAME?"},{"$error":"#NAME?"},{"$error":"#NAME?"},{"$error":"#NAME?"},{"$error":"#NAME?"},null,{"$error":"#NAME?"},{"$error":"#NAME?"},{"$error":"#NAME?"},{"$error":"#NAME?"},{"$error":"#NAME?"},{"$error":"#NAME?"},{"$error":"#NAME?"},{"$error":"#NAME?"},{"$error":"#NAME?"},{"$error":"#NAME?"},{"$error":"#NAME?"},{"$error":"#NAME?"},{"$error":"#NAME?"},{"$error":"#NAME?"},{"$error":"#NAME?"},{"$error":"#NAME?"},{"$error":"#NAME?"},{"$error":"#NAME?"},{"$error":"#NAME?"},{"$error":"#NAME?"},{"$error":"#NAME?"},{"$error":"#NAME?"},{"$error":"#NAME?"},{"$error":"#NAME?"},{"$error":"#NAME?"},{"$error":"#NAME?"},{"$error":"#NAME?"},{"$error":"#NAME?"},{"$error":"#NAME?"},{"$error":"#NAME?"},{"$error":"#NAME?"},{"$error":"#NAME?"},{"$error":"#NAME?"},{"$error":"#NAME?"},{"$error":"#NAME?"},{"$error":"#NAME?"},{"$error":"#NAME?"},{"$error":"#NAME?"},{"$error":"#NAME?"},{"$error":"#NAME?"},{"$error":"#NAME?"},{"$error":"#NAME?"},{"$error":"#NAME?"},{"$error":"#NAME?"},{"$error":"#NAME?"},{"$error":"#NAME?"},{"$error":"#NAME?"},{"$error":"#NAME?"},{"$error":"#NAME?"},{"$error":"#NAME?"},{"$error":"#NAME?"},{"$error":"#NAME?"},{"$error":"#NAME?"},{"$error":"#NAME?"},{"$error":"#NAME?"},{"$error":"#NAME?"},{"$error":"#NAME?"},{"$error":"#NAME?"},{"$error":"#NAME?"},{"$error":"#NAME?"},{"$error":"#NAME?"},{"$error":"#NAME?"},{"$error":"#NAME?"},{"$error":"#NAME?"},{"$error":"#NAME?"},{"$error":"#NAME?"},{"$error":"#NAME?"},{"$error":"#NAME?"},{"$error":"#NAME?"},{"$error":"#NAME?"},{"$error":"#NAME?"},{"$error":"#NAME?"},{"$error":"#NAME?"},{"$error":"#NAME?"},{"$error":"#NAME?"},{"$error":"#NAME?"},{"$error":"#NAME?"},{"$error":"#NAME?"},{"$error":"#NAME?"},{"$error":"#NAME?"},{"$error":"#NAME?"},{"$error":"#NAME?"},{"$error":"#NAME?"},{"$error":"#NAME?"},{"$error":"#NAME?"},{"$error":"#NAME?"},{"$error":"#NAME?"},{"$error":"#NAME?"},{"$error":"#NAME?"},{"$error":"#NAME?"},{"$error":"#NAME?"},{"$error":"#NAME?"},{"$error":"#NAME?"},{"$error":"#NAME?"},{"$error":"#NAME?"},{"$error":"#NAME?"},{"$error":"#NAME?"},{"$error":"#NAME?"},{"$error":"#NAME?"},{"$error":"#NAME?"}]
[{"$error":"#NAME?"},{"$error":"#NAME?"},{"$error":"#NAME?"},{"$error":"#NAME?"},{"$error":"#NAME?"},{"$error":"#NAME?"},{"$error":"#NAME?"},{"$error":"#NAME?"},{"$error":"#NAME?"},{"$error":"#NAME?"},{"$error":"#NAME?"},{"$error":"#NAME?"},{"$error":"#NAME?"},{"$error":"#NAME?"},{"$error":"#NAME?"},{"$error":"#NAME?"},{"$error":"#NAME?"},{"$error":"#NAME?"},{"$error":"#NAME?"},{"$error":"#NAME?"},{"$error":"#NAME?"},{"$error":"#NAME?"},{"$error":"#NAME?"},{"$error":"#NAME?"},{"$error":"#NAME?"},{"$error":"#NAME?"},{"$error":"#NAME?"},{"$error":"#NAME?"},{"$error":"#NAME?"},{"$error":"#NAME?"},{"$error":"#NAME?"},{"$error":"#NAME?"},{"$error":"#NAME?"},{"$error":"#NAME?"},{"$error":"#NAME?"},{"$error":"#NAME?"},{"$error":"#NAME?"},{"$error":"#NAME?"},{"$error":"#NAME?"},{"$error":"#NAME?"},{"$error":"#NAME?"},{"$error":"#NAME?"},{"$error":"#NAME?"},{"$error":"#NAME?"},{"$error":"#NAME?"},{"$error":"#NAME?"},{"$error":"#NAME?"},{"$error":"#NAME?"},{"$error":"#NAME?"},{"$error":"#NAME?"},{"$error":"#NAME?"},{"$error":"#NAME?"},{"$error":"#NAME?"},{"$error":"#NAME?"},{"$error":"#NAME?"},{"$error":"#NAME?"},{"$error":"#NAME?"},{"$error":"#NAME?"},{"$error":"#NAME?"},{"$error":"#NAME?"},{"$error":"#NAME?"},{"$error":"#NAME?"},{"$error":"#NAME?"},{"$error":"#NAME?"},{"$error":"#NAME?"},{"$error":"#NAME?"},{"$error":"#NAME?"},{"$error":"#NAME?"},{"$error":"#NAME?"},{"$error":"#NAME?"},{"$error":"#NAME?"},{"$error":"#NAME?"},{"$error":"#NAME?"},{"$error":"#NAME?"},{"$error":"#NAME?"},{"$error":"#NAME?"},{"$error":"#NAME?"},{"$error":"#NAME?"},{"$error":"#NAME?"},{"$error":"#NAME?"},{"$error":"#NAME?"},{"$error":"#NAME?"},{"$error":"#NAME?"},{"$error":"#NAME?"},{"$error":"#NAME?"},{"$error":"#NAME?"},{"$error":"#NAME?"},{"$error":"#NAME?"},{"$error":"#NAME?"},{"$error":"#NAME?"},{"$error":"#NAME?"},{"$error":"#NAME?"},{"$error":"#NAME?"},{"$error":"#NAME?"},{"$error":"#NAME?"},{"$error":"#NAME?"},{"$error":"#NAME?"},{"$error":"#NAME?"},{"$error":"#NAME?"},{"$error":"#NAME?"},null,{"$error":"#NAME?"},{"$error":"#NAME?"},{"$error":"#NAME?"},{"$error":"#NAME?"},{"$error":"#NAME?"},{"$error":"#NAME?"},{"$error":"#NAME?"},{"$error":"#NAME?"},{"$error":"#NAME?"},{"$error":"#NAME?"},{"$error":"#NAME?"},{"$error":"#NAME?"},{"$error":"#NAME?"},{"$error":"#NAME?"},{"$error":"#NAME?"},{"$error":"#NAME?"},{"$error":"#NAME?"},{"$error":"#NAME?"},{"$error":"#NAME?"},{"$error":"#NAME?"},{"$error":"#NAME?"},{"$error":"#NAME?"},{"$error":"#NAME?"},{"$error":"#NAME?"},{"$error":"#NAME?"},{"$error":"#NAME?"},{"$error":"#NAME?"},{"$error":"#NAME?"},{"$error":"#NAME?"},{"$error":"#NAME?"},{"$error":"#NAME?"},{"$error":"#NAME?"},{"$error":"#NAME?"},{"$error":"#NAME?"},{"$error":"#NAME?"},{"$error":"#NAME?"},{"$error":"#NAME?"},{"$error":"#NAME?"},{"$error":"#NAME?"},{"$error":"#NAME?"},{"$error":"#NAME?"},{"$error":"#NAME?"},{"$error":"#NAME?"},{"$error":"#NAME?"},{"$error":"#NAME?"},{"$error":"#NAME?"},{"$error":"#NAME?"},{"$error":"#NAME?"},{"$error":"#NAME?"},{"$error":"#NAME?"},{"$error":"#NAME?"},{"$error":"#NAME?"},{"$error":"#NAME?"},{"$error":"#NAME?"},{"$error":"#NAME?"},{"$error":"#NAME?"},{"$error":"#NAME?"},{"$error":"#NAME?"},{"$error":"#NAME?"},{"$error":"#NAME?"},{"$error":"#NAME?"},{"$error":"#NAME?"},{"$error":"#NAME?"},{"$error":"#NAME?"},{"$error":"#NAME?"},{"$error":"#NAME?"},{"$error":"#NAME?"},{"$error":"#NAME?"},{"$error":"#NAME?"},{"$error":"#NAME?"},{"$error":"#NAME?"},{"$error":"#NAME?"},{"$error":"#NAME?"},{"$error":"#NAME?"},{"$error":"#NAME?"},{"$error":"#NAME?"},{"$error":"#NAME?"},{"$error":"#NAME?"},{"$error":"#NAME?"},{"$error":"#NAME?"},{"$error":"#NAME?"},{"$error":"#NAME?"},{"$error":"#NAME?"},{"$error":"#NAME?"},{"$error":"#NAME?"},{"$error":"#NAME?"},{"$error":"#NAME?"},{"$error":"#NAME?"},{"$error":"#NAME?"},{"$error":"#NAME?"},{"$error":"#NAME?"},{"$error":"#NAME?"},{"$error":"#NAME?"},{"$error":"#NAME?"},{"$error":"#NAME?"},{"$error":"#NAME?"},{"$error":"#NAME?"},{"$error":"#NAME?"},{"$error":"#NAME?"},{"$error":"#NAME?"}]
[{"$error":"#NAME?"},{"$error":"#NAME?"},{"$error":"#NAME?"},{"$error":"#NAME?"},{"$error":"#NAME?"},{"$error":"#NAME?"},{"$error":"#NAME?"},{"$error":"#NAME?"},{"$error":"#NAME?"},{"$error":"#NAME?"},{"$error":"#NAME?"},{"$error":"#NAME?"},{"$error":"#NAME?"},{"$error":"#NAME?"},{"$error":"#NAME?"},{"$error":"#NAME?"},{"$error":"#NAME?"},{"$error":"#NAME?"},{"$error":"#NAME?"},{"$error":"#NAME?"},{"$error":"#NAME?"},{"$error":"#NAME?"},{"$error":"#NAME?"},{"$error":"#NAME?"},{"$error":"#NAME?"},{"$error":"#NAME?"},{"$error":"#NAME?"},{"$error":"#NAME?"},{"$error":"#NAME?"},{"$error":"#NAME?"},{"$error":"#NAME?"},{"$error":"#NAME?"},{"$error":"#NAME?"},{"$error":"#NAME?"},{"$error":"#NAME?"},{"$error":"#NAME?"},{"$error":"#NAME?"},{"$error":"#NAME?"},{"$error":"#NAME?"},{"$error":"#NAME?"},{"$error":"#NAME?"},{"$error":"#NAME?"},{"$error":"#NAME?"},{"$error":"#NAME?"},{"$error":"#NAME?"},{"$error":"#NAME?"},{"$error":"#NAME?"},{"$error":"#NAME?"},{"$error":"#NAME?"},{"$error":"#NAME?"},{"$error":"#NAME?"},{"$error":"#NAME?"},{"$error":"#NAME?"},{"$error":"#NAME?"},{"$error":"#NAME?"},{"$error":"#NAME?"},{"$error":"#NAME?"},{"$error":"#NAME?"},{"$error":"#NAME?"},{"$error":"#NAME?"},{"$error":"#NAME?"},{"$error":"#NAME?"},{"$error":"#NAME?"},{"$error":"#NAME?"},{"$error":"#NAME?"},{"$error":"#NAME?"},{"$error":"#NAME?"},{"$error":"#NAME?"},{"$error":"#NAME?"},{"$error":"#NAME?"},{"$error":"#NAME?"},{"$error":"#NAME?"},{"$error":"#NAME?"},{"$error":"#NAME?"},{"$error":"#NAME?"},{"$error":"#NAME?"},{"$error":"#NAME?"},{"$error":"#NAME?"},{"$error":"#NAME?"},{"$error":"#NAME?"},{"$error":"#NAME?"},{"$error":"#NAME?"},{"$error":"#NAME?"},{"$error":"#NAME?"},{"$error":"#NAME?"},{"$error":"#NAME?"},{"$error":"#NAME?"},{"$error":"#NAME?"},{"$error":"#NAME?"},{"$error":"#NAME?"},{"$error":"#NAME?"},{"$error":"#NAME?"},{"$error":"#NAME?"},{"$error":"#NAME?"},{"$error":"#NAME?"},{"$error":"#NAME?"},{"$error":"#NAME?"},{"$error":"#NAME?"},{"$error":"#NAME?"},{"$error":"#NAME?"},null,{"$error":"#NAME?"},{"$error":"#NAME?"},{"$error":"#NAME?"},{"$error":"#NAME?"},{"$error":"#NAME?"},{"$error":"#NAME?"},{"$error":"#NAME?"},{"$error":"#NAME?"},{"$error":"#NAME?"},{"$error":"#NAME?"},{"$error":"#NAME?"},{"$error":"#NAME?"},{"$error":"#NAME?"},{"$error":"#NAME?"},{"$error":"#NAME?"},{"$error":"#NAME?"},{"$error":"#NAME?"},{"$error":"#NAME?"},{"$error":"#NAME?"},{"$error":"#NAME?"},{"$error":"#NAME?"},{"$error":"#NAME?"},{"$error":"#NAME?"},{"$error":"#NAME?"},{"$error":"#NAME?"},{"$error":"#NAME?"},{"$error":"#NAME?"},{"$error":"#NAME?"},{"$error":"#NAME?"},{"$error":"#NAME?"},{"$error":"#NAME?"},{"$error":"#NAME?"},{"$error":"#NAME?"},{"$error":"#NAME?"},{"$error":"#NAME?"},{"$error":"#NAME?"},{"$error":"#NAME?"},{"$error":"#NAME?"},{"$error":"#NAME?"},{"$error":"#NAME?"},{"$error":"#NAME?"},{"$error":"#NAME?"},{"$error":"#NAME?"},{"$error":"#NAME?"},{"$error":"#NAME?"},{"$error":"#NAME?"},{"$error":"#NAME?"},{"$error":"#NAME?"},{"$error":"#NAME?"},{"$error":"#NAME?"},{"$error":"#NAME?"},{"$error":"#NAME?"},{"$error":"#NAME?"},{"$error":"#NAME?"},{"$error":"#NAME?"},{"$error":"#NAME?"},{"$error":"#NAME?"},{"$error":"#NAME?"},{"$error":"#NAME?"},{"$error":"#NAME?"},{"$error":"#NAME?"},{"$error":"#NAME?"},{"$error":"#NAME?"},{"$error":"#NAME?"},{"$error":"#NAME?"},{"$error":"#NAME?"},{"$error":"#NAME?"},{"$error":"#NAME?"},{"$error":"#NAME?"},{"$error":"#NAME?"},{"$error":"#NAME?"},{"$error":"#NAME?"},{"$error":"#NAME?"},{"$error":"#NAME?"},{"$error":"#NAME?"},{"$error":"#NAME?"},{"$error":"#NAME?"},{"$error":"#NAME?"},{"$error":"#NAME?"},{"$error":"#NAME?"},{"$error":"#NAME?"},{"$error":"#NAME?"},{"$error":"#NAME?"},{"$error":"#NAME?"},{"$error":"#NAME?"},{"$error":"#NAME?"},{"$error":"#NAME?"},{"$error":"#NAME?"},{"$error":"#NAME?"},{"$error":"#NAME?"},{"$error":"#NAME?"},{"$error":"#NAME?"},{"$error":"#NAME?"},{"$error":"#NAME?"},{"$error":"#NAME?"},{"$error":"#NAME?"},{"$error":"#NAME?"},{"$error":"#NAME?"},{"$error":"#NAME?"},{"$error":"#NAME?"}]
[{"$error":"#NAME?"},{"$error":"#NAME?"},{"$error":"#NAME?"},{"$error":"#NAME?"},{"$error":"#NAME?"},{"$error":"#NAME?"},{"$error":"#NAME?"},{"$error":"#NAME?"},{"$error":"#NAME?"},{"$error":"#NAME?"},{"$error":"#NAME?"},{"$error":"#NAME?"},{"$error":"#NAME?"},{"$error":"#NAME?"},{"$error":"#NAME?"},{"$error":"#NAME?"},{"$error":"#NAME?"},{"$error":"#NAME?"},{"$error":"#NAME?"},{"$error":"#NAME?"},{"$error":"#NAME?"},{"$error":"#NAME?"},{"$error":"#NAME?"},{"$error":"#NAME?"},{"$error":"#NAME?"},{"$error":"#NAME?"},{"$error":"#NAME?"},{"$error":"#NAME?"},{"$error":"#NAME?"},{"$error":"#NAME?"},{"$error":"#NAME?"},{"$error":"#NAME?"},{"$error":"#NAME?"},{"$error":"#NAME?"},{"$error":"#NAME?"},{"$error":"#NAME?"},{"$error":"#NAME?"},{"$error":"#NAME?"},{"$error":"#NAME?"},{"$error":"#NAME?"},{"$error":"#NAME?"},{"$error":"#NAME?"},{"$error":"#NAME?"},{"$error":"#NAME?"},{"$error":"#NAME?"},{"$error":"#NAME?"},{"$error":"#NAME?"},{"$error":"#NAME?"},{"$error":"#NAME?"},{"$error":"#NAME?"},{"$error":"#NAME?"},{"$error":"#NAME?"},{"$error":"#NAME?"},{"$error":"#NAME?"},{"$error":"#NAME?"},{"$error":"#NAME?"},{"$error":"#NAME?"},{"$error":"#NAME?"},{"$error":"#NAME?"},{"$error":"#NAME?"},{"$error":"#NAME?"},{"$error":"#NAME?"},{"$error":"#NAME?"},{"$error":"#NAME?"},{"$error":"#NAME?"},{"$error":"#NAME?"},{"$error":"#NAME?"},{"$error":"#NAME?"},{"$error":"#NAME?"},{"$error":"#NAME?"},{"$error":"#NAME?"},{"$error":"#NAME?"},{"$error":"#NAME?"},{"$error":"#NAME?"},{"$error":"#NAME?"},{"$error":"#NAME?"},{"$error":"#NAME?"},{"$error":"#NAME?"},{"$error":"#NAME?"},{"$error":"#NAME?"},{"$error":"#NAME?"},{"$error":"#NAME?"},{"$error":"#NAME?"},{"$error":"#NAME?"},{"$error":"#NAME?"},{"$error":"#NAME?"},{"$error":"#NAME?"},{"$error":"#NAME?"},{"$error":"#NAME?"},{"$error":"#NAME?"},{"$error":"#NAME?"},{"$error":"#NAME?"},{"$error":"#NAME?"},{"$error":"#NAME?"},{"$error":"#NAME?"},{"$error":"#NAME?"},{"$error":"#NAME?"},{"$error":"#NAME?"},{"$error":"#NAME?"},{"$error":"#NAME?"},null,{"$error":"#NAME?"},{"$error":"#NAME?"},{"$error":"#NAME?"},{"$error":"#NAME?"},{"$error":"#NAME?"},{"$error":"#NAME?"},{"$error":"#NAME?"},{"$error":"#NAME?"},{"$error":"#NAME?"},{"$error":"#NAME?"},{"$error":"#NAME?"},{"$error":"#NAME?"},{"$error":"#NAME?"},{"$error":"#NAME?"},{"$error":"#NAME?"},{"$error":"#NAME?"},{"$error":"#NAME?"},{"$error":"#NAME?"},{"$error":"#NAME?"},{"$error":"#NAME?"},{"$error":"#NAME?"},{"$error":"#NAME?"},{"$error":"#NAME?"},{"$error":"#NAME?"},{"$error":"#NAME?"},{"$error":"#NAME?"},{"$error":"#NAME?"},{"$error":"#NAME?"},{"$error":"#NAME?"},{"$error":"#NAME?"},{"$error":"#NAME?"},{"$error":"#NAME?"},{"$error":"#NAME?"},{"$error":"#NAME?"},{"$error":"#NAME?"},{"$error":"#NAME?"},{"$error":"#NAME?"},{"$error":"#NAME?"},{"$error":"#NAME?"},{"$error":"#NAME?"},{"$error":"#NAME?"},{"$error":"#NAME?"},{"$error":"#NAME?"},{"$error":"#NAME?"},{"$error":"#NAME?"},{"$error":"#NAME?"},{"$error":"#NAME?"},{"$error":"#NAME?"},{"$error":"#NAME?"},{"$error":"#NAME?"},{"$error":"#NAME?"},{"$error":"#NAME?"},{"$error":"#NAME?"},{"$error":"#NAME?"},{"$error":"#NAME?"},{"$error":"#NAME?"},{"$error":"#NAME?"},{"$error":"#NAME?"},{"$error":"#NAME?"},{"$error":"#NAME?"},{"$error":"#NAME?"},{"$error":"#NAME?"},{"$error":"#NAME?"},{"$error":"#NAME?"},{"$error":"#NAME?"},{"$error":"#NAME?"},{"$error":"#NAME?"},{"$error":"#NAME?"},{"$error":"#NAME?"},{"$error":"#NAME?"},{"$error":"#NAME?"},{"$error":"#NAME?"},{"$error":"#NAME?"},{"$error":"#NAME?"},{"$error":"#NAME?"},{"$error":"#NAME?"},{"$error":"#NAME?"},{"$error":"#NAME?"},{"$error":"#NAME?"},{"$error":"#NAME?"},{"$error":"#NAME?"},{"$error":"#NAME?"},{"$error":"#NAME?"},{"$error":"#NAME?"},{"$error":"#NAME?"},{"$error":"#NAME?"},{"$error":"#NAME?"},{"$error":"#NAME?"},{"$error":"#NAME?"},{"$error":"#NAME?"},{"$error":"#NAME?"},{"$error":"#NAME?"},{"$error":"#NAME?"},{"$error":"#NAME?"},{"$error":"#NAME?"},{"$error":"#NAME?"},{"$error":"#NAME?"},{"$error":"#NAME?"},{"$error":"#NAME?"},{"$error":"#NAME?"}]
[{"$error":"#NAME?"},{"$error":"#NAME?"},{"$error":"#NAME?"},{"$error":"#NAME?"},{"$error":"#NAME?"},{"$error":"#NAME?"},{"$error":"#NAME?"},{"$error":"#NAME?"},{"$error":"#NAME?"},{"$error":"#NAME?"},{"$error":"#NAME?"},{"$error":"#NAME?"},{"$error":"#NAME?"},{"$error":"#NAME?"},{"$error":"#NAME?"},{"$error":"#NAME?"},{"$error":"#NAME?"},{"$error":"#NAME?"},{"$error":"#NAME?"},{"$error":"#NAME?"},{"$error":"#NAME?"},{"$error":"#NAME?"},{"$error":"#NAME?"},{"$error":"#NAME?"},{"$error":"#NAME?"},{"$error":"#NAME?"},{"$error":"#NAME?"},{"$error":"#NAME?"},{"$error":"#NAME?"},{"$error":"#NAME?"},{"$error":"#NAME?"},{"$error":"#NAME?"},{"$error":"#NAME?"},{"$error":"#NAME?"},{"$error":"#NAME?"},{"$error":"#NAME?"},{"$error":"#NAME?"},{"$error":"#NAME?"},{"$error":"#NAME?"},{"$error":"#NAME?"},{"$error":"#NAME?"},{"$error":"#NAME?"},{"$error":"#NAME?"},{"$error":"#NAME?"},{"$error":"#NAME?"},{"$error":"#NAME?"},{"$error":"#NAME?"},{"$error":"#NAME?"},{"$error":"#NAME?"},{"$error":"#NAME?"},{"$error":"#NAME?"},{"$error":"#NAME?"},{"$error":"#NAME?"},{"$error":"#NAME?"},{"$error":"#NAME?"},{"$error":"#NAME?"},{"$error":"#NAME?"},{"$error":"#NAME?"},{"$error":"#NAME?"},{"$error":"#NAME?"},{"$error":"#NAME?"},{"$error":"#NAME?"},{"$error":"#NAME?"},{"$error":"#NAME?"},{"$error":"#NAME?"},{"$error":"#NAME?"},{"$error":"#NAME?"},{"$error":"#NAME?"},{"$error":"#NAME?"},{"$error":"#NAME?"},{"$error":"#NAME?"},{"$error":"#NAME?"},{"$error":"#NAME?"},{"$error":"#NAME?"},{"$error":"#NAME?"},{"$error":"#NAME?"},{"$error":"#NAME?"},{"$error":"#NAME?"},{"$error":"#NAME?"},{"$error":"#NAME?"},{"$error":"#NAME?"},{"$error":"#NAME?"},{"$error":"#NAME?"},{"$error":"#NAME?"},{"$error":"#NAME?"},{"$error":"#NAME?"},{"$error":"#NAME?"},{"$error":"#NAME?"},{"$error":"#NAME?"},{"$error":"#NAME?"},{"$error":"#NAME?"},{"$error":"#NAME?"},{"$error":"#NAME?"},{"$error":"#NAME?"},{"$error":"#NAME?"},{"$error":"#NAME?"},{"$error":"#NAME?"},{"$error":"#NAME?"},{"$error":"#NAME?"},{"$error":"#NAME?"},null,{"$error":"#NAME?"},{"$error":"#NAME?"},{"$error":"#NAME?"},{"$error":"#NAME?"},{"$error":"#NAME?"},{"$error":"#NAME?"},{"$error":"#NAME?"},{"$error":"#NAME?"},{"$error":"#NAME?"},{"$error":"#NAME?"},{"$error":"#NAME?"},{"$error":"#NAME?"},{"$error":"#NAME?"},{"$error":"#NAME?"},{"$error":"#NAME?"},{"$error":"#NAME?"},{"$error":"#NAME?"},{"$error":"#NAME?"},{"$error":"#NAME?"},{"$error":"#NAME?"},{"$error":"#NAME?"},{"$error":"#NAME?"},{"$error":"#NAME?"},{"$error":"#NAME?"},{"$error":"#NAME?"},{"$error":"#NAME?"},{"$error":"#NAME?"},{"$error":"#NAME?"},{"$error":"#NAME?"},{"$error":"#NAME?"},{"$error":"#NAME?"},{"$error":"#NAME?"},{"$error":"#NAME?"},{"$error":"#NAME?"},{"$error":"#NAME?"},{"$error":"#NAME?"},{"$error":"#NAME?"},{"$error":"#NAME?"},{"$error":"#NAME?"},{"$error":"#NAME?"},{"$error":"#NAME?"},{"$error":"#NAME?"},{"$error":"#NAME?"},{"$error":"#NAME?"},{"$error":"#NAME?"},{"$error":"#NAME?"},{"$error":"#NAME?"},{"$error":"#NAME?"},{"$error":"#NAME?"},{"$error":"#NAME?"},{"$error":"#NAME?"},{"$error":"#NAME?"},{"$error":"#NAME?"},{"$error":"#NAME?"},{"$error":"#NAME?"},{"$error":"#NAME?"},{"$error":"#NAME?"},{"$error":"#NAME?"},{"$error":"#NAME?"},{"$error":"#NAME?"},{"$error":"#NAME?"},{"$error":"#NAME?"},{"$error":"#NAME?"},{"$error":"#NAME?"},{"$error":"#NAME?"},{"$error":"#NAME?"},{"$error":"#NAME?"},{"$error":"#NAME?"},{"$error":"#NAME?"},{"$error":"#NAME?"},{"$error":"#NAME?"},{"$error":"#NAME?"},{"$error":"#NAME?"},{"$error":"#NAME?"},{"$error":"#NAME?"},{"$error":"#NAME?"},{"$error":"#NAME?"},{"$error":"#NAME?"},{"$error":"#NAME?"},{"$error":"#NAME?"},{"$error":"#NAME?"},{"$error":"#NAME?"},{"$error":"#NAME?"},{"$error":"#NAME?"},{"$error":"#NAME?"},{"$error":"#NAME?"},{"$error":"#NAME?"},{"$error":"#NAME?"},{"$error":"#NAME?"},{"$error":"#NAME?"},{"$error":"#NAME?"},{"$error":"#NAME?"},{"$error":"#NAME?"},{"$error":"#NAME?"},{"$error":"#NAME?"},{"$error":"#NAME?"},{"$error":"#NAME?"},{"$error":"#NAME?"},{"$error":"#NAME?"},{"$error":"#NAME?"}]
[{"$error":"#NAME?"},{"$error":"#NAME?"},{"$error":"#NAME?"},{"$error":"#NAME?"},{"$error":"#NAME?"},{"$error":"#NAME?"},{"$error":"#NAME?"},{"$error":"#NAME?"},{"$error":"#NAME?"},{"$error":"#NAME?"},{"$error":"#NAME?"},{"$error":"#NAME?"},{"$error":"#NAME?"},{"$error":"#NAME?"},{"$error":"#NAME?"},{"$error":"#NAME?"},{"$error":"#NAME?"},{"$error":"#NAME?"},{"$error":"#NAME?"},{"$error":"#NAME?"},{"$error":"#NAME?"},{"$error":"#NAME?"},{"$error":"#NAME?"},{"$error":"#NAME?"},{"$error":"#NAME?"},{"$error":"#NAME?"},{"$error":"#NAME?"},{"$error":"#NAME?"},{"$error":"#NAME?"},{"$error":"#NAME?"},{"$error":"#NAME?"},{"$error":"#NAME?"},{"$error":"#NAME?"},{"$error":"#NAME?"},{"$error":"#NAME?"},{"$error":"#NAME?"},{"$error":"#NAME?"},{"$error":"#NAME?"},{"$error":"#NAME?"},{"$error":"#NAME?"},{"$error":"#NAME?"},{"$error":"#NAME?"},{"$error":"#NAME?"},{"$error":"#NAME?"},{"$error":"#NAME?"},{"$error":"#NAME?"},{"$error":"#NAME?"},{"$error":"#NAME?"},{"$error":"#NAME?"},{"$error":"#NAME?"},{"$error":"#NAME?"},{"$error":"#NAME?"},{"$error":"#NAME?"},{"$error":"#NAME?"},{"$error":"#NAME?"},{"$error":"#NAME?"},{"$error":"#NAME?"},{"$error":"#NAME?"},{"$error":"#NAME?"},{"$error":"#NAME?"},{"$error":"#NAME?"},{"$error":"#NAME?"},{"$error":"#NAME?"},{"$error":"#NAME?"},{"$error":"#NAME?"},{"$error":"#NAME?"},{"$error":"#NAME?"},{"$error":"#NAME?"},{"$error":"#NAME?"},{"$error":"#NAME?"},{"$error":"#NAME?"},{"$error":"#NAME?"},{"$error":"#NAME?"},{"$error":"#NAME?"},{"$error":"#NAME?"},{"$error":"#NAME?"},{"$error":"#NAME?"},{"$error":"#NAME?"},{"$error":"#NAME?"},{"$error":"#NAME?"},{"$error":"#NAME?"},{"$error":"#NAME?"},{"$error":"#NAME?"},{"$error":"#NAME?"},{"$error":"#NAME?"},{"$error":"#NAME?"},{"$error":"#NAME?"},{"$error":"#NAME?"},{"$error":"#NAME?"},{"$error":"#NAME?"},{"$error":"#NAME?"},{"$error":"#NAME?"},{"$error":"#NAME?"},{"$error":"#NAME?"},{"$error":"#NAME?"},{"$error":"#NAME?"},{"$error":"#NAME?"},{"$error":"#NAME?"},{"$error":"#NAME?"},{"$error":"#NAME?"},null,{"$error":"#NAME?"},{"$error":"#NAME?"},{"$error":"#NAME?"},{"$error":"#NAME?"},{"$error":"#NAME?"},{"$error":"#NAME?"},{"$error":"#NAME?"},{"$error":"#NAME?"},{"$error":"#NAME?"},{"$error":"#NAME?"},{"$error":"#NAME?"},{"$error":"#NAME?"},{"$error":"#NAME?"},{"$error":"#NAME?"},{"$error":"#NAME?"},{"$error":"#NAME?"},{"$error":"#NAME?"},{"$error":"#NAME?"},{"$error":"#NAME?"},{"$error":"#NAME?"},{"$error":"#NAME?"},{"$error":"#NAME?"},{"$error":"#NAME?"},{"$error":"#NAME?"},{"$error":"#NAME?"},{"$error":"#NAME?"},{"$error":"#NAME?"},{"$error":"#NAME?"},{"$error":"#NAME?"},{"$error":"#NAME?"},{"$error":"#NAME?"},{"$error":"#NAME?"},{"$error":"#NAME?"},{"$error":"#NAME?"},{"$error":"#NAME?"},{"$error":"#NAME?"},{"$error":"#NAME?"},{"$error":"#NAME?"},{"$error":"#NAME?"},{"$error":"#NAME?"},{"$error":"#NAME?"},{"$error":"#NAME?"},{"$error":"#NAME?"},{"$error":"#NAME?"},{"$error":"#NAME?"},{"$error":"#NAME?"},{"$error":"#NAME?"},{"$error":"#NAME?"},{"$error":"#NAME?"},{"$error":"#NAME?"},{"$error":"#NAME?"},{"$error":"#NAME?"},{"$error":"#NAME?"},{"$error":"#NAME?"},{"$error":"#NAME?"},{"$error":"#NAME?"},{"$error":"#NAME?"},{"$error":"#NAME?"},{"$error":"#NAME?"},{"$error":"#NAME?"},{"$error":"#NAME?"},{"$error":"#NAME?"},{"$error":"#NAME?"},{"$error":"#NAME?"},{"$error":"#NAME?"},{"$error":"#NAME?"},{"$error":"#NAME?"},{"$error":"#NAME?"},{"$error":"#NAME?"},{"$error":"#NAME?"},{"$error":"#NAME?"},{"$error":"#NAME?"},{"$error":"#NAME?"},{"$error":"#NAME?"},{"$error":"#NAME?"},{"$error":"#NAME?"},{"$error":"#NAME?"},{"$error":"#NAME?"},{"$error":"#NAME?"},{"$error":"#NAME?"},{"$error":"#NAME?"},{"$error":"#NAME?"},{"$error":"#NAME?"},{"$error":"#NAME?"},{"$error":"#NAME?"},{"$error":"#NAME?"},{"$error":"#NAME?"},{"$error":"#NAME?"},{"$error":"#NAME?"},{"$error":"#NAME?"},{"$error":"#NAME?"},{"$error":"#NAME?"},{"$error":"#NAME?"},{"$error":"#NAME?"},{"$error":"#NAME?"},{"$error":"#NAME?"},{"$error":"#NAME?"},{"$error":"#NAME?"},{"$error":"#NAME?"},{"$error":"#NAME?"}]
[{"$error":"#NAME?"},{"$error":"#NAME?"},{"$error":"#NAME?"},{"$error":"#NAME?"},{"$error":"#NAME?"},{"$error":"#NAME?"},{"$error":"#NAME?"},{"$error":"#NAME?"},{"$error":"#NAME?"},{"$error":"#NAME?"},{"$error":"#NAME?"},{"$error":"#NAME?"},{"$error":"#NAME?"},{"$error":"#NAME?"},{"$error":"#NAME?"},{"$error":"#NAME?"},{"$error":"#NAME?"},{"$error":"#NAME?"},{"$error":"#NAME?"},{"$error":"#NAME?"},{"$error":"#NAME?"},{"$error":"#NAME?"},{"$error":"#NAME?"},{"$error":"#NAME?"},{"$error":"#NAME?"},{"$error":"#NAME?"},{"$error":"#NAME?"},{"$error":"#NAME?"},{"$error":"#NAME?"},{"$error":"#NAME?"},{"$error":"#NAME?"},{"$error":"#NAME?"},{"$error":"#NAME?"},{"$error":"#NAME?"},{"$error":"#NAME?"},{"$error":"#NAME?"},{"$error":"#NAME?"},{"$error":"#NAME?"},{"$error":"#NAME?"},{"$error":"#NAME?"},{"$error":"#NAME?"},{"$error":"#NAME?"},{"$error":"#NAME?"},{"$error":"#NAME?"},{"$error":"#NAME?"},{"$error":"#NAME?"},{"$error":"#NAME?"},{"$error":"#NAME?"},{"$error":"#NAME?"},{"$error":"#NAME?"},{"$error":"#NAME?"},{"$error":"#NAME?"},{"$error":"#NAME?"},{"$error":"#NAME?"},{"$error":"#NAME?"},{"$error":"#NAME?"},{"$error":"#NAME?"},{"$error":"#NAME?"},{"$error":"#NAME?"},{"$error":"#NAME?"},{"$error":"#NAME?"},{"$error":"#NAME?"},{"$error":"#NAME?"},{"$error":"#NAME?"},{"$error":"#NAME?"},{"$error":"#NAME?"},{"$error":"#NAME?"},{"$error":"#NAME?"},{"$error":"#NAME?"},{"$error":"#NAME?"},{"$error":"#NAME?"},{"$error":"#NAME?"},{"$error":"#NAME?"},{"$error":"#NAME?"},{"$error":"#NAME?"},{"$error":"#NAME?"},{"$error":"#NAME?"},{"$error":"#NAME?"},{"$error":"#NAME?"},{"$error":"#NAME?"},{"$error":"#NAME?"},{"$error":"#NAME?"},{"$error":"#NAME?"},{"$error":"#NAME?"},{"$error":"#NAME?"},{"$error":"#NAME?"},{"$error":"#NAME?"},{"$error":"#NAME?"},{"$error":"#NAME?"},{"$error":"#NAME?"},{"$error":"#NAME?"},{"$error":"#NAME?"},{"$error":"#NAME?"},{"$error":"#NAME?"},{"$error":"#NAME?"},{"$error":"#NAME?"},{"$error":"#NAME?"},{"$error":"#NAME?"},{"$error":"#NAME?"},{"$error":"#NAME?"},null,{"$error":"#NAME?"},{"$error":"#NAME?"},{"$error":"#NAME?"},{"$error":"#NAME?"},{"$error":"#NAME?"},{"$error":"#NAME?"},{"$error":"#NAME?"},{"$error":"#NAME?"},{"$error":"#NAME?"},{"$error":"#NAME?"},{"$error":"#NAME?"},{"$error":"#NAME?"},{"$error":"#NAME?"},{"$error":"#NAME?"},{"$error":"#NAME?"},{"$error":"#NAME?"},{"$error":"#NAME?"},{"$error":"#NAME?"},{"$error":"#NAME?"},{"$error":"#NAME?"},{"$error":"#NAME?"},{"$error":"#NAME?"},{"$error":"#NAME?"},{"$error":"#NAME?"},{"$error":"#NAME?"},{"$error":"#NAME?"},{"$error":"#NAME?"},{"$error":"#NAME?"},{"$error":"#NAME?"},{"$error":"#NAME?"},{"$error":"#NAME?"},{"$error":"#NAME?"},{"$error":"#NAME?"},{"$error":"#NAME?"},{"$error":"#NAME?"},{"$error":"#NAME?"},{"$error":"#NAME?"},{"$error":"#NAME?"},{"$error":"#NAME?"},{"$error":"#NAME?"},{"$error":"#NAME?"},{"$error":"#NAME?"},{"$error":"#NAME?"},{"$error":"#NAME?"},{"$error":"#NAME?"},{"$error":"#NAME?"},{"$error":"#NAME?"},{"$error":"#NAME?"},{"$error":"#NAME?"},{"$error":"#NAME?"},{"$error":"#NAME?"},{"$error":"#NAME?"},{"$error":"#NAME?"},{"$error":"#NAME?"},{"$error":"#NAME?"},{"$error":"#NAME?"},{"$error":"#NAME?"},{"$error":"#NAME?"},{"$error":"#NAME?"},{"$error":"#NAME?"},{"$error":"#NAME?"},{"$error":"#NAME?"},{"$error":"#NAME?"},{"$error":"#NAME?"},{"$error":"#NAME?"},{"$error":"#NAME?"},{"$error":"#NAME?"},{"$error":"#NAME?"},{"$error":"#NAME?"},{"$error":"#NAME?"},{"$error":"#NAME?"},{"$error":"#NAME?"},{"$error":"#NAME?"},{"$error":"#NAME?"},{"$error":"#NAME?"},{"$error":"#NAME?"},{"$error":"#NAME?"},{"$error":"#NAME?"},{"$error":"#NAME?"},{"$error":"#NAME?"},{"$error":"#NAME?"},{"$error":"#NAME?"},{"$error":"#NAME?"},{"$error":"#NAME?"},{"$error":"#NAME?"},{"$error":"#NAME?"},{"$error":"#NAME?"},{"$error":"#NAME?"},{"$error":"#NAME?"},{"$error":"#NAME?"},{"$error":"#NAME?"},{"$error":"#NAME?"},{"$error":"#NAME?"},{"$error":"#NAME?"},{"$error":"#NAME?"},{"$error":"#NAME?"},{"$error":"#NAME?"},{"$error":"#NAME?"},{"$error":"#NAME?"},{"$error":"#NAME?"}]
[{"$error":"#NAME?"},{"$error":"#NAME?"},{"$error":"#NAME?"},{"$error":"#NAME?"},{"$error":"#NAME?"},{"$error":"#NAME?"},{"$error":"#NAME?"},{"$error":"#NAME?"},{"$error":"#NAME?"},{"$error":"#NAME?"},{"$error":"#NAME?"},{"$error":"#NAME?"},{"$error":"#NAME?"},{"$error":"#NAME?"},{"$error":"#NAME?"},{"$error":"#NAME?"},{"$error":"#NAME?"},{"$error":"#NAME?"},{"$error":"#NAME?"},{"$error":"#NAME?"},{"$error":"#NAME?"},{"$error":"#NAME?"},{"$error":"#NAME?"},{"$error":"#NAME?"},{"$error":"#NAME?"},{"$error":"#NAME?"},{"$error":"#NAME?"},{"$error":"#NAME?"},{"$error":"#NAME?"},{"$error":"#NAME?"},{"$error":"#NAME?"},{"$error":"#NAME?"},{"$error":"#NAME?"},{"$error":"#NAME?"},{"$error":"#NAME?"},{"$error":"#NAME?"},{"$error":"#NAME?"},{"$error":"#NAME?"},{"$error":"#NAME?"},{"$error":"#NAME?"},{"$error":"#NAME?"},{"$error":"#NAME?"},{"$error":"#NAME?"},{"$error":"#NAME?"},{"$error":"#NAME?"},{"$error":"#NAME?"},{"$error":"#NAME?"},{"$error":"#NAME?"},{"$error":"#NAME?"},{"$error":"#NAME?"},{"$error":"#NAME?"},{"$error":"#NAME?"},{"$error":"#NAME?"},{"$error":"#NAME?"},{"$error":"#NAME?"},{"$error":"#NAME?"},{"$error":"#NAME?"},{"$error":"#NAME?"},{"$error":"#NAME?"},{"$error":"#NAME?"},{"$error":"#NAME?"},{"$error":"#NAME?"},{"$error":"#NAME?"},{"$error":"#NAME?"},{"$error":"#NAME?"},{"$error":"#NAME?"},{"$error":"#NAME?"},{"$error":"#NAME?"},{"$error":"#NAME?"},{"$error":"#NAME?"},{"$error":"#NAME?"},{"$error":"#NAME?"},{"$error":"#NAME?"},{"$error":"#NAME?"},{"$error":"#NAME?"},{"$error":"#NAME?"},{"$error":"#NAME?"},{"$error":"#NAME?"},{"$error":"#NAME?"},{"$error":"#NAME?"},{"$error":"#NAME?"},{"$error":"#NAME?"},{"$error":"#NAME?"},{"$error":"#NAME?"},{"$error":"#NAME?"},{"$error":"#NAME?"},{"$error":"#NAME?"},{"$error":"#NAME?"},{"$error":"#NAME?"},{"$error":"#NAME?"},{"$error":"#NAME?"},{"$error":"#NAME?"},{"$error":"#NAME?"},{"$error":"#NAME?"},{"$error":"#NAME?"},{"$error":"#NAME?"},{"$error":"#NAME?"},{"$error":"#NAME?"},{"$error":"#NAME?"},{"$error":"#NAME?"},null,{"$error":"#NAME?"},{"$error":"#NAME?"},{"$error":"#NAME?"},{"$error":"#NAME?"},{"$error":"#NAME?"},{"$error":"#NAME?"},{"$error":"#NAME?"},{"$error":"#NAME?"},{"$error":"#NAME?"},{"$error":"#NAME?"},{"$error":"#NAME?"},{"$error":"#NAME?"},{"$error":"#NAME?"},{"$error":"#NAME?"},{"$error":"#NAME?"},{"$error":"#NAME?"},{"$error":"#NAME?"},{"$error":"#NAME?"},{"$error":"#NAME?"},{"$error":"#NAME?"},{"$error":"#NAME?"},{"$error":"#NAME?"},{"$error":"#NAME?"},{"$error":"#NAME?"},{"$error":"#NAME?"},{"$error":"#NAME?"},{"$error":"#NAME?"},{"$error":"#NAME?"},{"$error":"#NAME?"},{"$error":"#NAME?"},{"$error":"#NAME?"},{"$error":"#NAME?"},{"$error":"#NAME?"},{"$error":"#NAME?"},{"$error":"#NAME?"},{"$error":"#NAME?"},{"$error":"#NAME?"},{"$error":"#NAME?"},{"$error":"#NAME?"},{"$error":"#NAME?"},{"$error":"#NAME?"},{"$error":"#NAME?"},{"$error":"#NAME?"},{"$error":"#NAME?"},{"$error":"#NAME?"},{"$error":"#NAME?"},{"$error":"#NAME?"},{"$error":"#NAME?"},{"$error":"#NAME?"},{"$error":"#NAME?"},{"$error":"#NAME?"},{"$error":"#NAME?"},{"$error":"#NAME?"},{"$error":"#NAME?"},{"$error":"#NAME?"},{"$error":"#NAME?"},{"$error":"#NAME?"},{"$error":"#NAME?"},{"$error":"#NAME?"},{"$error":"#NAME?"},{"$error":"#NAME?"},{"$error":"#NAME?"},{"$error":"#NAME?"},{"$error":"#NAME?"},{"$error":"#NAME?"},{"$error":"#NAME?"},{"$error":"#NAME?"},{"$error":"#NAME?"},{"$error":"#NAME?"},{"$error":"#NAME?"},{"$error":"#NAME?"},{"$error":"#NAME?"},{"$error":"#NAME?"},{"$error":"#NAME?"},{"$error":"#NAME?"},{"$error":"#NAME?"},{"$error":"#NAME?"},{"$error":"#NAME?"},{"$error":"#NAME?"},{"$error":"#NAME?"},{"$error":"#NAME?"},{"$error":"#NAME?"},{"$error":"#NAME?"},{"$error":"#NAME?"},{"$error":"#NAME?"},{"$error":"#NAME?"},{"$error":"#NAME?"},{"$error":"#NAME?"},{"$error":"#NAME?"},{"$error":"#NAME?"},{"$error":"#NAME?"},{"$error":"#NAME?"},{"$error":"#NAME?"},{"$error":"#NAME?"},{"$error":"#NAME?"},{"$error":"#NAME?"},{"$error":"#NAME?"},{"$error":"#NAME?"},{"$error":"#NAME?"},{"$error":"#NAME?"}]
[{"$error":"#NAME?"},{"$error":"#NAME?"},{"$error":"#NAME?"},{"$error":"#NAME?"},{"$error":"#NAME?"},{"$error":"#NAME?"},{"$error":"#NAME?"},{"$error":"#NAME?"},{"$error":"#NAME?"},{"$error":"#NAME?"},{"$error":"#NAME?"},{"$error":"#NAME?"},{"$error":"#NAME?"},{"$error":"#NAME?"},{"$error":"#NAME?"},{"$error":"#NAME?"},{"$error":"#NAME?"},{"$error":"#NAME?"},{"$error":"#NAME?"},{"$error":"#NAME?"},{"$error":"#NAME?"},{"$error":"#NAME?"},{"$error":"#NAME?"},{"$error":"#NAME?"},{"$error":"#NAME?"},{"$error":"#NAME?"},{"$error":"#NAME?"},{"$error":"#NAME?"},{"$error":"#NAME?"},{"$error":"#NAME?"},{"$error":"#NAME?"},{"$error":"#NAME?"},{"$error":"#NAME?"},{"$error":"#NAME?"},{"$error":"#NAME?"},{"$error":"#NAME?"},{"$error":"#NAME?"},{"$error":"#NAME?"},{"$error":"#NAME?"},{"$error":"#NAME?"},{"$error":"#NAME?"},{"$error":"#NAME?"},{"$error":"#NAME?"},{"$error":"#NAME?"},{"$error":"#NAME?"},{"$error":"#NAME?"},{"$error":"#NAME?"},{"$error":"#NAME?"},{"$error":"#NAME?"},{"$error":"#NAME?"},{"$error":"#NAME?"},{"$error":"#NAME?"},{"$error":"#NAME?"},{"$error":"#NAME?"},{"$error":"#NAME?"},{"$error":"#NAME?"},{"$error":"#NAME?"},{"$error":"#NAME?"},{"$error":"#NAME?"},{"$error":"#NAME?"},{"$error":"#NAME?"},{"$error":"#NAME?"},{"$error":"#NAME?"},{"$error":"#NAME?"},{"$error":"#NAME?"},{"$error":"#NAME?"},{"$error":"#NAME?"},{"$error":"#NAME?"},{"$error":"#NAME?"},{"$error":"#NAME?"},{"$error":"#NAME?"},{"$error":"#NAME?"},{"$error":"#NAME?"},{"$error":"#NAME?"},{"$error":"#NAME?"},{"$error":"#NAME?"},{"$error":"#NAME?"},{"$error":"#NAME?"},{"$error":"#NAME?"},{"$error":"#NAME?"},{"$error":"#NAME?"},{"$error":"#NAME?"},{"$error":"#NAME?"},{"$error":"#NAME?"},{"$error":"#NAME?"},{"$error":"#NAME?"},{"$error":"#NAME?"},{"$error":"#NAME?"},{"$error":"#NAME?"},{"$error":"#NAME?"},{"$error":"#NAME?"},{"$error":"#NAME?"},{"$error":"#NAME?"},{"$error":"#NAME?"},{"$error":"#NAME?"},{"$error":"#NAME?"},{"$error":"#NAME?"},{"$error":"#NAME?"},{"$error":"#NAME?"},{"$error":"#NAME?"},null,{"$error":"#NAME?"},{"$error":"#NAME?"},{"$error":"#NAME?"},{"$error":"#NAME?"},{"$error":"#NAME?"},{"$error":"#NAME?"},{"$error":"#NAME?"},{"$error":"#NAME?"},{"$error":"#NAME?"},{"$error":"#NAME?"},{"$error":"#NAME?"},{"$error":"#NAME?"},{"$error":"#NAME?"},{"$error":"#NAME?"},{"$error":"#NAME?"},{"$error":"#NAME?"},{"$error":"#NAME?"},{"$error":"#NAME?"},{"$error":"#NAME?"},{"$error":"#NAME?"},{"$error":"#NAME?"},{"$error":"#NAME?"},{"$error":"#NAME?"},{"$error":"#NAME?"},{"$error":"#NAME?"},{"$error":"#NAME?"},{"$error":"#NAME?"},{"$error":"#NAME?"},{"$error":"#NAME?"},{"$error":"#NAME?"},{"$error":"#NAME?"},{"$error":"#NAME?"},{"$error":"#NAME?"},{"$error":"#NAME?"},{"$error":"#NAME?"},{"$error":"#NAME?"},{"$error":"#NAME?"},{"$error":"#NAME?"},{"$error":"#NAME?"},{"$error":"#NAME?"},{"$error":"#NAME?"},{"$error":"#NAME?"},{"$error":"#NAME?"},{"$error":"#NAME?"},{"$error":"#NAME?"},{"$error":"#NAME?"},{"$error":"#NAME?"},{"$error":"#NAME?"},{"$error":"#NAME?"},{"$error":"#NAME?"},{"$error":"#NAME?"},{"$error":"#NAME?"},{"$error":"#NAME?"},{"$error":"#NAME?"},{"$error":"#NAME?"},{"$error":"#NAME?"},{"$error":"#NAME?"},{"$error":"#NAME?"},{"$error":"#NAME?"},{"$error":"#NAME?"},{"$error":"#NAME?"},{"$error":"#NAME?"},{"$error":"#NAME?"},{"$error":"#NAME?"},{"$error":"#NAME?"},{"$error":"#NAME?"},{"$error":"#NAME?"},{"$error":"#NAME?"},{"$error":"#NAME?"},{"$error":"#NAME?"},{"$error":"#NAME?"},{"$error":"#NAME?"},{"$error":"#NAME?"},{"$error":"#NAME?"},{"$error":"#NAME?"},{"$error":"#NAME?"},{"$error":"#NAME?"},{"$error":"#NAME?"},{"$error":"#NAME?"},{"$error":"#NAME?"},{"$error":"#NAME?"},{"$error":"#NAME?"},{"$error":"#NAME?"},{"$error":"#NAME?"},{"$error":"#NAME?"},{"$error":"#NAME?"},{"$error":"#NAME?"},{"$error":"#NAME?"},{"$error":"#NAME?"},{"$error":"#NAME?"},{"$error":"#NAME?"},{"$error":"#NAME?"},{"$error":"#NAME?"},{"$error":"#NAME?"},{"$error":"#NAME?"},{"$error":"#NAME?"},{"$error":"#NAME?"},{"$error":"#NAME?"},{"$error":"#NAME?"},{"$error":"#NAME?"}]
[{"$error":"#NAME?"},{"$error":"#NAME?"},{"$error":"#NAME?"},{"$error":"#NAME?"},{"$error":"#NAME?"},{"$error":"#NAME?"},{"$error":"#NAME?"},{"$error":"#NAME?"},{"$error":"#NAME?"},{"$error":"#NAME?"},{"$error":"#NAME?"},{"$error":"#NAME?"},{"$error":"#NAME?"},{"$error":"#NAME?"},{"$error":"#NAME?"},{"$error":"#NAME?"},{"$error":"#NAME?"},{"$error":"#NAME?"},{"$error":"#NAME?"},{"$error":"#NAME?"},{"$error":"#NAME?"},{"$error":"#NAME?"},{"$error":"#NAME?"},{"$error":"#NAME?"},{"$error":"#NAME?"},{"$error":"#NAME?"},{"$error":"#NAME?"},{"$error":"#NAME?"},{"$error":"#NAME?"},{"$error":"#NAME?"},{"$error":"#NAME?"},{"$error":"#NAME?"},{"$error":"#NAME?"},{"$error":"#NAME?"},{"$error":"#NAME?"},{"$error":"#NAME?"},{"$error":"#NAME?"},{"$error":"#NAME?"},{"$error":"#NAME?"},{"$error":"#NAME?"},{"$error":"#NAME?"},{"$error":"#NAME?"},{"$error":"#NAME?"},{"$error":"#NAME?"},{"$error":"#NAME?"},{"$error":"#NAME?"},{"$error":"#NAME?"},{"$error":"#NAME?"},{"$error":"#NAME?"},{"$error":"#NAME?"},{"$error":"#NAME?"},{"$error":"#NAME?"},{"$error":"#NAME?"},{"$error":"#NAME?"},{"$error":"#NAME?"},{"$error":"#NAME?"},{"$error":"#NAME?"},{"$error":"#NAME?"},{"$error":"#NAME?"},{"$error":"#NAME?"},{"$error":"#NAME?"},{"$error":"#NAME?"},{"$error":"#NAME?"},{"$error":"#NAME?"},{"$error":"#NAME?"},{"$error":"#NAME?"},{"$error":"#NAME?"},{"$error":"#NAME?"},{"$error":"#NAME?"},{"$error":"#NAME?"},{"$error":"#NAME?"},{"$error":"#NAME?"},{"$error":"#NAME?"},{"$error":"#NAME?"},{"$error":"#NAME?"},{"$error":"#NAME?"},{"$error":"#NAME?"},{"$error":"#NAME?"},{"$error":"#NAME?"},{"$error":"#NAME?"},{"$error":"#NAME?"},{"$error":"#NAME?"},{"$error":"#NAME?"},{"$error":"#NAME?"},{"$error":"#NAME?"},{"$error":"#NAME?"},{"$error":"#NAME?"},{"$error":"#NAME?"},{"$error":"#NAME?"},{"$error":"#NAME?"},{"$error":"#NAME?"},{"$error":"#NAME?"},{"$error":"#NAME?"},{"$error":"#NAME?"},{"$error":"#NAME?"},{"$error":"#NAME?"},{"$error":"#NAME?"},{"$error":"#NAME?"},{"$error":"#NAME?"},{"$error":"#NAME?"},null,{"$error":"#NAME?"},{"$error":"#NAME?"},{"$error":"#NAME?"},{"$error":"#NAME?"},{"$error":"#NAME?"},{"$error":"#NAME?"},{"$error":"#NAME?"},{"$error":"#NAME?"},{"$error":"#NAME?"},{"$error":"#NAME?"},{"$error":"#NAME?"},{"$error":"#NAME?"},{"$error":"#NAME?"},{"$error":"#NAME?"},{"$error":"#NAME?"},{"$error":"#NAME?"},{"$error":"#NAME?"},{"$error":"#NAME?"},{"$error":"#NAME?"},{"$error":"#NAME?"},{"$error":"#NAME?"},{"$error":"#NAME?"},{"$error":"#NAME?"},{"$error":"#NAME?"},{"$error":"#NAME?"},{"$error":"#NAME?"},{"$error":"#NAME?"},{"$error":"#NAME?"},{"$error":"#NAME?"},{"$error":"#NAME?"},{"$error":"#NAME?"},{"$error":"#NAME?"},{"$error":"#NAME?"},{"$error":"#NAME?"},{"$error":"#NAME?"},{"$error":"#NAME?"},{"$error":"#NAME?"},{"$error":"#NAME?"},{"$error":"#NAME?"},{"$error":"#NAME?"},{"$error":"#NAME?"},{"$error":"#NAME?"},{"$error":"#NAME?"},{"$error":"#NAME?"},{"$error":"#NAME?"},{"$error":"#NAME?"},{"$error":"#NAME?"},{"$error":"#NAME?"},{"$error":"#NAME?"},{"$error":"#NAME?"},{"$error":"#NAME?"},{"$error":"#NAME?"},{"$error":"#NAME?"},{"$error":"#NAME?"},{"$error":"#NAME?"},{"$error":"#NAME?"},{"$error":"#NAME?"},{"$error":"#NAME?"},{"$error":"#NAME?"},{"$error":"#NAME?"},{"$error":"#NAME?"},{"$error":"#NAME?"},{"$error":"#NAME?"},{"$error":"#NAME?"},{"$error":"#NAME?"},{"$error":"#NAME?"},{"$error":"#NAME?"},{"$error":"#NAME?"},{"$error":"#NAME?"},{"$error":"#NAME?"},{"$error":"#NAME?"},{"$error":"#NAME?"},{"$error":"#NAME?"},{"$error":"#NAME?"},{"$error":"#NAME?"},{"$error":"#NAME?"},{"$error":"#NAME?"},{"$error":"#NAME?"},{"$error":"#NAME?"},{"$error":"#NAME?"},{"$error":"#NAME?"},{"$error":"#NAME?"},{"$error":"#NAME?"},{"$error":"#NAME?"},{"$error":"#NAME?"},{"$error":"#NAME?"},{"$error":"#NAME?"},{"$error":"#NAME?"},{"$error":"#NAME?"},{"$error":"#NAME?"},{"$error":"#NAME?"},{"$error":"#NAME?"},{"$error":"#NAME?"},{"$error":"#NAME?"},{"$error":"#NAME?"},{"$error":"#NAME?"},{"$error":"#NAME?"},{"$error":"#NAME?"},{"$error":"#NAME?"},{"$error":"#NAME?"}]
[{"$error":"#NAME?"},{"$error":"#NAME?"},{"$error":"#NAME?"},{"$error":"#NAME?"},{"$error":"#NAME?"},{"$error":"#NAME?"},{"$error":"#NAME?"},{"$error":"#NAME?"},{"$error":"#NAME?"},{"$error":"#NAME?"},{"$error":"#NAME?"},{"$error":"#NAME?"},{"$error":"#NAME?"},{"$error":"#NAME?"},{"$error":"#NAME?"},{"$error":"#NAME?"},{"$error":"#NAME?"},{"$error":"#NAME?"},{"$error":"#NAME?"},{"$error":"#NAME?"},{"$error":"#NAME?"},{"$error":"#NAME?"},{"$error":"#NAME?"},{"$error":"#NAME?"},{"$error":"#NAME?"},{"$error":"#NAME?"},{"$error":"#NAME?"},{"$error":"#NAME?"},{"$error":"#NAME?"},{"$error":"#NAME?"},{"$error":"#NAME?"},{"$error":"#NAME?"},{"$error":"#NAME?"},{"$error":"#NAME?"},{"$error":"#NAME?"},{"$error":"#NAME?"},{"$error":"#NAME?"},{"$error":"#NAME?"},{"$error":"#NAME?"},{"$error":"#NAME?"},{"$error":"#NAME?"},{"$error":"#NAME?"},{"$error":"#NAME?"},{"$error":"#NAME?"},{"$error":"#NAME?"},{"$error":"#NAME?"},{"$error":"#NAME?"},{"$error":"#NAME?"},{"$error":"#NAME?"},{"$error":"#NAME?"},{"$error":"#NAME?"},{"$error":"#NAME?"},{"$error":"#NAME?"},{"$error":"#NAME?"},{"$error":"#NAME?"},{"$error":"#NAME?"},{"$error":"#NAME?"},{"$error":"#NAME?"},{"$error":"#NAME?"},{"$error":"#NAME?"},{"$error":"#NAME?"},{"$error":"#NAME?"},{"$error":"#NAME?"},{"$error":"#NAME?"},{"$error":"#NAME?"},{"$error":"#NAME?"},{"$error":"#NAME?"},{"$error":"#NAME?"},{"$error":"#NAME?"},{"$error":"#NAME?"},{"$error":"#NAME?"},{"$error":"#NAME?"},{"$error":"#NAME?"},{"$error":"#NAME?"},{"$error":"#NAME?"},{"$error":"#NAME?"},{"$error":"#NAME?"},{"$error":"#NAME?"},{"$error":"#NAME?"},{"$error":"#NAME?"},{"$error":"#NAME?"},{"$error":"#NAME?"},{"$error":"#NAME?"},{"$error":"#NAME?"},{"$error":"#NAME?"},{"$error":"#NAME?"},{"$error":"#NAME?"},{"$error":"#NAME?"},{"$error":"#NAME?"},{"$error":"#NAME?"},{"$error":"#NAME?"},{"$error":"#NAME?"},{"$error":"#NAME?"},{"$error":"#NAME?"},{"$error":"#NAME?"},{"$error":"#NAME?"},{"$error":"#NAME?"},{"$error":"#NAME?"},{"$error":"#NAME?"},{"$error":"#NAME?"},null,{"$error":"#NAME?"},{"$error":"#NAME?"},{"$error":"#NAME?"},{"$error":"#NAME?"},{"$error":"#NAME?"},{"$error":"#NAME?"},{"$error":"#NAME?"},{"$error":"#NAME?"},{"$error":"#NAME?"},{"$error":"#NAME?"},{"$error":"#NAME?"},{"$error":"#NAME?"},{"$error":"#NAME?"},{"$error":"#NAME?"},{"$error":"#NAME?"},{"$error":"#NAME?"},{"$error":"#NAME?"},{"$error":"#NAME?"},{"$error":"#NAME?"},{"$error":"#NAME?"},{"$error":"#NAME?"},{"$error":"#NAME?"},{"$error":"#NAME?"},{"$error":"#NAME?"},{"$error":"#NAME?"},{"$error":"#NAME?"},{"$error":"#NAME?"},{"$error":"#NAME?"},{"$error":"#NAME?"},{"$error":"#NAME?"},{"$error":"#NAME?"},{"$error":"#NAME?"},{"$error":"#NAME?"},{"$error":"#NAME?"},{"$error":"#NAME?"},{"$error":"#NAME?"},{"$error":"#NAME?"},{"$error":"#NAME?"},{"$error":"#NAME?"},{"$error":"#NAME?"},{"$error":"#NAME?"},{"$error":"#NAME?"},{"$error":"#NAME?"},{"$error":"#NAME?"},{"$error":"#NAME?"},{"$error":"#NAME?"},{"$error":"#NAME?"},{"$error":"#NAME?"},{"$error":"#NAME?"},{"$error":"#NAME?"},{"$error":"#NAME?"},{"$error":"#NAME?"},{"$error":"#NAME?"},{"$error":"#NAME?"},{"$error":"#NAME?"},{"$error":"#NAME?"},{"$error":"#NAME?"},{"$error":"#NAME?"},{"$error":"#NAME?"},{"$error":"#NAME?"},{"$error":"#NAME?"},{"$error":"#NAME?"},{"$error":"#NAME?"},{"$error":"#NAME?"},{"$error":"#NAME?"},{"$error":"#NAME?"},{"$error":"#NAME?"},{"$error":"#NAME?"},{"$error":"#NAME?"},{"$error":"#NAME?"},{"$error":"#NAME?"},{"$error":"#NAME?"},{"$error":"#NAME?"},{"$error":"#NAME?"},{"$error":"#NAME?"},{"$error":"#NAME?"},{"$error":"#NAME?"},{"$error":"#NAME?"},{"$error":"#NAME?"},{"$error":"#NAME?"},{"$error":"#NAME?"},{"$error":"#NAME?"},{"$error":"#NAME?"},{"$error":"#NAME?"},{"$error":"#NAME?"},{"$error":"#NAME?"},{"$error":"#NAME?"},{"$error":"#NAME?"},{"$error":"#NAME?"},{"$error":"#NAME?"},{"$error":"#NAME?"},{"$error":"#NAME?"},{"$error":"#NAME?"},{"$error":"#NAME?"},{"$error":"#NAME?"},{"$error":"#NAME?"},{"$error":"#NAME?"},{"$error":"#NAME?"},{"$error":"#NAME?"},{"$error":"#NAME?"}]
[{"$error":"#NAME?"},{"$error":"#NAME?"},{"$error":"#NAME?"},{"$error":"#NAME?"},{"$error":"#NAME?"},{"$error":"#NAME?"},{"$error":"#NAME?"},{"$error":"#NAME?"},{"$error":"#NAME?"},{"$error":"#NAME?"},{"$error":"#NAME?"},{"$error":"#NAME?"},{"$error":"#NAME?"},{"$error":"#NAME?"},{"$error":"#NAME?"},{"$error":"#NAME?"},{"$error":"#NAME?"},{"$error":"#NAME?"},{"$error":"#NAME?"},{"$error":"#NAME?"},{"$error":"#NAME?"},{"$error":"#NAME?"},{"$error":"#NAME?"},{"$error":"#NAME?"},{"$error":"#NAME?"},{"$error":"#NAME?"},{"$error":"#NAME?"},{"$error":"#NAME?"},{"$error":"#NAME?"},{"$error":"#NAME?"},{"$error":"#NAME?"},{"$error":"#NAME?"},{"$error":"#NAME?"},{"$error":"#NAME?"},{"$error":"#NAME?"},{"$error":"#NAME?"},{"$error":"#NAME?"},{"$error":"#NAME?"},{"$error":"#NAME?"},{"$error":"#NAME?"},{"$error":"#NAME?"},{"$error":"#NAME?"},{"$error":"#NAME?"},{"$error":"#NAME?"},{"$error":"#NAME?"},{"$error":"#NAME?"},{"$error":"#NAME?"},{"$error":"#NAME?"},{"$error":"#NAME?"},{"$error":"#NAME?"},{"$error":"#NAME?"},{"$error":"#NAME?"},{"$error":"#NAME?"},{"$error":"#NAME?"},{"$error":"#NAME?"},{"$error":"#NAME?"},{"$error":"#NAME?"},{"$error":"#NAME?"},{"$error":"#NAME?"},{"$error":"#NAME?"},{"$error":"#NAME?"},{"$error":"#NAME?"},{"$error":"#NAME?"},{"$error":"#NAME?"},{"$error":"#NAME?"},{"$error":"#NAME?"},{"$error":"#NAME?"},{"$error":"#NAME?"},{"$error":"#NAME?"},{"$error":"#NAME?"},{"$error":"#NAME?"},{"$error":"#NAME?"},{"$error":"#NAME?"},{"$error":"#NAME?"},{"$error":"#NAME?"},{"$error":"#NAME?"},{"$error":"#NAME?"},{"$error":"#NAME?"},{"$error":"#NAME?"},{"$error":"#NAME?"},{"$error":"#NAME?"},{"$error":"#NAME?"},{"$error":"#NAME?"},{"$error":"#NAME?"},{"$error":"#NAME?"},{"$error":"#NAME?"},{"$error":"#NAME?"},{"$error":"#NAME?"},{"$error":"#NAME?"},{"$error":"#NAME?"},{"$error":"#NAME?"},{"$error":"#NAME?"},{"$error":"#NAME?"},{"$error":"#NAME?"},{"$error":"#NAME?"},{"$error":"#NAME?"},{"$error":"#NAME?"},{"$error":"#NAME?"},{"$error":"#NAME?"},{"$error":"#NAME?"},null,{"$error":"#NAME?"},{"$error":"#NAME?"},{"$error":"#NAME?"},{"$error":"#NAME?"},{"$error":"#NAME?"},{"$error":"#NAME?"},{"$error":"#NAME?"},{"$error":"#NAME?"},{"$error":"#NAME?"},{"$error":"#NAME?"},{"$error":"#NAME?"},{"$error":"#NAME?"},{"$error":"#NAME?"},{"$error":"#NAME?"},{"$error":"#NAME?"},{"$error":"#NAME?"},{"$error":"#NAME?"},{"$error":"#NAME?"},{"$error":"#NAME?"},{"$error":"#NAME?"},{"$error":"#NAME?"},{"$error":"#NAME?"},{"$error":"#NAME?"},{"$error":"#NAME?"},{"$error":"#NAME?"},{"$error":"#NAME?"},{"$error":"#NAME?"},{"$error":"#NAME?"},{"$error":"#NAME?"},{"$error":"#NAME?"},{"$error":"#NAME?"},{"$error":"#NAME?"},{"$error":"#NAME?"},{"$error":"#NAME?"},{"$error":"#NAME?"},{"$error":"#NAME?"},{"$error":"#NAME?"},{"$error":"#NAME?"},{"$error":"#NAME?"},{"$error":"#NAME?"},{"$error":"#NAME?"},{"$error":"#NAME?"},{"$error":"#NAME?"},{"$error":"#NAME?"},{"$error":"#NAME?"},{"$error":"#NAME?"},{"$error":"#NAME?"},{"$error":"#NAME?"},{"$error":"#NAME?"},{"$error":"#NAME?"},{"$error":"#NAME?"},{"$error":"#NAME?"},{"$error":"#NAME?"},{"$error":"#NAME?"},{"$error":"#NAME?"},{"$error":"#NAME?"},{"$error":"#NAME?"},{"$error":"#NAME?"},{"$error":"#NAME?"},{"$error":"#NAME?"},{"$error":"#NAME?"},{"$error":"#NAME?"},{"$error":"#NAME?"},{"$error":"#NAME?"},{"$error":"#NAME?"},{"$error":"#NAME?"},{"$error":"#NAME?"},{"$error":"#NAME?"},{"$error":"#NAME?"},{"$error":"#NAME?"},{"$error":"#NAME?"},{"$error":"#NAME?"},{"$error":"#NAME?"},{"$error":"#NAME?"},{"$error":"#NAME?"},{"$error":"#NAME?"},{"$error":"#NAME?"},{"$error":"#NAME?"},{"$error":"#NAME?"},{"$error":"#NAME?"},{"$error":"#NAME?"},{"$error":"#NAME?"},{"$error":"#NAME?"},{"$error":"#NAME?"},{"$error":"#NAME?"},{"$error":"#NAME?"},{"$error":"#NAME?"},{"$error":"#NAME?"},{"$error":"#NAME?"},{"$error":"#NAME?"},{"$error":"#NAME?"},{"$error":"#NAME?"},{"$error":"#NAME?"},{"$error":"#NAME?"},{"$error":"#NAME?"},{"$error":"#NAME?"},{"$error":"#NAME?"},{"$error":"#NAME?"},{"$error":"#NAME?"},{"$error":"#NAME?"}]
[{"$error":"#NAME?"},{"$error":"#NAME?"},{"$error":"#NAME?"},{"$error":"#NAME?"},{"$error":"#NAME?"},{"$error":"#NAME?"},{"$error":"#NAME?"},{"$error":"#NAME?"},{"$error":"#NAME?"},{"$error":"#NAME?"},{"$error":"#NAME?"},{"$error":"#NAME?"},{"$error":"#NAME?"},{"$error":"#NAME?"},{"$error":"#NAME?"},{"$error":"#NAME?"},{"$error":"#NAME?"},{"$error":"#NAME?"},{"$error":"#NAME?"},{"$error":"#NAME?"},{"$error":"#NAME?"},{"$error":"#NAME?"},{"$error":"#NAME?"},{"$error":"#NAME?"},{"$error":"#NAME?"},{"$error":"#NAME?"},{"$error":"#NAME?"},{"$error":"#NAME?"},{"$error":"#NAME?"},{"$error":"#NAME?"},{"$error":"#NAME?"},{"$error":"#NAME?"},{"$error":"#NAME?"},{"$error":"#NAME?"},{"$error":"#NAME?"},{"$error":"#NAME?"},{"$error":"#NAME?"},{"$error":"#NAME?"},{"$error":"#NAME?"},{"$error":"#NAME?"},{"$error":"#NAME?"},{"$error":"#NAME?"},{"$error":"#NAME?"},{"$error":"#NAME?"},{"$error":"#NAME?"},{"$error":"#NAME?"},{"$error":"#NAME?"},{"$error":"#NAME?"},{"$error":"#NAME?"},{"$error":"#NAME?"},{"$error":"#NAME?"},{"$error":"#NAME?"},{"$error":"#NAME?"},{"$error":"#NAME?"},{"$error":"#NAME?"},{"$error":"#NAME?"},{"$error":"#NAME?"},{"$error":"#NAME?"},{"$error":"#NAME?"},{"$error":"#NAME?"},{"$error":"#NAME?"},{"$error":"#NAME?"},{"$error":"#NAME?"},{"$error":"#NAME?"},{"$error":"#NAME?"},{"$error":"#NAME?"},{"$error":"#NAME?"},{"$error":"#NAME?"},{"$error":"#NAME?"},{"$error":"#NAME?"},{"$error":"#NAME?"},{"$error":"#NAME?"},{"$error":"#NAME?"},{"$error":"#NAME?"},{"$error":"#NAME?"},{"$error":"#NAME?"},{"$error":"#NAME?"},{"$error":"#NAME?"},{"$error":"#NAME?"},{"$error":"#NAME?"},{"$error":"#NAME?"},{"$error":"#NAME?"},{"$error":"#NAME?"},{"$error":"#NAME?"},{"$error":"#NAME?"},{"$error":"#NAME?"},{"$error":"#NAME?"},{"$error":"#NAME?"},{"$error":"#NAME?"},{"$error":"#NAME?"},{"$error":"#NAME?"},{"$error":"#NAME?"},{"$error":"#NAME?"},{"$error":"#NAME?"},{"$error":"#NAME?"},{"$error":"#NAME?"},{"$error":"#NAME?"},{"$error":"#NAME?"},{"$error":"#NAME?"},{"$error":"#NAME?"},null,{"$error":"#NAME?"},{"$error":"#NAME?"},{"$error":"#NAME?"},{"$error":"#NAME?"},{"$error":"#NAME?"},{"$error":"#NAME?"},{"$error":"#NAME?"},{"$error":"#NAME?"},{"$error":"#NAME?"},{"$error":"#NAME?"},{"$error":"#NAME?"},{"$error":"#NAME?"},{"$error":"#NAME?"},{"$error":"#NAME?"},{"$error":"#NAME?"},{"$error":"#NAME?"},{"$error":"#NAME?"},{"$error":"#NAME?"},{"$error":"#NAME?"},{"$error":"#NAME?"},{"$error":"#NAME?"},{"$error":"#NAME?"},{"$error":"#NAME?"},{"$error":"#NAME?"},{"$error":"#NAME?"},{"$error":"#NAME?"},{"$error":"#NAME?"},{"$error":"#NAME?"},{"$error":"#NAME?"},{"$error":"#NAME?"},{"$error":"#NAME?"},{"$error":"#NAME?"},{"$error":"#NAME?"},{"$error":"#NAME?"},{"$error":"#NAME?"},{"$error":"#NAME?"},{"$error":"#NAME?"},{"$error":"#NAME?"},{"$error":"#NAME?"},{"$error":"#NAME?"},{"$error":"#NAME?"},{"$error":"#NAME?"},{"$error":"#NAME?"},{"$error":"#NAME?"},{"$error":"#NAME?"},{"$error":"#NAME?"},{"$error":"#NAME?"},{"$error":"#NAME?"},{"$error":"#NAME?"},{"$error":"#NAME?"},{"$error":"#NAME?"},{"$error":"#NAME?"},{"$error":"#NAME?"},{"$error":"#NAME?"},{"$error":"#NAME?"},{"$error":"#NAME?"},{"$error":"#NAME?"},{"$error":"#NAME?"},{"$error":"#NAME?"},{"$error":"#NAME?"},{"$error":"#NAME?"},{"$error":"#NAME?"},{"$error":"#NAME?"},{"$error":"#NAME?"},{"$error":"#NAME?"},{"$error":"#NAME?"},{"$error":"#NAME?"},{"$error":"#NAME?"},{"$error":"#NAME?"},{"$error":"#NAME?"},{"$error":"#NAME?"},{"$error":"#NAME?"},{"$error":"#NAME?"},{"$error":"#NAME?"},{"$error":"#NAME?"},{"$error":"#NAME?"},{"$error":"#NAME?"},{"$error":"#NAME?"},{"$error":"#NAME?"},{"$error":"#NAME?"},{"$error":"#NAME?"},{"$error":"#NAME?"},{"$error":"#NAME?"},{"$error":"#NAME?"},{"$error":"#NAME?"},{"$error":"#NAME?"},{"$error":"#NAME?"},{"$error":"#NAME?"},{"$error":"#NAME?"},{"$error":"#NAME?"},{"$error":"#NAME?"},{"$error":"#NAME?"},{"$error":"#NAME?"},{"$error":"#NAME?"},{"$error":"#NAME?"},{"$error":"#NAME?"},{"$error":"#NAME?"},{"$error":"#NAME?"},{"$error":"#NAME?"},{"$error":"#NAME?"}]
[{"$error":"#NAME?"},{"$error":"#NAME?"},{"$error":"#NAME?"},{"$error":"#NAME?"},{"$error":"#NAME?"},{"$error":"#NAME?"},{"$error":"#NAME?"},{"$error":"#NAME?"},{"$error":"#NAME?"},{"$error":"#NAME?"},{"$error":"#NAME?"},{"$error":"#NAME?"},{"$error":"#NAME?"},{"$error":"#NAME?"},{"$error":"#NAME?"},{"$error":"#NAME?"},{"$error":"#NAME?"},{"$error":"#NAME?"},{"$error":"#NAME?"},{"$error":"#NAME?"},{"$error":"#NAME?"},{"$error":"#NAME?"},{"$error":"#NAME?"},{"$error":"#NAME?"},{"$error":"#NAME?"},{"$error":"#NAME?"},{"$error":"#NAME?"},{"$error":"#NAME?"},{"$error":"#NAME?"},{"$error":"#NAME?"},{"$error":"#NAME?"},{"$error":"#NAME?"},{"$error":"#NAME?"},{"$error":"#NAME?"},{"$error":"#NAME?"},{"$error":"#NAME?"},{"$error":"#NAME?"},{"$error":"#NAME?"},{"$error":"#NAME?"},{"$error":"#NAME?"},{"$error":"#NAME?"},{"$error":"#NAME?"},{"$error":"#NAME?"},{"$error":"#NAME?"},{"$error":"#NAME?"},{"$error":"#NAME?"},{"$error":"#NAME?"},{"$error":"#NAME?"},{"$error":"#NAME?"},{"$error":"#NAME?"},{"$error":"#NAME?"},{"$error":"#NAME?"},{"$error":"#NAME?"},{"$error":"#NAME?"},{"$error":"#NAME?"},{"$error":"#NAME?"},{"$error":"#NAME?"},{"$error":"#NAME?"},{"$error":"#NAME?"},{"$error":"#NAME?"},{"$error":"#NAME?"},{"$error":"#NAME?"},{"$error":"#NAME?"},{"$error":"#NAME?"},{"$error":"#NAME?"},{"$error":"#NAME?"},{"$error":"#NAME?"},{"$error":"#NAME?"},{"$error":"#NAME?"},{"$error":"#NAME?"},{"$error":"#NAME?"},{"$error":"#NAME?"},{"$error":"#NAME?"},{"$error":"#NAME?"},{"$error":"#NAME?"},{"$error":"#NAME?"},{"$error":"#NAME?"},{"$error":"#NAME?"},{"$error":"#NAME?"},{"$error":"#NAME?"},{"$error":"#NAME?"},{"$error":"#NAME?"},{"$error":"#NAME?"},{"$error":"#NAME?"},{"$error":"#NAME?"},{"$error":"#NAME?"},{"$error":"#NAME?"},{"$error":"#NAME?"},{"$error":"#NAME?"},{"$error":"#NAME?"},{"$error":"#NAME?"},{"$error":"#NAME?"},{"$error":"#NAME?"},{"$error":"#NAME?"},{"$error":"#NAME?"},{"$error":"#NAME?"},{"$error":"#NAME?"},{"$error":"#NAME?"},{"$error":"#NAME?"},{"$error":"#NAME?"},null,{"$error":"#NAME?"},{"$error":"#NAME?"},{"$error":"#NAME?"},{"$error":"#NAME?"},{"$error":"#NAME?"},{"$error":"#NAME?"},{"$error":"#NAME?"},{"$error":"#NAME?"},{"$error":"#NAME?"},{"$error":"#NAME?"},{"$error":"#NAME?"},{"$error":"#NAME?"},{"$error":"#NAME?"},{"$error":"#NAME?"},{"$error":"#NAME?"},{"$error":"#NAME?"},{"$error":"#NAME?"},{"$error":"#NAME?"},{"$error":"#NAME?"},{"$error":"#NAME?"},{"$error":"#NAME?"},{"$error":"#NAME?"},{"$error":"#NAME?"},{"$error":"#NAME?"},{"$error":"#NAME?"},{"$error":"#NAME?"},{"$error":"#NAME?"},{"$error":"#NAME?"},{"$error":"#NAME?"},{"$error":"#NAME?"},{"$error":"#NAME?"},{"$error":"#NAME?"},{"$error":"#NAME?"},{"$error":"#NAME?"},{"$error":"#NAME?"},{"$error":"#NAME?"},{"$error":"#NAME?"},{"$error":"#NAME?"},{"$error":"#NAME?"},{"$error":"#NAME?"},{"$error":"#NAME?"},{"$error":"#NAME?"},{"$error":"#NAME?"},{"$error":"#NAME?"},{"$error":"#NAME?"},{"$error":"#NAME?"},{"$error":"#NAME?"},{"$error":"#NAME?"},{"$error":"#NAME?"},{"$error":"#NAME?"},{"$error":"#NAME?"},{"$error":"#NAME?"},{"$error":"#NAME?"},{"$error":"#NAME?"},{"$error":"#NAME?"},{"$error":"#NAME?"},{"$error":"#NAME?"},{"$error":"#NAME?"},{"$error":"#NAME?"},{"$error":"#NAME?"},{"$error":"#NAME?"},{"$error":"#NAME?"},{"$error":"#NAME?"},{"$error":"#NAME?"},{"$error":"#NAME?"},{"$error":"#NAME?"},{"$error":"#NAME?"},{"$error":"#NAME?"},{"$error":"#NAME?"},{"$error":"#NAME?"},{"$error":"#NAME?"},{"$error":"#NAME?"},{"$error":"#NAME?"},{"$error":"#NAME?"},{"$error":"#NAME?"},{"$error":"#NAME?"},{"$error":"#NAME?"},{"$error":"#NAME?"},{"$error":"#NAME?"},{"$error":"#NAME?"},{"$error":"#NAME?"},{"$error":"#NAME?"},{"$error":"#NAME?"},{"$error":"#NAME?"},{"$error":"#NAME?"},{"$error":"#NAME?"},{"$error":"#NAME?"},{"$error":"#NAME?"},{"$error":"#NAME?"},{"$error":"#NAME?"},{"$error":"#NAME?"},{"$error":"#NAME?"},{"$error":"#NAME?"},{"$error":"#NAME?"},{"$error":"#NAME?"},{"$error":"#NAME?"},{"$error":"#NAME?"},{"$error":"#NAME?"},{"$error":"#NAME?"},{"$error":"#NAME?"}]
[{"$error":"#NAME?"},{"$error":"#NAME?"},{"$error":"#NAME?"},{"$error":"#NAME?"},{"$error":"#NAME?"},{"$error":"#NAME?"},{"$error":"#NAME?"},{"$error":"#NAME?"},{"$error":"#NAME?"},{"$error":"#NAME?"},{"$error":"#NAME?"},{"$error":"#NAME?"},{"$error":"#NAME?"},{"$error":"#NAME?"},{"$error":"#NAME?"},{"$error":"#NAME?"},{"$error":"#NAME?"},{"$error":"#NAME?"},{"$error":"#NAME?"},{"$error":"#NAME?"},{"$error":"#NAME?"},{"$error":"#NAME?"},{"$error":"#NAME?"},{"$error":"#NAME?"},{"$error":"#NAME?"},{"$error":"#NAME?"},{"$error":"#NAME?"},{"$error":"#NAME?"},{"$error":"#NAME?"},{"$error":"#NAME?"},{"$error":"#NAME?"},{"$error":"#NAME?"},{"$error":"#NAME?"},{"$error":"#NAME?"},{"$error":"#NAME?"},{"$error":"#NAME?"},{"$error":"#NAME?"},{"$error":"#NAME?"},{"$error":"#NAME?"},{"$error":"#NAME?"},{"$error":"#NAME?"},{"$error":"#NAME?"},{"$error":"#NAME?"},{"$error":"#NAME?"},{"$error":"#NAME?"},{"$error":"#NAME?"},{"$error":"#NAME?"},{"$error":"#NAME?"},{"$error":"#NAME?"},{"$error":"#NAME?"},{"$error":"#NAME?"},{"$error":"#NAME?"},{"$error":"#NAME?"},{"$error":"#NAME?"},{"$error":"#NAME?"},{"$error":"#NAME?"},{"$error":"#NAME?"},{"$error":"#NAME?"},{"$error":"#NAME?"},{"$error":"#NAME?"},{"$error":"#NAME?"},{"$error":"#NAME?"},{"$error":"#NAME?"},{"$error":"#NAME?"},{"$error":"#NAME?"},{"$error":"#NAME?"},{"$error":"#NAME?"},{"$error":"#NAME?"},{"$error":"#NAME?"},{"$error":"#NAME?"},{"$error":"#NAME?"},{"$error":"#NAME?"},{"$error":"#NAME?"},{"$error":"#NAME?"},{"$error":"#NAME?"},{"$error":"#NAME?"},{"$error":"#NAME?"},{"$error":"#NAME?"},{"$error":"#NAME?"},{"$error":"#NAME?"},{"$error":"#NAME?"},{"$error":"#NAME?"},{"$error":"#NAME?"},{"$error":"#NAME?"},{"$error":"#NAME?"},{"$error":"#NAME?"},{"$error":"#NAME?"},{"$error":"#NAME?"},{"$error":"#NAME?"},{"$error":"#NAME?"},{"$error":"#NAME?"},{"$error":"#NAME?"},{"$error":"#NAME?"},{"$error":"#NAME?"},{"$error":"#NAME?"},{"$error":"#NAME?"},{"$error":"#NAME?"},{"$error":"#NAME?"},{"$error":"#NAME?"},{"$error":"#NAME?"},null,{"$error":"#NAME?"},{"$error":"#NAME?"},{"$error":"#NAME?"},{"$error":"#NAME?"},{"$error":"#NAME?"},{"$error":"#NAME?"},{"$error":"#NAME?"},{"$error":"#NAME?"},{"$error":"#NAME?"},{"$error":"#NAME?"},{"$error":"#NAME?"},{"$error":"#NAME?"},{"$error":"#NAME?"},{"$error":"#NAME?"},{"$error":"#NAME?"},{"$error":"#NAME?"},{"$error":"#NAME?"},{"$error":"#NAME?"},{"$error":"#NAME?"},{"$error":"#NAME?"},{"$error":"#NAME?"},{"$error":"#NAME?"},{"$error":"#NAME?"},{"$error":"#NAME?"},{"$error":"#NAME?"},{"$error":"#NAME?"},{"$error":"#NAME?"},{"$error":"#NAME?"},{"$error":"#NAME?"},{"$error":"#NAME?"},{"$error":"#NAME?"},{"$error":"#NAME?"},{"$error":"#NAME?"},{"$error":"#NAME?"},{"$error":"#NAME?"},{"$error":"#NAME?"},{"$error":"#NAME?"},{"$error":"#NAME?"},{"$error":"#NAME?"},{"$error":"#NAME?"},{"$error":"#NAME?"},{"$error":"#NAME?"},{"$error":"#NAME?"},{"$error":"#NAME?"},{"$error":"#NAME?"},{"$error":"#NAME?"},{"$error":"#NAME?"},{"$error":"#NAME?"},{"$error":"#NAME?"},{"$error":"#NAME?"},{"$error":"#NAME?"},{"$error":"#NAME?"},{"$error":"#NAME?"},{"$error":"#NAME?"},{"$error":"#NAME?"},{"$error":"#NAME?"},{"$error":"#NAME?"},{"$error":"#NAME?"},{"$error":"#NAME?"},{"$error":"#NAME?"},{"$error":"#NAME?"},{"$error":"#NAME?"},{"$error":"#NAME?"},{"$error":"#NAME?"},{"$error":"#NAME?"},{"$error":"#NAME?"},{"$error":"#NAME?"},{"$error":"#NAME?"},{"$error":"#NAME?"},{"$error":"#NAME?"},{"$error":"#NAME?"},{"$error":"#NAME?"},{"$error":"#NAME?"},{"$error":"#NAME?"},{"$error":"#NAME?"},{"$error":"#NAME?"},{"$error":"#NAME?"},{"$error":"#NAME?"},{"$error":"#NAME?"},{"$error":"#NAME?"},{"$error":"#NAME?"},{"$error":"#NAME?"},{"$error":"#NAME?"},{"$error":"#NAME?"},{"$error":"#NAME?"},{"$error":"#NAME?"},{"$error":"#NAME?"},{"$error":"#NAME?"},{"$error":"#NAME?"},{"$error":"#NAME?"},{"$error":"#NAME?"},{"$error":"#NAME?"},{"$error":"#NAME?"},{"$error":"#NAME?"},{"$error":"#NAME?"},{"$error":"#NAME?"},{"$error":"#NAME?"},{"$error":"#NAME?"},{"$error":"#NAME?"},{"$error":"#NAME?"}]
[{"$error":"#NAME?"},{"$error":"#NAME?"},{"$error":"#NAME?"},{"$error":"#NAME?"},{"$error":"#NAME?"},{"$error":"#NAME?"},{"$error":"#NAME?"},{"$error":"#NAME?"},{"$error":"#NAME?"},{"$error":"#NAME?"},{"$error":"#NAME?"},{"$error":"#NAME?"},{"$error":"#NAME?"},{"$error":"#NAME?"},{"$error":"#NAME?"},{"$error":"#NAME?"},{"$error":"#NAME?"},{"$error":"#NAME?"},{"$error":"#NAME?"},{"$error":"#NAME?"},{"$error":"#NAME?"},{"$error":"#NAME?"},{"$error":"#NAME?"},{"$error":"#NAME?"},{"$error":"#NAME?"},{"$error":"#NAME?"},{"$error":"#NAME?"},{"$error":"#NAME?"},{"$error":"#NAME?"},{"$error":"#NAME?"},{"$error":"#NAME?"},{"$error":"#NAME?"},{"$error":"#NAME?"},{"$error":"#NAME?"},{"$error":"#NAME?"},{"$error":"#NAME?"},{"$error":"#NAME?"},{"$error":"#NAME?"},{"$error":"#NAME?"},{"$error":"#NAME?"},{"$error":"#NAME?"},{"$error":"#NAME?"},{"$error":"#NAME?"},{"$error":"#NAME?"},{"$error":"#NAME?"},{"$error":"#NAME?"},{"$error":"#NAME?"},{"$error":"#NAME?"},{"$error":"#NAME?"},{"$error":"#NAME?"},{"$error":"#NAME?"},{"$error":"#NAME?"},{"$error":"#NAME?"},{"$error":"#NAME?"},{"$error":"#NAME?"},{"$error":"#NAME?"},{"$error":"#NAME?"},{"$error":"#NAME?"},{"$error":"#NAME?"},{"$error":"#NAME?"},{"$error":"#NAME?"},{"$error":"#NAME?"},{"$error":"#NAME?"},{"$error":"#NAME?"},{"$error":"#NAME?"},{"$error":"#NAME?"},{"$error":"#NAME?"},{"$error":"#NAME?"},{"$error":"#NAME?"},{"$error":"#NAME?"},{"$error":"#NAME?"},{"$error":"#NAME?"},{"$error":"#NAME?"},{"$error":"#NAME?"},{"$error":"#NAME?"},{"$error":"#NAME?"},{"$error":"#NAME?"},{"$error":"#NAME?"},{"$error":"#NAME?"},{"$error":"#NAME?"},{"$error":"#NAME?"},{"$error":"#NAME?"},{"$error":"#NAME?"},{"$error":"#NAME?"},{"$error":"#NAME?"},{"$error":"#NAME?"},{"$error":"#NAME?"},{"$error":"#NAME?"},{"$error":"#NAME?"},{"$error":"#NAME?"},{"$error":"#NAME?"},{"$error":"#NAME?"},{"$error":"#NAME?"},{"$error":"#NAME?"},{"$error":"#NAME?"},{"$error":"#NAME?"},{"$error":"#NAME?"},{"$error":"#NAME?"},{"$error":"#NAME?"},{"$error":"#NAME?"},null,{"$error":"#NAME?"},{"$error":"#NAME?"},{"$error":"#NAME?"},{"$error":"#NAME?"},{"$error":"#NAME?"},{"$error":"#NAME?"},{"$error":"#NAME?"},{"$error":"#NAME?"},{"$error":"#NAME?"},{"$error":"#NAME?"},{"$error":"#NAME?"},{"$error":"#NAME?"},{"$error":"#NAME?"},{"$error":"#NAME?"},{"$error":"#NAME?"},{"$error":"#NAME?"},{"$error":"#NAME?"},{"$error":"#NAME?"},{"$error":"#NAME?"},{"$error":"#NAME?"},{"$error":"#NAME?"},{"$error":"#NAME?"},{"$error":"#NAME?"},{"$error":"#NAME?"},{"$error":"#NAME?"},{"$error":"#NAME?"},{"$error":"#NAME?"},{"$error":"#NAME?"},{"$error":"#NAME?"},{"$error":"#NAME?"},{"$error":"#NAME?"},{"$error":"#NAME?"},{"$error":"#NAME?"},{"$error":"#NAME?"},{"$error":"#NAME?"},{"$error":"#NAME?"},{"$error":"#NAME?"},{"$error":"#NAME?"},{"$error":"#NAME?"},{"$error":"#NAME?"},{"$error":"#NAME?"},{"$error":"#NAME?"},{"$error":"#NAME?"},{"$error":"#NAME?"},{"$error":"#NAME?"},{"$error":"#NAME?"},{"$error":"#NAME?"},{"$error":"#NAME?"},{"$error":"#NAME?"},{"$error":"#NAME?"},{"$error":"#NAME?"},{"$error":"#NAME?"},{"$error":"#NAME?"},{"$error":"#NAME?"},{"$error":"#NAME?"},{"$error":"#NAME?"},{"$error":"#NAME?"},{"$error":"#NAME?"},{"$error":"#NAME?"},{"$error":"#NAME?"},{"$error":"#NAME?"},{"$error":"#NAME?"},{"$error":"#NAME?"},{"$error":"#NAME?"},{"$error":"#NAME?"},{"$error":"#NAME?"},{"$error":"#NAME?"},{"$error":"#NAME?"},{"$error":"#NAME?"},{"$error":"#NAME?"},{"$error":"#NAME?"},{"$error":"#NAME?"},{"$error":"#NAME?"},{"$error":"#NAME?"},{"$error":"#NAME?"},{"$error":"#NAME?"},{"$error":"#NAME?"},{"$error":"#NAME?"},{"$error":"#NAME?"},{"$error":"#NAME?"},{"$error":"#NAME?"},{"$error":"#NAME?"},{"$error":"#NAME?"},{"$error":"#NAME?"},{"$error":"#NAME?"},{"$error":"#NAME?"},{"$error":"#NAME?"},{"$error":"#NAME?"},{"$error":"#NAME?"},{"$error":"#NAME?"},{"$error":"#NAME?"},{"$error":"#NAME?"},{"$error":"#NAME?"},{"$error":"#NAME?"},{"$error":"#NAME?"},{"$error":"#NAME?"},{"$error":"#NAME?"},{"$error":"#NAME?"},{"$error":"#NAME?"},{"$error":"#NAME?"}]
[{"$error":"#NAME?"},{"$error":"#NAME?"},{"$error":"#NAME?"},{"$error":"#NAME?"},{"$error":"#NAME?"},{"$error":"#NAME?"},{"$error":"#NAME?"},{"$error":"#NAME?"},{"$error":"#NAME?"},{"$error":"#NAME?"},{"$error":"#NAME?"},{"$error":"#NAME?"},{"$error":"#NAME?"},{"$error":"#NAME?"},{"$error":"#NAME?"},{"$error":"#NAME?"},{"$error":"#NAME?"},{"$error":"#NAME?"},{"$error":"#NAME?"},{"$error":"#NAME?"},{"$error":"#NAME?"},{"$error":"#NAME?"},{"$error":"#NAME?"},{"$error":"#NAME?"},{"$error":"#NAME?"},{"$error":"#NAME?"},{"$error":"#NAME?"},{"$error":"#NAME?"},{"$error":"#NAME?"},{"$error":"#NAME?"},{"$error":"#NAME?"},{"$error":"#NAME?"},{"$error":"#NAME?"},{"$error":"#NAME?"},{"$error":"#NAME?"},{"$error":"#NAME?"},{"$error":"#NAME?"},{"$error":"#NAME?"},{"$error":"#NAME?"},{"$error":"#NAME?"},{"$error":"#NAME?"},{"$error":"#NAME?"},{"$error":"#NAME?"},{"$error":"#NAME?"},{"$error":"#NAME?"},{"$error":"#NAME?"},{"$error":"#NAME?"},{"$error":"#NAME?"},{"$error":"#NAME?"},{"$error":"#NAME?"},{"$error":"#NAME?"},{"$error":"#NAME?"},{"$error":"#NAME?"},{"$error":"#NAME?"},{"$error":"#NAME?"},{"$error":"#NAME?"},{"$error":"#NAME?"},{"$error":"#NAME?"},{"$error":"#NAME?"},{"$error":"#NAME?"},{"$error":"#NAME?"},{"$error":"#NAME?"},{"$error":"#NAME?"},{"$error":"#NAME?"},{"$error":"#NAME?"},{"$error":"#NAME?"},{"$error":"#NAME?"},{"$error":"#NAME?"},{"$error":"#NAME?"},{"$error":"#NAME?"},{"$error":"#NAME?"},{"$error":"#NAME?"},{"$error":"#NAME?"},{"$error":"#NAME?"},{"$error":"#NAME?"},{"$error":"#NAME?"},{"$error":"#NAME?"},{"$error":"#NAME?"},{"$error":"#NAME?"},{"$error":"#NAME?"},{"$error":"#NAME?"},{"$error":"#NAME?"},{"$error":"#NAME?"},{"$error":"#NAME?"},{"$error":"#NAME?"},{"$error":"#NAME?"},{"$error":"#NAME?"},{"$error":"#NAME?"},{"$error":"#NAME?"},{"$error":"#NAME?"},{"$error":"#NAME?"},{"$error":"#NAME?"},{"$error":"#NAME?"},{"$error":"#NAME?"},{"$error":"#NAME?"},{"$error":"#NAME?"},{"$error":"#NAME?"},{"$error":"#NAME?"},{"$error":"#NAME?"},{"$error":"#NAME?"},null,{"$error":"#NAME?"},{"$error":"#NAME?"},{"$error":"#NAME?"},{"$error":"#NAME?"},{"$error":"#NAME?"},{"$error":"#NAME?"},{"$error":"#NAME?"},{"$error":"#NAME?"},{"$error":"#NAME?"},{"$error":"#NAME?"},{"$error":"#NAME?"},{"$error":"#NAME?"},{"$error":"#NAME?"},{"$error":"#NAME?"},{"$error":"#NAME?"},{"$error":"#NAME?"},{"$error":"#NAME?"},{"$error":"#NAME?"},{"$error":"#NAME?"},{"$error":"#NAME?"},{"$error":"#NAME?"},{"$error":"#NAME?"},{"$error":"#NAME?"},{"$error":"#NAME?"},{"$error":"#NAME?"},{"$error":"#NAME?"},{"$error":"#NAME?"},{"$error":"#NAME?"},{"$error":"#NAME?"},{"$error":"#NAME?"},{"$error":"#NAME?"},{"$error":"#NAME?"},{"$error":"#NAME?"},{"$error":"#NAME?"},{"$error":"#NAME?"},{"$error":"#NAME?"},{"$error":"#NAME?"},{"$error":"#NAME?"},{"$error":"#NAME?"},{"$error":"#NAME?"},{"$error":"#NAME?"},{"$error":"#NAME?"},{"$error":"#NAME?"},{"$error":"#NAME?"},{"$error":"#NAME?"},{"$error":"#NAME?"},{"$error":"#NAME?"},{"$error":"#NAME?"},{"$error":"#NAME?"},{"$error":"#NAME?"},{"$error":"#NAME?"},{"$error":"#NAME?"},{"$error":"#NAME?"},{"$error":"#NAME?"},{"$error":"#NAME?"},{"$error":"#NAME?"},{"$error":"#NAME?"},{"$error":"#NAME?"},{"$error":"#NAME?"},{"$error":"#NAME?"},{"$error":"#NAME?"},{"$error":"#NAME?"},{"$error":"#NAME?"},{"$error":"#NAME?"},{"$error":"#NAME?"},{"$error":"#NAME?"},{"$error":"#NAME?"},{"$error":"#NAME?"},{"$error":"#NAME?"},{"$error":"#NAME?"},{"$error":"#NAME?"},{"$error":"#NAME?"},{"$error":"#NAME?"},{"$error":"#NAME?"},{"$error":"#NAME?"},{"$error":"#NAME?"},{"$error":"#NAME?"},{"$error":"#NAME?"},{"$error":"#NAME?"},{"$error":"#NAME?"},{"$error":"#NAME?"},{"$error":"#NAME?"},{"$error":"#NAME?"},{"$error":"#NAME?"},{"$error":"#NAME?"},{"$error":"#NAME?"},{"$error":"#NAME?"},{"$error":"#NAME?"},{"$error":"#NAME?"},{"$error":"#NAME?"},{"$error":"#NAME?"},{"$error":"#NAME?"},{"$error":"#NAME?"},{"$error":"#NAME?"},{"$error":"#NAME?"},{"$error":"#NAME?"},{"$error":"#NAME?"},{"$error":"#NAME?"},{"$error":"#NAME?"},{"$error":"#NAME?"}]
[{"$error":"#NAME?"},{"$error":"#NAME?"},{"$error":"#NAME?"},{"$error":"#NAME?"},{"$error":"#NAME?"},{"$error":"#NAME?"},{"$error":"#NAME?"},{"$error":"#NAME?"},{"$error":"#NAME?"},{"$error":"#NAME?"},{"$error":"#NAME?"},{"$error":"#NAME?"},{"$error":"#NAME?"},{"$error":"#NAME?"},{"$error":"#NAME?"},{"$error":"#NAME?"},{"$error":"#NAME?"},{"$error":"#NAME?"},{"$error":"#NAME?"},{"$error":"#NAME?"},{"$error":"#NAME?"},{"$error":"#NAME?"},{"$error":"#NAME?"},{"$error":"#NAME?"},{"$error":"#NAME?"},{"$error":"#NAME?"},{"$error":"#NAME?"},{"$error":"#NAME?"},{"$error":"#NAME?"},{"$error":"#NAME?"},{"$error":"#NAME?"},{"$error":"#NAME?"},{"$error":"#NAME?"},{"$error":"#NAME?"},{"$error":"#NAME?"},{"$error":"#NAME?"},{"$error":"#NAME?"},{"$error":"#NAME?"},{"$error":"#NAME?"},{"$error":"#NAME?"},{"$error":"#NAME?"},{"$error":"#NAME?"},{"$error":"#NAME?"},{"$error":"#NAME?"},{"$error":"#NAME?"},{"$error":"#NAME?"},{"$error":"#NAME?"},{"$error":"#NAME?"},{"$error":"#NAME?"},{"$error":"#NAME?"},{"$error":"#NAME?"},{"$error":"#NAME?"},{"$error":"#NAME?"},{"$error":"#NAME?"},{"$error":"#NAME?"},{"$error":"#NAME?"},{"$error":"#NAME?"},{"$error":"#NAME?"},{"$error":"#NAME?"},{"$error":"#NAME?"},{"$error":"#NAME?"},{"$error":"#NAME?"},{"$error":"#NAME?"},{"$error":"#NAME?"},{"$error":"#NAME?"},{"$error":"#NAME?"},{"$error":"#NAME?"},{"$error":"#NAME?"},{"$error":"#NAME?"},{"$error":"#NAME?"},{"$error":"#NAME?"},{"$error":"#NAME?"},{"$error":"#NAME?"},{"$error":"#NAME?"},{"$error":"#NAME?"},{"$error":"#NAME?"},{"$error":"#NAME?"},{"$error":"#NAME?"},{"$error":"#NAME?"},{"$error":"#NAME?"},{"$error":"#NAME?"},{"$error":"#NAME?"},{"$error":"#NAME?"},{"$error":"#NAME?"},{"$error":"#NAME?"},{"$error":"#NAME?"},{"$error":"#NAME?"},{"$error":"#NAME?"},{"$error":"#NAME?"},{"$error":"#NAME?"},{"$error":"#NAME?"},{"$error":"#NAME?"},{"$error":"#NAME?"},{"$error":"#NAME?"},{"$error":"#NAME?"},{"$error":"#NAME?"},{"$error":"#NAME?"},{"$error":"#NAME?"},{"$error":"#NAME?"},{"$error":"#NAME?"},null,{"$error":"#NAME?"},{"$error":"#NAME?"},{"$error":"#NAME?"},{"$error":"#NAME?"},{"$error":"#NAME?"},{"$error":"#NAME?"},{"$error":"#NAME?"},{"$error":"#NAME?"},{"$error":"#NAME?"},{"$error":"#NAME?"},{"$error":"#NAME?"},{"$error":"#NAME?"},{"$error":"#NAME?"},{"$error":"#NAME?"},{"$error":"#NAME?"},{"$error":"#NAME?"},{"$error":"#NAME?"},{"$error":"#NAME?"},{"$error":"#NAME?"},{"$error":"#NAME?"},{"$error":"#NAME?"},{"$error":"#NAME?"},{"$error":"#NAME?"},{"$error":"#NAME?"},{"$error":"#NAME?"},{"$error":"#NAME?"},{"$error":"#NAME?"},{"$error":"#NAME?"},{"$error":"#NAME?"},{"$error":"#NAME?"},{"$error":"#NAME?"},{"$error":"#NAME?"},{"$error":"#NAME?"},{"$error":"#NAME?"},{"$error":"#NAME?"},{"$error":"#NAME?"},{"$error":"#NAME?"},{"$error":"#NAME?"},{"$error":"#NAME?"},{"$error":"#NAME?"},{"$error":"#NAME?"},{"$error":"#NAME?"},{"$error":"#NAME?"},{"$error":"#NAME?"},{"$error":"#NAME?"},{"$error":"#NAME?"},{"$error":"#NAME?"},{"$error":"#NAME?"},{"$error":"#NAME?"},{"$error":"#NAME?"},{"$error":"#NAME?"},{"$error":"#NAME?"},{"$error":"#NAME?"},{"$error":"#NAME?"},{"$error":"#NAME?"},{"$error":"#NAME?"},{"$error":"#NAME?"},{"$error":"#NAME?"},{"$error":"#NAME?"},{"$error":"#NAME?"},{"$error":"#NAME?"},{"$error":"#NAME?"},{"$error":"#NAME?"},{"$error":"#NAME?"},{"$error":"#NAME?"},{"$error":"#NAME?"},{"$error":"#NAME?"},{"$error":"#NAME?"},{"$error":"#NAME?"},{"$error":"#NAME?"},{"$error":"#NAME?"},{"$error":"#NAME?"},{"$error":"#NAME?"},{"$error":"#NAME?"},{"$error":"#NAME?"},{"$error":"#NAME?"},{"$error":"#NAME?"},{"$error":"#NAME?"},{"$error":"#NAME?"},{"$error":"#NAME?"},{"$error":"#NAME?"},{"$error":"#NAME?"},{"$error":"#NAME?"},{"$error":"#NAME?"},{"$error":"#NAME?"},{"$error":"#NAME?"},{"$error":"#NAME?"},{"$error":"#NAME?"},{"$error":"#NAME?"},{"$error":"#NAME?"},{"$error":"#NAME?"},{"$error":"#NAME?"},{"$error":"#NAME?"},{"$error":"#NAME?"},{"$error":"#NAME?"},{"$error":"#NAME?"},{"$error":"#NAME?"},{"$error":"#NAME?"},{"$error":"#NAME?"},{"$error":"#NAME?"}]
[{"$error":"#NAME?"},{"$error":"#NAME?"},{"$error":"#NAME?"},{"$error":"#NAME?"},{"$error":"#NAME?"},{"$error":"#NAME?"},{"$error":"#NAME?"},{"$error":"#NAME?"},{"$error":"#NAME?"},{"$error":"#NAME?"},{"$error":"#NAME?"},{"$error":"#NAME?"},{"$error":"#NAME?"},{"$error":"#NAME?"},{"$error":"#NAME?"},{"$error":"#NAME?"},{"$error":"#NAME?"},{"$error":"#NAME?"},{"$error":"#NAME?"},{"$error":"#NAME?"},{"$error":"#NAME?"},{"$error":"#NAME?"},{"$error":"#NAME?"},{"$error":"#NAME?"},{"$error":"#NAME?"},{"$error":"#NAME?"},{"$error":"#NAME?"},{"$error":"#NAME?"},{"$error":"#NAME?"},{"$error":"#NAME?"},{"$error":"#NAME?"},{"$error":"#NAME?"},{"$error":"#NAME?"},{"$error":"#NAME?"},{"$error":"#NAME?"},{"$error":"#NAME?"},{"$error":"#NAME?"},{"$error":"#NAME?"},{"$error":"#NAME?"},{"$error":"#NAME?"},{"$error":"#NAME?"},{"$error":"#NAME?"},{"$error":"#NAME?"},{"$error":"#NAME?"},{"$error":"#NAME?"},{"$error":"#NAME?"},{"$error":"#NAME?"},{"$error":"#NAME?"},{"$error":"#NAME?"},{"$error":"#NAME?"},{"$error":"#NAME?"},{"$error":"#NAME?"},{"$error":"#NAME?"},{"$error":"#NAME?"},{"$error":"#NAME?"},{"$error":"#NAME?"},{"$error":"#NAME?"},{"$error":"#NAME?"},{"$error":"#NAME?"},{"$error":"#NAME?"},{"$error":"#NAME?"},{"$error":"#NAME?"},{"$error":"#NAME?"},{"$error":"#NAME?"},{"$error":"#NAME?"},{"$error":"#NAME?"},{"$error":"#NAME?"},{"$error":"#NAME?"},{"$error":"#NAME?"},{"$error":"#NAME?"},{"$error":"#NAME?"},{"$error":"#NAME?"},{"$error":"#NAME?"},{"$error":"#NAME?"},{"$error":"#NAME?"},{"$error":"#NAME?"},{"$error":"#NAME?"},{"$error":"#NAME?"},{"$error":"#NAME?"},{"$error":"#NAME?"},{"$error":"#NAME?"},{"$error":"#NAME?"},{"$error":"#NAME?"},{"$error":"#NAME?"},{"$error":"#NAME?"},{"$error":"#NAME?"},{"$error":"#NAME?"},{"$error":"#NAME?"},{"$error":"#NAME?"},{"$error":"#NAME?"},{"$error":"#NAME?"},{"$error":"#NAME?"},{"$error":"#NAME?"},{"$error":"#NAME?"},{"$error":"#NAME?"},{"$error":"#NAME?"},{"$error":"#NAME?"},{"$error":"#NAME?"},{"$error":"#NAME?"},{"$error":"#NAME?"},null,{"$error":"#NAME?"},{"$error":"#NAME?"},{"$error":"#NAME?"},{"$error":"#NAME?"},{"$error":"#NAME?"},{"$error":"#NAME?"},{"$error":"#NAME?"},{"$error":"#NAME?"},{"$error":"#NAME?"},{"$error":"#NAME?"},{"$error":"#NAME?"},{"$error":"#NAME?"},{"$error":"#NAME?"},{"$error":"#NAME?"},{"$error":"#NAME?"},{"$error":"#NAME?"},{"$error":"#NAME?"},{"$error":"#NAME?"},{"$error":"#NAME?"},{"$error":"#NAME?"},{"$error":"#NAME?"},{"$error":"#NAME?"},{"$error":"#NAME?"},{"$error":"#NAME?"},{"$error":"#NAME?"},{"$error":"#NAME?"},{"$error":"#NAME?"},{"$error":"#NAME?"},{"$error":"#NAME?"},{"$error":"#NAME?"},{"$error":"#NAME?"},{"$error":"#NAME?"},{"$error":"#NAME?"},{"$error":"#NAME?"},{"$error":"#NAME?"},{"$error":"#NAME?"},{"$error":"#NAME?"},{"$error":"#NAME?"},{"$error":"#NAME?"},{"$error":"#NAME?"},{"$error":"#NAME?"},{"$error":"#NAME?"},{"$error":"#NAME?"},{"$error":"#NAME?"},{"$error":"#NAME?"},{"$error":"#NAME?"},{"$error":"#NAME?"},{"$error":"#NAME?"},{"$error":"#NAME?"},{"$error":"#NAME?"},{"$error":"#NAME?"},{"$error":"#NAME?"},{"$error":"#NAME?"},{"$error":"#NAME?"},{"$error":"#NAME?"},{"$error":"#NAME?"},{"$error":"#NAME?"},{"$error":"#NAME?"},{"$error":"#NAME?"},{"$error":"#NAME?"},{"$error":"#NAME?"},{"$error":"#NAME?"},{"$error":"#NAME?"},{"$error":"#NAME?"},{"$error":"#NAME?"},{"$error":"#NAME?"},{"$error":"#NAME?"},{"$error":"#NAME?"},{"$error":"#NAME?"},{"$error":"#NAME?"},{"$error":"#NAME?"},{"$error":"#NAME?"},{"$error":"#NAME?"},{"$error":"#NAME?"},{"$error":"#NAME?"},{"$error":"#NAME?"},{"$error":"#NAME?"},{"$error":"#NAME?"},{"$error":"#NAME?"},{"$error":"#NAME?"},{"$error":"#NAME?"},{"$error":"#NAME?"},{"$error":"#NAME?"},{"$error":"#NAME?"},{"$error":"#NAME?"},{"$error":"#NAME?"},{"$error":"#NAME?"},{"$error":"#NAME?"},{"$error":"#NAME?"},{"$error":"#NAME?"},{"$error":"#NAME?"},{"$error":"#NAME?"},{"$error":"#NAME?"},{"$error":"#NAME?"},{"$error":"#NAME?"},{"$error":"#NAME?"},{"$error":"#NAME?"},{"$error":"#NAME?"},{"$error":"#NAME?"},{"$error":"#NAME?"}]
[{"$error":"#NAME?"},{"$error":"#NAME?"},{"$error":"#NAME?"},{"$error":"#NAME?"},{"$error":"#NAME?"},{"$error":"#NAME?"},{"$error":"#NAME?"},{"$error":"#NAME?"},{"$error":"#NAME?"},{"$error":"#NAME?"},{"$error":"#NAME?"},{"$error":"#NAME?"},{"$error":"#NAME?"},{"$error":"#NAME?"},{"$error":"#NAME?"},{"$error":"#NAME?"},{"$error":"#NAME?"},{"$error":"#NAME?"},{"$error":"#NAME?"},{"$error":"#NAME?"},{"$error":"#NAME?"},{"$error":"#NAME?"},{"$error":"#NAME?"},{"$error":"#NAME?"},{"$error":"#NAME?"},{"$error":"#NAME?"},{"$error":"#NAME?"},{"$error":"#NAME?"},{"$error":"#NAME?"},{"$error":"#NAME?"},{"$error":"#NAME?"},{"$error":"#NAME?"},{"$error":"#NAME?"},{"$error":"#NAME?"},{"$error":"#NAME?"},{"$error":"#NAME?"},{"$error":"#NAME?"},{"$error":"#NAME?"},{"$error":"#NAME?"},{"$error":"#NAME?"},{"$error":"#NAME?"},{"$error":"#NAME?"},{"$error":"#NAME?"},{"$error":"#NAME?"},{"$error":"#NAME?"},{"$error":"#NAME?"},{"$error":"#NAME?"},{"$error":"#NAME?"},{"$error":"#NAME?"},{"$error":"#NAME?"},{"$error":"#NAME?"},{"$error":"#NAME?"},{"$error":"#NAME?"},{"$error":"#NAME?"},{"$error":"#NAME?"},{"$error":"#NAME?"},{"$error":"#NAME?"},{"$error":"#NAME?"},{"$error":"#NAME?"},{"$error":"#NAME?"},{"$error":"#NAME?"},{"$error":"#NAME?"},{"$error":"#NAME?"},{"$error":"#NAME?"},{"$error":"#NAME?"},{"$error":"#NAME?"},{"$error":"#NAME?"},{"$error":"#NAME?"},{"$error":"#NAME?"},{"$error":"#NAME?"},{"$error":"#NAME?"},{"$error":"#NAME?"},{"$error":"#NAME?"},{"$error":"#NAME?"},{"$error":"#NAME?"},{"$error":"#NAME?"},{"$error":"#NAME?"},{"$error":"#NAME?"},{"$error":"#NAME?"},{"$error":"#NAME?"},{"$error":"#NAME?"},{"$error":"#NAME?"},{"$error":"#NAME?"},{"$error":"#NAME?"},{"$error":"#NAME?"},{"$error":"#NAME?"},{"$error":"#NAME?"},{"$error":"#NAME?"},{"$error":"#NAME?"},{"$error":"#NAME?"},{"$error":"#NAME?"},{"$error":"#NAME?"},{"$error":"#NAME?"},{"$error":"#NAME?"},{"$error":"#NAME?"},{"$error":"#NAME?"},{"$error":"#NAME?"},{"$error":"#NAME?"},{"$error":"#NAME?"},{"$error":"#NAME?"},null,{"$error":"#NAME?"},{"$error":"#NAME?"},{"$error":"#NAME?"},{"$error":"#NAME?"},{"$error":"#NAME?"},{"$error":"#NAME?"},{"$error":"#NAME?"},{"$error":"#NAME?"},{"$error":"#NAME?"},{"$error":"#NAME?"},{"$error":"#NAME?"},{"$error":"#NAME?"},{"$error":"#NAME?"},{"$error":"#NAME?"},{"$error":"#NAME?"},{"$error":"#NAME?"},{"$error":"#NAME?"},{"$error":"#NAME?"},{"$error":"#NAME?"},{"$error":"#NAME?"},{"$error":"#NAME?"},{"$error":"#NAME?"},{"$error":"#NAME?"},{"$error":"#NAME?"},{"$error":"#NAME?"},{"$error":"#NAME?"},{"$error":"#NAME?"},{"$error":"#NAME?"},{"$error":"#NAME?"},{"$error":"#NAME?"},{"$error":"#NAME?"},{"$error":"#NAME?"},{"$error":"#NAME?"},{"$error":"#NAME?"},{"$error":"#NAME?"},{"$error":"#NAME?"},{"$error":"#NAME?"},{"$error":"#NAME?"},{"$error":"#NAME?"},{"$error":"#NAME?"},{"$error":"#NAME?"},{"$error":"#NAME?"},{"$error":"#NAME?"},{"$error":"#NAME?"},{"$error":"#NAME?"},{"$error":"#NAME?"},{"$error":"#NAME?"},{"$error":"#NAME?"},{"$error":"#NAME?"},{"$error":"#NAME?"},{"$error":"#NAME?"},{"$error":"#NAME?"},{"$error":"#NAME?"},{"$error":"#NAME?"},{"$error":"#NAME?"},{"$error":"#NAME?"},{"$error":"#NAME?"},{"$error":"#NAME?"},{"$error":"#NAME?"},{"$error":"#NAME?"},{"$error":"#NAME?"},{"$error":"#NAME?"},{"$error":"#NAME?"},{"$error":"#NAME?"},{"$error":"#NAME?"},{"$error":"#NAME?"},{"$error":"#NAME?"},{"$error":"#NAME?"},{"$error":"#NAME?"},{"$error":"#NAME?"},{"$error":"#NAME?"},{"$error":"#NAME?"},{"$error":"#NAME?"},{"$error":"#NAME?"},{"$error":"#NAME?"},{"$error":"#NAME?"},{"$error":"#NAME?"},{"$error":"#NAME?"},{"$error":"#NAME?"},{"$error":"#NAME?"},{"$error":"#NAME?"},{"$error":"#NAME?"},{"$error":"#NAME?"},{"$error":"#NAME?"},{"$error":"#NAME?"},{"$error":"#NAME?"},{"$error":"#NAME?"},{"$error":"#NAME?"},{"$error":"#NAME?"},{"$error":"#NAME?"},{"$error":"#NAME?"},{"$error":"#NAME?"},{"$error":"#NAME?"},{"$error":"#NAME?"},{"$error":"#NAME?"},{"$error":"#NAME?"},{"$error":"#NAME?"},{"$error":"#NAME?"},{"$error":"#NAME?"},{"$error":"#NAME?"}]
[{"$error":"#NAME?"},{"$error":"#NAME?"},{"$error":"#NAME?"},{"$error":"#NAME?"},{"$error":"#NAME?"},{"$error":"#NAME?"},{"$error":"#NAME?"},{"$error":"#NAME?"},{"$error":"#NAME?"},{"$error":"#NAME?"},{"$error":"#NAME?"},{"$error":"#NAME?"},{"$error":"#NAME?"},{"$error":"#NAME?"},{"$error":"#NAME?"},{"$error":"#NAME?"},{"$error":"#NAME?"},{"$error":"#NAME?"},{"$error":"#NAME?"},{"$error":"#NAME?"},{"$error":"#NAME?"},{"$error":"#NAME?"},{"$error":"#NAME?"},{"$error":"#NAME?"},{"$error":"#NAME?"},{"$error":"#NAME?"},{"$error":"#NAME?"},{"$error":"#NAME?"},{"$error":"#NAME?"},{"$error":"#NAME?"},{"$error":"#NAME?"},{"$error":"#NAME?"},{"$error":"#NAME?"},{"$error":"#NAME?"},{"$error":"#NAME?"},{"$error":"#NAME?"},{"$error":"#NAME?"},{"$error":"#NAME?"},{"$error":"#NAME?"},{"$error":"#NAME?"},{"$error":"#NAME?"},{"$error":"#NAME?"},{"$error":"#NAME?"},{"$error":"#NAME?"},{"$error":"#NAME?"},{"$error":"#NAME?"},{"$error":"#NAME?"},{"$error":"#NAME?"},{"$error":"#NAME?"},{"$error":"#NAME?"},{"$error":"#NAME?"},{"$error":"#NAME?"},{"$error":"#NAME?"},{"$error":"#NAME?"},{"$error":"#NAME?"},{"$error":"#NAME?"},{"$error":"#NAME?"},{"$error":"#NAME?"},{"$error":"#NAME?"},{"$error":"#NAME?"},{"$error":"#NAME?"},{"$error":"#NAME?"},{"$error":"#NAME?"},{"$error":"#NAME?"},{"$error":"#NAME?"},{"$error":"#NAME?"},{"$error":"#NAME?"},{"$error":"#NAME?"},{"$error":"#NAME?"},{"$error":"#NAME?"},{"$error":"#NAME?"},{"$error":"#NAME?"},{"$error":"#NAME?"},{"$error":"#NAME?"},{"$error":"#NAME?"},{"$error":"#NAME?"},{"$error":"#NAME?"},{"$error":"#NAME?"},{"$error":"#NAME?"},{"$error":"#NAME?"},{"$error":"#NAME?"},{"$error":"#NAME?"},{"$error":"#NAME?"},{"$error":"#NAME?"},{"$error":"#NAME?"},{"$error":"#NAME?"},{"$error":"#NAME?"},{"$error":"#NAME?"},{"$error":"#NAME?"},{"$error":"#NAME?"},{"$error":"#NAME?"},{"$error":"#NAME?"},{"$error":"#NAME?"},{"$error":"#NAME?"},{"$error":"#NAME?"},{"$error":"#NAME?"},{"$error":"#NAME?"},{"$error":"#NAME?"},{"$error":"#NAME?"},{"$error":"#NAME?"},null,{"$error":"#NAME?"},{"$error":"#NAME?"},{"$error":"#NAME?"},{"$error":"#NAME?"},{"$error":"#NAME?"},{"$error":"#NAME?"},{"$error":"#NAME?"},{"$error":"#NAME?"},{"$error":"#NAME?"},{"$error":"#NAME?"},{"$error":"#NAME?"},{"$error":"#NAME?"},{"$error":"#NAME?"},{"$error":"#NAME?"},{"$error":"#NAME?"},{"$error":"#NAME?"},{"$error":"#NAME?"},{"$error":"#NAME?"},{"$error":"#NAME?"},{"$error":"#NAME?"},{"$error":"#NAME?"},{"$error":"#NAME?"},{"$error":"#NAME?"},{"$error":"#NAME?"},{"$error":"#NAME?"},{"$error":"#NAME?"},{"$error":"#NAME?"},{"$error":"#NAME?"},{"$error":"#NAME?"},{"$error":"#NAME?"},{"$error":"#NAME?"},{"$error":"#NAME?"},{"$error":"#NAME?"},{"$error":"#NAME?"},{"$error":"#NAME?"},{"$error":"#NAME?"},{"$error":"#NAME?"},{"$error":"#NAME?"},{"$error":"#NAME?"},{"$error":"#NAME?"},{"$error":"#NAME?"},{"$error":"#NAME?"},{"$error":"#NAME?"},{"$error":"#NAME?"},{"$error":"#NAME?"},{"$error":"#NAME?"},{"$error":"#NAME?"},{"$error":"#NAME?"},{"$error":"#NAME?"},{"$error":"#NAME?"},{"$error":"#NAME?"},{"$error":"#NAME?"},{"$error":"#NAME?"},{"$error":"#NAME?"},{"$error":"#NAME?"},{"$error":"#NAME?"},{"$error":"#NAME?"},{"$error":"#NAME?"},{"$error":"#NAME?"},{"$error":"#NAME?"},{"$error":"#NAME?"},{"$error":"#NAME?"},{"$error":"#NAME?"},{"$error":"#NAME?"},{"$error":"#NAME?"},{"$error":"#NAME?"},{"$error":"#NAME?"},{"$error":"#NAME?"},{"$error":"#NAME?"},{"$error":"#NAME?"},{"$error":"#NAME?"},{"$error":"#NAME?"},{"$error":"#NAME?"},{"$error":"#NAME?"},{"$error":"#NAME?"},{"$error":"#NAME?"},{"$error":"#NAME?"},{"$error":"#NAME?"},{"$error":"#NAME?"},{"$error":"#NAME?"},{"$error":"#NAME?"},{"$error":"#NAME?"},{"$error":"#NAME?"},{"$error":"#NAME?"},{"$error":"#NAME?"},{"$error":"#NAME?"},{"$error":"#NAME?"},{"$error":"#NAME?"},{"$error":"#NAME?"},{"$error":"#NAME?"},{"$error":"#NAME?"},{"$error":"#NAME?"},{"$error":"#NAME?"},{"$error":"#NAME?"},{"$error":"#NAME?"},{"$error":"#NAME?"},{"$error":"#NAME?"},{"$error":"#NAME?"},{"$error":"#NAME?"},{"$error":"#NAME?"}]
[{"$error":"#NAME?"},{"$error":"#NAME?"},{"$error":"#NAME?"},{"$error":"#NAME?"},{"$error":"#NAME?"},{"$error":"#NAME?"},{"$error":"#NAME?"},{"$error":"#NAME?"},{"$error":"#NAME?"},{"$error":"#NAME?"},{"$error":"#NAME?"},{"$error":"#NAME?"},{"$error":"#NAME?"},{"$error":"#NAME?"},{"$error":"#NAME?"},{"$error":"#NAME?"},{"$error":"#NAME?"},{"$error":"#NAME?"},{"$error":"#NAME?"},{"$error":"#NAME?"},{"$error":"#NAME?"},{"$error":"#NAME?"},{"$error":"#NAME?"},{"$error":"#NAME?"},{"$error":"#NAME?"},{"$error":"#NAME?"},{"$error":"#NAME?"},{"$error":"#NAME?"},{"$error":"#NAME?"},{"$error":"#NAME?"},{"$error":"#NAME?"},{"$error":"#NAME?"},{"$error":"#NAME?"},{"$error":"#NAME?"},{"$error":"#NAME?"},{"$error":"#NAME?"},{"$error":"#NAME?"},{"$error":"#NAME?"},{"$error":"#NAME?"},{"$error":"#NAME?"},{"$error":"#NAME?"},{"$error":"#NAME?"},{"$error":"#NAME?"},{"$error":"#NAME?"},{"$error":"#NAME?"},{"$error":"#NAME?"},{"$error":"#NAME?"},{"$error":"#NAME?"},{"$error":"#NAME?"},{"$error":"#NAME?"},{"$error":"#NAME?"},{"$error":"#NAME?"},{"$error":"#NAME?"},{"$error":"#NAME?"},{"$error":"#NAME?"},{"$error":"#NAME?"},{"$error":"#NAME?"},{"$error":"#NAME?"},{"$error":"#NAME?"},{"$error":"#NAME?"},{"$error":"#NAME?"},{"$error":"#NAME?"},{"$error":"#NAME?"},{"$error":"#NAME?"},{"$error":"#NAME?"},{"$error":"#NAME?"},{"$error":"#NAME?"},{"$error":"#NAME?"},{"$error":"#NAME?"},{"$error":"#NAME?"},{"$error":"#NAME?"},{"$error":"#NAME?"},{"$error":"#NAME?"},{"$error":"#NAME?"},{"$error":"#NAME?"},{"$error":"#NAME?"},{"$error":"#NAME?"},{"$error":"#NAME?"},{"$error":"#NAME?"},{"$error":"#NAME?"},{"$error":"#NAME?"},{"$error":"#NAME?"},{"$error":"#NAME?"},{"$error":"#NAME?"},{"$error":"#NAME?"},{"$error":"#NAME?"},{"$error":"#NAME?"},{"$error":"#NAME?"},{"$error":"#NAME?"},{"$error":"#NAME?"},{"$error":"#NAME?"},{"$error":"#NAME?"},{"$error":"#NAME?"},{"$error":"#NAME?"},{"$error":"#NAME?"},{"$error":"#NAME?"},{"$error":"#NAME?"},{"$error":"#NAME?"},{"$error":"#NAME?"},{"$error":"#NAME?"},null,{"$error":"#NAME?"},{"$error":"#NAME?"},{"$error":"#NAME?"},{"$error":"#NAME?"},{"$error":"#NAME?"},{"$error":"#NAME?"},{"$error":"#NAME?"},{"$error":"#NAME?"},{"$error":"#NAME?"},{"$error":"#NAME?"},{"$error":"#NAME?"},{"$error":"#NAME?"},{"$error":"#NAME?"},{"$error":"#NAME?"},{"$error":"#NAME?"},{"$error":"#NAME?"},{"$error":"#NAME?"},{"$error":"#NAME?"},{"$error":"#NAME?"},{"$error":"#NAME?"},{"$error":"#NAME?"},{"$error":"#NAME?"},{"$error":"#NAME?"},{"$error":"#NAME?"},{"$error":"#NAME?"},{"$error":"#NAME?"},{"$error":"#NAME?"},{"$error":"#NAME?"},{"$error":"#NAME?"},{"$error":"#NAME?"},{"$error":"#NAME?"},{"$error":"#NAME?"},{"$error":"#NAME?"},{"$error":"#NAME?"},{"$error":"#NAME?"},{"$error":"#NAME?"},{"$error":"#NAME?"},{"$error":"#NAME?"},{"$error":"#NAME?"},{"$error":"#NAME?"},{"$error":"#NAME?"},{"$error":"#NAME?"},{"$error":"#NAME?"},{"$error":"#NAME?"},{"$error":"#NAME?"},{"$error":"#NAME?"},{"$error":"#NAME?"},{"$error":"#NAME?"},{"$error":"#NAME?"},{"$error":"#NAME?"},{"$error":"#NAME?"},{"$error":"#NAME?"},{"$error":"#NAME?"},{"$error":"#NAME?"},{"$error":"#NAME?"},{"$error":"#NAME?"},{"$error":"#NAME?"},{"$error":"#NAME?"},{"$error":"#NAME?"},{"$error":"#NAME?"},{"$error":"#NAME?"},{"$error":"#NAME?"},{"$error":"#NAME?"},{"$error":"#NAME?"},{"$error":"#NAME?"},{"$error":"#NAME?"},{"$error":"#NAME?"},{"$error":"#NAME?"},{"$error":"#NAME?"},{"$error":"#NAME?"},{"$error":"#NAME?"},{"$error":"#NAME?"},{"$error":"#NAME?"},{"$error":"#NAME?"},{"$error":"#NAME?"},{"$error":"#NAME?"},{"$error":"#NAME?"},{"$error":"#NAME?"},{"$error":"#NAME?"},{"$error":"#NAME?"},{"$error":"#NAME?"},{"$error":"#NAME?"},{"$error":"#NAME?"},{"$error":"#NAME?"},{"$error":"#NAME?"},{"$error":"#NAME?"},{"$error":"#NAME?"},{"$error":"#NAME?"},{"$error":"#NAME?"},{"$error":"#NAME?"},{"$error":"#NAME?"},{"$error":"#NAME?"},{"$error":"#NAME?"},{"$error":"#NAME?"},{"$error":"#NAME?"},{"$error":"#NAME?"},{"$error":"#NAME?"},{"$error":"#NAME?"},{"$error":"#NAME?"},{"$error":"#NAME?"}]
[{"$error":"#NAME?"},{"$error":"#NAME?"},{"$error":"#NAME?"},{"$error":"#NAME?"},{"$error":"#NAME?"},{"$error":"#NAME?"},{"$error":"#NAME?"},{"$error":"#NAME?"},{"$error":"#NAME?"},{"$error":"#NAME?"},{"$error":"#NAME?"},{"$error":"#NAME?"},{"$error":"#NAME?"},{"$error":"#NAME?"},{"$error":"#NAME?"},{"$error":"#NAME?"},{"$error":"#NAME?"},{"$error":"#NAME?"},{"$error":"#NAME?"},{"$error":"#NAME?"},{"$error":"#NAME?"},{"$error":"#NAME?"},{"$error":"#NAME?"},{"$error":"#NAME?"},{"$error":"#NAME?"},{"$error":"#NAME?"},{"$error":"#NAME?"},{"$error":"#NAME?"},{"$error":"#NAME?"},{"$error":"#NAME?"},{"$error":"#NAME?"},{"$error":"#NAME?"},{"$error":"#NAME?"},{"$error":"#NAME?"},{"$error":"#NAME?"},{"$error":"#NAME?"},{"$error":"#NAME?"},{"$error":"#NAME?"},{"$error":"#NAME?"},{"$error":"#NAME?"},{"$error":"#NAME?"},{"$error":"#NAME?"},{"$error":"#NAME?"},{"$error":"#NAME?"},{"$error":"#NAME?"},{"$error":"#NAME?"},{"$error":"#NAME?"},{"$error":"#NAME?"},{"$error":"#NAME?"},{"$error":"#NAME?"},{"$error":"#NAME?"},{"$error":"#NAME?"},{"$error":"#NAME?"},{"$error":"#NAME?"},{"$error":"#NAME?"},{"$error":"#NAME?"},{"$error":"#NAME?"},{"$error":"#NAME?"},{"$error":"#NAME?"},{"$error":"#NAME?"},{"$error":"#NAME?"},{"$error":"#NAME?"},{"$error":"#NAME?"},{"$error":"#NAME?"},{"$error":"#NAME?"},{"$error":"#NAME?"},{"$error":"#NAME?"},{"$error":"#NAME?"},{"$error":"#NAME?"},{"$error":"#NAME?"},{"$error":"#NAME?"},{"$error":"#NAME?"},{"$error":"#NAME?"},{"$error":"#NAME?"},{"$error":"#NAME?"},{"$error":"#NAME?"},{"$error":"#NAME?"},{"$error":"#NAME?"},{"$error":"#NAME?"},{"$error":"#NAME?"},{"$error":"#NAME?"},{"$error":"#NAME?"},{"$error":"#NAME?"},{"$error":"#NAME?"},{"$error":"#NAME?"},{"$error":"#NAME?"},{"$error":"#NAME?"},{"$error":"#NAME?"},{"$error":"#NAME?"},{"$error":"#NAME?"},{"$error":"#NAME?"},{"$error":"#NAME?"},{"$error":"#NAME?"},{"$error":"#NAME?"},{"$error":"#NAME?"},{"$error":"#NAME?"},{"$error":"#NAME?"},{"$error":"#NAME?"},{"$error":"#NAME?"},{"$error":"#NAME?"},null,{"$error":"#NAME?"},{"$error":"#NAME?"},{"$error":"#NAME?"},{"$error":"#NAME?"},{"$error":"#NAME?"},{"$error":"#NAME?"},{"$error":"#NAME?"},{"$error":"#NAME?"},{"$error":"#NAME?"},{"$error":"#NAME?"},{"$error":"#NAME?"},{"$error":"#NAME?"},{"$error":"#NAME?"},{"$error":"#NAME?"},{"$error":"#NAME?"},{"$error":"#NAME?"},{"$error":"#NAME?"},{"$error":"#NAME?"},{"$error":"#NAME?"},{"$error":"#NAME?"},{"$error":"#NAME?"},{"$error":"#NAME?"},{"$error":"#NAME?"},{"$error":"#NAME?"},{"$error":"#NAME?"},{"$error":"#NAME?"},{"$error":"#NAME?"},{"$error":"#NAME?"},{"$error":"#NAME?"},{"$error":"#NAME?"},{"$error":"#NAME?"},{"$error":"#NAME?"},{"$error":"#NAME?"},{"$error":"#NAME?"},{"$error":"#NAME?"},{"$error":"#NAME?"},{"$error":"#NAME?"},{"$error":"#NAME?"},{"$error":"#NAME?"},{"$error":"#NAME?"},{"$error":"#NAME?"},{"$error":"#NAME?"},{"$error":"#NAME?"},{"$error":"#NAME?"},{"$error":"#NAME?"},{"$error":"#NAME?"},{"$error":"#NAME?"},{"$error":"#NAME?"},{"$error":"#NAME?"},{"$error":"#NAME?"},{"$error":"#NAME?"},{"$error":"#NAME?"},{"$error":"#NAME?"},{"$error":"#NAME?"},{"$error":"#NAME?"},{"$error":"#NAME?"},{"$error":"#NAME?"},{"$error":"#NAME?"},{"$error":"#NAME?"},{"$error":"#NAME?"},{"$error":"#NAME?"},{"$error":"#NAME?"},{"$error":"#NAME?"},{"$error":"#NAME?"},{"$error":"#NAME?"},{"$error":"#NAME?"},{"$error":"#NAME?"},{"$error":"#NAME?"},{"$error":"#NAME?"},{"$error":"#NAME?"},{"$error":"#NAME?"},{"$error":"#NAME?"},{"$error":"#NAME?"},{"$error":"#NAME?"},{"$error":"#NAME?"},{"$error":"#NAME?"},{"$error":"#NAME?"},{"$error":"#NAME?"},{"$error":"#NAME?"},{"$error":"#NAME?"},{"$error":"#NAME?"},{"$error":"#NAME?"},{"$error":"#NAME?"},{"$error":"#NAME?"},{"$error":"#NAME?"},{"$error":"#NAME?"},{"$error":"#NAME?"},{"$error":"#NAME?"},{"$error":"#NAME?"},{"$error":"#NAME?"},{"$error":"#NAME?"},{"$error":"#NAME?"},{"$error":"#NAME?"},{"$error":"#NAME?"},{"$error":"#NAME?"},{"$error":"#NAME?"},{"$error":"#NAME?"},{"$error":"#NAME?"},{"$error":"#NAME?"},{"$error":"#NAME?"}]
[{"$error":"#NAME?"},{"$error":"#NAME?"},{"$error":"#NAME?"},{"$error":"#NAME?"},{"$error":"#NAME?"},{"$error":"#NAME?"},{"$error":"#NAME?"},{"$error":"#NAME?"},{"$error":"#NAME?"},{"$error":"#NAME?"},{"$error":"#NAME?"},{"$error":"#NAME?"},{"$error":"#NAME?"},{"$error":"#NAME?"},{"$error":"#NAME?"},{"$error":"#NAME?"},{"$error":"#NAME?"},{"$error":"#NAME?"},{"$error":"#NAME?"},{"$error":"#NAME?"},{"$error":"#NAME?"},{"$error":"#NAME?"},{"$error":"#NAME?"},{"$error":"#NAME?"},{"$error":"#NAME?"},{"$error":"#NAME?"},{"$error":"#NAME?"},{"$error":"#NAME?"},{"$error":"#NAME?"},{"$error":"#NAME?"},{"$error":"#NAME?"},{"$error":"#NAME?"},{"$error":"#NAME?"},{"$error":"#NAME?"},{"$error":"#NAME?"},{"$error":"#NAME?"},{"$error":"#NAME?"},{"$error":"#NAME?"},{"$error":"#NAME?"},{"$error":"#NAME?"},{"$error":"#NAME?"},{"$error":"#NAME?"},{"$error":"#NAME?"},{"$error":"#NAME?"},{"$error":"#NAME?"},{"$error":"#NAME?"},{"$error":"#NAME?"},{"$error":"#NAME?"},{"$error":"#NAME?"},{"$error":"#NAME?"},{"$error":"#NAME?"},{"$error":"#NAME?"},{"$error":"#NAME?"},{"$error":"#NAME?"},{"$error":"#NAME?"},{"$error":"#NAME?"},{"$error":"#NAME?"},{"$error":"#NAME?"},{"$error":"#NAME?"},{"$error":"#NAME?"},{"$error":"#NAME?"},{"$error":"#NAME?"},{"$error":"#NAME?"},{"$error":"#NAME?"},{"$error":"#NAME?"},{"$error":"#NAME?"},{"$error":"#NAME?"},{"$error":"#NAME?"},{"$error":"#NAME?"},{"$error":"#NAME?"},{"$error":"#NAME?"},{"$error":"#NAME?"},{"$error":"#NAME?"},{"$error":"#NAME?"},{"$error":"#NAME?"},{"$error":"#NAME?"},{"$error":"#NAME?"},{"$error":"#NAME?"},{"$error":"#NAME?"},{"$error":"#NAME?"},{"$error":"#NAME?"},{"$error":"#NAME?"},{"$error":"#NAME?"},{"$error":"#NAME?"},{"$error":"#NAME?"},{"$error":"#NAME?"},{"$error":"#NAME?"},{"$error":"#NAME?"},{"$error":"#NAME?"},{"$error":"#NAME?"},{"$error":"#NAME?"},{"$error":"#NAME?"},{"$error":"#NAME?"},{"$error":"#NAME?"},{"$error":"#NAME?"},{"$error":"#NAME?"},{"$error":"#NAME?"},{"$error":"#NAME?"},{"$error":"#NAME?"},{"$error":"#NAME?"},null,{"$error":"#NAME?"},{"$error":"#NAME?"},{"$error":"#NAME?"},{"$error":"#NAME?"},{"$error":"#NAME?"},{"$error":"#NAME?"},{"$error":"#NAME?"},{"$error":"#NAME?"},{"$error":"#NAME?"},{"$error":"#NAME?"},{"$error":"#NAME?"},{"$error":"#NAME?"},{"$error":"#NAME?"},{"$error":"#NAME?"},{"$error":"#NAME?"},{"$error":"#NAME?"},{"$error":"#NAME?"},{"$error":"#NAME?"},{"$error":"#NAME?"},{"$error":"#NAME?"},{"$error":"#NAME?"},{"$error":"#NAME?"},{"$error":"#NAME?"},{"$error":"#NAME?"},{"$error":"#NAME?"},{"$error":"#NAME?"},{"$error":"#NAME?"},{"$error":"#NAME?"},{"$error":"#NAME?"},{"$error":"#NAME?"},{"$error":"#NAME?"},{"$error":"#NAME?"},{"$error":"#NAME?"},{"$error":"#NAME?"},{"$error":"#NAME?"},{"$error":"#NAME?"},{"$error":"#NAME?"},{"$error":"#NAME?"},{"$error":"#NAME?"},{"$error":"#NAME?"},{"$error":"#NAME?"},{"$error":"#NAME?"},{"$error":"#NAME?"},{"$error":"#NAME?"},{"$error":"#NAME?"},{"$error":"#NAME?"},{"$error":"#NAME?"},{"$error":"#NAME?"},{"$error":"#NAME?"},{"$error":"#NAME?"},{"$error":"#NAME?"},{"$error":"#NAME?"},{"$error":"#NAME?"},{"$error":"#NAME?"},{"$error":"#NAME?"},{"$error":"#NAME?"},{"$error":"#NAME?"},{"$error":"#NAME?"},{"$error":"#NAME?"},{"$error":"#NAME?"},{"$error":"#NAME?"},{"$error":"#NAME?"},{"$error":"#NAME?"},{"$error":"#NAME?"},{"$error":"#NAME?"},{"$error":"#NAME?"},{"$error":"#NAME?"},{"$error":"#NAME?"},{"$error":"#NAME?"},{"$error":"#NAME?"},{"$error":"#NAME?"},{"$error":"#NAME?"},{"$error":"#NAME?"},{"$error":"#NAME?"},{"$error":"#NAME?"},{"$error":"#NAME?"},{"$error":"#NAME?"},{"$error":"#NAME?"},{"$error":"#NAME?"},{"$error":"#NAME?"},{"$error":"#NAME?"},{"$error":"#NAME?"},{"$error":"#NAME?"},{"$error":"#NAME?"},{"$error":"#NAME?"},{"$error":"#NAME?"},{"$error":"#NAME?"},{"$error":"#NAME?"},{"$error":"#NAME?"},{"$error":"#NAME?"},{"$error":"#NAME?"},{"$error":"#NAME?"},{"$error":"#NAME?"},{"$error":"#NAME?"},{"$error":"#NAME?"},{"$error":"#NAME?"},{"$error":"#NAME?"},{"$error":"#NAME?"},{"$error":"#NAME?"},{"$error":"#NAME?"}]
[{"$error":"#NAME?"},{"$error":"#NAME?"},{"$error":"#NAME?"},{"$error":"#NAME?"},{"$error":"#NAME?"},{"$error":"#NAME?"},{"$error":"#NAME?"},{"$error":"#NAME?"},{"$error":"#NAME?"},{"$error":"#NAME?"},{"$error":"#NAME?"},{"$error":"#NAME?"},{"$error":"#NAME?"},{"$error":"#NAME?"},{"$error":"#NAME?"},{"$error":"#NAME?"},{"$error":"#NAME?"},{"$error":"#NAME?"},{"$error":"#NAME?"},{"$error":"#NAME?"},{"$error":"#NAME?"},{"$error":"#NAME?"},{"$error":"#NAME?"},{"$error":"#NAME?"},{"$error":"#NAME?"},{"$error":"#NAME?"},{"$error":"#NAME?"},{"$error":"#NAME?"},{"$error":"#NAME?"},{"$error":"#NAME?"},{"$error":"#NAME?"},{"$error":"#NAME?"},{"$error":"#NAME?"},{"$error":"#NAME?"},{"$error":"#NAME?"},{"$error":"#NAME?"},{"$error":"#NAME?"},{"$error":"#NAME?"},{"$error":"#NAME?"},{"$error":"#NAME?"},{"$error":"#NAME?"},{"$error":"#NAME?"},{"$error":"#NAME?"},{"$error":"#NAME?"},{"$error":"#NAME?"},{"$error":"#NAME?"},{"$error":"#NAME?"},{"$error":"#NAME?"},{"$error":"#NAME?"},{"$error":"#NAME?"},{"$error":"#NAME?"},{"$error":"#NAME?"},{"$error":"#NAME?"},{"$error":"#NAME?"},{"$error":"#NAME?"},{"$error":"#NAME?"},{"$error":"#NAME?"},{"$error":"#NAME?"},{"$error":"#NAME?"},{"$error":"#NAME?"},{"$error":"#NAME?"},{"$error":"#NAME?"},{"$error":"#NAME?"},{"$error":"#NAME?"},{"$error":"#NAME?"},{"$error":"#NAME?"},{"$error":"#NAME?"},{"$error":"#NAME?"},{"$error":"#NAME?"},{"$error":"#NAME?"},{"$error":"#NAME?"},{"$error":"#NAME?"},{"$error":"#NAME?"},{"$error":"#NAME?"},{"$error":"#NAME?"},{"$error":"#NAME?"},{"$error":"#NAME?"},{"$error":"#NAME?"},{"$error":"#NAME?"},{"$error":"#NAME?"},{"$error":"#NAME?"},{"$error":"#NAME?"},{"$error":"#NAME?"},{"$error":"#NAME?"},{"$error":"#NAME?"},{"$error":"#NAME?"},{"$error":"#NAME?"},{"$error":"#NAME?"},{"$error":"#NAME?"},{"$error":"#NAME?"},{"$error":"#NAME?"},{"$error":"#NAME?"},{"$error":"#NAME?"},{"$error":"#NAME?"},{"$error":"#NAME?"},{"$error":"#NAME?"},{"$error":"#NAME?"},{"$error":"#NAME?"},{"$error":"#NAME?"},{"$error":"#NAME?"},null,{"$error":"#NAME?"},{"$error":"#NAME?"},{"$error":"#NAME?"},{"$error":"#NAME?"},{"$error":"#NAME?"},{"$error":"#NAME?"},{"$error":"#NAME?"},{"$error":"#NAME?"},{"$error":"#NAME?"},{"$error":"#NAME?"},{"$error":"#NAME?"},{"$error":"#NAME?"},{"$error":"#NAME?"},{"$error":"#NAME?"},{"$error":"#NAME?"},{"$error":"#NAME?"},{"$error":"#NAME?"},{"$error":"#NAME?"},{"$error":"#NAME?"},{"$error":"#NAME?"},{"$error":"#NAME?"},{"$error":"#NAME?"},{"$error":"#NAME?"},{"$error":"#NAME?"},{"$error":"#NAME?"},{"$error":"#NAME?"},{"$error":"#NAME?"},{"$error":"#NAME?"},{"$error":"#NAME?"},{"$error":"#NAME?"},{"$error":"#NAME?"},{"$error":"#NAME?"},{"$error":"#NAME?"},{"$error":"#NAME?"},{"$error":"#NAME?"},{"$error":"#NAME?"},{"$error":"#NAME?"},{"$error":"#NAME?"},{"$error":"#NAME?"},{"$error":"#NAME?"},{"$error":"#NAME?"},{"$error":"#NAME?"},{"$error":"#NAME?"},{"$error":"#NAME?"},{"$error":"#NAME?"},{"$error":"#NAME?"},{"$error":"#NAME?"},{"$error":"#NAME?"},{"$error":"#NAME?"},{"$error":"#NAME?"},{"$error":"#NAME?"},{"$error":"#NAME?"},{"$error":"#NAME?"},{"$error":"#NAME?"},{"$error":"#NAME?"},{"$error":"#NAME?"},{"$error":"#NAME?"},{"$error":"#NAME?"},{"$error":"#NAME?"},{"$error":"#NAME?"},{"$error":"#NAME?"},{"$error":"#NAME?"},{"$error":"#NAME?"},{"$error":"#NAME?"},{"$error":"#NAME?"},{"$error":"#NAME?"},{"$error":"#NAME?"},{"$error":"#NAME?"},{"$error":"#NAME?"},{"$error":"#NAME?"},{"$error":"#NAME?"},{"$error":"#NAME?"},{"$error":"#NAME?"},{"$error":"#NAME?"},{"$error":"#NAME?"},{"$error":"#NAME?"},{"$error":"#NAME?"},{"$error":"#NAME?"},{"$error":"#NAME?"},{"$error":"#NAME?"},{"$error":"#NAME?"},{"$error":"#NAME?"},{"$error":"#NAME?"},{"$error":"#NAME?"},{"$error":"#NAME?"},{"$error":"#NAME?"},{"$error":"#NAME?"},{"$error":"#NAME?"},{"$error":"#NAME?"},{"$error":"#NAME?"},{"$error":"#NAME?"},{"$error":"#NAME?"},{"$error":"#NAME?"},{"$error":"#NAME?"},{"$error":"#NAME?"},{"$error":"#NAME?"},{"$error":"#NAME?"},{"$error":"#NAME?"},{"$error":"#NAME?"},{"$error":"#NAME?"}]
[{"$error":"#NAME?"},{"$error":"#NAME?"},{"$error":"#NAME?"},{"$error":"#NAME?"},{"$error":"#NAME?"},{"$error":"#NAME?"},{"$error":"#NAME?"},{"$error":"#NAME?"},{"$error":"#NAME?"},{"$error":"#NAME?"},{"$error":"#NAME?"},{"$error":"#NAME?"},{"$error":"#NAME?"},{"$error":"#NAME?"},{"$error":"#NAME?"},{"$error":"#NAME?"},{"$error":"#NAME?"},{"$error":"#NAME?"},{"$error":"#NAME?"},{"$error":"#NAME?"},{"$error":"#NAME?"},{"$error":"#NAME?"},{"$error":"#NAME?"},{"$error":"#NAME?"},{"$error":"#NAME?"},{"$error":"#NAME?"},{"$error":"#NAME?"},{"$error":"#NAME?"},{"$error":"#NAME?"},{"$error":"#NAME?"},{"$error":"#NAME?"},{"$error":"#NAME?"},{"$error":"#NAME?"},{"$error":"#NAME?"},{"$error":"#NAME?"},{"$error":"#NAME?"},{"$error":"#NAME?"},{"$error":"#NAME?"},{"$error":"#NAME?"},{"$error":"#NAME?"},{"$error":"#NAME?"},{"$error":"#NAME?"},{"$error":"#NAME?"},{"$error":"#NAME?"},{"$error":"#NAME?"},{"$error":"#NAME?"},{"$error":"#NAME?"},{"$error":"#NAME?"},{"$error":"#NAME?"},{"$error":"#NAME?"},{"$error":"#NAME?"},{"$error":"#NAME?"},{"$error":"#NAME?"},{"$error":"#NAME?"},{"$error":"#NAME?"},{"$error":"#NAME?"},{"$error":"#NAME?"},{"$error":"#NAME?"},{"$error":"#NAME?"},{"$error":"#NAME?"},{"$error":"#NAME?"},{"$error":"#NAME?"},{"$error":"#NAME?"},{"$error":"#NAME?"},{"$error":"#NAME?"},{"$error":"#NAME?"},{"$error":"#NAME?"},{"$error":"#NAME?"},{"$error":"#NAME?"},{"$error":"#NAME?"},{"$error":"#NAME?"},{"$error":"#NAME?"},{"$error":"#NAME?"},{"$error":"#NAME?"},{"$error":"#NAME?"},{"$error":"#NAME?"},{"$error":"#NAME?"},{"$error":"#NAME?"},{"$error":"#NAME?"},{"$error":"#NAME?"},{"$error":"#NAME?"},{"$error":"#NAME?"},{"$error":"#NAME?"},{"$error":"#NAME?"},{"$error":"#NAME?"},{"$error":"#NAME?"},{"$error":"#NAME?"},{"$error":"#NAME?"},{"$error":"#NAME?"},{"$error":"#NAME?"},{"$error":"#NAME?"},{"$error":"#NAME?"},{"$error":"#NAME?"},{"$error":"#NAME?"},{"$error":"#NAME?"},{"$error":"#NAME?"},{"$error":"#NAME?"},{"$error":"#NAME?"},{"$error":"#NAME?"},{"$error":"#NAME?"},null,{"$error":"#NAME?"},{"$error":"#NAME?"},{"$error":"#NAME?"},{"$error":"#NAME?"},{"$error":"#NAME?"},{"$error":"#NAME?"},{"$error":"#NAME?"},{"$error":"#NAME?"},{"$error":"#NAME?"},{"$error":"#NAME?"},{"$error":"#NAME?"},{"$error":"#NAME?"},{"$error":"#NAME?"},{"$error":"#NAME?"},{"$error":"#NAME?"},{"$error":"#NAME?"},{"$error":"#NAME?"},{"$error":"#NAME?"},{"$error":"#NAME?"},{"$error":"#NAME?"},{"$error":"#NAME?"},{"$error":"#NAME?"},{"$error":"#NAME?"},{"$error":"#NAME?"},{"$error":"#NAME?"},{"$error":"#NAME?"},{"$error":"#NAME?"},{"$error":"#NAME?"},{"$error":"#NAME?"},{"$error":"#NAME?"},{"$error":"#NAME?"},{"$error":"#NAME?"},{"$error":"#NAME?"},{"$error":"#NAME?"},{"$error":"#NAME?"},{"$error":"#NAME?"},{"$error":"#NAME?"},{"$error":"#NAME?"},{"$error":"#NAME?"},{"$error":"#NAME?"},{"$error":"#NAME?"},{"$error":"#NAME?"},{"$error":"#NAME?"},{"$error":"#NAME?"},{"$error":"#NAME?"},{"$error":"#NAME?"},{"$error":"#NAME?"},{"$error":"#NAME?"},{"$error":"#NAME?"},{"$error":"#NAME?"},{"$error":"#NAME?"},{"$error":"#NAME?"},{"$error":"#NAME?"},{"$error":"#NAME?"},{"$error":"#NAME?"},{"$error":"#NAME?"},{"$error":"#NAME?"},{"$error":"#NAME?"},{"$error":"#NAME?"},{"$error":"#NAME?"},{"$error":"#NAME?"},{"$error":"#NAME?"},{"$error":"#NAME?"},{"$error":"#NAME?"},{"$error":"#NAME?"},{"$error":"#NAME?"},{"$error":"#NAME?"},{"$error":"#NAME?"},{"$error":"#NAME?"},{"$error":"#NAME?"},{"$error":"#NAME?"},{"$error":"#NAME?"},{"$error":"#NAME?"},{"$error":"#NAME?"},{"$error":"#NAME?"},{"$error":"#NAME?"},{"$error":"#NAME?"},{"$error":"#NAME?"},{"$error":"#NAME?"},{"$error":"#NAME?"},{"$error":"#NAME?"},{"$error":"#NAME?"},{"$error":"#NAME?"},{"$error":"#NAME?"},{"$error":"#NAME?"},{"$error":"#NAME?"},{"$error":"#NAME?"},{"$error":"#NAME?"},{"$error":"#NAME?"},{"$error":"#NAME?"},{"$error":"#NAME?"},{"$error":"#NAME?"},{"$error":"#NAME?"},{"$error":"#NAME?"},{"$error":"#NAME?"},{"$error":"#NAME?"},{"$error":"#NAME?"},{"$error":"#NAME?"},{"$error":"#NAME?"},{"$error":"#NAME?"}]
[{"$error":"#NAME?"},{"$error":"#NAME?"},{"$error":"#NAME?"},{"$error":"#NAME?"},{"$error":"#NAME?"},{"$error":"#NAME?"},{"$error":"#NAME?"},{"$error":"#NAME?"},{"$error":"#NAME?"},{"$error":"#NAME?"},{"$error":"#NAME?"},{"$error":"#NAME?"},{"$error":"#NAME?"},{"$error":"#NAME?"},{"$error":"#NAME?"},{"$error":"#NAME?"},{"$error":"#NAME?"},{"$error":"#NAME?"},{"$error":"#NAME?"},{"$error":"#NAME?"},{"$error":"#NAME?"},{"$error":"#NAME?"},{"$error":"#NAME?"},{"$error":"#NAME?"},{"$error":"#NAME?"},{"$error":"#NAME?"},{"$error":"#NAME?"},{"$error":"#NAME?"},{"$error":"#NAME?"},{"$error":"#NAME?"},{"$error":"#NAME?"},{"$error":"#NAME?"},{"$error":"#NAME?"},{"$error":"#NAME?"},{"$error":"#NAME?"},{"$error":"#NAME?"},{"$error":"#NAME?"},{"$error":"#NAME?"},{"$error":"#NAME?"},{"$error":"#NAME?"},{"$error":"#NAME?"},{"$error":"#NAME?"},{"$error":"#NAME?"},{"$error":"#NAME?"},{"$error":"#NAME?"},{"$error":"#NAME?"},{"$error":"#NAME?"},{"$error":"#NAME?"},{"$error":"#NAME?"},{"$error":"#NAME?"},{"$error":"#NAME?"},{"$error":"#NAME?"},{"$error":"#NAME?"},{"$error":"#NAME?"},{"$error":"#NAME?"},{"$error":"#NAME?"},{"$error":"#NAME?"},{"$error":"#NAME?"},{"$error":"#NAME?"},{"$error":"#NAME?"},{"$error":"#NAME?"},{"$error":"#NAME?"},{"$error":"#NAME?"},{"$error":"#NAME?"},{"$error":"#NAME?"},{"$error":"#NAME?"},{"$error":"#NAME?"},{"$error":"#NAME?"},{"$error":"#NAME?"},{"$error":"#NAME?"},{"$error":"#NAME?"},{"$error":"#NAME?"},{"$error":"#NAME?"},{"$error":"#NAME?"},{"$error":"#NAME?"},{"$error":"#NAME?"},{"$error":"#NAME?"},{"$error":"#NAME?"},{"$error":"#NAME?"},{"$error":"#NAME?"},{"$error":"#NAME?"},{"$error":"#NAME?"},{"$error":"#NAME?"},{"$error":"#NAME?"},{"$error":"#NAME?"},{"$error":"#NAME?"},{"$error":"#NAME?"},{"$error":"#NAME?"},{"$error":"#NAME?"},{"$error":"#NAME?"},{"$error":"#NAME?"},{"$error":"#NAME?"},{"$error":"#NAME?"},{"$error":"#NAME?"},{"$error":"#NAME?"},{"$error":"#NAME?"},{"$error":"#NAME?"},{"$error":"#NAME?"},{"$error":"#NAME?"},{"$error":"#NAME?"},null,{"$error":"#NAME?"},{"$error":"#NAME?"},{"$error":"#NAME?"},{"$error":"#NAME?"},{"$error":"#NAME?"},{"$error":"#NAME?"},{"$error":"#NAME?"},{"$error":"#NAME?"},{"$error":"#NAME?"},{"$error":"#NAME?"},{"$error":"#NAME?"},{"$error":"#NAME?"},{"$error":"#NAME?"},{"$error":"#NAME?"},{"$error":"#NAME?"},{"$error":"#NAME?"},{"$error":"#NAME?"},{"$error":"#NAME?"},{"$error":"#NAME?"},{"$error":"#NAME?"},{"$error":"#NAME?"},{"$error":"#NAME?"},{"$error":"#NAME?"},{"$error":"#NAME?"},{"$error":"#NAME?"},{"$error":"#NAME?"},{"$error":"#NAME?"},{"$error":"#NAME?"},{"$error":"#NAME?"},{"$error":"#NAME?"},{"$error":"#NAME?"},{"$error":"#NAME?"},{"$error":"#NAME?"},{"$error":"#NAME?"},{"$error":"#NAME?"},{"$error":"#NAME?"},{"$error":"#NAME?"},{"$error":"#NAME?"},{"$error":"#NAME?"},{"$error":"#NAME?"},{"$error":"#NAME?"},{"$error":"#NAME?"},{"$error":"#NAME?"},{"$error":"#NAME?"},{"$error":"#NAME?"},{"$error":"#NAME?"},{"$error":"#NAME?"},{"$error":"#NAME?"},{"$error":"#NAME?"},{"$error":"#NAME?"},{"$error":"#NAME?"},{"$error":"#NAME?"},{"$error":"#NAME?"},{"$error":"#NAME?"},{"$error":"#NAME?"},{"$error":"#NAME?"},{"$error":"#NAME?"},{"$error":"#NAME?"},{"$error":"#NAME?"},{"$error":"#NAME?"},{"$error":"#NAME?"},{"$error":"#NAME?"},{"$error":"#NAME?"},{"$error":"#NAME?"},{"$error":"#NAME?"},{"$error":"#NAME?"},{"$error":"#NAME?"},{"$error":"#NAME?"},{"$error":"#NAME?"},{"$error":"#NAME?"},{"$error":"#NAME?"},{"$error":"#NAME?"},{"$error":"#NAME?"},{"$error":"#NAME?"},{"$error":"#NAME?"},{"$error":"#NAME?"},{"$error":"#NAME?"},{"$error":"#NAME?"},{"$error":"#NAME?"},{"$error":"#NAME?"},{"$error":"#NAME?"},{"$error":"#NAME?"},{"$error":"#NAME?"},{"$error":"#NAME?"},{"$error":"#NAME?"},{"$error":"#NAME?"},{"$error":"#NAME?"},{"$error":"#NAME?"},{"$error":"#NAME?"},{"$error":"#NAME?"},{"$error":"#NAME?"},{"$error":"#NAME?"},{"$error":"#NAME?"},{"$error":"#NAME?"},{"$error":"#NAME?"},{"$error":"#NAME?"},{"$error":"#NAME?"},{"$error":"#NAME?"},{"$error":"#NAME?"},{"$error":"#NAME?"}]
[{"$error":"#NAME?"},{"$error":"#NAME?"},{"$error":"#NAME?"},{"$error":"#NAME?"},{"$error":"#NAME?"},{"$error":"#NAME?"},{"$error":"#NAME?"},{"$error":"#NAME?"},{"$error":"#NAME?"},{"$error":"#NAME?"},{"$error":"#NAME?"},{"$error":"#NAME?"},{"$error":"#NAME?"},{"$error":"#NAME?"},{"$error":"#NAME?"},{"$error":"#NAME?"},{"$error":"#NAME?"},{"$error":"#NAME?"},{"$error":"#NAME?"},{"$error":"#NAME?"},{"$error":"#NAME?"},{"$error":"#NAME?"},{"$error":"#NAME?"},{"$error":"#NAME?"},{"$error":"#NAME?"},{"$error":"#NAME?"},{"$error":"#NAME?"},{"$error":"#NAME?"},{"$error":"#NAME?"},{"$error":"#NAME?"},{"$error":"#NAME?"},{"$error":"#NAME?"},{"$error":"#NAME?"},{"$error":"#NAME?"},{"$error":"#NAME?"},{"$error":"#NAME?"},{"$error":"#NAME?"},{"$error":"#NAME?"},{"$error":"#NAME?"},{"$error":"#NAME?"},{"$error":"#NAME?"},{"$error":"#NAME?"},{"$error":"#NAME?"},{"$error":"#NAME?"},{"$error":"#NAME?"},{"$error":"#NAME?"},{"$error":"#NAME?"},{"$error":"#NAME?"},{"$error":"#NAME?"},{"$error":"#NAME?"},{"$error":"#NAME?"},{"$error":"#NAME?"},{"$error":"#NAME?"},{"$error":"#NAME?"},{"$error":"#NAME?"},{"$error":"#NAME?"},{"$error":"#NAME?"},{"$error":"#NAME?"},{"$error":"#NAME?"},{"$error":"#NAME?"},{"$error":"#NAME?"},{"$error":"#NAME?"},{"$error":"#NAME?"},{"$error":"#NAME?"},{"$error":"#NAME?"},{"$error":"#NAME?"},{"$error":"#NAME?"},{"$error":"#NAME?"},{"$error":"#NAME?"},{"$error":"#NAME?"},{"$error":"#NAME?"},{"$error":"#NAME?"},{"$error":"#NAME?"},{"$error":"#NAME?"},{"$error":"#NAME?"},{"$error":"#NAME?"},{"$error":"#NAME?"},{"$error":"#NAME?"},{"$error":"#NAME?"},{"$error":"#NAME?"},{"$error":"#NAME?"},{"$error":"#NAME?"},{"$error":"#NAME?"},{"$error":"#NAME?"},{"$error":"#NAME?"},{"$error":"#NAME?"},{"$error":"#NAME?"},{"$error":"#NAME?"},{"$error":"#NAME?"},{"$error":"#NAME?"},{"$error":"#NAME?"},{"$error":"#NAME?"},{"$error":"#NAME?"},{"$error":"#NAME?"},{"$error":"#NAME?"},{"$error":"#NAME?"},{"$error":"#NAME?"},{"$error":"#NAME?"},{"$error":"#NAME?"},{"$error":"#NAME?"},null,{"$error":"#NAME?"},{"$error":"#NAME?"},{"$error":"#NAME?"},{"$error":"#NAME?"},{"$error":"#NAME?"},{"$error":"#NAME?"},{"$error":"#NAME?"},{"$error":"#NAME?"},{"$error":"#NAME?"},{"$error":"#NAME?"},{"$error":"#NAME?"},{"$error":"#NAME?"},{"$error":"#NAME?"},{"$error":"#NAME?"},{"$error":"#NAME?"},{"$error":"#NAME?"},{"$error":"#NAME?"},{"$error":"#NAME?"},{"$error":"#NAME?"},{"$error":"#NAME?"},{"$error":"#NAME?"},{"$error":"#NAME?"},{"$error":"#NAME?"},{"$error":"#NAME?"},{"$error":"#NAME?"},{"$error":"#NAME?"},{"$error":"#NAME?"},{"$error":"#NAME?"},{"$error":"#NAME?"},{"$error":"#NAME?"},{"$error":"#NAME?"},{"$error":"#NAME?"},{"$error":"#NAME?"},{"$error":"#NAME?"},{"$error":"#NAME?"},{"$error":"#NAME?"},{"$error":"#NAME?"},{"$error":"#NAME?"},{"$error":"#NAME?"},{"$error":"#NAME?"},{"$error":"#NAME?"},{"$error":"#NAME?"},{"$error":"#NAME?"},{"$error":"#NAME?"},{"$error":"#NAME?"},{"$error":"#NAME?"},{"$error":"#NAME?"},{"$error":"#NAME?"},{"$error":"#NAME?"},{"$error":"#NAME?"},{"$error":"#NAME?"},{"$error":"#NAME?"},{"$error":"#NAME?"},{"$error":"#NAME?"},{"$error":"#NAME?"},{"$error":"#NAME?"},{"$error":"#NAME?"},{"$error":"#NAME?"},{"$error":"#NAME?"},{"$error":"#NAME?"},{"$error":"#NAME?"},{"$error":"#NAME?"},{"$error":"#NAME?"},{"$error":"#NAME?"},{"$error":"#NAME?"},{"$error":"#NAME?"},{"$error":"#NAME?"},{"$error":"#NAME?"},{"$error":"#NAME?"},{"$error":"#NAME?"},{"$error":"#NAME?"},{"$error":"#NAME?"},{"$error":"#NAME?"},{"$error":"#NAME?"},{"$error":"#NAME?"},{"$error":"#NAME?"},{"$error":"#NAME?"},{"$error":"#NAME?"},{"$error":"#NAME?"},{"$error":"#NAME?"},{"$error":"#NAME?"},{"$error":"#NAME?"},{"$error":"#NAME?"},{"$error":"#NAME?"},{"$error":"#NAME?"},{"$error":"#NAME?"},{"$error":"#NAME?"},{"$error":"#NAME?"},{"$error":"#NAME?"},{"$error":"#NAME?"},{"$error":"#NAME?"},{"$error":"#NAME?"},{"$error":"#NAME?"},{"$error":"#NAME?"},{"$error":"#NAME?"},{"$error":"#NAME?"},{"$error":"#NAME?"},{"$error":"#NAME?"},{"$error":"#NAME?"},{"$error":"#NAME?"}]
[{"$error":"#NAME?"},{"$error":"#NAME?"},{"$error":"#NAME?"},{"$error":"#NAME?"},{"$error":"#NAME?"},{"$error":"#NAME?"},{"$error":"#NAME?"},{"$error":"#NAME?"},{"$error":"#NAME?"},{"$error":"#NAME?"},{"$error":"#NAME?"},{"$error":"#NAME?"},{"$error":"#NAME?"},{"$error":"#NAME?"},{"$error":"#NAME?"},{"$error":"#NAME?"},{"$error":"#NAME?"},{"$error":"#NAME?"},{"$error":"#NAME?"},{"$error":"#NAME?"},{"$error":"#NAME?"},{"$error":"#NAME?"},{"$error":"#NAME?"},{"$error":"#NAME?"},{"$error":"#NAME?"},{"$error":"#NAME?"},{"$error":"#NAME?"},{"$error":"#NAME?"},{"$error":"#NAME?"},{"$error":"#NAME?"},{"$error":"#NAME?"},{"$error":"#NAME?"},{"$error":"#NAME?"},{"$error":"#NAME?"},{"$error":"#NAME?"},{"$error":"#NAME?"},{"$error":"#NAME?"},{"$error":"#NAME?"},{"$error":"#NAME?"},{"$error":"#NAME?"},{"$error":"#NAME?"},{"$error":"#NAME?"},{"$error":"#NAME?"},{"$error":"#NAME?"},{"$error":"#NAME?"},{"$error":"#NAME?"},{"$error":"#NAME?"},{"$error":"#NAME?"},{"$error":"#NAME?"},{"$error":"#NAME?"},{"$error":"#NAME?"},{"$error":"#NAME?"},{"$error":"#NAME?"},{"$error":"#NAME?"},{"$error":"#NAME?"},{"$error":"#NAME?"},{"$error":"#NAME?"},{"$error":"#NAME?"},{"$error":"#NAME?"},{"$error":"#NAME?"},{"$error":"#NAME?"},{"$error":"#NAME?"},{"$error":"#NAME?"},{"$error":"#NAME?"},{"$error":"#NAME?"},{"$error":"#NAME?"},{"$error":"#NAME?"},{"$error":"#NAME?"},{"$error":"#NAME?"},{"$error":"#NAME?"},{"$error":"#NAME?"},{"$error":"#NAME?"},{"$error":"#NAME?"},{"$error":"#NAME?"},{"$error":"#NAME?"},{"$error":"#NAME?"},{"$error":"#NAME?"},{"$error":"#NAME?"},{"$error":"#NAME?"},{"$error":"#NAME?"},{"$error":"#NAME?"},{"$error":"#NAME?"},{"$error":"#NAME?"},{"$error":"#NAME?"},{"$error":"#NAME?"},{"$error":"#NAME?"},{"$error":"#NAME?"},{"$error":"#NAME?"},{"$error":"#NAME?"},{"$error":"#NAME?"},{"$error":"#NAME?"},{"$error":"#NAME?"},{"$error":"#NAME?"},{"$error":"#NAME?"},{"$error":"#NAME?"},{"$error":"#NAME?"},{"$error":"#NAME?"},{"$error":"#NAME?"},{"$error":"#NAME?"},{"$error":"#NAME?"},null,{"$error":"#NAME?"},{"$error":"#NAME?"},{"$error":"#NAME?"},{"$error":"#NAME?"},{"$error":"#NAME?"},{"$error":"#NAME?"},{"$error":"#NAME?"},{"$error":"#NAME?"},{"$error":"#NAME?"},{"$error":"#NAME?"},{"$error":"#NAME?"},{"$error":"#NAME?"},{"$error":"#NAME?"},{"$error":"#NAME?"},{"$error":"#NAME?"},{"$error":"#NAME?"},{"$error":"#NAME?"},{"$error":"#NAME?"},{"$error":"#NAME?"},{"$error":"#NAME?"},{"$error":"#NAME?"},{"$error":"#NAME?"},{"$error":"#NAME?"},{"$error":"#NAME?"},{"$error":"#NAME?"},{"$error":"#NAME?"},{"$error":"#NAME?"},{"$error":"#NAME?"},{"$error":"#NAME?"},{"$error":"#NAME?"},{"$error":"#NAME?"},{"$error":"#NAME?"},{"$error":"#NAME?"},{"$error":"#NAME?"},{"$error":"#NAME?"},{"$error":"#NAME?"},{"$error":"#NAME?"},{"$error":"#NAME?"},{"$error":"#NAME?"},{"$error":"#NAME?"},{"$error":"#NAME?"},{"$error":"#NAME?"},{"$error":"#NAME?"},{"$error":"#NAME?"},{"$error":"#NAME?"},{"$error":"#NAME?"},{"$error":"#NAME?"},{"$error":"#NAME?"},{"$error":"#NAME?"},{"$error":"#NAME?"},{"$error":"#NAME?"},{"$error":"#NAME?"},{"$error":"#NAME?"},{"$error":"#NAME?"},{"$error":"#NAME?"},{"$error":"#NAME?"},{"$error":"#NAME?"},{"$error":"#NAME?"},{"$error":"#NAME?"},{"$error":"#NAME?"},{"$error":"#NAME?"},{"$error":"#NAME?"},{"$error":"#NAME?"},{"$error":"#NAME?"},{"$error":"#NAME?"},{"$error":"#NAME?"},{"$error":"#NAME?"},{"$error":"#NAME?"},{"$error":"#NAME?"},{"$error":"#NAME?"},{"$error":"#NAME?"},{"$error":"#NAME?"},{"$error":"#NAME?"},{"$error":"#NAME?"},{"$error":"#NAME?"},{"$error":"#NAME?"},{"$error":"#NAME?"},{"$error":"#NAME?"},{"$error":"#NAME?"},{"$error":"#NAME?"},{"$error":"#NAME?"},{"$error":"#NAME?"},{"$error":"#NAME?"},{"$error":"#NAME?"},{"$error":"#NAME?"},{"$error":"#NAME?"},{"$error":"#NAME?"},{"$error":"#NAME?"},{"$error":"#NAME?"},{"$error":"#NAME?"},{"$error":"#NAME?"},{"$error":"#NAME?"},{"$error":"#NAME?"},{"$error":"#NAME?"},{"$error":"#NAME?"},{"$error":"#NAME?"},{"$error":"#NAME?"},{"$error":"#NAME?"},{"$error":"#NAME?"},{"$error":"#NAME?"}]
[{"$error":"#NAME?"},{"$error":"#NAME?"},{"$error":"#NAME?"},{"$error":"#NAME?"},{"$error":"#NAME?"},{"$error":"#NAME?"},{"$error":"#NAME?"},{"$error":"#NAME?"},{"$error":"#NAME?"},{"$error":"#NAME?"},{"$error":"#NAME?"},{"$error":"#NAME?"},{"$error":"#NAME?"},{"$error":"#NAME?"},{"$error":"#NAME?"},{"$error":"#NAME?"},{"$error":"#NAME?"},{"$error":"#NAME?"},{"$error":"#NAME?"},{"$error":"#NAME?"},{"$error":"#NAME?"},{"$error":"#NAME?"},{"$error":"#NAME?"},{"$error":"#NAME?"},{"$error":"#NAME?"},{"$error":"#NAME?"},{"$error":"#NAME?"},{"$error":"#NAME?"},{"$error":"#NAME?"},{"$error":"#NAME?"},{"$error":"#NAME?"},{"$error":"#NAME?"},{"$error":"#NAME?"},{"$error":"#NAME?"},{"$error":"#NAME?"},{"$error":"#NAME?"},{"$error":"#NAME?"},{"$error":"#NAME?"},{"$error":"#NAME?"},{"$error":"#NAME?"},{"$error":"#NAME?"},{"$error":"#NAME?"},{"$error":"#NAME?"},{"$error":"#NAME?"},{"$error":"#NAME?"},{"$error":"#NAME?"},{"$error":"#NAME?"},{"$error":"#NAME?"},{"$error":"#NAME?"},{"$error":"#NAME?"},{"$error":"#NAME?"},{"$error":"#NAME?"},{"$error":"#NAME?"},{"$error":"#NAME?"},{"$error":"#NAME?"},{"$error":"#NAME?"},{"$error":"#NAME?"},{"$error":"#NAME?"},{"$error":"#NAME?"},{"$error":"#NAME?"},{"$error":"#NAME?"},{"$error":"#NAME?"},{"$error":"#NAME?"},{"$error":"#NAME?"},{"$error":"#NAME?"},{"$error":"#NAME?"},{"$error":"#NAME?"},{"$error":"#NAME?"},{"$error":"#NAME?"},{"$error":"#NAME?"},{"$error":"#NAME?"},{"$error":"#NAME?"},{"$error":"#NAME?"},{"$error":"#NAME?"},{"$error":"#NAME?"},{"$error":"#NAME?"},{"$error":"#NAME?"},{"$error":"#NAME?"},{"$error":"#NAME?"},{"$error":"#NAME?"},{"$error":"#NAME?"},{"$error":"#NAME?"},{"$error":"#NAME?"},{"$error":"#NAME?"},{"$error":"#NAME?"},{"$error":"#NAME?"},{"$error":"#NAME?"},{"$error":"#NAME?"},{"$error":"#NAME?"},{"$error":"#NAME?"},{"$error":"#NAME?"},{"$error":"#NAME?"},{"$error":"#NAME?"},{"$error":"#NAME?"},{"$error":"#NAME?"},{"$error":"#NAME?"},{"$error":"#NAME?"},{"$error":"#NAME?"},{"$error":"#NAME?"},{"$error":"#NAME?"},null,{"$error":"#NAME?"},{"$error":"#NAME?"},{"$error":"#NAME?"},{"$error":"#NAME?"},{"$error":"#NAME?"},{"$error":"#NAME?"},{"$error":"#NAME?"},{"$error":"#NAME?"},{"$error":"#NAME?"},{"$error":"#NAME?"},{"$error":"#NAME?"},{"$error":"#NAME?"},{"$error":"#NAME?"},{"$error":"#NAME?"},{"$error":"#NAME?"},{"$error":"#NAME?"},{"$error":"#NAME?"},{"$error":"#NAME?"},{"$error":"#NAME?"},{"$error":"#NAME?"},{"$error":"#NAME?"},{"$error":"#NAME?"},{"$error":"#NAME?"},{"$error":"#NAME?"},{"$error":"#NAME?"},{"$error":"#NAME?"},{"$error":"#NAME?"},{"$error":"#NAME?"},{"$error":"#NAME?"},{"$error":"#NAME?"},{"$error":"#NAME?"},{"$error":"#NAME?"},{"$error":"#NAME?"},{"$error":"#NAME?"},{"$error":"#NAME?"},{"$error":"#NAME?"},{"$error":"#NAME?"},{"$error":"#NAME?"},{"$error":"#NAME?"},{"$error":"#NAME?"},{"$error":"#NAME?"},{"$error":"#NAME?"},{"$error":"#NAME?"},{"$error":"#NAME?"},{"$error":"#NAME?"},{"$error":"#NAME?"},{"$error":"#NAME?"},{"$error":"#NAME?"},{"$error":"#NAME?"},{"$error":"#NAME?"},{"$error":"#NAME?"},{"$error":"#NAME?"},{"$error":"#NAME?"},{"$error":"#NAME?"},{"$error":"#NAME?"},{"$error":"#NAME?"},{"$error":"#NAME?"},{"$error":"#NAME?"},{"$error":"#NAME?"},{"$error":"#NAME?"},{"$error":"#NAME?"},{"$error":"#NAME?"},{"$error":"#NAME?"},{"$error":"#NAME?"},{"$error":"#NAME?"},{"$error":"#NAME?"},{"$error":"#NAME?"},{"$error":"#NAME?"},{"$error":"#NAME?"},{"$error":"#NAME?"},{"$error":"#NAME?"},{"$error":"#NAME?"},{"$error":"#NAME?"},{"$error":"#NAME?"},{"$error":"#NAME?"},{"$error":"#NAME?"},{"$error":"#NAME?"},{"$error":"#NAME?"},{"$error":"#NAME?"},{"$error":"#NAME?"},{"$error":"#NAME?"},{"$error":"#NAME?"},{"$error":"#NAME?"},{"$error":"#NAME?"},{"$error":"#NAME?"},{"$error":"#NAME?"},{"$error":"#NAME?"},{"$error":"#NAME?"},{"$error":"#NAME?"},{"$error":"#NAME?"},{"$error":"#NAME?"},{"$error":"#NAME?"},{"$error":"#NAME?"},{"$error":"#NAME?"},{"$error":"#NAME?"},{"$error":"#NAME?"},{"$error":"#NAME?"},{"$error":"#NAME?"},{"$error":"#NAME?"},{"$error":"#NAME?"}]
[{"$error":"#NAME?"},{"$error":"#NAME?"},{"$error":"#NAME?"},{"$error":"#NAME?"},{"$error":"#NAME?"},{"$error":"#NAME?"},{"$error":"#NAME?"},{"$error":"#NAME?"},{"$error":"#NAME?"},{"$error":"#NAME?"},{"$error":"#NAME?"},{"$error":"#NAME?"},{"$error":"#NAME?"},{"$error":"#NAME?"},{"$error":"#NAME?"},{"$error":"#NAME?"},{"$error":"#NAME?"},{"$error":"#NAME?"},{"$error":"#NAME?"},{"$error":"#NAME?"},{"$error":"#NAME?"},{"$error":"#NAME?"},{"$error":"#NAME?"},{"$error":"#NAME?"},{"$error":"#NAME?"},{"$error":"#NAME?"},{"$error":"#NAME?"},{"$error":"#NAME?"},{"$error":"#NAME?"},{"$error":"#NAME?"},{"$error":"#NAME?"},{"$error":"#NAME?"},{"$error":"#NAME?"},{"$error":"#NAME?"},{"$error":"#NAME?"},{"$error":"#NAME?"},{"$error":"#NAME?"},{"$error":"#NAME?"},{"$error":"#NAME?"},{"$error":"#NAME?"},{"$error":"#NAME?"},{"$error":"#NAME?"},{"$error":"#NAME?"},{"$error":"#NAME?"},{"$error":"#NAME?"},{"$error":"#NAME?"},{"$error":"#NAME?"},{"$error":"#NAME?"},{"$error":"#NAME?"},{"$error":"#NAME?"},{"$error":"#NAME?"},{"$error":"#NAME?"},{"$error":"#NAME?"},{"$error":"#NAME?"},{"$error":"#NAME?"},{"$error":"#NAME?"},{"$error":"#NAME?"},{"$error":"#NAME?"},{"$error":"#NAME?"},{"$error":"#NAME?"},{"$error":"#NAME?"},{"$error":"#NAME?"},{"$error":"#NAME?"},{"$error":"#NAME?"},{"$error":"#NAME?"},{"$error":"#NAME?"},{"$error":"#NAME?"},{"$error":"#NAME?"},{"$error":"#NAME?"},{"$error":"#NAME?"},{"$error":"#NAME?"},{"$error":"#NAME?"},{"$error":"#NAME?"},{"$error":"#NAME?"},{"$error":"#NAME?"},{"$error":"#NAME?"},{"$error":"#NAME?"},{"$error":"#NAME?"},{"$error":"#NAME?"},{"$error":"#NAME?"},{"$error":"#NAME?"},{"$error":"#NAME?"},{"$error":"#NAME?"},{"$error":"#NAME?"},{"$error":"#NAME?"},{"$error":"#NAME?"},{"$error":"#NAME?"},{"$error":"#NAME?"},{"$error":"#NAME?"},{"$error":"#NAME?"},{"$error":"#NAME?"},{"$error":"#NAME?"},{"$error":"#NAME?"},{"$error":"#NAME?"},{"$error":"#NAME?"},{"$error":"#NAME?"},{"$error":"#NAME?"},{"$error":"#NAME?"},{"$error":"#NAME?"},{"$error":"#NAME?"},null,{"$error":"#NAME?"},{"$error":"#NAME?"},{"$error":"#NAME?"},{"$error":"#NAME?"},{"$error":"#NAME?"},{"$error":"#NAME?"},{"$error":"#NAME?"},{"$error":"#NAME?"},{"$error":"#NAME?"},{"$error":"#NAME?"},{"$error":"#NAME?"},{"$error":"#NAME?"},{"$error":"#NAME?"},{"$error":"#NAME?"},{"$error":"#NAME?"},{"$error":"#NAME?"},{"$error":"#NAME?"},{"$error":"#NAME?"},{"$error":"#NAME?"},{"$error":"#NAME?"},{"$error":"#NAME?"},{"$error":"#NAME?"},{"$error":"#NAME?"},{"$error":"#NAME?"},{"$error":"#NAME?"},{"$error":"#NAME?"},{"$error":"#NAME?"},{"$error":"#NAME?"},{"$error":"#NAME?"},{"$error":"#NAME?"},{"$error":"#NAME?"},{"$error":"#NAME?"},{"$error":"#NAME?"},{"$error":"#NAME?"},{"$error":"#NAME?"},{"$error":"#NAME?"},{"$error":"#NAME?"},{"$error":"#NAME?"},{"$error":"#NAME?"},{"$error":"#NAME?"},{"$error":"#NAME?"},{"$error":"#NAME?"},{"$error":"#NAME?"},{"$error":"#NAME?"},{"$error":"#NAME?"},{"$error":"#NAME?"},{"$error":"#NAME?"},{"$error":"#NAME?"},{"$error":"#NAME?"},{"$error":"#NAME?"},{"$error":"#NAME?"},{"$error":"#NAME?"},{"$error":"#NAME?"},{"$error":"#NAME?"},{"$error":"#NAME?"},{"$error":"#NAME?"},{"$error":"#NAME?"},{"$error":"#NAME?"},{"$error":"#NAME?"},{"$error":"#NAME?"},{"$error":"#NAME?"},{"$error":"#NAME?"},{"$error":"#NAME?"},{"$error":"#NAME?"},{"$error":"#NAME?"},{"$error":"#NAME?"},{"$error":"#NAME?"},{"$error":"#NAME?"},{"$error":"#NAME?"},{"$error":"#NAME?"},{"$error":"#NAME?"},{"$error":"#NAME?"},{"$error":"#NAME?"},{"$error":"#NAME?"},{"$error":"#NAME?"},{"$error":"#NAME?"},{"$error":"#NAME?"},{"$error":"#NAME?"},{"$error":"#NAME?"},{"$error":"#NAME?"},{"$error":"#NAME?"},{"$error":"#NAME?"},{"$error":"#NAME?"},{"$error":"#NAME?"},{"$error":"#NAME?"},{"$error":"#NAME?"},{"$error":"#NAME?"},{"$error":"#NAME?"},{"$error":"#NAME?"},{"$error":"#NAME?"},{"$error":"#NAME?"},{"$error":"#NAME?"},{"$error":"#NAME?"},{"$error":"#NAME?"},{"$error":"#NAME?"},{"$error":"#NAME?"},{"$error":"#NAME?"},{"$error":"#NAME?"},{"$error":"#NAME?"},{"$error":"#NAME?"}]
[{"$error":"#NAME?"},{"$error":"#NAME?"},{"$error":"#NAME?"},{"$error":"#NAME?"},{"$error":"#NAME?"},{"$error":"#NAME?"},{"$error":"#NAME?"},{"$error":"#NAME?"},{"$error":"#NAME?"},{"$error":"#NAME?"},{"$error":"#NAME?"},{"$error":"#NAME?"},{"$error":"#NAME?"},{"$error":"#NAME?"},{"$error":"#NAME?"},{"$error":"#NAME?"},{"$error":"#NAME?"},{"$error":"#NAME?"},{"$error":"#NAME?"},{"$error":"#NAME?"},{"$error":"#NAME?"},{"$error":"#NAME?"},{"$error":"#NAME?"},{"$error":"#NAME?"},{"$error":"#NAME?"},{"$error":"#NAME?"},{"$error":"#NAME?"},{"$error":"#NAME?"},{"$error":"#NAME?"},{"$error":"#NAME?"},{"$error":"#NAME?"},{"$error":"#NAME?"},{"$error":"#NAME?"},{"$error":"#NAME?"},{"$error":"#NAME?"},{"$error":"#NAME?"},{"$error":"#NAME?"},{"$error":"#NAME?"},{"$error":"#NAME?"},{"$error":"#NAME?"},{"$error":"#NAME?"},{"$error":"#NAME?"},{"$error":"#NAME?"},{"$error":"#NAME?"},{"$error":"#NAME?"},{"$error":"#NAME?"},{"$error":"#NAME?"},{"$error":"#NAME?"},{"$error":"#NAME?"},{"$error":"#NAME?"},{"$error":"#NAME?"},{"$error":"#NAME?"},{"$error":"#NAME?"},{"$error":"#NAME?"},{"$error":"#NAME?"},{"$error":"#NAME?"},{"$error":"#NAME?"},{"$error":"#NAME?"},{"$error":"#NAME?"},{"$error":"#NAME?"},{"$error":"#NAME?"},{"$error":"#NAME?"},{"$error":"#NAME?"},{"$error":"#NAME?"},{"$error":"#NAME?"},{"$error":"#NAME?"},{"$error":"#NAME?"},{"$error":"#NAME?"},{"$error":"#NAME?"},{"$error":"#NAME?"},{"$error":"#NAME?"},{"$error":"#NAME?"},{"$error":"#NAME?"},{"$error":"#NAME?"},{"$error":"#NAME?"},{"$error":"#NAME?"},{"$error":"#NAME?"},{"$error":"#NAME?"},{"$error":"#NAME?"},{"$error":"#NAME?"},{"$error":"#NAME?"},{"$error":"#NAME?"},{"$error":"#NAME?"},{"$error":"#NAME?"},{"$error":"#NAME?"},{"$error":"#NAME?"},{"$error":"#NAME?"},{"$error":"#NAME?"},{"$error":"#NAME?"},{"$error":"#NAME?"},{"$error":"#NAME?"},{"$error":"#NAME?"},{"$error":"#NAME?"},{"$error":"#NAME?"},{"$error":"#NAME?"},{"$error":"#NAME?"},{"$error":"#NAME?"},{"$error":"#NAME?"},{"$error":"#NAME?"},{"$error":"#NAME?"},null,{"$error":"#NAME?"},{"$error":"#NAME?"},{"$error":"#NAME?"},{"$error":"#NAME?"},{"$error":"#NAME?"},{"$error":"#NAME?"},{"$error":"#NAME?"},{"$error":"#NAME?"},{"$error":"#NAME?"},{"$error":"#NAME?"},{"$error":"#NAME?"},{"$error":"#NAME?"},{"$error":"#NAME?"},{"$error":"#NAME?"},{"$error":"#NAME?"},{"$error":"#NAME?"},{"$error":"#NAME?"},{"$error":"#NAME?"},{"$error":"#NAME?"},{"$error":"#NAME?"},{"$error":"#NAME?"},{"$error":"#NAME?"},{"$error":"#NAME?"},{"$error":"#NAME?"},{"$error":"#NAME?"},{"$error":"#NAME?"},{"$error":"#NAME?"},{"$error":"#NAME?"},{"$error":"#NAME?"},{"$error":"#NAME?"},{"$error":"#NAME?"},{"$error":"#NAME?"},{"$error":"#NAME?"},{"$error":"#NAME?"},{"$error":"#NAME?"},{"$error":"#NAME?"},{"$error":"#NAME?"},{"$error":"#NAME?"},{"$error":"#NAME?"},{"$error":"#NAME?"},{"$error":"#NAME?"},{"$error":"#NAME?"},{"$error":"#NAME?"},{"$error":"#NAME?"},{"$error":"#NAME?"},{"$error":"#NAME?"},{"$error":"#NAME?"},{"$error":"#NAME?"},{"$error":"#NAME?"},{"$error":"#NAME?"},{"$error":"#NAME?"},{"$error":"#NAME?"},{"$error":"#NAME?"},{"$error":"#NAME?"},{"$error":"#NAME?"},{"$error":"#NAME?"},{"$error":"#NAME?"},{"$error":"#NAME?"},{"$error":"#NAME?"},{"$error":"#NAME?"},{"$error":"#NAME?"},{"$error":"#NAME?"},{"$error":"#NAME?"},{"$error":"#NAME?"},{"$error":"#NAME?"},{"$error":"#NAME?"},{"$error":"#NAME?"},{"$error":"#NAME?"},{"$error":"#NAME?"},{"$error":"#NAME?"},{"$error":"#NAME?"},{"$error":"#NAME?"},{"$error":"#NAME?"},{"$error":"#NAME?"},{"$error":"#NAME?"},{"$error":"#NAME?"},{"$error":"#NAME?"},{"$error":"#NAME?"},{"$error":"#NAME?"},{"$error":"#NAME?"},{"$error":"#NAME?"},{"$error":"#NAME?"},{"$error":"#NAME?"},{"$error":"#NAME?"},{"$error":"#NAME?"},{"$error":"#NAME?"},{"$error":"#NAME?"},{"$error":"#NAME?"},{"$error":"#NAME?"},{"$error":"#NAME?"},{"$error":"#NAME?"},{"$error":"#NAME?"},{"$error":"#NAME?"},{"$error":"#NAME?"},{"$error":"#NAME?"},{"$error":"#NAME?"},{"$error":"#NAME?"},{"$error":"#NAME?"},{"$error":"#NAME?"},{"$error":"#NAME?"}]
[{"$error":"#NAME?"},{"$error":"#NAME?"},{"$error":"#NAME?"},{"$error":"#NAME?"},{"$error":"#NAME?"},{"$error":"#NAME?"},{"$error":"#NAME?"},{"$error":"#NAME?"},{"$error":"#NAME?"},{"$error":"#NAME?"},{"$error":"#NAME?"},{"$error":"#NAME?"},{"$error":"#NAME?"},{"$error":"#NAME?"},{"$error":"#NAME?"},{"$error":"#NAME?"},{"$error":"#NAME?"},{"$error":"#NAME?"},{"$error":"#NAME?"},{"$error":"#NAME?"},{"$error":"#NAME?"},{"$error":"#NAME?"},{"$error":"#NAME?"},{"$error":"#NAME?"},{"$error":"#NAME?"},{"$error":"#NAME?"},{"$error":"#NAME?"},{"$error":"#NAME?"},{"$error":"#NAME?"},{"$error":"#NAME?"},{"$error":"#NAME?"},{"$error":"#NAME?"},{"$error":"#NAME?"},{"$error":"#NAME?"},{"$error":"#NAME?"},{"$error":"#NAME?"},{"$error":"#NAME?"},{"$error":"#NAME?"},{"$error":"#NAME?"},{"$error":"#NAME?"},{"$error":"#NAME?"},{"$error":"#NAME?"},{"$error":"#NAME?"},{"$error":"#NAME?"},{"$error":"#NAME?"},{"$error":"#NAME?"},{"$error":"#NAME?"},{"$error":"#NAME?"},{"$error":"#NAME?"},{"$error":"#NAME?"},{"$error":"#NAME?"},{"$error":"#NAME?"},{"$error":"#NAME?"},{"$error":"#NAME?"},{"$error":"#NAME?"},{"$error":"#NAME?"},{"$error":"#NAME?"},{"$error":"#NAME?"},{"$error":"#NAME?"},{"$error":"#NAME?"},{"$error":"#NAME?"},{"$error":"#NAME?"},{"$error":"#NAME?"},{"$error":"#NAME?"},{"$error":"#NAME?"},{"$error":"#NAME?"},{"$error":"#NAME?"},{"$error":"#NAME?"},{"$error":"#NAME?"},{"$error":"#NAME?"},{"$error":"#NAME?"},{"$error":"#NAME?"},{"$error":"#NAME?"},{"$error":"#NAME?"},{"$error":"#NAME?"},{"$error":"#NAME?"},{"$error":"#NAME?"},{"$error":"#NAME?"},{"$error":"#NAME?"},{"$error":"#NAME?"},{"$error":"#NAME?"},{"$error":"#NAME?"},{"$error":"#NAME?"},{"$error":"#NAME?"},{"$error":"#NAME?"},{"$error":"#NAME?"},{"$error":"#NAME?"},{"$error":"#NAME?"},{"$error":"#NAME?"},{"$error":"#NAME?"},{"$error":"#NAME?"},{"$error":"#NAME?"},{"$error":"#NAME?"},{"$error":"#NAME?"},{"$error":"#NAME?"},{"$error":"#NAME?"},{"$error":"#NAME?"},{"$error":"#NAME?"},{"$error":"#NAME?"},{"$error":"#NAME?"},null,{"$error":"#NAME?"},{"$error":"#NAME?"},{"$error":"#NAME?"},{"$error":"#NAME?"},{"$error":"#NAME?"},{"$error":"#NAME?"},{"$error":"#NAME?"},{"$error":"#NAME?"},{"$error":"#NAME?"},{"$error":"#NAME?"},{"$error":"#NAME?"},{"$error":"#NAME?"},{"$error":"#NAME?"},{"$error":"#NAME?"},{"$error":"#NAME?"},{"$error":"#NAME?"},{"$error":"#NAME?"},{"$error":"#NAME?"},{"$error":"#NAME?"},{"$error":"#NAME?"},{"$error":"#NAME?"},{"$error":"#NAME?"},{"$error":"#NAME?"},{"$error":"#NAME?"},{"$error":"#NAME?"},{"$error":"#NAME?"},{"$error":"#NAME?"},{"$error":"#NAME?"},{"$error":"#NAME?"},{"$error":"#NAME?"},{"$error":"#NAME?"},{"$error":"#NAME?"},{"$error":"#NAME?"},{"$error":"#NAME?"},{"$error":"#NAME?"},{"$error":"#NAME?"},{"$error":"#NAME?"},{"$error":"#NAME?"},{"$error":"#NAME?"},{"$error":"#NAME?"},{"$error":"#NAME?"},{"$error":"#NAME?"},{"$error":"#NAME?"},{"$error":"#NAME?"},{"$error":"#NAME?"},{"$error":"#NAME?"},{"$error":"#NAME?"},{"$error":"#NAME?"},{"$error":"#NAME?"},{"$error":"#NAME?"},{"$error":"#NAME?"},{"$error":"#NAME?"},{"$error":"#NAME?"},{"$error":"#NAME?"},{"$error":"#NAME?"},{"$error":"#NAME?"},{"$error":"#NAME?"},{"$error":"#NAME?"},{"$error":"#NAME?"},{"$error":"#NAME?"},{"$error":"#NAME?"},{"$error":"#NAME?"},{"$error":"#NAME?"},{"$error":"#NAME?"},{"$error":"#NAME?"},{"$error":"#NAME?"},{"$error":"#NAME?"},{"$error":"#NAME?"},{"$error":"#NAME?"},{"$error":"#NAME?"},{"$error":"#NAME?"},{"$error":"#NAME?"},{"$error":"#NAME?"},{"$error":"#NAME?"},{"$error":"#NAME?"},{"$error":"#NAME?"},{"$error":"#NAME?"},{"$error":"#NAME?"},{"$error":"#NAME?"},{"$error":"#NAME?"},{"$error":"#NAME?"},{"$error":"#NAME?"},{"$error":"#NAME?"},{"$error":"#NAME?"},{"$error":"#NAME?"},{"$error":"#NAME?"},{"$error":"#NAME?"},{"$error":"#NAME?"},{"$error":"#NAME?"},{"$error":"#NAME?"},{"$error":"#NAME?"},{"$error":"#NAME?"},{"$error":"#NAME?"},{"$error":"#NAME?"},{"$error":"#NAME?"},{"$error":"#NAME?"},{"$error":"#NAME?"},{"$error":"#NAME?"},{"$error":"#NAME?"},{"$error":"#NAME?"}]
[{"$error":"#NAME?"},{"$error":"#NAME?"},{"$error":"#NAME?"},{"$error":"#NAME?"},{"$error":"#NAME?"},{"$error":"#NAME?"},{"$error":"#NAME?"},{"$error":"#NAME?"},{"$error":"#NAME?"},{"$error":"#NAME?"},{"$error":"#NAME?"},{"$error":"#NAME?"},{"$error":"#NAME?"},{"$error":"#NAME?"},{"$error":"#NAME?"},{"$error":"#NAME?"},{"$error":"#NAME?"},{"$error":"#NAME?"},{"$error":"#NAME?"},{"$error":"#NAME?"},{"$error":"#NAME?"},{"$error":"#NAME?"},{"$error":"#NAME?"},{"$error":"#NAME?"},{"$error":"#NAME?"},{"$error":"#NAME?"},{"$error":"#NAME?"},{"$error":"#NAME?"},{"$error":"#NAME?"},{"$error":"#NAME?"},{"$error":"#NAME?"},{"$error":"#NAME?"},{"$error":"#NAME?"},{"$error":"#NAME?"},{"$error":"#NAME?"},{"$error":"#NAME?"},{"$error":"#NAME?"},{"$error":"#NAME?"},{"$error":"#NAME?"},{"$error":"#NAME?"},{"$error":"#NAME?"},{"$error":"#NAME?"},{"$error":"#NAME?"},{"$error":"#NAME?"},{"$error":"#NAME?"},{"$error":"#NAME?"},{"$error":"#NAME?"},{"$error":"#NAME?"},{"$error":"#NAME?"},{"$error":"#NAME?"},{"$error":"#NAME?"},{"$error":"#NAME?"},{"$error":"#NAME?"},{"$error":"#NAME?"},{"$error":"#NAME?"},{"$error":"#NAME?"},{"$error":"#NAME?"},{"$error":"#NAME?"},{"$error":"#NAME?"},{"$error":"#NAME?"},{"$error":"#NAME?"},{"$error":"#NAME?"},{"$error":"#NAME?"},{"$error":"#NAME?"},{"$error":"#NAME?"},{"$error":"#NAME?"},{"$error":"#NAME?"},{"$error":"#NAME?"},{"$error":"#NAME?"},{"$error":"#NAME?"},{"$error":"#NAME?"},{"$error":"#NAME?"},{"$error":"#NAME?"},{"$error":"#NAME?"},{"$error":"#NAME?"},{"$error":"#NAME?"},{"$error":"#NAME?"},{"$error":"#NAME?"},{"$error":"#NAME?"},{"$error":"#NAME?"},{"$error":"#NAME?"},{"$error":"#NAME?"},{"$error":"#NAME?"},{"$error":"#NAME?"},{"$error":"#NAME?"},{"$error":"#NAME?"},{"$error":"#NAME?"},{"$error":"#NAME?"},{"$error":"#NAME?"},{"$error":"#NAME?"},{"$error":"#NAME?"},{"$error":"#NAME?"},{"$error":"#NAME?"},{"$error":"#NAME?"},{"$error":"#NAME?"},{"$error":"#NAME?"},{"$error":"#NAME?"},{"$error":"#NAME?"},{"$error":"#NAME?"},{"$error":"#NAME?"},null,{"$error":"#NAME?"},{"$error":"#NAME?"},{"$error":"#NAME?"},{"$error":"#NAME?"},{"$error":"#NAME?"},{"$error":"#NAME?"},{"$error":"#NAME?"},{"$error":"#NAME?"},{"$error":"#NAME?"},{"$error":"#NAME?"},{"$error":"#NAME?"},{"$error":"#NAME?"},{"$error":"#NAME?"},{"$error":"#NAME?"},{"$error":"#NAME?"},{"$error":"#NAME?"},{"$error":"#NAME?"},{"$error":"#NAME?"},{"$error":"#NAME?"},{"$error":"#NAME?"},{"$error":"#NAME?"},{"$error":"#NAME?"},{"$error":"#NAME?"},{"$error":"#NAME?"},{"$error":"#NAME?"},{"$error":"#NAME?"},{"$error":"#NAME?"},{"$error":"#NAME?"},{"$error":"#NAME?"},{"$error":"#NAME?"},{"$error":"#NAME?"},{"$error":"#NAME?"},{"$error":"#NAME?"},{"$error":"#NAME?"},{"$error":"#NAME?"},{"$error":"#NAME?"},{"$error":"#NAME?"},{"$error":"#NAME?"},{"$error":"#NAME?"},{"$error":"#NAME?"},{"$error":"#NAME?"},{"$error":"#NAME?"},{"$error":"#NAME?"},{"$error":"#NAME?"},{"$error":"#NAME?"},{"$error":"#NAME?"},{"$error":"#NAME?"},{"$error":"#NAME?"},{"$error":"#NAME?"},{"$error":"#NAME?"},{"$error":"#NAME?"},{"$error":"#NAME?"},{"$error":"#NAME?"},{"$error":"#NAME?"},{"$error":"#NAME?"},{"$error":"#NAME?"},{"$error":"#NAME?"},{"$error":"#NAME?"},{"$error":"#NAME?"},{"$error":"#NAME?"},{"$error":"#NAME?"},{"$error":"#NAME?"},{"$error":"#NAME?"},{"$error":"#NAME?"},{"$error":"#NAME?"},{"$error":"#NAME?"},{"$error":"#NAME?"},{"$error":"#NAME?"},{"$error":"#NAME?"},{"$error":"#NAME?"},{"$error":"#NAME?"},{"$error":"#NAME?"},{"$error":"#NAME?"},{"$error":"#NAME?"},{"$error":"#NAME?"},{"$error":"#NAME?"},{"$error":"#NAME?"},{"$error":"#NAME?"},{"$error":"#NAME?"},{"$error":"#NAME?"},{"$error":"#NAME?"},{"$error":"#NAME?"},{"$error":"#NAME?"},{"$error":"#NAME?"},{"$error":"#NAME?"},{"$error":"#NAME?"},{"$error":"#NAME?"},{"$error":"#NAME?"},{"$error":"#NAME?"},{"$error":"#NAME?"},{"$error":"#NAME?"},{"$error":"#NAME?"},{"$error":"#NAME?"},{"$error":"#NAME?"},{"$error":"#NAME?"},{"$error":"#NAME?"},{"$error":"#NAME?"},{"$error":"#NAME?"},{"$error":"#NAME?"},{"$error":"#NAME?"}]
[{"$error":"#NAME?"},{"$error":"#NAME?"},{"$error":"#NAME?"},{"$error":"#NAME?"},{"$error":"#NAME?"},{"$error":"#NAME?"},{"$error":"#NAME?"},{"$error":"#NAME?"},{"$error":"#NAME?"},{"$error":"#NAME?"},{"$error":"#NAME?"},{"$error":"#NAME?"},{"$error":"#NAME?"},{"$error":"#NAME?"},{"$error":"#NAME?"},{"$error":"#NAME?"},{"$error":"#NAME?"},{"$error":"#NAME?"},{"$error":"#NAME?"},{"$error":"#NAME?"},{"$error":"#NAME?"},{"$error":"#NAME?"},{"$error":"#NAME?"},{"$error":"#NAME?"},{"$error":"#NAME?"},{"$error":"#NAME?"},{"$error":"#NAME?"},{"$error":"#NAME?"},{"$error":"#NAME?"},{"$error":"#NAME?"},{"$error":"#NAME?"},{"$error":"#NAME?"},{"$error":"#NAME?"},{"$error":"#NAME?"},{"$error":"#NAME?"},{"$error":"#NAME?"},{"$error":"#NAME?"},{"$error":"#NAME?"},{"$error":"#NAME?"},{"$error":"#NAME?"},{"$error":"#NAME?"},{"$error":"#NAME?"},{"$error":"#NAME?"},{"$error":"#NAME?"},{"$error":"#NAME?"},{"$error":"#NAME?"},{"$error":"#NAME?"},{"$error":"#NAME?"},{"$error":"#NAME?"},{"$error":"#NAME?"},{"$error":"#NAME?"},{"$error":"#NAME?"},{"$error":"#NAME?"},{"$error":"#NAME?"},{"$error":"#NAME?"},{"$error":"#NAME?"},{"$error":"#NAME?"},{"$error":"#NAME?"},{"$error":"#NAME?"},{"$error":"#NAME?"},{"$error":"#NAME?"},{"$error":"#NAME?"},{"$error":"#NAME?"},{"$error":"#NAME?"},{"$error":"#NAME?"},{"$error":"#NAME?"},{"$error":"#NAME?"},{"$error":"#NAME?"},{"$error":"#NAME?"},{"$error":"#NAME?"},{"$error":"#NAME?"},{"$error":"#NAME?"},{"$error":"#NAME?"},{"$error":"#NAME?"},{"$error":"#NAME?"},{"$error":"#NAME?"},{"$error":"#NAME?"},{"$error":"#NAME?"},{"$error":"#NAME?"},{"$error":"#NAME?"},{"$error":"#NAME?"},{"$error":"#NAME?"},{"$error":"#NAME?"},{"$error":"#NAME?"},{"$error":"#NAME?"},{"$error":"#NAME?"},{"$error":"#NAME?"},{"$error":"#NAME?"},{"$error":"#NAME?"},{"$error":"#NAME?"},{"$error":"#NAME?"},{"$error":"#NAME?"},{"$error":"#NAME?"},{"$error":"#NAME?"},{"$error":"#NAME?"},{"$error":"#NAME?"},{"$error":"#NAME?"},{"$error":"#NAME?"},{"$error":"#NAME?"},{"$error":"#NAME?"},null,{"$error":"#NAME?"},{"$error":"#NAME?"},{"$error":"#NAME?"},{"$error":"#NAME?"},{"$error":"#NAME?"},{"$error":"#NAME?"},{"$error":"#NAME?"},{"$error":"#NAME?"},{"$error":"#NAME?"},{"$error":"#NAME?"},{"$error":"#NAME?"},{"$error":"#NAME?"},{"$error":"#NAME?"},{"$error":"#NAME?"},{"$error":"#NAME?"},{"$error":"#NAME?"},{"$error":"#NAME?"},{"$error":"#NAME?"},{"$error":"#NAME?"},{"$error":"#NAME?"},{"$error":"#NAME?"},{"$error":"#NAME?"},{"$error":"#NAME?"},{"$error":"#NAME?"},{"$error":"#NAME?"},{"$error":"#NAME?"},{"$error":"#NAME?"},{"$error":"#NAME?"},{"$error":"#NAME?"},{"$error":"#NAME?"},{"$error":"#NAME?"},{"$error":"#NAME?"},{"$error":"#NAME?"},{"$error":"#NAME?"},{"$error":"#NAME?"},{"$error":"#NAME?"},{"$error":"#NAME?"},{"$error":"#NAME?"},{"$error":"#NAME?"},{"$error":"#NAME?"},{"$error":"#NAME?"},{"$error":"#NAME?"},{"$error":"#NAME?"},{"$error":"#NAME?"},{"$error":"#NAME?"},{"$error":"#NAME?"},{"$error":"#NAME?"},{"$error":"#NAME?"},{"$error":"#NAME?"},{"$error":"#NAME?"},{"$error":"#NAME?"},{"$error":"#NAME?"},{"$error":"#NAME?"},{"$error":"#NAME?"},{"$error":"#NAME?"},{"$error":"#NAME?"},{"$error":"#NAME?"},{"$error":"#NAME?"},{"$error":"#NAME?"},{"$error":"#NAME?"},{"$error":"#NAME?"},{"$error":"#NAME?"},{"$error":"#NAME?"},{"$error":"#NAME?"},{"$error":"#NAME?"},{"$error":"#NAME?"},{"$error":"#NAME?"},{"$error":"#NAME?"},{"$error":"#NAME?"},{"$error":"#NAME?"},{"$error":"#NAME?"},{"$error":"#NAME?"},{"$error":"#NAME?"},{"$error":"#NAME?"},{"$error":"#NAME?"},{"$error":"#NAME?"},{"$error":"#NAME?"},{"$error":"#NAME?"},{"$error":"#NAME?"},{"$error":"#NAME?"},{"$error":"#NAME?"},{"$error":"#NAME?"},{"$error":"#NAME?"},{"$error":"#NAME?"},{"$error":"#NAME?"},{"$error":"#NAME?"},{"$error":"#NAME?"},{"$error":"#NAME?"},{"$error":"#NAME?"},{"$error":"#NAME?"},{"$error":"#NAME?"},{"$error":"#NAME?"},{"$error":"#NAME?"},{"$error":"#NAME?"},{"$error":"#NAME?"},{"$error":"#NAME?"},{"$error":"#NAME?"},{"$error":"#NAME?"},{"$error":"#NAME?"},{"$error":"#NAME?"}]
[{"$error":"#NAME?"},{"$error":"#NAME?"},{"$error":"#NAME?"},{"$error":"#NAME?"},{"$error":"#NAME?"},{"$error":"#NAME?"},{"$error":"#NAME?"},{"$error":"#NAME?"},{"$error":"#NAME?"},{"$error":"#NAME?"},{"$error":"#NAME?"},{"$error":"#NAME?"},{"$error":"#NAME?"},{"$error":"#NAME?"},{"$error":"#NAME?"},{"$error":"#NAME?"},{"$error":"#NAME?"},{"$error":"#NAME?"},{"$error":"#NAME?"},{"$error":"#NAME?"},{"$error":"#NAME?"},{"$error":"#NAME?"},{"$error":"#NAME?"},{"$error":"#NAME?"},{"$error":"#NAME?"},{"$error":"#NAME?"},{"$error":"#NAME?"},{"$error":"#NAME?"},{"$error":"#NAME?"},{"$error":"#NAME?"},{"$error":"#NAME?"},{"$error":"#NAME?"},{"$error":"#NAME?"},{"$error":"#NAME?"},{"$error":"#NAME?"},{"$error":"#NAME?"},{"$error":"#NAME?"},{"$error":"#NAME?"},{"$error":"#NAME?"},{"$error":"#NAME?"},{"$error":"#NAME?"},{"$error":"#NAME?"},{"$error":"#NAME?"},{"$error":"#NAME?"},{"$error":"#NAME?"},{"$error":"#NAME?"},{"$error":"#NAME?"},{"$error":"#NAME?"},{"$error":"#NAME?"},{"$error":"#NAME?"},{"$error":"#NAME?"},{"$error":"#NAME?"},{"$error":"#NAME?"},{"$error":"#NAME?"},{"$error":"#NAME?"},{"$error":"#NAME?"},{"$error":"#NAME?"},{"$error":"#NAME?"},{"$error":"#NAME?"},{"$error":"#NAME?"},{"$error":"#NAME?"},{"$error":"#NAME?"},{"$error":"#NAME?"},{"$error":"#NAME?"},{"$error":"#NAME?"},{"$error":"#NAME?"},{"$error":"#NAME?"},{"$error":"#NAME?"},{"$error":"#NAME?"},{"$error":"#NAME?"},{"$error":"#NAME?"},{"$error":"#NAME?"},{"$error":"#NAME?"},{"$error":"#NAME?"},{"$error":"#NAME?"},{"$error":"#NAME?"},{"$error":"#NAME?"},{"$error":"#NAME?"},{"$error":"#NAME?"},{"$error":"#NAME?"},{"$error":"#NAME?"},{"$error":"#NAME?"},{"$error":"#NAME?"},{"$error":"#NAME?"},{"$error":"#NAME?"},{"$error":"#NAME?"},{"$error":"#NAME?"},{"$error":"#NAME?"},{"$error":"#NAME?"},{"$error":"#NAME?"},{"$error":"#NAME?"},{"$error":"#NAME?"},{"$error":"#NAME?"},{"$error":"#NAME?"},{"$error":"#NAME?"},{"$error":"#NAME?"},{"$error":"#NAME?"},{"$error":"#NAME?"},{"$error":"#NAME?"},{"$error":"#NAME?"},null,{"$error":"#NAME?"},{"$error":"#NAME?"},{"$error":"#NAME?"},{"$error":"#NAME?"},{"$error":"#NAME?"},{"$error":"#NAME?"},{"$error":"#NAME?"},{"$error":"#NAME?"},{"$error":"#NAME?"},{"$error":"#NAME?"},{"$error":"#NAME?"},{"$error":"#NAME?"},{"$error":"#NAME?"},{"$error":"#NAME?"},{"$error":"#NAME?"},{"$error":"#NAME?"},{"$error":"#NAME?"},{"$error":"#NAME?"},{"$error":"#NAME?"},{"$error":"#NAME?"},{"$error":"#NAME?"},{"$error":"#NAME?"},{"$error":"#NAME?"},{"$error":"#NAME?"},{"$error":"#NAME?"},{"$error":"#NAME?"},{"$error":"#NAME?"},{"$error":"#NAME?"},{"$error":"#NAME?"},{"$error":"#NAME?"},{"$error":"#NAME?"},{"$error":"#NAME?"},{"$error":"#NAME?"},{"$error":"#NAME?"},{"$error":"#NAME?"},{"$error":"#NAME?"},{"$error":"#NAME?"},{"$error":"#NAME?"},{"$error":"#NAME?"},{"$error":"#NAME?"},{"$error":"#NAME?"},{"$error":"#NAME?"},{"$error":"#NAME?"},{"$error":"#NAME?"},{"$error":"#NAME?"},{"$error":"#NAME?"},{"$error":"#NAME?"},{"$error":"#NAME?"},{"$error":"#NAME?"},{"$error":"#NAME?"},{"$error":"#NAME?"},{"$error":"#NAME?"},{"$error":"#NAME?"},{"$error":"#NAME?"},{"$error":"#NAME?"},{"$error":"#NAME?"},{"$error":"#NAME?"},{"$error":"#NAME?"},{"$error":"#NAME?"},{"$error":"#NAME?"},{"$error":"#NAME?"},{"$error":"#NAME?"},{"$error":"#NAME?"},{"$error":"#NAME?"},{"$error":"#NAME?"},{"$error":"#NAME?"},{"$error":"#NAME?"},{"$error":"#NAME?"},{"$error":"#NAME?"},{"$error":"#NAME?"},{"$error":"#NAME?"},{"$error":"#NAME?"},{"$error":"#NAME?"},{"$error":"#NAME?"},{"$error":"#NAME?"},{"$error":"#NAME?"},{"$error":"#NAME?"},{"$error":"#NAME?"},{"$error":"#NAME?"},{"$error":"#NAME?"},{"$error":"#NAME?"},{"$error":"#NAME?"},{"$error":"#NAME?"},{"$error":"#NAME?"},{"$error":"#NAME?"},{"$error":"#NAME?"},{"$error":"#NAME?"},{"$error":"#NAME?"},{"$error":"#NAME?"},{"$error":"#NAME?"},{"$error":"#NAME?"},{"$error":"#NAME?"},{"$error":"#NAME?"},{"$error":"#NAME?"},{"$error":"#NAME?"},{"$error":"#NAME?"},{"$error":"#NAME?"},{"$error":"#NAME?"},{"$error":"#NAME?"},{"$error":"#NAME?"}]
[{"$error":"#NAME?"},{"$error":"#NAME?"},{"$error":"#NAME?"},{"$error":"#NAME?"},{"$error":"#NAME?"},{"$error":"#NAME?"},{"$error":"#NAME?"},{"$error":"#NAME?"},{"$error":"#NAME?"},{"$error":"#NAME?"},{"$error":"#NAME?"},{"$error":"#NAME?"},{"$error":"#NAME?"},{"$error":"#NAME?"},{"$error":"#NAME?"},{"$error":"#NAME?"},{"$error":"#NAME?"},{"$error":"#NAME?"},{"$error":"#NAME?"},{"$error":"#NAME?"},{"$error":"#NAME?"},{"$error":"#NAME?"},{"$error":"#NAME?"},{"$error":"#NAME?"},{"$error":"#NAME?"},{"$error":"#NAME?"},{"$error":"#NAME?"},{"$error":"#NAME?"},{"$error":"#NAME?"},{"$error":"#NAME?"},{"$error":"#NAME?"},{"$error":"#NAME?"},{"$error":"#NAME?"},{"$error":"#NAME?"},{"$error":"#NAME?"},{"$error":"#NAME?"},{"$error":"#NAME?"},{"$error":"#NAME?"},{"$error":"#NAME?"},{"$error":"#NAME?"},{"$error":"#NAME?"},{"$error":"#NAME?"},{"$error":"#NAME?"},{"$error":"#NAME?"},{"$error":"#NAME?"},{"$error":"#NAME?"},{"$error":"#NAME?"},{"$error":"#NAME?"},{"$error":"#NAME?"},{"$error":"#NAME?"},{"$error":"#NAME?"},{"$error":"#NAME?"},{"$error":"#NAME?"},{"$error":"#NAME?"},{"$error":"#NAME?"},{"$error":"#NAME?"},{"$error":"#NAME?"},{"$error":"#NAME?"},{"$error":"#NAME?"},{"$error":"#NAME?"},{"$error":"#NAME?"},{"$error":"#NAME?"},{"$error":"#NAME?"},{"$error":"#NAME?"},{"$error":"#NAME?"},{"$error":"#NAME?"},{"$error":"#NAME?"},{"$error":"#NAME?"},{"$error":"#NAME?"},{"$error":"#NAME?"},{"$error":"#NAME?"},{"$error":"#NAME?"},{"$error":"#NAME?"},{"$error":"#NAME?"},{"$error":"#NAME?"},{"$error":"#NAME?"},{"$error":"#NAME?"},{"$error":"#NAME?"},{"$error":"#NAME?"},{"$error":"#NAME?"},{"$error":"#NAME?"},{"$error":"#NAME?"},{"$error":"#NAME?"},{"$error":"#NAME?"},{"$error":"#NAME?"},{"$error":"#NAME?"},{"$error":"#NAME?"},{"$error":"#NAME?"},{"$error":"#NAME?"},{"$error":"#NAME?"},{"$error":"#NAME?"},{"$error":"#NAME?"},{"$error":"#NAME?"},{"$error":"#NAME?"},{"$error":"#NAME?"},{"$error":"#NAME?"},{"$error":"#NAME?"},{"$error":"#NAME?"},{"$error":"#NAME?"},{"$error":"#NAME?"},null,{"$error":"#NAME?"},{"$error":"#NAME?"},{"$error":"#NAME?"},{"$error":"#NAME?"},{"$error":"#NAME?"},{"$error":"#NAME?"},{"$error":"#NAME?"},{"$error":"#NAME?"},{"$error":"#NAME?"},{"$error":"#NAME?"},{"$error":"#NAME?"},{"$error":"#NAME?"},{"$error":"#NAME?"},{"$error":"#NAME?"},{"$error":"#NAME?"},{"$error":"#NAME?"},{"$error":"#NAME?"},{"$error":"#NAME?"},{"$error":"#NAME?"},{"$error":"#NAME?"},{"$error":"#NAME?"},{"$error":"#NAME?"},{"$error":"#NAME?"},{"$error":"#NAME?"},{"$error":"#NAME?"},{"$error":"#NAME?"},{"$error":"#NAME?"},{"$error":"#NAME?"},{"$error":"#NAME?"},{"$error":"#NAME?"},{"$error":"#NAME?"},{"$error":"#NAME?"},{"$error":"#NAME?"},{"$error":"#NAME?"},{"$error":"#NAME?"},{"$error":"#NAME?"},{"$error":"#NAME?"},{"$error":"#NAME?"},{"$error":"#NAME?"},{"$error":"#NAME?"},{"$error":"#NAME?"},{"$error":"#NAME?"},{"$error":"#NAME?"},{"$error":"#NAME?"},{"$error":"#NAME?"},{"$error":"#NAME?"},{"$error":"#NAME?"},{"$error":"#NAME?"},{"$error":"#NAME?"},{"$error":"#NAME?"},{"$error":"#NAME?"},{"$error":"#NAME?"},{"$error":"#NAME?"},{"$error":"#NAME?"},{"$error":"#NAME?"},{"$error":"#NAME?"},{"$error":"#NAME?"},{"$error":"#NAME?"},{"$error":"#NAME?"},{"$error":"#NAME?"},{"$error":"#NAME?"},{"$error":"#NAME?"},{"$error":"#NAME?"},{"$error":"#NAME?"},{"$error":"#NAME?"},{"$error":"#NAME?"},{"$error":"#NAME?"},{"$error":"#NAME?"},{"$error":"#NAME?"},{"$error":"#NAME?"},{"$error":"#NAME?"},{"$error":"#NAME?"},{"$error":"#NAME?"},{"$error":"#NAME?"},{"$error":"#NAME?"},{"$error":"#NAME?"},{"$error":"#NAME?"},{"$error":"#NAME?"},{"$error":"#NAME?"},{"$error":"#NAME?"},{"$error":"#NAME?"},{"$error":"#NAME?"},{"$error":"#NAME?"},{"$error":"#NAME?"},{"$error":"#NAME?"},{"$error":"#NAME?"},{"$error":"#NAME?"},{"$error":"#NAME?"},{"$error":"#NAME?"},{"$error":"#NAME?"},{"$error":"#NAME?"},{"$error":"#NAME?"},{"$error":"#NAME?"},{"$error":"#NAME?"},{"$error":"#NAME?"},{"$error":"#NAME?"},{"$error":"#NAME?"},{"$error":"#NAME?"},{"$error":"#NAME?"},{"$error":"#NAME?"}]
[{"$error":"#NAME?"},{"$error":"#NAME?"},{"$error":"#NAME?"},{"$error":"#NAME?"},{"$error":"#NAME?"},{"$error":"#NAME?"},{"$error":"#NAME?"},{"$error":"#NAME?"},{"$error":"#NAME?"},{"$error":"#NAME?"},{"$error":"#NAME?"},{"$error":"#NAME?"},{"$error":"#NAME?"},{"$error":"#NAME?"},{"$error":"#NAME?"},{"$error":"#NAME?"},{"$error":"#NAME?"},{"$error":"#NAME?"},{"$error":"#NAME?"},{"$error":"#NAME?"},{"$error":"#NAME?"},{"$error":"#NAME?"},{"$error":"#NAME?"},{"$error":"#NAME?"},{"$error":"#NAME?"},{"$error":"#NAME?"},{"$error":"#NAME?"},{"$error":"#NAME?"},{"$error":"#NAME?"},{"$error":"#NAME?"},{"$error":"#NAME?"},{"$error":"#NAME?"},{"$error":"#NAME?"},{"$error":"#NAME?"},{"$error":"#NAME?"},{"$error":"#NAME?"},{"$error":"#NAME?"},{"$error":"#NAME?"},{"$error":"#NAME?"},{"$error":"#NAME?"},{"$error":"#NAME?"},{"$error":"#NAME?"},{"$error":"#NAME?"},{"$error":"#NAME?"},{"$error":"#NAME?"},{"$error":"#NAME?"},{"$error":"#NAME?"},{"$error":"#NAME?"},{"$error":"#NAME?"},{"$error":"#NAME?"},{"$error":"#NAME?"},{"$error":"#NAME?"},{"$error":"#NAME?"},{"$error":"#NAME?"},{"$error":"#NAME?"},{"$error":"#NAME?"},{"$error":"#NAME?"},{"$error":"#NAME?"},{"$error":"#NAME?"},{"$error":"#NAME?"},{"$error":"#NAME?"},{"$error":"#NAME?"},{"$error":"#NAME?"},{"$error":"#NAME?"},{"$error":"#NAME?"},{"$error":"#NAME?"},{"$error":"#NAME?"},{"$error":"#NAME?"},{"$error":"#NAME?"},{"$error":"#NAME?"},{"$error":"#NAME?"},{"$error":"#NAME?"},{"$error":"#NAME?"},{"$error":"#NAME?"},{"$error":"#NAME?"},{"$error":"#NAME?"},{"$error":"#NAME?"},{"$error":"#NAME?"},{"$error":"#NAME?"},{"$error":"#NAME?"},{"$error":"#NAME?"},{"$error":"#NAME?"},{"$error":"#NAME?"},{"$error":"#NAME?"},{"$error":"#NAME?"},{"$error":"#NAME?"},{"$error":"#NAME?"},{"$error":"#NAME?"},{"$error":"#NAME?"},{"$error":"#NAME?"},{"$error":"#NAME?"},{"$error":"#NAME?"},{"$error":"#NAME?"},{"$error":"#NAME?"},{"$error":"#NAME?"},{"$error":"#NAME?"},{"$error":"#NAME?"},{"$error":"#NAME?"},{"$error":"#NAME?"},{"$error":"#NAME?"},null,{"$error":"#NAME?"},{"$error":"#NAME?"},{"$error":"#NAME?"},{"$error":"#NAME?"},{"$error":"#NAME?"},{"$error":"#NAME?"},{"$error":"#NAME?"},{"$error":"#NAME?"},{"$error":"#NAME?"},{"$error":"#NAME?"},{"$error":"#NAME?"},{"$error":"#NAME?"},{"$error":"#NAME?"},{"$error":"#NAME?"},{"$error":"#NAME?"},{"$error":"#NAME?"},{"$error":"#NAME?"},{"$error":"#NAME?"},{"$error":"#NAME?"},{"$error":"#NAME?"},{"$error":"#NAME?"},{"$error":"#NAME?"},{"$error":"#NAME?"},{"$error":"#NAME?"},{"$error":"#NAME?"},{"$error":"#NAME?"},{"$error":"#NAME?"},{"$error":"#NAME?"},{"$error":"#NAME?"},{"$error":"#NAME?"},{"$error":"#NAME?"},{"$error":"#NAME?"},{"$error":"#NAME?"},{"$error":"#NAME?"},{"$error":"#NAME?"},{"$error":"#NAME?"},{"$error":"#NAME?"},{"$error":"#NAME?"},{"$error":"#NAME?"},{"$error":"#NAME?"},{"$error":"#NAME?"},{"$error":"#NAME?"},{"$error":"#NAME?"},{"$error":"#NAME?"},{"$error":"#NAME?"},{"$error":"#NAME?"},{"$error":"#NAME?"},{"$error":"#NAME?"},{"$error":"#NAME?"},{"$error":"#NAME?"},{"$error":"#NAME?"},{"$error":"#NAME?"},{"$error":"#NAME?"},{"$error":"#NAME?"},{"$error":"#NAME?"},{"$error":"#NAME?"},{"$error":"#NAME?"},{"$error":"#NAME?"},{"$error":"#NAME?"},{"$error":"#NAME?"},{"$error":"#NAME?"},{"$error":"#NAME?"},{"$error":"#NAME?"},{"$error":"#NAME?"},{"$error":"#NAME?"},{"$error":"#NAME?"},{"$error":"#NAME?"},{"$error":"#NAME?"},{"$error":"#NAME?"},{"$error":"#NAME?"},{"$error":"#NAME?"},{"$error":"#NAME?"},{"$error":"#NAME?"},{"$error":"#NAME?"},{"$error":"#NAME?"},{"$error":"#NAME?"},{"$error":"#NAME?"},{"$error":"#NAME?"},{"$error":"#NAME?"},{"$error":"#NAME?"},{"$error":"#NAME?"},{"$error":"#NAME?"},{"$error":"#NAME?"},{"$error":"#NAME?"},{"$error":"#NAME?"},{"$error":"#NAME?"},{"$error":"#NAME?"},{"$error":"#NAME?"},{"$error":"#NAME?"},{"$error":"#NAME?"},{"$error":"#NAME?"},{"$error":"#NAME?"},{"$error":"#NAME?"},{"$error":"#NAME?"},{"$error":"#NAME?"},{"$error":"#NAME?"},{"$error":"#NAME?"},{"$error":"#NAME?"},{"$error":"#NAME?"},{"$error":"#NAME?"}]
[{"$error":"#NAME?"},{"$error":"#NAME?"},{"$error":"#NAME?"},{"$error":"#NAME?"},{"$error":"#NAME?"},{"$error":"#NAME?"},{"$error":"#NAME?"},{"$error":"#NAME?"},{"$error":"#NAME?"},{"$error":"#NAME?"},{"$error":"#NAME?"},{"$error":"#NAME?"},{"$error":"#NAME?"},{"$error":"#NAME?"},{"$error":"#NAME?"},{"$error":"#NAME?"},{"$error":"#NAME?"},{"$error":"#NAME?"},{"$error":"#NAME?"},{"$error":"#NAME?"},{"$error":"#NAME?"},{"$error":"#NAME?"},{"$error":"#NAME?"},{"$error":"#NAME?"},{"$error":"#NAME?"},{"$error":"#NAME?"},{"$error":"#NAME?"},{"$error":"#NAME?"},{"$error":"#NAME?"},{"$error":"#NAME?"},{"$error":"#NAME?"},{"$error":"#NAME?"},{"$error":"#NAME?"},{"$error":"#NAME?"},{"$error":"#NAME?"},{"$error":"#NAME?"},{"$error":"#NAME?"},{"$error":"#NAME?"},{"$error":"#NAME?"},{"$error":"#NAME?"},{"$error":"#NAME?"},{"$error":"#NAME?"},{"$error":"#NAME?"},{"$error":"#NAME?"},{"$error":"#NAME?"},{"$error":"#NAME?"},{"$error":"#NAME?"},{"$error":"#NAME?"},{"$error":"#NAME?"},{"$error":"#NAME?"},{"$error":"#NAME?"},{"$error":"#NAME?"},{"$error":"#NAME?"},{"$error":"#NAME?"},{"$error":"#NAME?"},{"$error":"#NAME?"},{"$error":"#NAME?"},{"$error":"#NAME?"},{"$error":"#NAME?"},{"$error":"#NAME?"},{"$error":"#NAME?"},{"$error":"#NAME?"},{"$error":"#NAME?"},{"$error":"#NAME?"},{"$error":"#NAME?"},{"$error":"#NAME?"},{"$error":"#NAME?"},{"$error":"#NAME?"},{"$error":"#NAME?"},{"$error":"#NAME?"},{"$error":"#NAME?"},{"$error":"#NAME?"},{"$error":"#NAME?"},{"$error":"#NAME?"},{"$error":"#NAME?"},{"$error":"#NAME?"},{"$error":"#NAME?"},{"$error":"#NAME?"},{"$error":"#NAME?"},{"$error":"#NAME?"},{"$error":"#NAME?"},{"$error":"#NAME?"},{"$error":"#NAME?"},{"$error":"#NAME?"},{"$error":"#NAME?"},{"$error":"#NAME?"},{"$error":"#NAME?"},{"$error":"#NAME?"},{"$error":"#NAME?"},{"$error":"#NAME?"},{"$error":"#NAME?"},{"$error":"#NAME?"},{"$error":"#NAME?"},{"$error":"#NAME?"},{"$error":"#NAME?"},{"$error":"#NAME?"},{"$error":"#NAME?"},{"$error":"#NAME?"},{"$error":"#NAME?"},{"$error":"#NAME?"},null,{"$error":"#NAME?"},{"$error":"#NAME?"},{"$error":"#NAME?"},{"$error":"#NAME?"},{"$error":"#NAME?"},{"$error":"#NAME?"},{"$error":"#NAME?"},{"$error":"#NAME?"},{"$error":"#NAME?"},{"$error":"#NAME?"},{"$error":"#NAME?"},{"$error":"#NAME?"},{"$error":"#NAME?"},{"$error":"#NAME?"},{"$error":"#NAME?"},{"$error":"#NAME?"},{"$error":"#NAME?"},{"$error":"#NAME?"},{"$error":"#NAME?"},{"$error":"#NAME?"},{"$error":"#NAME?"},{"$error":"#NAME?"},{"$error":"#NAME?"},{"$error":"#NAME?"},{"$error":"#NAME?"},{"$error":"#NAME?"},{"$error":"#NAME?"},{"$error":"#NAME?"},{"$error":"#NAME?"},{"$error":"#NAME?"},{"$error":"#NAME?"},{"$error":"#NAME?"},{"$error":"#NAME?"},{"$error":"#NAME?"},{"$error":"#NAME?"},{"$error":"#NAME?"},{"$error":"#NAME?"},{"$error":"#NAME?"},{"$error":"#NAME?"},{"$error":"#NAME?"},{"$error":"#NAME?"},{"$error":"#NAME?"},{"$error":"#NAME?"},{"$error":"#NAME?"},{"$error":"#NAME?"},{"$error":"#NAME?"},{"$error":"#NAME?"},{"$error":"#NAME?"},{"$error":"#NAME?"},{"$error":"#NAME?"},{"$error":"#NAME?"},{"$error":"#NAME?"},{"$error":"#NAME?"},{"$error":"#NAME?"},{"$error":"#NAME?"},{"$error":"#NAME?"},{"$error":"#NAME?"},{"$error":"#NAME?"},{"$error":"#NAME?"},{"$error":"#NAME?"},{"$error":"#NAME?"},{"$error":"#NAME?"},{"$error":"#NAME?"},{"$error":"#NAME?"},{"$error":"#NAME?"},{"$error":"#NAME?"},{"$error":"#NAME?"},{"$error":"#NAME?"},{"$error":"#NAME?"},{"$error":"#NAME?"},{"$error":"#NAME?"},{"$error":"#NAME?"},{"$error":"#NAME?"},{"$error":"#NAME?"},{"$error":"#NAME?"},{"$error":"#NAME?"},{"$error":"#NAME?"},{"$error":"#NAME?"},{"$error":"#NAME?"},{"$error":"#NAME?"},{"$error":"#NAME?"},{"$error":"#NAME?"},{"$error":"#NAME?"},{"$error":"#NAME?"},{"$error":"#NAME?"},{"$error":"#NAME?"},{"$error":"#NAME?"},{"$error":"#NAME?"},{"$error":"#NAME?"},{"$error":"#NAME?"},{"$error":"#NAME?"},{"$error":"#NAME?"},{"$error":"#NAME?"},{"$error":"#NAME?"},{"$error":"#NAME?"},{"$error":"#NAME?"},{"$error":"#NAME?"},{"$error":"#NAME?"},{"$error":"#NAME?"},{"$error":"#NAME?"}]
[{"$error":"#NAME?"},{"$error":"#NAME?"},{"$error":"#NAME?"},{"$error":"#NAME?"},{"$error":"#NAME?"},{"$error":"#NAME?"},{"$error":"#NAME?"},{"$error":"#NAME?"},{"$error":"#NAME?"},{"$error":"#NAME?"},{"$error":"#NAME?"},{"$error":"#NAME?"},{"$error":"#NAME?"},{"$error":"#NAME?"},{"$error":"#NAME?"},{"$error":"#NAME?"},{"$error":"#NAME?"},{"$error":"#NAME?"},{"$error":"#NAME?"},{"$error":"#NAME?"},{"$error":"#NAME?"},{"$error":"#NAME?"},{"$error":"#NAME?"},{"$error":"#NAME?"},{"$error":"#NAME?"},{"$error":"#NAME?"},{"$error":"#NAME?"},{"$error":"#NAME?"},{"$error":"#NAME?"},{"$error":"#NAME?"},{"$error":"#NAME?"},{"$error":"#NAME?"},{"$error":"#NAME?"},{"$error":"#NAME?"},{"$error":"#NAME?"},{"$error":"#NAME?"},{"$error":"#NAME?"},{"$error":"#NAME?"},{"$error":"#NAME?"},{"$error":"#NAME?"},{"$error":"#NAME?"},{"$error":"#NAME?"},{"$error":"#NAME?"},{"$error":"#NAME?"},{"$error":"#NAME?"},{"$error":"#NAME?"},{"$error":"#NAME?"},{"$error":"#NAME?"},{"$error":"#NAME?"},{"$error":"#NAME?"},{"$error":"#NAME?"},{"$error":"#NAME?"},{"$error":"#NAME?"},{"$error":"#NAME?"},{"$error":"#NAME?"},{"$error":"#NAME?"},{"$error":"#NAME?"},{"$error":"#NAME?"},{"$error":"#NAME?"},{"$error":"#NAME?"},{"$error":"#NAME?"},{"$error":"#NAME?"},{"$error":"#NAME?"},{"$error":"#NAME?"},{"$error":"#NAME?"},{"$error":"#NAME?"},{"$error":"#NAME?"},{"$error":"#NAME?"},{"$error":"#NAME?"},{"$error":"#NAME?"},{"$error":"#NAME?"},{"$error":"#NAME?"},{"$error":"#NAME?"},{"$error":"#NAME?"},{"$error":"#NAME?"},{"$error":"#NAME?"},{"$error":"#NAME?"},{"$error":"#NAME?"},{"$error":"#NAME?"},{"$error":"#NAME?"},{"$error":"#NAME?"},{"$error":"#NAME?"},{"$error":"#NAME?"},{"$error":"#NAME?"},{"$error":"#NAME?"},{"$error":"#NAME?"},{"$error":"#NAME?"},{"$error":"#NAME?"},{"$error":"#NAME?"},{"$error":"#NAME?"},{"$error":"#NAME?"},{"$error":"#NAME?"},{"$error":"#NAME?"},{"$error":"#NAME?"},{"$error":"#NAME?"},{"$error":"#NAME?"},{"$error":"#NAME?"},{"$error":"#NAME?"},{"$error":"#NAME?"},{"$error":"#NAME?"},null,{"$error":"#NAME?"},{"$error":"#NAME?"},{"$error":"#NAME?"},{"$error":"#NAME?"},{"$error":"#NAME?"},{"$error":"#NAME?"},{"$error":"#NAME?"},{"$error":"#NAME?"},{"$error":"#NAME?"},{"$error":"#NAME?"},{"$error":"#NAME?"},{"$error":"#NAME?"},{"$error":"#NAME?"},{"$error":"#NAME?"},{"$error":"#NAME?"},{"$error":"#NAME?"},{"$error":"#NAME?"},{"$error":"#NAME?"},{"$error":"#NAME?"},{"$error":"#NAME?"},{"$error":"#NAME?"},{"$error":"#NAME?"},{"$error":"#NAME?"},{"$error":"#NAME?"},{"$error":"#NAME?"},{"$error":"#NAME?"},{"$error":"#NAME?"},{"$error":"#NAME?"},{"$error":"#NAME?"},{"$error":"#NAME?"},{"$error":"#NAME?"},{"$error":"#NAME?"},{"$error":"#NAME?"},{"$error":"#NAME?"},{"$error":"#NAME?"},{"$error":"#NAME?"},{"$error":"#NAME?"},{"$error":"#NAME?"},{"$error":"#NAME?"},{"$error":"#NAME?"},{"$error":"#NAME?"},{"$error":"#NAME?"},{"$error":"#NAME?"},{"$error":"#NAME?"},{"$error":"#NAME?"},{"$error":"#NAME?"},{"$error":"#NAME?"},{"$error":"#NAME?"},{"$error":"#NAME?"},{"$error":"#NAME?"},{"$error":"#NAME?"},{"$error":"#NAME?"},{"$error":"#NAME?"},{"$error":"#NAME?"},{"$error":"#NAME?"},{"$error":"#NAME?"},{"$error":"#NAME?"},{"$error":"#NAME?"},{"$error":"#NAME?"},{"$error":"#NAME?"},{"$error":"#NAME?"},{"$error":"#NAME?"},{"$error":"#NAME?"},{"$error":"#NAME?"},{"$error":"#NAME?"},{"$error":"#NAME?"},{"$error":"#NAME?"},{"$error":"#NAME?"},{"$error":"#NAME?"},{"$error":"#NAME?"},{"$error":"#NAME?"},{"$error":"#NAME?"},{"$error":"#NAME?"},{"$error":"#NAME?"},{"$error":"#NAME?"},{"$error":"#NAME?"},{"$error":"#NAME?"},{"$error":"#NAME?"},{"$error":"#NAME?"},{"$error":"#NAME?"},{"$error":"#NAME?"},{"$error":"#NAME?"},{"$error":"#NAME?"},{"$error":"#NAME?"},{"$error":"#NAME?"},{"$error":"#NAME?"},{"$error":"#NAME?"},{"$error":"#NAME?"},{"$error":"#NAME?"},{"$error":"#NAME?"},{"$error":"#NAME?"},{"$error":"#NAME?"},{"$error":"#NAME?"},{"$error":"#NAME?"},{"$error":"#NAME?"},{"$error":"#NAME?"},{"$error":"#NAME?"},{"$error":"#NAME?"},{"$error":"#NAME?"},{"$error":"#NAME?"}]
[{"$error":"#NAME?"},{"$error":"#NAME?"},{"$error":"#NAME?"},{"$error":"#NAME?"},{"$error":"#NAME?"},{"$error":"#NAME?"},{"$error":"#NAME?"},{"$error":"#NAME?"},{"$error":"#NAME?"},{"$error":"#NAME?"},{"$error":"#NAME?"},{"$error":"#NAME?"},{"$error":"#NAME?"},{"$error":"#NAME?"},{"$error":"#NAME?"},{"$error":"#NAME?"},{"$error":"#NAME?"},{"$error":"#NAME?"},{"$error":"#NAME?"},{"$error":"#NAME?"},{"$error":"#NAME?"},{"$error":"#NAME?"},{"$error":"#NAME?"},{"$error":"#NAME?"},{"$error":"#NAME?"},{"$error":"#NAME?"},{"$error":"#NAME?"},{"$error":"#NAME?"},{"$error":"#NAME?"},{"$error":"#NAME?"},{"$error":"#NAME?"},{"$error":"#NAME?"},{"$error":"#NAME?"},{"$error":"#NAME?"},{"$error":"#NAME?"},{"$error":"#NAME?"},{"$error":"#NAME?"},{"$error":"#NAME?"},{"$error":"#NAME?"},{"$error":"#NAME?"},{"$error":"#NAME?"},{"$error":"#NAME?"},{"$error":"#NAME?"},{"$error":"#NAME?"},{"$error":"#NAME?"},{"$error":"#NAME?"},{"$error":"#NAME?"},{"$error":"#NAME?"},{"$error":"#NAME?"},{"$error":"#NAME?"},{"$error":"#NAME?"},{"$error":"#NAME?"},{"$error":"#NAME?"},{"$error":"#NAME?"},{"$error":"#NAME?"},{"$error":"#NAME?"},{"$error":"#NAME?"},{"$error":"#NAME?"},{"$error":"#NAME?"},{"$error":"#NAME?"},{"$error":"#NAME?"},{"$error":"#NAME?"},{"$error":"#NAME?"},{"$error":"#NAME?"},{"$error":"#NAME?"},{"$error":"#NAME?"},{"$error":"#NAME?"},{"$error":"#NAME?"},{"$error":"#NAME?"},{"$error":"#NAME?"},{"$error":"#NAME?"},{"$error":"#NAME?"},{"$error":"#NAME?"},{"$error":"#NAME?"},{"$error":"#NAME?"},{"$error":"#NAME?"},{"$error":"#NAME?"},{"$error":"#NAME?"},{"$error":"#NAME?"},{"$error":"#NAME?"},{"$error":"#NAME?"},{"$error":"#NAME?"},{"$error":"#NAME?"},{"$error":"#NAME?"},{"$error":"#NAME?"},{"$error":"#NAME?"},{"$error":"#NAME?"},{"$error":"#NAME?"},{"$error":"#NAME?"},{"$error":"#NAME?"},{"$error":"#NAME?"},{"$error":"#NAME?"},{"$error":"#NAME?"},{"$error":"#NAME?"},{"$error":"#NAME?"},{"$error":"#NAME?"},{"$error":"#NAME?"},{"$error":"#NAME?"},{"$error":"#NAME?"},{"$error":"#NAME?"},null,{"$error":"#NAME?"},{"$error":"#NAME?"},{"$error":"#NAME?"},{"$error":"#NAME?"},{"$error":"#NAME?"},{"$error":"#NAME?"},{"$error":"#NAME?"},{"$error":"#NAME?"},{"$error":"#NAME?"},{"$error":"#NAME?"},{"$error":"#NAME?"},{"$error":"#NAME?"},{"$error":"#NAME?"},{"$error":"#NAME?"},{"$error":"#NAME?"},{"$error":"#NAME?"},{"$error":"#NAME?"},{"$error":"#NAME?"},{"$error":"#NAME?"},{"$error":"#NAME?"},{"$error":"#NAME?"},{"$error":"#NAME?"},{"$error":"#NAME?"},{"$error":"#NAME?"},{"$error":"#NAME?"},{"$error":"#NAME?"},{"$error":"#NAME?"},{"$error":"#NAME?"},{"$error":"#NAME?"},{"$error":"#NAME?"},{"$error":"#NAME?"},{"$error":"#NAME?"},{"$error":"#NAME?"},{"$error":"#NAME?"},{"$error":"#NAME?"},{"$error":"#NAME?"},{"$error":"#NAME?"},{"$error":"#NAME?"},{"$error":"#NAME?"},{"$error":"#NAME?"},{"$error":"#NAME?"},{"$error":"#NAME?"},{"$error":"#NAME?"},{"$error":"#NAME?"},{"$error":"#NAME?"},{"$error":"#NAME?"},{"$error":"#NAME?"},{"$error":"#NAME?"},{"$error":"#NAME?"},{"$error":"#NAME?"},{"$error":"#NAME?"},{"$error":"#NAME?"},{"$error":"#NAME?"},{"$error":"#NAME?"},{"$error":"#NAME?"},{"$error":"#NAME?"},{"$error":"#NAME?"},{"$error":"#NAME?"},{"$error":"#NAME?"},{"$error":"#NAME?"},{"$error":"#NAME?"},{"$error":"#NAME?"},{"$error":"#NAME?"},{"$error":"#NAME?"},{"$error":"#NAME?"},{"$error":"#NAME?"},{"$error":"#NAME?"},{"$error":"#NAME?"},{"$error":"#NAME?"},{"$error":"#NAME?"},{"$error":"#NAME?"},{"$error":"#NAME?"},{"$error":"#NAME?"},{"$error":"#NAME?"},{"$error":"#NAME?"},{"$error":"#NAME?"},{"$error":"#NAME?"},{"$error":"#NAME?"},{"$error":"#NAME?"},{"$error":"#NAME?"},{"$error":"#NAME?"},{"$error":"#NAME?"},{"$error":"#NAME?"},{"$error":"#NAME?"},{"$error":"#NAME?"},{"$error":"#NAME?"},{"$error":"#NAME?"},{"$error":"#NAME?"},{"$error":"#NAME?"},{"$error":"#NAME?"},{"$error":"#NAME?"},{"$error":"#NAME?"},{"$error":"#NAME?"},{"$error":"#NAME?"},{"$error":"#NAME?"},{"$error":"#NAME?"},{"$error":"#NAME?"},{"$error":"#NAME?"},{"$error":"#NAME?"},{"$error":"#NAME?"}]
[{"$error":"#NAME?"},{"$error":"#NAME?"},{"$error":"#NAME?"},{"$error":"#NAME?"},{"$error":"#NAME?"},{"$error":"#NAME?"},{"$error":"#NAME?"},{"$error":"#NAME?"},{"$error":"#NAME?"},{"$error":"#NAME?"},{"$error":"#NAME?"},{"$error":"#NAME?"},{"$error":"#NAME?"},{"$error":"#NAME?"},{"$error":"#NAME?"},{"$error":"#NAME?"},{"$error":"#NAME?"},{"$error":"#NAME?"},{"$error":"#NAME?"},{"$error":"#NAME?"},{"$error":"#NAME?"},{"$error":"#NAME?"},{"$error":"#NAME?"},{"$error":"#NAME?"},{"$error":"#NAME?"},{"$error":"#NAME?"},{"$error":"#NAME?"},{"$error":"#NAME?"},{"$error":"#NAME?"},{"$error":"#NAME?"},{"$error":"#NAME?"},{"$error":"#NAME?"},{"$error":"#NAME?"},{"$error":"#NAME?"},{"$error":"#NAME?"},{"$error":"#NAME?"},{"$error":"#NAME?"},{"$error":"#NAME?"},{"$error":"#NAME?"},{"$error":"#NAME?"},{"$error":"#NAME?"},{"$error":"#NAME?"},{"$error":"#NAME?"},{"$error":"#NAME?"},{"$error":"#NAME?"},{"$error":"#NAME?"},{"$error":"#NAME?"},{"$error":"#NAME?"},{"$error":"#NAME?"},{"$error":"#NAME?"},{"$error":"#NAME?"},{"$error":"#NAME?"},{"$error":"#NAME?"},{"$error":"#NAME?"},{"$error":"#NAME?"},{"$error":"#NAME?"},{"$error":"#NAME?"},{"$error":"#NAME?"},{"$error":"#NAME?"},{"$error":"#NAME?"},{"$error":"#NAME?"},{"$error":"#NAME?"},{"$error":"#NAME?"},{"$error":"#NAME?"},{"$error":"#NAME?"},{"$error":"#NAME?"},{"$error":"#NAME?"},{"$error":"#NAME?"},{"$error":"#NAME?"},{"$error":"#NAME?"},{"$error":"#NAME?"},{"$error":"#NAME?"},{"$error":"#NAME?"},{"$error":"#NAME?"},{"$error":"#NAME?"},{"$error":"#NAME?"},{"$error":"#NAME?"},{"$error":"#NAME?"},{"$error":"#NAME?"},{"$error":"#NAME?"},{"$error":"#NAME?"},{"$error":"#NAME?"},{"$error":"#NAME?"},{"$error":"#NAME?"},{"$error":"#NAME?"},{"$error":"#NAME?"},{"$error":"#NAME?"},{"$error":"#NAME?"},{"$error":"#NAME?"},{"$error":"#NAME?"},{"$error":"#NAME?"},{"$error":"#NAME?"},{"$error":"#NAME?"},{"$error":"#NAME?"},{"$error":"#NAME?"},{"$error":"#NAME?"},{"$error":"#NAME?"},{"$error":"#NAME?"},{"$error":"#NAME?"},{"$error":"#NAME?"},null,{"$error":"#NAME?"},{"$error":"#NAME?"},{"$error":"#NAME?"},{"$error":"#NAME?"},{"$error":"#NAME?"},{"$error":"#NAME?"},{"$error":"#NAME?"},{"$error":"#NAME?"},{"$error":"#NAME?"},{"$error":"#NAME?"},{"$error":"#NAME?"},{"$error":"#NAME?"},{"$error":"#NAME?"},{"$error":"#NAME?"},{"$error":"#NAME?"},{"$error":"#NAME?"},{"$error":"#NAME?"},{"$error":"#NAME?"},{"$error":"#NAME?"},{"$error":"#NAME?"},{"$error":"#NAME?"},{"$error":"#NAME?"},{"$error":"#NAME?"},{"$error":"#NAME?"},{"$error":"#NAME?"},{"$error":"#NAME?"},{"$error":"#NAME?"},{"$error":"#NAME?"},{"$error":"#NAME?"},{"$error":"#NAME?"},{"$error":"#NAME?"},{"$error":"#NAME?"},{"$error":"#NAME?"},{"$error":"#NAME?"},{"$error":"#NAME?"},{"$error":"#NAME?"},{"$error":"#NAME?"},{"$error":"#NAME?"},{"$error":"#NAME?"},{"$error":"#NAME?"},{"$error":"#NAME?"},{"$error":"#NAME?"},{"$error":"#NAME?"},{"$error":"#NAME?"},{"$error":"#NAME?"},{"$error":"#NAME?"},{"$error":"#NAME?"},{"$error":"#NAME?"},{"$error":"#NAME?"},{"$error":"#NAME?"},{"$error":"#NAME?"},{"$error":"#NAME?"},{"$error":"#NAME?"},{"$error":"#NAME?"},{"$error":"#NAME?"},{"$error":"#NAME?"},{"$error":"#NAME?"},{"$error":"#NAME?"},{"$error":"#NAME?"},{"$error":"#NAME?"},{"$error":"#NAME?"},{"$error":"#NAME?"},{"$error":"#NAME?"},{"$error":"#NAME?"},{"$error":"#NAME?"},{"$error":"#NAME?"},{"$error":"#NAME?"},{"$error":"#NAME?"},{"$error":"#NAME?"},{"$error":"#NAME?"},{"$error":"#NAME?"},{"$error":"#NAME?"},{"$error":"#NAME?"},{"$error":"#NAME?"},{"$error":"#NAME?"},{"$error":"#NAME?"},{"$error":"#NAME?"},{"$error":"#NAME?"},{"$error":"#NAME?"},{"$error":"#NAME?"},{"$error":"#NAME?"},{"$error":"#NAME?"},{"$error":"#NAME?"},{"$error":"#NAME?"},{"$error":"#NAME?"},{"$error":"#NAME?"},{"$error":"#NAME?"},{"$error":"#NAME?"},{"$error":"#NAME?"},{"$error":"#NAME?"},{"$error":"#NAME?"},{"$error":"#NAME?"},{"$error":"#NAME?"},{"$error":"#NAME?"},{"$error":"#NAME?"},{"$error":"#NAME?"},{"$error":"#NAME?"},{"$error":"#NAME?"},{"$error":"#NAME?"},{"$error":"#NAME?"}]
[{"$error":"#NAME?"},{"$error":"#NAME?"},{"$error":"#NAME?"},{"$error":"#NAME?"},{"$error":"#NAME?"},{"$error":"#NAME?"},{"$error":"#NAME?"},{"$error":"#NAME?"},{"$error":"#NAME?"},{"$error":"#NAME?"},{"$error":"#NAME?"},{"$error":"#NAME?"},{"$error":"#NAME?"},{"$error":"#NAME?"},{"$error":"#NAME?"},{"$error":"#NAME?"},{"$error":"#NAME?"},{"$error":"#NAME?"},{"$error":"#NAME?"},{"$error":"#NAME?"},{"$error":"#NAME?"},{"$error":"#NAME?"},{"$error":"#NAME?"},{"$error":"#NAME?"},{"$error":"#NAME?"},{"$error":"#NAME?"},{"$error":"#NAME?"},{"$error":"#NAME?"},{"$error":"#NAME?"},{"$error":"#NAME?"},{"$error":"#NAME?"},{"$error":"#NAME?"},{"$error":"#NAME?"},{"$error":"#NAME?"},{"$error":"#NAME?"},{"$error":"#NAME?"},{"$error":"#NAME?"},{"$error":"#NAME?"},{"$error":"#NAME?"},{"$error":"#NAME?"},{"$error":"#NAME?"},{"$error":"#NAME?"},{"$error":"#NAME?"},{"$error":"#NAME?"},{"$error":"#NAME?"},{"$error":"#NAME?"},{"$error":"#NAME?"},{"$error":"#NAME?"},{"$error":"#NAME?"},{"$error":"#NAME?"},{"$error":"#NAME?"},{"$error":"#NAME?"},{"$error":"#NAME?"},{"$error":"#NAME?"},{"$error":"#NAME?"},{"$error":"#NAME?"},{"$error":"#NAME?"},{"$error":"#NAME?"},{"$error":"#NAME?"},{"$error":"#NAME?"},{"$error":"#NAME?"},{"$error":"#NAME?"},{"$error":"#NAME?"},{"$error":"#NAME?"},{"$error":"#NAME?"},{"$error":"#NAME?"},{"$error":"#NAME?"},{"$error":"#NAME?"},{"$error":"#NAME?"},{"$error":"#NAME?"},{"$error":"#NAME?"},{"$error":"#NAME?"},{"$error":"#NAME?"},{"$error":"#NAME?"},{"$error":"#NAME?"},{"$error":"#NAME?"},{"$error":"#NAME?"},{"$error":"#NAME?"},{"$error":"#NAME?"},{"$error":"#NAME?"},{"$error":"#NAME?"},{"$error":"#NAME?"},{"$error":"#NAME?"},{"$error":"#NAME?"},{"$error":"#NAME?"},{"$error":"#NAME?"},{"$error":"#NAME?"},{"$error":"#NAME?"},{"$error":"#NAME?"},{"$error":"#NAME?"},{"$error":"#NAME?"},{"$error":"#NAME?"},{"$error":"#NAME?"},{"$error":"#NAME?"},{"$error":"#NAME?"},{"$error":"#NAME?"},{"$error":"#NAME?"},{"$error":"#NAME?"},{"$error":"#NAME?"},{"$error":"#NAME?"},null,{"$error":"#NAME?"},{"$error":"#NAME?"},{"$error":"#NAME?"},{"$error":"#NAME?"},{"$error":"#NAME?"},{"$error":"#NAME?"},{"$error":"#NAME?"},{"$error":"#NAME?"},{"$error":"#NAME?"},{"$error":"#NAME?"},{"$error":"#NAME?"},{"$error":"#NAME?"},{"$error":"#NAME?"},{"$error":"#NAME?"},{"$error":"#NAME?"},{"$error":"#NAME?"},{"$error":"#NAME?"},{"$error":"#NAME?"},{"$error":"#NAME?"},{"$error":"#NAME?"},{"$error":"#NAME?"},{"$error":"#NAME?"},{"$error":"#NAME?"},{"$error":"#NAME?"},{"$error":"#NAME?"},{"$error":"#NAME?"},{"$error":"#NAME?"},{"$error":"#NAME?"},{"$error":"#NAME?"},{"$error":"#NAME?"},{"$error":"#NAME?"},{"$error":"#NAME?"},{"$error":"#NAME?"},{"$error":"#NAME?"},{"$error":"#NAME?"},{"$error":"#NAME?"},{"$error":"#NAME?"},{"$error":"#NAME?"},{"$error":"#NAME?"},{"$error":"#NAME?"},{"$error":"#NAME?"},{"$error":"#NAME?"},{"$error":"#NAME?"},{"$error":"#NAME?"},{"$error":"#NAME?"},{"$error":"#NAME?"},{"$error":"#NAME?"},{"$error":"#NAME?"},{"$error":"#NAME?"},{"$error":"#NAME?"},{"$error":"#NAME?"},{"$error":"#NAME?"},{"$error":"#NAME?"},{"$error":"#NAME?"},{"$error":"#NAME?"},{"$error":"#NAME?"},{"$error":"#NAME?"},{"$error":"#NAME?"},{"$error":"#NAME?"},{"$error":"#NAME?"},{"$error":"#NAME?"},{"$error":"#NAME?"},{"$error":"#NAME?"},{"$error":"#NAME?"},{"$error":"#NAME?"},{"$error":"#NAME?"},{"$error":"#NAME?"},{"$error":"#NAME?"},{"$error":"#NAME?"},{"$error":"#NAME?"},{"$error":"#NAME?"},{"$error":"#NAME?"},{"$error":"#NAME?"},{"$error":"#NAME?"},{"$error":"#NAME?"},{"$error":"#NAME?"},{"$error":"#NAME?"},{"$error":"#NAME?"},{"$error":"#NAME?"},{"$error":"#NAME?"},{"$error":"#NAME?"},{"$error":"#NAME?"},{"$error":"#NAME?"},{"$error":"#NAME?"},{"$error":"#NAME?"},{"$error":"#NAME?"},{"$error":"#NAME?"},{"$error":"#NAME?"},{"$error":"#NAME?"},{"$error":"#NAME?"},{"$error":"#NAME?"},{"$error":"#NAME?"},{"$error":"#NAME?"},{"$error":"#NAME?"},{"$error":"#NAME?"},{"$error":"#NAME?"},{"$error":"#NAME?"},{"$error":"#NAME?"},{"$error":"#NAME?"},{"$error":"#NAME?"}]
[{"$error":"#NAME?"},{"$error":"#NAME?"},{"$error":"#NAME?"},{"$error":"#NAME?"},{"$error":"#NAME?"},{"$error":"#NAME?"},{"$error":"#NAME?"},{"$error":"#NAME?"},{"$error":"#NAME?"},{"$error":"#NAME?"},{"$error":"#NAME?"},{"$error":"#NAME?"},{"$error":"#NAME?"},{"$error":"#NAME?"},{"$error":"#NAME?"},{"$error":"#NAME?"},{"$error":"#NAME?"},{"$error":"#NAME?"},{"$error":"#NAME?"},{"$error":"#NAME?"},{"$error":"#NAME?"},{"$error":"#NAME?"},{"$error":"#NAME?"},{"$error":"#NAME?"},{"$error":"#NAME?"},{"$error":"#NAME?"},{"$error":"#NAME?"},{"$error":"#NAME?"},{"$error":"#NAME?"},{"$error":"#NAME?"},{"$error":"#NAME?"},{"$error":"#NAME?"},{"$error":"#NAME?"},{"$error":"#NAME?"},{"$error":"#NAME?"},{"$error":"#NAME?"},{"$error":"#NAME?"},{"$error":"#NAME?"},{"$error":"#NAME?"},{"$error":"#NAME?"},{"$error":"#NAME?"},{"$error":"#NAME?"},{"$error":"#NAME?"},{"$error":"#NAME?"},{"$error":"#NAME?"},{"$error":"#NAME?"},{"$error":"#NAME?"},{"$error":"#NAME?"},{"$error":"#NAME?"},{"$error":"#NAME?"},{"$error":"#NAME?"},{"$error":"#NAME?"},{"$error":"#NAME?"},{"$error":"#NAME?"},{"$error":"#NAME?"},{"$error":"#NAME?"},{"$error":"#NAME?"},{"$error":"#NAME?"},{"$error":"#NAME?"},{"$error":"#NAME?"},{"$error":"#NAME?"},{"$error":"#NAME?"},{"$error":"#NAME?"},{"$error":"#NAME?"},{"$error":"#NAME?"},{"$error":"#NAME?"},{"$error":"#NAME?"},{"$error":"#NAME?"},{"$error":"#NAME?"},{"$error":"#NAME?"},{"$error":"#NAME?"},{"$error":"#NAME?"},{"$error":"#NAME?"},{"$error":"#NAME?"},{"$error":"#NAME?"},{"$error":"#NAME?"},{"$error":"#NAME?"},{"$error":"#NAME?"},{"$error":"#NAME?"},{"$error":"#NAME?"},{"$error":"#NAME?"},{"$error":"#NAME?"},{"$error":"#NAME?"},{"$error":"#NAME?"},{"$error":"#NAME?"},{"$error":"#NAME?"},{"$error":"#NAME?"},{"$error":"#NAME?"},{"$error":"#NAME?"},{"$error":"#NAME?"},{"$error":"#NAME?"},{"$error":"#NAME?"},{"$error":"#NAME?"},{"$error":"#NAME?"},{"$error":"#NAME?"},{"$error":"#NAME?"},{"$error":"#NAME?"},{"$error":"#NAME?"},{"$error":"#NAME?"},{"$error":"#NAME?"},null,{"$error":"#NAME?"},{"$error":"#NAME?"},{"$error":"#NAME?"},{"$error":"#NAME?"},{"$error":"#NAME?"},{"$error":"#NAME?"},{"$error":"#NAME?"},{"$error":"#NAME?"},{"$error":"#NAME?"},{"$error":"#NAME?"},{"$error":"#NAME?"},{"$error":"#NAME?"},{"$error":"#NAME?"},{"$error":"#NAME?"},{"$error":"#NAME?"},{"$error":"#NAME?"},{"$error":"#NAME?"},{"$error":"#NAME?"},{"$error":"#NAME?"},{"$error":"#NAME?"},{"$error":"#NAME?"},{"$error":"#NAME?"},{"$error":"#NAME?"},{"$error":"#NAME?"},{"$error":"#NAME?"},{"$error":"#NAME?"},{"$error":"#NAME?"},{"$error":"#NAME?"},{"$error":"#NAME?"},{"$error":"#NAME?"},{"$error":"#NAME?"},{"$error":"#NAME?"},{"$error":"#NAME?"},{"$error":"#NAME?"},{"$error":"#NAME?"},{"$error":"#NAME?"},{"$error":"#NAME?"},{"$error":"#NAME?"},{"$error":"#NAME?"},{"$error":"#NAME?"},{"$error":"#NAME?"},{"$error":"#NAME?"},{"$error":"#NAME?"},{"$error":"#NAME?"},{"$error":"#NAME?"},{"$error":"#NAME?"},{"$error":"#NAME?"},{"$error":"#NAME?"},{"$error":"#NAME?"},{"$error":"#NAME?"},{"$error":"#NAME?"},{"$error":"#NAME?"},{"$error":"#NAME?"},{"$error":"#NAME?"},{"$error":"#NAME?"},{"$error":"#NAME?"},{"$error":"#NAME?"},{"$error":"#NAME?"},{"$error":"#NAME?"},{"$error":"#NAME?"},{"$error":"#NAME?"},{"$error":"#NAME?"},{"$error":"#NAME?"},{"$error":"#NAME?"},{"$error":"#NAME?"},{"$error":"#NAME?"},{"$error":"#NAME?"},{"$error":"#NAME?"},{"$error":"#NAME?"},{"$error":"#NAME?"},{"$error":"#NAME?"},{"$error":"#NAME?"},{"$error":"#NAME?"},{"$error":"#NAME?"},{"$error":"#NAME?"},{"$error":"#NAME?"},{"$error":"#NAME?"},{"$error":"#NAME?"},{"$error":"#NAME?"},{"$error":"#NAME?"},{"$error":"#NAME?"},{"$error":"#NAME?"},{"$error":"#NAME?"},{"$error":"#NAME?"},{"$error":"#NAME?"},{"$error":"#NAME?"},{"$error":"#NAME?"},{"$error":"#NAME?"},{"$error":"#NAME?"},{"$error":"#NAME?"},{"$error":"#NAME?"},{"$error":"#NAME?"},{"$error":"#NAME?"},{"$error":"#NAME?"},{"$error":"#NAME?"},{"$error":"#NAME?"},{"$error":"#NAME?"},{"$error":"#NAME?"},{"$error":"#NAME?"},{"$error":"#NAME?"}]
[{"$error":"#NAME?"},{"$error":"#NAME?"},{"$error":"#NAME?"},{"$error":"#NAME?"},{"$error":"#NAME?"},{"$error":"#NAME?"},{"$error":"#NAME?"},{"$error":"#NAME?"},{"$error":"#NAME?"},{"$error":"#NAME?"},{"$error":"#NAME?"},{"$error":"#NAME?"},{"$error":"#NAME?"},{"$error":"#NAME?"},{"$error":"#NAME?"},{"$error":"#NAME?"},{"$error":"#NAME?"},{"$error":"#NAME?"},{"$error":"#NAME?"},{"$error":"#NAME?"},{"$error":"#NAME?"},{"$error":"#NAME?"},{"$error":"#NAME?"},{"$error":"#NAME?"},{"$error":"#NAME?"},{"$error":"#NAME?"},{"$error":"#NAME?"},{"$error":"#NAME?"},{"$error":"#NAME?"},{"$error":"#NAME?"},{"$error":"#NAME?"},{"$error":"#NAME?"},{"$error":"#NAME?"},{"$error":"#NAME?"},{"$error":"#NAME?"},{"$error":"#NAME?"},{"$error":"#NAME?"},{"$error":"#NAME?"},{"$error":"#NAME?"},{"$error":"#NAME?"},{"$error":"#NAME?"},{"$error":"#NAME?"},{"$error":"#NAME?"},{"$error":"#NAME?"},{"$error":"#NAME?"},{"$error":"#NAME?"},{"$error":"#NAME?"},{"$error":"#NAME?"},{"$error":"#NAME?"},{"$error":"#NAME?"},{"$error":"#NAME?"},{"$error":"#NAME?"},{"$error":"#NAME?"},{"$error":"#NAME?"},{"$error":"#NAME?"},{"$error":"#NAME?"},{"$error":"#NAME?"},{"$error":"#NAME?"},{"$error":"#NAME?"},{"$error":"#NAME?"},{"$error":"#NAME?"},{"$error":"#NAME?"},{"$error":"#NAME?"},{"$error":"#NAME?"},{"$error":"#NAME?"},{"$error":"#NAME?"},{"$error":"#NAME?"},{"$error":"#NAME?"},{"$error":"#NAME?"},{"$error":"#NAME?"},{"$error":"#NAME?"},{"$error":"#NAME?"},{"$error":"#NAME?"},{"$error":"#NAME?"},{"$error":"#NAME?"},{"$error":"#NAME?"},{"$error":"#NAME?"},{"$error":"#NAME?"},{"$error":"#NAME?"},{"$error":"#NAME?"},{"$error":"#NAME?"},{"$error":"#NAME?"},{"$error":"#NAME?"},{"$error":"#NAME?"},{"$error":"#NAME?"},{"$error":"#NAME?"},{"$error":"#NAME?"},{"$error":"#NAME?"},{"$error":"#NAME?"},{"$error":"#NAME?"},{"$error":"#NAME?"},{"$error":"#NAME?"},{"$error":"#NAME?"},{"$error":"#NAME?"},{"$error":"#NAME?"},{"$error":"#NAME?"},{"$error":"#NAME?"},{"$error":"#NAME?"},{"$error":"#NAME?"},{"$error":"#NAME?"},null,{"$error":"#NAME?"},{"$error":"#NAME?"},{"$error":"#NAME?"},{"$error":"#NAME?"},{"$error":"#NAME?"},{"$error":"#NAME?"},{"$error":"#NAME?"},{"$error":"#NAME?"},{"$error":"#NAME?"},{"$error":"#NAME?"},{"$error":"#NAME?"},{"$error":"#NAME?"},{"$error":"#NAME?"},{"$error":"#NAME?"},{"$error":"#NAME?"},{"$error":"#NAME?"},{"$error":"#NAME?"},{"$error":"#NAME?"},{"$error":"#NAME?"},{"$error":"#NAME?"},{"$error":"#NAME?"},{"$error":"#NAME?"},{"$error":"#NAME?"},{"$error":"#NAME?"},{"$error":"#NAME?"},{"$error":"#NAME?"},{"$error":"#NAME?"},{"$error":"#NAME?"},{"$error":"#NAME?"},{"$error":"#NAME?"},{"$error":"#NAME?"},{"$error":"#NAME?"},{"$error":"#NAME?"},{"$error":"#NAME?"},{"$error":"#NAME?"},{"$error":"#NAME?"},{"$error":"#NAME?"},{"$error":"#NAME?"},{"$error":"#NAME?"},{"$error":"#NAME?"},{"$error":"#NAME?"},{"$error":"#NAME?"},{"$error":"#NAME?"},{"$error":"#NAME?"},{"$error":"#NAME?"},{"$error":"#NAME?"},{"$error":"#NAME?"},{"$error":"#NAME?"},{"$error":"#NAME?"},{"$error":"#NAME?"},{"$error":"#NAME?"},{"$error":"#NAME?"},{"$error":"#NAME?"},{"$error":"#NAME?"},{"$error":"#NAME?"},{"$error":"#NAME?"},{"$error":"#NAME?"},{"$error":"#NAME?"},{"$error":"#NAME?"},{"$error":"#NAME?"},{"$error":"#NAME?"},{"$error":"#NAME?"},{"$error":"#NAME?"},{"$error":"#NAME?"},{"$error":"#NAME?"},{"$error":"#NAME?"},{"$error":"#NAME?"},{"$error":"#NAME?"},{"$error":"#NAME?"},{"$error":"#NAME?"},{"$error":"#NAME?"},{"$error":"#NAME?"},{"$error":"#NAME?"},{"$error":"#NAME?"},{"$error":"#NAME?"},{"$error":"#NAME?"},{"$error":"#NAME?"},{"$error":"#NAME?"},{"$error":"#NAME?"},{"$error":"#NAME?"},{"$error":"#NAME?"},{"$error":"#NAME?"},{"$error":"#NAME?"},{"$error":"#NAME?"},{"$error":"#NAME?"},{"$error":"#NAME?"},{"$error":"#NAME?"},{"$error":"#NAME?"},{"$error":"#NAME?"},{"$error":"#NAME?"},{"$error":"#NAME?"},{"$error":"#NAME?"},{"$error":"#NAME?"},{"$error":"#NAME?"},{"$error":"#NAME?"},{"$error":"#NAME?"},{"$error":"#NAME?"},{"$error":"#NAME?"},{"$error":"#NAME?"},{"$error":"#NAME?"}]
[{"$error":"#NAME?"},{"$error":"#NAME?"},{"$error":"#NAME?"},{"$error":"#NAME?"},{"$error":"#NAME?"},{"$error":"#NAME?"},{"$error":"#NAME?"},{"$error":"#NAME?"},{"$error":"#NAME?"},{"$error":"#NAME?"},{"$error":"#NAME?"},{"$error":"#NAME?"},{"$error":"#NAME?"},{"$error":"#NAME?"},{"$error":"#NAME?"},{"$error":"#NAME?"},{"$error":"#NAME?"},{"$error":"#NAME?"},{"$error":"#NAME?"},{"$error":"#NAME?"},{"$error":"#NAME?"},{"$error":"#NAME?"},{"$error":"#NAME?"},{"$error":"#NAME?"},{"$error":"#NAME?"},{"$error":"#NAME?"},{"$error":"#NAME?"},{"$error":"#NAME?"},{"$error":"#NAME?"},{"$error":"#NAME?"},{"$error":"#NAME?"},{"$error":"#NAME?"},{"$error":"#NAME?"},{"$error":"#NAME?"},{"$error":"#NAME?"},{"$error":"#NAME?"},{"$error":"#NAME?"},{"$error":"#NAME?"},{"$error":"#NAME?"},{"$error":"#NAME?"},{"$error":"#NAME?"},{"$error":"#NAME?"},{"$error":"#NAME?"},{"$error":"#NAME?"},{"$error":"#NAME?"},{"$error":"#NAME?"},{"$error":"#NAME?"},{"$error":"#NAME?"},{"$error":"#NAME?"},{"$error":"#NAME?"},{"$error":"#NAME?"},{"$error":"#NAME?"},{"$error":"#NAME?"},{"$error":"#NAME?"},{"$error":"#NAME?"},{"$error":"#NAME?"},{"$error":"#NAME?"},{"$error":"#NAME?"},{"$error":"#NAME?"},{"$error":"#NAME?"},{"$error":"#NAME?"},{"$error":"#NAME?"},{"$error":"#NAME?"},{"$error":"#NAME?"},{"$error":"#NAME?"},{"$error":"#NAME?"},{"$error":"#NAME?"},{"$error":"#NAME?"},{"$error":"#NAME?"},{"$error":"#NAME?"},{"$error":"#NAME?"},{"$error":"#NAME?"},{"$error":"#NAME?"},{"$error":"#NAME?"},{"$error":"#NAME?"},{"$error":"#NAME?"},{"$error":"#NAME?"},{"$error":"#NAME?"},{"$error":"#NAME?"},{"$error":"#NAME?"},{"$error":"#NAME?"},{"$error":"#NAME?"},{"$error":"#NAME?"},{"$error":"#NAME?"},{"$error":"#NAME?"},{"$error":"#NAME?"},{"$error":"#NAME?"},{"$error":"#NAME?"},{"$error":"#NAME?"},{"$error":"#NAME?"},{"$error":"#NAME?"},{"$error":"#NAME?"},{"$error":"#NAME?"},{"$error":"#NAME?"},{"$error":"#NAME?"},{"$error":"#NAME?"},{"$error":"#NAME?"},{"$error":"#NAME?"},{"$error":"#NAME?"},{"$error":"#NAME?"},null,{"$error":"#NAME?"},{"$error":"#NAME?"},{"$error":"#NAME?"},{"$error":"#NAME?"},{"$error":"#NAME?"},{"$error":"#NAME?"},{"$error":"#NAME?"},{"$error":"#NAME?"},{"$error":"#NAME?"},{"$error":"#NAME?"},{"$error":"#NAME?"},{"$error":"#NAME?"},{"$error":"#NAME?"},{"$error":"#NAME?"},{"$error":"#NAME?"},{"$error":"#NAME?"},{"$error":"#NAME?"},{"$error":"#NAME?"},{"$error":"#NAME?"},{"$error":"#NAME?"},{"$error":"#NAME?"},{"$error":"#NAME?"},{"$error":"#NAME?"},{"$error":"#NAME?"},{"$error":"#NAME?"},{"$error":"#NAME?"},{"$error":"#NAME?"},{"$error":"#NAME?"},{"$error":"#NAME?"},{"$error":"#NAME?"},{"$error":"#NAME?"},{"$error":"#NAME?"},{"$error":"#NAME?"},{"$error":"#NAME?"},{"$error":"#NAME?"},{"$error":"#NAME?"},{"$error":"#NAME?"},{"$error":"#NAME?"},{"$error":"#NAME?"},{"$error":"#NAME?"},{"$error":"#NAME?"},{"$error":"#NAME?"},{"$error":"#NAME?"},{"$error":"#NAME?"},{"$error":"#NAME?"},{"$error":"#NAME?"},{"$error":"#NAME?"},{"$error":"#NAME?"},{"$error":"#NAME?"},{"$error":"#NAME?"},{"$error":"#NAME?"},{"$error":"#NAME?"},{"$error":"#NAME?"},{"$error":"#NAME?"},{"$error":"#NAME?"},{"$error":"#NAME?"},{"$error":"#NAME?"},{"$error":"#NAME?"},{"$error":"#NAME?"},{"$error":"#NAME?"},{"$error":"#NAME?"},{"$error":"#NAME?"},{"$error":"#NAME?"},{"$error":"#NAME?"},{"$error":"#NAME?"},{"$error":"#NAME?"},{"$error":"#NAME?"},{"$error":"#NAME?"},{"$error":"#NAME?"},{"$error":"#NAME?"},{"$error":"#NAME?"},{"$error":"#NAME?"},{"$error":"#NAME?"},{"$error":"#NAME?"},{"$error":"#NAME?"},{"$error":"#NAME?"},{"$error":"#NAME?"},{"$error":"#NAME?"},{"$error":"#NAME?"},{"$error":"#NAME?"},{"$error":"#NAME?"},{"$error":"#NAME?"},{"$error":"#NAME?"},{"$error":"#NAME?"},{"$error":"#NAME?"},{"$error":"#NAME?"},{"$error":"#NAME?"},{"$error":"#NAME?"},{"$error":"#NAME?"},{"$error":"#NAME?"},{"$error":"#NAME?"},{"$error":"#NAME?"},{"$error":"#NAME?"},{"$error":"#NAME?"},{"$error":"#NAME?"},{"$error":"#NAME?"},{"$error":"#NAME?"},{"$error":"#NAME?"},{"$error":"#NAME?"},{"$error":"#NAME?"}]
[{"$error":"#NAME?"},{"$error":"#NAME?"},{"$error":"#NAME?"},{"$error":"#NAME?"},{"$error":"#NAME?"},{"$error":"#NAME?"},{"$error":"#NAME?"},{"$error":"#NAME?"},{"$error":"#NAME?"},{"$error":"#NAME?"},{"$error":"#NAME?"},{"$error":"#NAME?"},{"$error":"#NAME?"},{"$error":"#NAME?"},{"$error":"#NAME?"},{"$error":"#NAME?"},{"$error":"#NAME?"},{"$error":"#NAME?"},{"$error":"#NAME?"},{"$error":"#NAME?"},{"$error":"#NAME?"},{"$error":"#NAME?"},{"$error":"#NAME?"},{"$error":"#NAME?"},{"$error":"#NAME?"},{"$error":"#NAME?"},{"$error":"#NAME?"},{"$error":"#NAME?"},{"$error":"#NAME?"},{"$error":"#NAME?"},{"$error":"#NAME?"},{"$error":"#NAME?"},{"$error":"#NAME?"},{"$error":"#NAME?"},{"$error":"#NAME?"},{"$error":"#NAME?"},{"$error":"#NAME?"},{"$error":"#NAME?"},{"$error":"#NAME?"},{"$error":"#NAME?"},{"$error":"#NAME?"},{"$error":"#NAME?"},{"$error":"#NAME?"},{"$error":"#NAME?"},{"$error":"#NAME?"},{"$error":"#NAME?"},{"$error":"#NAME?"},{"$error":"#NAME?"},{"$error":"#NAME?"},{"$error":"#NAME?"},{"$error":"#NAME?"},{"$error":"#NAME?"},{"$error":"#NAME?"},{"$error":"#NAME?"},{"$error":"#NAME?"},{"$error":"#NAME?"},{"$error":"#NAME?"},{"$error":"#NAME?"},{"$error":"#NAME?"},{"$error":"#NAME?"},{"$error":"#NAME?"},{"$error":"#NAME?"},{"$error":"#NAME?"},{"$error":"#NAME?"},{"$error":"#NAME?"},{"$error":"#NAME?"},{"$error":"#NAME?"},{"$error":"#NAME?"},{"$error":"#NAME?"},{"$error":"#NAME?"},{"$error":"#NAME?"},{"$error":"#NAME?"},{"$error":"#NAME?"},{"$error":"#NAME?"},{"$error":"#NAME?"},{"$error":"#NAME?"},{"$error":"#NAME?"},{"$error":"#NAME?"},{"$error":"#NAME?"},{"$error":"#NAME?"},{"$error":"#NAME?"},{"$error":"#NAME?"},{"$error":"#NAME?"},{"$error":"#NAME?"},{"$error":"#NAME?"},{"$error":"#NAME?"},{"$error":"#NAME?"},{"$error":"#NAME?"},{"$error":"#NAME?"},{"$error":"#NAME?"},{"$error":"#NAME?"},{"$error":"#NAME?"},{"$error":"#NAME?"},{"$error":"#NAME?"},{"$error":"#NAME?"},{"$error":"#NAME?"},{"$error":"#NAME?"},{"$error":"#NAME?"},{"$error":"#NAME?"},{"$error":"#NAME?"},null,{"$error":"#NAME?"},{"$error":"#NAME?"},{"$error":"#NAME?"},{"$error":"#NAME?"},{"$error":"#NAME?"},{"$error":"#NAME?"},{"$error":"#NAME?"},{"$error":"#NAME?"},{"$error":"#NAME?"},{"$error":"#NAME?"},{"$error":"#NAME?"},{"$error":"#NAME?"},{"$error":"#NAME?"},{"$error":"#NAME?"},{"$error":"#NAME?"},{"$error":"#NAME?"},{"$error":"#NAME?"},{"$error":"#NAME?"},{"$error":"#NAME?"},{"$error":"#NAME?"},{"$error":"#NAME?"},{"$error":"#NAME?"},{"$error":"#NAME?"},{"$error":"#NAME?"},{"$error":"#NAME?"},{"$error":"#NAME?"},{"$error":"#NAME?"},{"$error":"#NAME?"},{"$error":"#NAME?"},{"$error":"#NAME?"},{"$error":"#NAME?"},{"$error":"#NAME?"},{"$error":"#NAME?"},{"$error":"#NAME?"},{"$error":"#NAME?"},{"$error":"#NAME?"},{"$error":"#NAME?"},{"$error":"#NAME?"},{"$error":"#NAME?"},{"$error":"#NAME?"},{"$error":"#NAME?"},{"$error":"#NAME?"},{"$error":"#NAME?"},{"$error":"#NAME?"},{"$error":"#NAME?"},{"$error":"#NAME?"},{"$error":"#NAME?"},{"$error":"#NAME?"},{"$error":"#NAME?"},{"$error":"#NAME?"},{"$error":"#NAME?"},{"$error":"#NAME?"},{"$error":"#NAME?"},{"$error":"#NAME?"},{"$error":"#NAME?"},{"$error":"#NAME?"},{"$error":"#NAME?"},{"$error":"#NAME?"},{"$error":"#NAME?"},{"$error":"#NAME?"},{"$error":"#NAME?"},{"$error":"#NAME?"},{"$error":"#NAME?"},{"$error":"#NAME?"},{"$error":"#NAME?"},{"$error":"#NAME?"},{"$error":"#NAME?"},{"$error":"#NAME?"},{"$error":"#NAME?"},{"$error":"#NAME?"},{"$error":"#NAME?"},{"$error":"#NAME?"},{"$error":"#NAME?"},{"$error":"#NAME?"},{"$error":"#NAME?"},{"$error":"#NAME?"},{"$error":"#NAME?"},{"$error":"#NAME?"},{"$error":"#NAME?"},{"$error":"#NAME?"},{"$error":"#NAME?"},{"$error":"#NAME?"},{"$error":"#NAME?"},{"$error":"#NAME?"},{"$error":"#NAME?"},{"$error":"#NAME?"},{"$error":"#NAME?"},{"$error":"#NAME?"},{"$error":"#NAME?"},{"$error":"#NAME?"},{"$error":"#NAME?"},{"$error":"#NAME?"},{"$error":"#NAME?"},{"$error":"#NAME?"},{"$error":"#NAME?"},{"$error":"#NAME?"},{"$error":"#NAME?"},{"$error":"#NAME?"},{"$error":"#NAME?"},{"$error":"#NAME?"}]
[{"$error":"#NAME?"},{"$error":"#NAME?"},{"$error":"#NAME?"},{"$error":"#NAME?"},{"$error":"#NAME?"},{"$error":"#NAME?"},{"$error":"#NAME?"},{"$error":"#NAME?"},{"$error":"#NAME?"},{"$error":"#NAME?"},{"$error":"#NAME?"},{"$error":"#NAME?"},{"$error":"#NAME?"},{"$error":"#NAME?"},{"$error":"#NAME?"},{"$error":"#NAME?"},{"$error":"#NAME?"},{"$error":"#NAME?"},{"$error":"#NAME?"},{"$error":"#NAME?"},{"$error":"#NAME?"},{"$error":"#NAME?"},{"$error":"#NAME?"},{"$error":"#NAME?"},{"$error":"#NAME?"},{"$error":"#NAME?"},{"$error":"#NAME?"},{"$error":"#NAME?"},{"$error":"#NAME?"},{"$error":"#NAME?"},{"$error":"#NAME?"},{"$error":"#NAME?"},{"$error":"#NAME?"},{"$error":"#NAME?"},{"$error":"#NAME?"},{"$error":"#NAME?"},{"$error":"#NAME?"},{"$error":"#NAME?"},{"$error":"#NAME?"},{"$error":"#NAME?"},{"$error":"#NAME?"},{"$error":"#NAME?"},{"$error":"#NAME?"},{"$error":"#NAME?"},{"$error":"#NAME?"},{"$error":"#NAME?"},{"$error":"#NAME?"},{"$error":"#NAME?"},{"$error":"#NAME?"},{"$error":"#NAME?"},{"$error":"#NAME?"},{"$error":"#NAME?"},{"$error":"#NAME?"},{"$error":"#NAME?"},{"$error":"#NAME?"},{"$error":"#NAME?"},{"$error":"#NAME?"},{"$error":"#NAME?"},{"$error":"#NAME?"},{"$error":"#NAME?"},{"$error":"#NAME?"},{"$error":"#NAME?"},{"$error":"#NAME?"},{"$error":"#NAME?"},{"$error":"#NAME?"},{"$error":"#NAME?"},{"$error":"#NAME?"},{"$error":"#NAME?"},{"$error":"#NAME?"},{"$error":"#NAME?"},{"$error":"#NAME?"},{"$error":"#NAME?"},{"$error":"#NAME?"},{"$error":"#NAME?"},{"$error":"#NAME?"},{"$error":"#NAME?"},{"$error":"#NAME?"},{"$error":"#NAME?"},{"$error":"#NAME?"},{"$error":"#NAME?"},{"$error":"#NAME?"},{"$error":"#NAME?"},{"$error":"#NAME?"},{"$error":"#NAME?"},{"$error":"#NAME?"},{"$error":"#NAME?"},{"$error":"#NAME?"},{"$error":"#NAME?"},{"$error":"#NAME?"},{"$error":"#NAME?"},{"$error":"#NAME?"},{"$error":"#NAME?"},{"$error":"#NAME?"},{"$error":"#NAME?"},{"$error":"#NAME?"},{"$error":"#NAME?"},{"$error":"#NAME?"},{"$error":"#NAME?"},{"$error":"#NAME?"},{"$error":"#NAME?"},null,{"$error":"#NAME?"},{"$error":"#NAME?"},{"$error":"#NAME?"},{"$error":"#NAME?"},{"$error":"#NAME?"},{"$error":"#NAME?"},{"$error":"#NAME?"},{"$error":"#NAME?"},{"$error":"#NAME?"},{"$error":"#NAME?"},{"$error":"#NAME?"},{"$error":"#NAME?"},{"$error":"#NAME?"},{"$error":"#NAME?"},{"$error":"#NAME?"},{"$error":"#NAME?"},{"$error":"#NAME?"},{"$error":"#NAME?"},{"$error":"#NAME?"},{"$error":"#NAME?"},{"$error":"#NAME?"},{"$error":"#NAME?"},{"$error":"#NAME?"},{"$error":"#NAME?"},{"$error":"#NAME?"},{"$error":"#NAME?"},{"$error":"#NAME?"},{"$error":"#NAME?"},{"$error":"#NAME?"},{"$error":"#NAME?"},{"$error":"#NAME?"},{"$error":"#NAME?"},{"$error":"#NAME?"},{"$error":"#NAME?"},{"$error":"#NAME?"},{"$error":"#NAME?"},{"$error":"#NAME?"},{"$error":"#NAME?"},{"$error":"#NAME?"},{"$error":"#NAME?"},{"$error":"#NAME?"},{"$error":"#NAME?"},{"$error":"#NAME?"},{"$error":"#NAME?"},{"$error":"#NAME?"},{"$error":"#NAME?"},{"$error":"#NAME?"},{"$error":"#NAME?"},{"$error":"#NAME?"},{"$error":"#NAME?"},{"$error":"#NAME?"},{"$error":"#NAME?"},{"$error":"#NAME?"},{"$error":"#NAME?"},{"$error":"#NAME?"},{"$error":"#NAME?"},{"$error":"#NAME?"},{"$error":"#NAME?"},{"$error":"#NAME?"},{"$error":"#NAME?"},{"$error":"#NAME?"},{"$error":"#NAME?"},{"$error":"#NAME?"},{"$error":"#NAME?"},{"$error":"#NAME?"},{"$error":"#NAME?"},{"$error":"#NAME?"},{"$error":"#NAME?"},{"$error":"#NAME?"},{"$error":"#NAME?"},{"$error":"#NAME?"},{"$error":"#NAME?"},{"$error":"#NAME?"},{"$error":"#NAME?"},{"$error":"#NAME?"},{"$error":"#NAME?"},{"$error":"#NAME?"},{"$error":"#NAME?"},{"$error":"#NAME?"},{"$error":"#NAME?"},{"$error":"#NAME?"},{"$error":"#NAME?"},{"$error":"#NAME?"},{"$error":"#NAME?"},{"$error":"#NAME?"},{"$error":"#NAME?"},{"$error":"#NAME?"},{"$error":"#NAME?"},{"$error":"#NAME?"},{"$error":"#NAME?"},{"$error":"#NAME?"},{"$error":"#NAME?"},{"$error":"#NAME?"},{"$error":"#NAME?"},{"$error":"#NAME?"},{"$error":"#NAME?"},{"$error":"#NAME?"},{"$error":"#NAME?"},{"$error":"#NAME?"},{"$error":"#NAME?"}]
[{"$error":"#NAME?"},{"$error":"#NAME?"},{"$error":"#NAME?"},{"$error":"#NAME?"},{"$error":"#NAME?"},{"$error":"#NAME?"},{"$error":"#NAME?"},{"$error":"#NAME?"},{"$error":"#NAME?"},{"$error":"#NAME?"},{"$error":"#NAME?"},{"$error":"#NAME?"},{"$error":"#NAME?"},{"$error":"#NAME?"},{"$error":"#NAME?"},{"$error":"#NAME?"},{"$error":"#NAME?"},{"$error":"#NAME?"},{"$error":"#NAME?"},{"$error":"#NAME?"},{"$error":"#NAME?"},{"$error":"#NAME?"},{"$error":"#NAME?"},{"$error":"#NAME?"},{"$error":"#NAME?"},{"$error":"#NAME?"},{"$error":"#NAME?"},{"$error":"#NAME?"},{"$error":"#NAME?"},{"$error":"#NAME?"},{"$error":"#NAME?"},{"$error":"#NAME?"},{"$error":"#NAME?"},{"$error":"#NAME?"},{"$error":"#NAME?"},{"$error":"#NAME?"},{"$error":"#NAME?"},{"$error":"#NAME?"},{"$error":"#NAME?"},{"$error":"#NAME?"},{"$error":"#NAME?"},{"$error":"#NAME?"},{"$error":"#NAME?"},{"$error":"#NAME?"},{"$error":"#NAME?"},{"$error":"#NAME?"},{"$error":"#NAME?"},{"$error":"#NAME?"},{"$error":"#NAME?"},{"$error":"#NAME?"},{"$error":"#NAME?"},{"$error":"#NAME?"},{"$error":"#NAME?"},{"$error":"#NAME?"},{"$error":"#NAME?"},{"$error":"#NAME?"},{"$error":"#NAME?"},{"$error":"#NAME?"},{"$error":"#NAME?"},{"$error":"#NAME?"},{"$error":"#NAME?"},{"$error":"#NAME?"},{"$error":"#NAME?"},{"$error":"#NAME?"},{"$error":"#NAME?"},{"$error":"#NAME?"},{"$error":"#NAME?"},{"$error":"#NAME?"},{"$error":"#NAME?"},{"$error":"#NAME?"},{"$error":"#NAME?"},{"$error":"#NAME?"},{"$error":"#NAME?"},{"$error":"#NAME?"},{"$error":"#NAME?"},{"$error":"#NAME?"},{"$error":"#NAME?"},{"$error":"#NAME?"},{"$error":"#NAME?"},{"$error":"#NAME?"},{"$error":"#NAME?"},{"$error":"#NAME?"},{"$error":"#NAME?"},{"$error":"#NAME?"},{"$error":"#NAME?"},{"$error":"#NAME?"},{"$error":"#NAME?"},{"$error":"#NAME?"},{"$error":"#NAME?"},{"$error":"#NAME?"},{"$error":"#NAME?"},{"$error":"#NAME?"},{"$error":"#NAME?"},{"$error":"#NAME?"},{"$error":"#NAME?"},{"$error":"#NAME?"},{"$error":"#NAME?"},{"$error":"#NAME?"},{"$error":"#NAME?"},{"$error":"#NAME?"},null,{"$error":"#NAME?"},{"$error":"#NAME?"},{"$error":"#NAME?"},{"$error":"#NAME?"},{"$error":"#NAME?"},{"$error":"#NAME?"},{"$error":"#NAME?"},{"$error":"#NAME?"},{"$error":"#NAME?"},{"$error":"#NAME?"},{"$error":"#NAME?"},{"$error":"#NAME?"},{"$error":"#NAME?"},{"$error":"#NAME?"},{"$error":"#NAME?"},{"$error":"#NAME?"},{"$error":"#NAME?"},{"$error":"#NAME?"},{"$error":"#NAME?"},{"$error":"#NAME?"},{"$error":"#NAME?"},{"$error":"#NAME?"},{"$error":"#NAME?"},{"$error":"#NAME?"},{"$error":"#NAME?"},{"$error":"#NAME?"},{"$error":"#NAME?"},{"$error":"#NAME?"},{"$error":"#NAME?"},{"$error":"#NAME?"},{"$error":"#NAME?"},{"$error":"#NAME?"},{"$error":"#NAME?"},{"$error":"#NAME?"},{"$error":"#NAME?"},{"$error":"#NAME?"},{"$error":"#NAME?"},{"$error":"#NAME?"},{"$error":"#NAME?"},{"$error":"#NAME?"},{"$error":"#NAME?"},{"$error":"#NAME?"},{"$error":"#NAME?"},{"$error":"#NAME?"},{"$error":"#NAME?"},{"$error":"#NAME?"},{"$error":"#NAME?"},{"$error":"#NAME?"},{"$error":"#NAME?"},{"$error":"#NAME?"},{"$error":"#NAME?"},{"$error":"#NAME?"},{"$error":"#NAME?"},{"$error":"#NAME?"},{"$error":"#NAME?"},{"$error":"#NAME?"},{"$error":"#NAME?"},{"$error":"#NAME?"},{"$error":"#NAME?"},{"$error":"#NAME?"},{"$error":"#NAME?"},{"$error":"#NAME?"},{"$error":"#NAME?"},{"$error":"#NAME?"},{"$error":"#NAME?"},{"$error":"#NAME?"},{"$error":"#NAME?"},{"$error":"#NAME?"},{"$error":"#NAME?"},{"$error":"#NAME?"},{"$error":"#NAME?"},{"$error":"#NAME?"},{"$error":"#NAME?"},{"$error":"#NAME?"},{"$error":"#NAME?"},{"$error":"#NAME?"},{"$error":"#NAME?"},{"$error":"#NAME?"},{"$error":"#NAME?"},{"$error":"#NAME?"},{"$error":"#NAME?"},{"$error":"#NAME?"},{"$error":"#NAME?"},{"$error":"#NAME?"},{"$error":"#NAME?"},{"$error":"#NAME?"},{"$error":"#NAME?"},{"$error":"#NAME?"},{"$error":"#NAME?"},{"$error":"#NAME?"},{"$error":"#NAME?"},{"$error":"#NAME?"},{"$error":"#NAME?"},{"$error":"#NAME?"},{"$error":"#NAME?"},{"$error":"#NAME?"},{"$error":"#NAME?"},{"$error":"#NAME?"},{"$error":"#NAME?"},{"$error":"#NAME?"}]
[{"$error":"#NAME?"},{"$error":"#NAME?"},{"$error":"#NAME?"},{"$error":"#NAME?"},{"$error":"#NAME?"},{"$error":"#NAME?"},{"$error":"#NAME?"},{"$error":"#NAME?"},{"$error":"#NAME?"},{"$error":"#NAME?"},{"$error":"#NAME?"},{"$error":"#NAME?"},{"$error":"#NAME?"},{"$error":"#NAME?"},{"$error":"#NAME?"},{"$error":"#NAME?"},{"$error":"#NAME?"},{"$error":"#NAME?"},{"$error":"#NAME?"},{"$error":"#NAME?"},{"$error":"#NAME?"},{"$error":"#NAME?"},{"$error":"#NAME?"},{"$error":"#NAME?"},{"$error":"#NAME?"},{"$error":"#NAME?"},{"$error":"#NAME?"},{"$error":"#NAME?"},{"$error":"#NAME?"},{"$error":"#NAME?"},{"$error":"#NAME?"},{"$error":"#NAME?"},{"$error":"#NAME?"},{"$error":"#NAME?"},{"$error":"#NAME?"},{"$error":"#NAME?"},{"$error":"#NAME?"},{"$error":"#NAME?"},{"$error":"#NAME?"},{"$error":"#NAME?"},{"$error":"#NAME?"},{"$error":"#NAME?"},{"$error":"#NAME?"},{"$error":"#NAME?"},{"$error":"#NAME?"},{"$error":"#NAME?"},{"$error":"#NAME?"},{"$error":"#NAME?"},{"$error":"#NAME?"},{"$error":"#NAME?"},{"$error":"#NAME?"},{"$error":"#NAME?"},{"$error":"#NAME?"},{"$error":"#NAME?"},{"$error":"#NAME?"},{"$error":"#NAME?"},{"$error":"#NAME?"},{"$error":"#NAME?"},{"$error":"#NAME?"},{"$error":"#NAME?"},{"$error":"#NAME?"},{"$error":"#NAME?"},{"$error":"#NAME?"},{"$error":"#NAME?"},{"$error":"#NAME?"},{"$error":"#NAME?"},{"$error":"#NAME?"},{"$error":"#NAME?"},{"$error":"#NAME?"},{"$error":"#NAME?"},{"$error":"#NAME?"},{"$error":"#NAME?"},{"$error":"#NAME?"},{"$error":"#NAME?"},{"$error":"#NAME?"},{"$error":"#NAME?"},{"$error":"#NAME?"},{"$error":"#NAME?"},{"$error":"#NAME?"},{"$error":"#NAME?"},{"$error":"#NAME?"},{"$error":"#NAME?"},{"$error":"#NAME?"},{"$error":"#NAME?"},{"$error":"#NAME?"},{"$error":"#NAME?"},{"$error":"#NAME?"},{"$error":"#NAME?"},{"$error":"#NAME?"},{"$error":"#NAME?"},{"$error":"#NAME?"},{"$error":"#NAME?"},{"$error":"#NAME?"},{"$error":"#NAME?"},{"$error":"#NAME?"},{"$error":"#NAME?"},{"$error":"#NAME?"},{"$error":"#NAME?"},{"$error":"#NAME?"},{"$error":"#NAME?"},null,{"$error":"#NAME?"},{"$error":"#NAME?"},{"$error":"#NAME?"},{"$error":"#NAME?"},{"$error":"#NAME?"},{"$error":"#NAME?"},{"$error":"#NAME?"},{"$error":"#NAME?"},{"$error":"#NAME?"},{"$error":"#NAME?"},{"$error":"#NAME?"},{"$error":"#NAME?"},{"$error":"#NAME?"},{"$error":"#NAME?"},{"$error":"#NAME?"},{"$error":"#NAME?"},{"$error":"#NAME?"},{"$error":"#NAME?"},{"$error":"#NAME?"},{"$error":"#NAME?"},{"$error":"#NAME?"},{"$error":"#NAME?"},{"$error":"#NAME?"},{"$error":"#NAME?"},{"$error":"#NAME?"},{"$error":"#NAME?"},{"$error":"#NAME?"},{"$error":"#NAME?"},{"$error":"#NAME?"},{"$error":"#NAME?"},{"$error":"#NAME?"},{"$error":"#NAME?"},{"$error":"#NAME?"},{"$error":"#NAME?"},{"$error":"#NAME?"},{"$error":"#NAME?"},{"$error":"#NAME?"},{"$error":"#NAME?"},{"$error":"#NAME?"},{"$error":"#NAME?"},{"$error":"#NAME?"},{"$error":"#NAME?"},{"$error":"#NAME?"},{"$error":"#NAME?"},{"$error":"#NAME?"},{"$error":"#NAME?"},{"$error":"#NAME?"},{"$error":"#NAME?"},{"$error":"#NAME?"},{"$error":"#NAME?"},{"$error":"#NAME?"},{"$error":"#NAME?"},{"$error":"#NAME?"},{"$error":"#NAME?"},{"$error":"#NAME?"},{"$error":"#NAME?"},{"$error":"#NAME?"},{"$error":"#NAME?"},{"$error":"#NAME?"},{"$error":"#NAME?"},{"$error":"#NAME?"},{"$error":"#NAME?"},{"$error":"#NAME?"},{"$error":"#NAME?"},{"$error":"#NAME?"},{"$error":"#NAME?"},{"$error":"#NAME?"},{"$error":"#NAME?"},{"$error":"#NAME?"},{"$error":"#NAME?"},{"$error":"#NAME?"},{"$error":"#NAME?"},{"$error":"#NAME?"},{"$error":"#NAME?"},{"$error":"#NAME?"},{"$error":"#NAME?"},{"$error":"#NAME?"},{"$error":"#NAME?"},{"$error":"#NAME?"},{"$error":"#NAME?"},{"$error":"#NAME?"},{"$error":"#NAME?"},{"$error":"#NAME?"},{"$error":"#NAME?"},{"$error":"#NAME?"},{"$error":"#NAME?"},{"$error":"#NAME?"},{"$error":"#NAME?"},{"$error":"#NAME?"},{"$error":"#NAME?"},{"$error":"#NAME?"},{"$error":"#NAME?"},{"$error":"#NAME?"},{"$error":"#NAME?"},{"$error":"#NAME?"},{"$error":"#NAME?"},{"$error":"#NAME?"},{"$error":"#NAME?"},{"$error":"#NAME?"},{"$error":"#NAME?"}]
[{"$error":"#NAME?"},{"$error":"#NAME?"},{"$error":"#NAME?"},{"$error":"#NAME?"},{"$error":"#NAME?"},{"$error":"#NAME?"},{"$error":"#NAME?"},{"$error":"#NAME?"},{"$error":"#NAME?"},{"$error":"#NAME?"},{"$error":"#NAME?"},{"$error":"#NAME?"},{"$error":"#NAME?"},{"$error":"#NAME?"},{"$error":"#NAME?"},{"$error":"#NAME?"},{"$error":"#NAME?"},{"$error":"#NAME?"},{"$error":"#NAME?"},{"$error":"#NAME?"},{"$error":"#NAME?"},{"$error":"#NAME?"},{"$error":"#NAME?"},{"$error":"#NAME?"},{"$error":"#NAME?"},{"$error":"#NAME?"},{"$error":"#NAME?"},{"$error":"#NAME?"},{"$error":"#NAME?"},{"$error":"#NAME?"},{"$error":"#NAME?"},{"$error":"#NAME?"},{"$error":"#NAME?"},{"$error":"#NAME?"},{"$error":"#NAME?"},{"$error":"#NAME?"},{"$error":"#NAME?"},{"$error":"#NAME?"},{"$error":"#NAME?"},{"$error":"#NAME?"},{"$error":"#NAME?"},{"$error":"#NAME?"},{"$error":"#NAME?"},{"$error":"#NAME?"},{"$error":"#NAME?"},{"$error":"#NAME?"},{"$error":"#NAME?"},{"$error":"#NAME?"},{"$error":"#NAME?"},{"$error":"#NAME?"},{"$error":"#NAME?"},{"$error":"#NAME?"},{"$error":"#NAME?"},{"$error":"#NAME?"},{"$error":"#NAME?"},{"$error":"#NAME?"},{"$error":"#NAME?"},{"$error":"#NAME?"},{"$error":"#NAME?"},{"$error":"#NAME?"},{"$error":"#NAME?"},{"$error":"#NAME?"},{"$error":"#NAME?"},{"$error":"#NAME?"},{"$error":"#NAME?"},{"$error":"#NAME?"},{"$error":"#NAME?"},{"$error":"#NAME?"},{"$error":"#NAME?"},{"$error":"#NAME?"},{"$error":"#NAME?"},{"$error":"#NAME?"},{"$error":"#NAME?"},{"$error":"#NAME?"},{"$error":"#NAME?"},{"$error":"#NAME?"},{"$error":"#NAME?"},{"$error":"#NAME?"},{"$error":"#NAME?"},{"$error":"#NAME?"},{"$error":"#NAME?"},{"$error":"#NAME?"},{"$error":"#NAME?"},{"$error":"#NAME?"},{"$error":"#NAME?"},{"$error":"#NAME?"},{"$error":"#NAME?"},{"$error":"#NAME?"},{"$error":"#NAME?"},{"$error":"#NAME?"},{"$error":"#NAME?"},{"$error":"#NAME?"},{"$error":"#NAME?"},{"$error":"#NAME?"},{"$error":"#NAME?"},{"$error":"#NAME?"},{"$error":"#NAME?"},{"$error":"#NAME?"},{"$error":"#NAME?"},{"$error":"#NAME?"},null,{"$error":"#NAME?"},{"$error":"#NAME?"},{"$error":"#NAME?"},{"$error":"#NAME?"},{"$error":"#NAME?"},{"$error":"#NAME?"},{"$error":"#NAME?"},{"$error":"#NAME?"},{"$error":"#NAME?"},{"$error":"#NAME?"},{"$error":"#NAME?"},{"$error":"#NAME?"},{"$error":"#NAME?"},{"$error":"#NAME?"},{"$error":"#NAME?"},{"$error":"#NAME?"},{"$error":"#NAME?"},{"$error":"#NAME?"},{"$error":"#NAME?"},{"$error":"#NAME?"},{"$error":"#NAME?"},{"$error":"#NAME?"},{"$error":"#NAME?"},{"$error":"#NAME?"},{"$error":"#NAME?"},{"$error":"#NAME?"},{"$error":"#NAME?"},{"$error":"#NAME?"},{"$error":"#NAME?"},{"$error":"#NAME?"},{"$error":"#NAME?"},{"$error":"#NAME?"},{"$error":"#NAME?"},{"$error":"#NAME?"},{"$error":"#NAME?"},{"$error":"#NAME?"},{"$error":"#NAME?"},{"$error":"#NAME?"},{"$error":"#NAME?"},{"$error":"#NAME?"},{"$error":"#NAME?"},{"$error":"#NAME?"},{"$error":"#NAME?"},{"$error":"#NAME?"},{"$error":"#NAME?"},{"$error":"#NAME?"},{"$error":"#NAME?"},{"$error":"#NAME?"},{"$error":"#NAME?"},{"$error":"#NAME?"},{"$error":"#NAME?"},{"$error":"#NAME?"},{"$error":"#NAME?"},{"$error":"#NAME?"},{"$error":"#NAME?"},{"$error":"#NAME?"},{"$error":"#NAME?"},{"$error":"#NAME?"},{"$error":"#NAME?"},{"$error":"#NAME?"},{"$error":"#NAME?"},{"$error":"#NAME?"},{"$error":"#NAME?"},{"$error":"#NAME?"},{"$error":"#NAME?"},{"$error":"#NAME?"},{"$error":"#NAME?"},{"$error":"#NAME?"},{"$error":"#NAME?"},{"$error":"#NAME?"},{"$error":"#NAME?"},{"$error":"#NAME?"},{"$error":"#NAME?"},{"$error":"#NAME?"},{"$error":"#NAME?"},{"$error":"#NAME?"},{"$error":"#NAME?"},{"$error":"#NAME?"},{"$error":"#NAME?"},{"$error":"#NAME?"},{"$error":"#NAME?"},{"$error":"#NAME?"},{"$error":"#NAME?"},{"$error":"#NAME?"},{"$error":"#NAME?"},{"$error":"#NAME?"},{"$error":"#NAME?"},{"$error":"#NAME?"},{"$error":"#NAME?"},{"$error":"#NAME?"},{"$error":"#NAME?"},{"$error":"#NAME?"},{"$error":"#NAME?"},{"$error":"#NAME?"},{"$error":"#NAME?"},{"$error":"#NAME?"},{"$error":"#NAME?"},{"$error":"#NAME?"},{"$error":"#NAME?"},{"$error":"#NAME?"}]
[{"$error":"#NAME?"},{"$error":"#NAME?"},{"$error":"#NAME?"},{"$error":"#NAME?"},{"$error":"#NAME?"},{"$error":"#NAME?"},{"$error":"#NAME?"},{"$error":"#NAME?"},{"$error":"#NAME?"},{"$error":"#NAME?"},{"$error":"#NAME?"},{"$error":"#NAME?"},{"$error":"#NAME?"},{"$error":"#NAME?"},{"$error":"#NAME?"},{"$error":"#NAME?"},{"$error":"#NAME?"},{"$error":"#NAME?"},{"$error":"#NAME?"},{"$error":"#NAME?"},{"$error":"#NAME?"},{"$error":"#NAME?"},{"$error":"#NAME?"},{"$error":"#NAME?"},{"$error":"#NAME?"},{"$error":"#NAME?"},{"$error":"#NAME?"},{"$error":"#NAME?"},{"$error":"#NAME?"},{"$error":"#NAME?"},{"$error":"#NAME?"},{"$error":"#NAME?"},{"$error":"#NAME?"},{"$error":"#NAME?"},{"$error":"#NAME?"},{"$error":"#NAME?"},{"$error":"#NAME?"},{"$error":"#NAME?"},{"$error":"#NAME?"},{"$error":"#NAME?"},{"$error":"#NAME?"},{"$error":"#NAME?"},{"$error":"#NAME?"},{"$error":"#NAME?"},{"$error":"#NAME?"},{"$error":"#NAME?"},{"$error":"#NAME?"},{"$error":"#NAME?"},{"$error":"#NAME?"},{"$error":"#NAME?"},{"$error":"#NAME?"},{"$error":"#NAME?"},{"$error":"#NAME?"},{"$error":"#NAME?"},{"$error":"#NAME?"},{"$error":"#NAME?"},{"$error":"#NAME?"},{"$error":"#NAME?"},{"$error":"#NAME?"},{"$error":"#NAME?"},{"$error":"#NAME?"},{"$error":"#NAME?"},{"$error":"#NAME?"},{"$error":"#NAME?"},{"$error":"#NAME?"},{"$error":"#NAME?"},{"$error":"#NAME?"},{"$error":"#NAME?"},{"$error":"#NAME?"},{"$error":"#NAME?"},{"$error":"#NAME?"},{"$error":"#NAME?"},{"$error":"#NAME?"},{"$error":"#NAME?"},{"$error":"#NAME?"},{"$error":"#NAME?"},{"$error":"#NAME?"},{"$error":"#NAME?"},{"$error":"#NAME?"},{"$error":"#NAME?"},{"$error":"#NAME?"},{"$error":"#NAME?"},{"$error":"#NAME?"},{"$error":"#NAME?"},{"$error":"#NAME?"},{"$error":"#NAME?"},{"$error":"#NAME?"},{"$error":"#NAME?"},{"$error":"#NAME?"},{"$error":"#NAME?"},{"$error":"#NAME?"},{"$error":"#NAME?"},{"$error":"#NAME?"},{"$error":"#NAME?"},{"$error":"#NAME?"},{"$error":"#NAME?"},{"$error":"#NAME?"},{"$error":"#NAME?"},{"$error":"#NAME?"},{"$error":"#NAME?"},null,{"$error":"#NAME?"},{"$error":"#NAME?"},{"$error":"#NAME?"},{"$error":"#NAME?"},{"$error":"#NAME?"},{"$error":"#NAME?"},{"$error":"#NAME?"},{"$error":"#NAME?"},{"$error":"#NAME?"},{"$error":"#NAME?"},{"$error":"#NAME?"},{"$error":"#NAME?"},{"$error":"#NAME?"},{"$error":"#NAME?"},{"$error":"#NAME?"},{"$error":"#NAME?"},{"$error":"#NAME?"},{"$error":"#NAME?"},{"$error":"#NAME?"},{"$error":"#NAME?"},{"$error":"#NAME?"},{"$error":"#NAME?"},{"$error":"#NAME?"},{"$error":"#NAME?"},{"$error":"#NAME?"},{"$error":"#NAME?"},{"$error":"#NAME?"},{"$error":"#NAME?"},{"$error":"#NAME?"},{"$error":"#NAME?"},{"$error":"#NAME?"},{"$error":"#NAME?"},{"$error":"#NAME?"},{"$error":"#NAME?"},{"$error":"#NAME?"},{"$error":"#NAME?"},{"$error":"#NAME?"},{"$error":"#NAME?"},{"$error":"#NAME?"},{"$error":"#NAME?"},{"$error":"#NAME?"},{"$error":"#NAME?"},{"$error":"#NAME?"},{"$error":"#NAME?"},{"$error":"#NAME?"},{"$error":"#NAME?"},{"$error":"#NAME?"},{"$error":"#NAME?"},{"$error":"#NAME?"},{"$error":"#NAME?"},{"$error":"#NAME?"},{"$error":"#NAME?"},{"$error":"#NAME?"},{"$error":"#NAME?"},{"$error":"#NAME?"},{"$error":"#NAME?"},{"$error":"#NAME?"},{"$error":"#NAME?"},{"$error":"#NAME?"},{"$error":"#NAME?"},{"$error":"#NAME?"},{"$error":"#NAME?"},{"$error":"#NAME?"},{"$error":"#NAME?"},{"$error":"#NAME?"},{"$error":"#NAME?"},{"$error":"#NAME?"},{"$error":"#NAME?"},{"$error":"#NAME?"},{"$error":"#NAME?"},{"$error":"#NAME?"},{"$error":"#NAME?"},{"$error":"#NAME?"},{"$error":"#NAME?"},{"$error":"#NAME?"},{"$error":"#NAME?"},{"$error":"#NAME?"},{"$error":"#NAME?"},{"$error":"#NAME?"},{"$error":"#NAME?"},{"$error":"#NAME?"},{"$error":"#NAME?"},{"$error":"#NAME?"},{"$error":"#NAME?"},{"$error":"#NAME?"},{"$error":"#NAME?"},{"$error":"#NAME?"},{"$error":"#NAME?"},{"$error":"#NAME?"},{"$error":"#NAME?"},{"$error":"#NAME?"},{"$error":"#NAME?"},{"$error":"#NAME?"},{"$error":"#NAME?"},{"$error":"#NAME?"},{"$error":"#NAME?"},{"$error":"#NAME?"},{"$error":"#NAME?"},{"$error":"#NAME?"},{"$error":"#NAME?"}]
[{"$error":"#NAME?"},{"$error":"#NAME?"},{"$error":"#NAME?"},{"$error":"#NAME?"},{"$error":"#NAME?"},{"$error":"#NAME?"},{"$error":"#NAME?"},{"$error":"#NAME?"},{"$error":"#NAME?"},{"$error":"#NAME?"},{"$error":"#NAME?"},{"$error":"#NAME?"},{"$error":"#NAME?"},{"$error":"#NAME?"},{"$error":"#NAME?"},{"$error":"#NAME?"},{"$error":"#NAME?"},{"$error":"#NAME?"},{"$error":"#NAME?"},{"$error":"#NAME?"},{"$error":"#NAME?"},{"$error":"#NAME?"},{"$error":"#NAME?"},{"$error":"#NAME?"},{"$error":"#NAME?"},{"$error":"#NAME?"},{"$error":"#NAME?"},{"$error":"#NAME?"},{"$error":"#NAME?"},{"$error":"#NAME?"},{"$error":"#NAME?"},{"$error":"#NAME?"},{"$error":"#NAME?"},{"$error":"#NAME?"},{"$error":"#NAME?"},{"$error":"#NAME?"},{"$error":"#NAME?"},{"$error":"#NAME?"},{"$error":"#NAME?"},{"$error":"#NAME?"},{"$error":"#NAME?"},{"$error":"#NAME?"},{"$error":"#NAME?"},{"$error":"#NAME?"},{"$error":"#NAME?"},{"$error":"#NAME?"},{"$error":"#NAME?"},{"$error":"#NAME?"},{"$error":"#NAME?"},{"$error":"#NAME?"},{"$error":"#NAME?"},{"$error":"#NAME?"},{"$error":"#NAME?"},{"$error":"#NAME?"},{"$error":"#NAME?"},{"$error":"#NAME?"},{"$error":"#NAME?"},{"$error":"#NAME?"},{"$error":"#NAME?"},{"$error":"#NAME?"},{"$error":"#NAME?"},{"$error":"#NAME?"},{"$error":"#NAME?"},{"$error":"#NAME?"},{"$error":"#NAME?"},{"$error":"#NAME?"},{"$error":"#NAME?"},{"$error":"#NAME?"},{"$error":"#NAME?"},{"$error":"#NAME?"},{"$error":"#NAME?"},{"$error":"#NAME?"},{"$error":"#NAME?"},{"$error":"#NAME?"},{"$error":"#NAME?"},{"$error":"#NAME?"},{"$error":"#NAME?"},{"$error":"#NAME?"},{"$error":"#NAME?"},{"$error":"#NAME?"},{"$error":"#NAME?"},{"$error":"#NAME?"},{"$error":"#NAME?"},{"$error":"#NAME?"},{"$error":"#NAME?"},{"$error":"#NAME?"},{"$error":"#NAME?"},{"$error":"#NAME?"},{"$error":"#NAME?"},{"$error":"#NAME?"},{"$error":"#NAME?"},{"$error":"#NAME?"},{"$error":"#NAME?"},{"$error":"#NAME?"},{"$error":"#NAME?"},{"$error":"#NAME?"},{"$error":"#NAME?"},{"$error":"#NAME?"},{"$error":"#NAME?"},{"$error":"#NAME?"},null,{"$error":"#NAME?"},{"$error":"#NAME?"},{"$error":"#NAME?"},{"$error":"#NAME?"},{"$error":"#NAME?"},{"$error":"#NAME?"},{"$error":"#NAME?"},{"$error":"#NAME?"},{"$error":"#NAME?"},{"$error":"#NAME?"},{"$error":"#NAME?"},{"$error":"#NAME?"},{"$error":"#NAME?"},{"$error":"#NAME?"},{"$error":"#NAME?"},{"$error":"#NAME?"},{"$error":"#NAME?"},{"$error":"#NAME?"},{"$error":"#NAME?"},{"$error":"#NAME?"},{"$error":"#NAME?"},{"$error":"#NAME?"},{"$error":"#NAME?"},{"$error":"#NAME?"},{"$error":"#NAME?"},{"$error":"#NAME?"},{"$error":"#NAME?"},{"$error":"#NAME?"},{"$error":"#NAME?"},{"$error":"#NAME?"},{"$error":"#NAME?"},{"$error":"#NAME?"},{"$error":"#NAME?"},{"$error":"#NAME?"},{"$error":"#NAME?"},{"$error":"#NAME?"},{"$error":"#NAME?"},{"$error":"#NAME?"},{"$error":"#NAME?"},{"$error":"#NAME?"},{"$error":"#NAME?"},{"$error":"#NAME?"},{"$error":"#NAME?"},{"$error":"#NAME?"},{"$error":"#NAME?"},{"$error":"#NAME?"},{"$error":"#NAME?"},{"$error":"#NAME?"},{"$error":"#NAME?"},{"$error":"#NAME?"},{"$error":"#NAME?"},{"$error":"#NAME?"},{"$error":"#NAME?"},{"$error":"#NAME?"},{"$error":"#NAME?"},{"$error":"#NAME?"},{"$error":"#NAME?"},{"$error":"#NAME?"},{"$error":"#NAME?"},{"$error":"#NAME?"},{"$error":"#NAME?"},{"$error":"#NAME?"},{"$error":"#NAME?"},{"$error":"#NAME?"},{"$error":"#NAME?"},{"$error":"#NAME?"},{"$error":"#NAME?"},{"$error":"#NAME?"},{"$error":"#NAME?"},{"$error":"#NAME?"},{"$error":"#NAME?"},{"$error":"#NAME?"},{"$error":"#NAME?"},{"$error":"#NAME?"},{"$error":"#NAME?"},{"$error":"#NAME?"},{"$error":"#NAME?"},{"$error":"#NAME?"},{"$error":"#NAME?"},{"$error":"#NAME?"},{"$error":"#NAME?"},{"$error":"#NAME?"},{"$error":"#NAME?"},{"$error":"#NAME?"},{"$error":"#NAME?"},{"$error":"#NAME?"},{"$error":"#NAME?"},{"$error":"#NAME?"},{"$error":"#NAME?"},{"$error":"#NAME?"},{"$error":"#NAME?"},{"$error":"#NAME?"},{"$error":"#NAME?"},{"$error":"#NAME?"},{"$error":"#NAME?"},{"$error":"#NAME?"},{"$error":"#NAME?"},{"$error":"#NAME?"},{"$error":"#NAME?"},{"$error":"#NAME?"}]
[{"$error":"#NAME?"},{"$error":"#NAME?"},{"$error":"#NAME?"},{"$error":"#NAME?"},{"$error":"#NAME?"},{"$error":"#NAME?"},{"$error":"#NAME?"},{"$error":"#NAME?"},{"$error":"#NAME?"},{"$error":"#NAME?"},{"$error":"#NAME?"},{"$error":"#NAME?"},{"$error":"#NAME?"},{"$error":"#NAME?"},{"$error":"#NAME?"},{"$error":"#NAME?"},{"$error":"#NAME?"},{"$error":"#NAME?"},{"$error":"#NAME?"},{"$error":"#NAME?"},{"$error":"#NAME?"},{"$error":"#NAME?"},{"$error":"#NAME?"},{"$error":"#NAME?"},{"$error":"#NAME?"},{"$error":"#NAME?"},{"$error":"#NAME?"},{"$error":"#NAME?"},{"$error":"#NAME?"},{"$error":"#NAME?"},{"$error":"#NAME?"},{"$error":"#NAME?"},{"$error":"#NAME?"},{"$error":"#NAME?"},{"$error":"#NAME?"},{"$error":"#NAME?"},{"$error":"#NAME?"},{"$error":"#NAME?"},{"$error":"#NAME?"},{"$error":"#NAME?"},{"$error":"#NAME?"},{"$error":"#NAME?"},{"$error":"#NAME?"},{"$error":"#NAME?"},{"$error":"#NAME?"},{"$error":"#NAME?"},{"$error":"#NAME?"},{"$error":"#NAME?"},{"$error":"#NAME?"},{"$error":"#NAME?"},{"$error":"#NAME?"},{"$error":"#NAME?"},{"$error":"#NAME?"},{"$error":"#NAME?"},{"$error":"#NAME?"},{"$error":"#NAME?"},{"$error":"#NAME?"},{"$error":"#NAME?"},{"$error":"#NAME?"},{"$error":"#NAME?"},{"$error":"#NAME?"},{"$error":"#NAME?"},{"$error":"#NAME?"},{"$error":"#NAME?"},{"$error":"#NAME?"},{"$error":"#NAME?"},{"$error":"#NAME?"},{"$error":"#NAME?"},{"$error":"#NAME?"},{"$error":"#NAME?"},{"$error":"#NAME?"},{"$error":"#NAME?"},{"$error":"#NAME?"},{"$error":"#NAME?"},{"$error":"#NAME?"},{"$error":"#NAME?"},{"$error":"#NAME?"},{"$error":"#NAME?"},{"$error":"#NAME?"},{"$error":"#NAME?"},{"$error":"#NAME?"},{"$error":"#NAME?"},{"$error":"#NAME?"},{"$error":"#NAME?"},{"$error":"#NAME?"},{"$error":"#NAME?"},{"$error":"#NAME?"},{"$error":"#NAME?"},{"$error":"#NAME?"},{"$error":"#NAME?"},{"$error":"#NAME?"},{"$error":"#NAME?"},{"$error":"#NAME?"},{"$error":"#NAME?"},{"$error":"#NAME?"},{"$error":"#NAME?"},{"$error":"#NAME?"},{"$error":"#NAME?"},{"$error":"#NAME?"},{"$error":"#NAME?"},null,{"$error":"#NAME?"},{"$error":"#NAME?"},{"$error":"#NAME?"},{"$error":"#NAME?"},{"$error":"#NAME?"},{"$error":"#NAME?"},{"$error":"#NAME?"},{"$error":"#NAME?"},{"$error":"#NAME?"},{"$error":"#NAME?"},{"$error":"#NAME?"},{"$error":"#NAME?"},{"$error":"#NAME?"},{"$error":"#NAME?"},{"$error":"#NAME?"},{"$error":"#NAME?"},{"$error":"#NAME?"},{"$error":"#NAME?"},{"$error":"#NAME?"},{"$error":"#NAME?"},{"$error":"#NAME?"},{"$error":"#NAME?"},{"$error":"#NAME?"},{"$error":"#NAME?"},{"$error":"#NAME?"},{"$error":"#NAME?"},{"$error":"#NAME?"},{"$error":"#NAME?"},{"$error":"#NAME?"},{"$error":"#NAME?"},{"$error":"#NAME?"},{"$error":"#NAME?"},{"$error":"#NAME?"},{"$error":"#NAME?"},{"$error":"#NAME?"},{"$error":"#NAME?"},{"$error":"#NAME?"},{"$error":"#NAME?"},{"$error":"#NAME?"},{"$error":"#NAME?"},{"$error":"#NAME?"},{"$error":"#NAME?"},{"$error":"#NAME?"},{"$error":"#NAME?"},{"$error":"#NAME?"},{"$error":"#NAME?"},{"$error":"#NAME?"},{"$error":"#NAME?"},{"$error":"#NAME?"},{"$error":"#NAME?"},{"$error":"#NAME?"},{"$error":"#NAME?"},{"$error":"#NAME?"},{"$error":"#NAME?"},{"$error":"#NAME?"},{"$error":"#NAME?"},{"$error":"#NAME?"},{"$error":"#NAME?"},{"$error":"#NAME?"},{"$error":"#NAME?"},{"$error":"#NAME?"},{"$error":"#NAME?"},{"$error":"#NAME?"},{"$error":"#NAME?"},{"$error":"#NAME?"},{"$error":"#NAME?"},{"$error":"#NAME?"},{"$error":"#NAME?"},{"$error":"#NAME?"},{"$error":"#NAME?"},{"$error":"#NAME?"},{"$error":"#NAME?"},{"$error":"#NAME?"},{"$error":"#NAME?"},{"$error":"#NAME?"},{"$error":"#NAME?"},{"$error":"#NAME?"},{"$error":"#NAME?"},{"$error":"#NAME?"},{"$error":"#NAME?"},{"$error":"#NAME?"},{"$error":"#NAME?"},{"$error":"#NAME?"},{"$error":"#NAME?"},{"$error":"#NAME?"},{"$error":"#NAME?"},{"$error":"#NAME?"},{"$error":"#NAME?"},{"$error":"#NAME?"},{"$error":"#NAME?"},{"$error":"#NAME?"},{"$error":"#NAME?"},{"$error":"#NAME?"},{"$error":"#NAME?"},{"$error":"#NAME?"},{"$error":"#NAME?"},{"$error":"#NAME?"},{"$error":"#NAME?"},{"$error":"#NAME?"},{"$error":"#NAME?"}]
[{"$error":"#NAME?"},{"$error":"#NAME?"},{"$error":"#NAME?"},{"$error":"#NAME?"},{"$error":"#NAME?"},{"$error":"#NAME?"},{"$error":"#NAME?"},{"$error":"#NAME?"},{"$error":"#NAME?"},{"$error":"#NAME?"},{"$error":"#NAME?"},{"$error":"#NAME?"},{"$error":"#NAME?"},{"$error":"#NAME?"},{"$error":"#NAME?"},{"$error":"#NAME?"},{"$error":"#NAME?"},{"$error":"#NAME?"},{"$error":"#NAME?"},{"$error":"#NAME?"},{"$error":"#NAME?"},{"$error":"#NAME?"},{"$error":"#NAME?"},{"$error":"#NAME?"},{"$error":"#NAME?"},{"$error":"#NAME?"},{"$error":"#NAME?"},{"$error":"#NAME?"},{"$error":"#NAME?"},{"$error":"#NAME?"},{"$error":"#NAME?"},{"$error":"#NAME?"},{"$error":"#NAME?"},{"$error":"#NAME?"},{"$error":"#NAME?"},{"$error":"#NAME?"},{"$error":"#NAME?"},{"$error":"#NAME?"},{"$error":"#NAME?"},{"$error":"#NAME?"},{"$error":"#NAME?"},{"$error":"#NAME?"},{"$error":"#NAME?"},{"$error":"#NAME?"},{"$error":"#NAME?"},{"$error":"#NAME?"},{"$error":"#NAME?"},{"$error":"#NAME?"},{"$error":"#NAME?"},{"$error":"#NAME?"},{"$error":"#NAME?"},{"$error":"#NAME?"},{"$error":"#NAME?"},{"$error":"#NAME?"},{"$error":"#NAME?"},{"$error":"#NAME?"},{"$error":"#NAME?"},{"$error":"#NAME?"},{"$error":"#NAME?"},{"$error":"#NAME?"},{"$error":"#NAME?"},{"$error":"#NAME?"},{"$error":"#NAME?"},{"$error":"#NAME?"},{"$error":"#NAME?"},{"$error":"#NAME?"},{"$error":"#NAME?"},{"$error":"#NAME?"},{"$error":"#NAME?"},{"$error":"#NAME?"},{"$error":"#NAME?"},{"$error":"#NAME?"},{"$error":"#NAME?"},{"$error":"#NAME?"},{"$error":"#NAME?"},{"$error":"#NAME?"},{"$error":"#NAME?"},{"$error":"#NAME?"},{"$error":"#NAME?"},{"$error":"#NAME?"},{"$error":"#NAME?"},{"$error":"#NAME?"},{"$error":"#NAME?"},{"$error":"#NAME?"},{"$error":"#NAME?"},{"$error":"#NAME?"},{"$error":"#NAME?"},{"$error":"#NAME?"},{"$error":"#NAME?"},{"$error":"#NAME?"},{"$error":"#NAME?"},{"$error":"#NAME?"},{"$error":"#NAME?"},{"$error":"#NAME?"},{"$error":"#NAME?"},{"$error":"#NAME?"},{"$error":"#NAME?"},{"$error":"#NAME?"},{"$error":"#NAME?"},{"$error":"#NAME?"},null,{"$error":"#NAME?"},{"$error":"#NAME?"},{"$error":"#NAME?"},{"$error":"#NAME?"},{"$error":"#NAME?"},{"$error":"#NAME?"},{"$error":"#NAME?"},{"$error":"#NAME?"},{"$error":"#NAME?"},{"$error":"#NAME?"},{"$error":"#NAME?"},{"$error":"#NAME?"},{"$error":"#NAME?"},{"$error":"#NAME?"},{"$error":"#NAME?"},{"$error":"#NAME?"},{"$error":"#NAME?"},{"$error":"#NAME?"},{"$error":"#NAME?"},{"$error":"#NAME?"},{"$error":"#NAME?"},{"$error":"#NAME?"},{"$error":"#NAME?"},{"$error":"#NAME?"},{"$error":"#NAME?"},{"$error":"#NAME?"},{"$error":"#NAME?"},{"$error":"#NAME?"},{"$error":"#NAME?"},{"$error":"#NAME?"},{"$error":"#NAME?"},{"$error":"#NAME?"},{"$error":"#NAME?"},{"$error":"#NAME?"},{"$error":"#NAME?"},{"$error":"#NAME?"},{"$error":"#NAME?"},{"$error":"#NAME?"},{"$error":"#NAME?"},{"$error":"#NAME?"},{"$error":"#NAME?"},{"$error":"#NAME?"},{"$error":"#NAME?"},{"$error":"#NAME?"},{"$error":"#NAME?"},{"$error":"#NAME?"},{"$error":"#NAME?"},{"$error":"#NAME?"},{"$error":"#NAME?"},{"$error":"#NAME?"},{"$error":"#NAME?"},{"$error":"#NAME?"},{"$error":"#NAME?"},{"$error":"#NAME?"},{"$error":"#NAME?"},{"$error":"#NAME?"},{"$error":"#NAME?"},{"$error":"#NAME?"},{"$error":"#NAME?"},{"$error":"#NAME?"},{"$error":"#NAME?"},{"$error":"#NAME?"},{"$error":"#NAME?"},{"$error":"#NAME?"},{"$error":"#NAME?"},{"$error":"#NAME?"},{"$error":"#NAME?"},{"$error":"#NAME?"},{"$error":"#NAME?"},{"$error":"#NAME?"},{"$error":"#NAME?"},{"$error":"#NAME?"},{"$error":"#NAME?"},{"$error":"#NAME?"},{"$error":"#NAME?"},{"$error":"#NAME?"},{"$error":"#NAME?"},{"$error":"#NAME?"},{"$error":"#NAME?"},{"$error":"#NAME?"},{"$error":"#NAME?"},{"$error":"#NAME?"},{"$error":"#NAME?"},{"$error":"#NAME?"},{"$error":"#NAME?"},{"$error":"#NAME?"},{"$error":"#NAME?"},{"$error":"#NAME?"},{"$error":"#NAME?"},{"$error":"#NAME?"},{"$error":"#NAME?"},{"$error":"#NAME?"},{"$error":"#NAME?"},{"$error":"#NAME?"},{"$error":"#NAME?"},{"$error":"#NAME?"},{"$error":"#NAME?"},{"$error":"#NAME?"},{"$error":"#NAME?"},{"$error":"#NAME?"}]
[{"$error":"#NAME?"},{"$error":"#NAME?"},{"$error":"#NAME?"},{"$error":"#NAME?"},{"$error":"#NAME?"},{"$error":"#NAME?"},{"$error":"#NAME?"},{"$error":"#NAME?"},{"$error":"#NAME?"},{"$error":"#NAME?"},{"$error":"#NAME?"},{"$error":"#NAME?"},{"$error":"#NAME?"},{"$error":"#NAME?"},{"$error":"#NAME?"},{"$error":"#NAME?"},{"$error":"#NAME?"},{"$error":"#NAME?"},{"$error":"#NAME?"},{"$error":"#NAME?"},{"$error":"#NAME?"},{"$error":"#NAME?"},{"$error":"#NAME?"},{"$error":"#NAME?"},{"$error":"#NAME?"},{"$error":"#NAME?"},{"$error":"#NAME?"},{"$error":"#NAME?"},{"$error":"#NAME?"},{"$error":"#NAME?"},{"$error":"#NAME?"},{"$error":"#NAME?"},{"$error":"#NAME?"},{"$error":"#NAME?"},{"$error":"#NAME?"},{"$error":"#NAME?"},{"$error":"#NAME?"},{"$error":"#NAME?"},{"$error":"#NAME?"},{"$error":"#NAME?"},{"$error":"#NAME?"},{"$error":"#NAME?"},{"$error":"#NAME?"},{"$error":"#NAME?"},{"$error":"#NAME?"},{"$error":"#NAME?"},{"$error":"#NAME?"},{"$error":"#NAME?"},{"$error":"#NAME?"},{"$error":"#NAME?"},{"$error":"#NAME?"},{"$error":"#NAME?"},{"$error":"#NAME?"},{"$error":"#NAME?"},{"$error":"#NAME?"},{"$error":"#NAME?"},{"$error":"#NAME?"},{"$error":"#NAME?"},{"$error":"#NAME?"},{"$error":"#NAME?"},{"$error":"#NAME?"},{"$error":"#NAME?"},{"$error":"#NAME?"},{"$error":"#NAME?"},{"$error":"#NAME?"},{"$error":"#NAME?"},{"$error":"#NAME?"},{"$error":"#NAME?"},{"$error":"#NAME?"},{"$error":"#NAME?"},{"$error":"#NAME?"},{"$error":"#NAME?"},{"$error":"#NAME?"},{"$error":"#NAME?"},{"$error":"#NAME?"},{"$error":"#NAME?"},{"$error":"#NAME?"},{"$error":"#NAME?"},{"$error":"#NAME?"},{"$error":"#NAME?"},{"$error":"#NAME?"},{"$error":"#NAME?"},{"$error":"#NAME?"},{"$error":"#NAME?"},{"$error":"#NAME?"},{"$error":"#NAME?"},{"$error":"#NAME?"},{"$error":"#NAME?"},{"$error":"#NAME?"},{"$error":"#NAME?"},{"$error":"#NAME?"},{"$error":"#NAME?"},{"$error":"#NAME?"},{"$error":"#NAME?"},{"$error":"#NAME?"},{"$error":"#NAME?"},{"$error":"#NAME?"},{"$error":"#NAME?"},{"$error":"#NAME?"},{"$error":"#NAME?"},null,{"$error":"#NAME?"},{"$error":"#NAME?"},{"$error":"#NAME?"},{"$error":"#NAME?"},{"$error":"#NAME?"},{"$error":"#NAME?"},{"$error":"#NAME?"},{"$error":"#NAME?"},{"$error":"#NAME?"},{"$error":"#NAME?"},{"$error":"#NAME?"},{"$error":"#NAME?"},{"$error":"#NAME?"},{"$error":"#NAME?"},{"$error":"#NAME?"},{"$error":"#NAME?"},{"$error":"#NAME?"},{"$error":"#NAME?"},{"$error":"#NAME?"},{"$error":"#NAME?"},{"$error":"#NAME?"},{"$error":"#NAME?"},{"$error":"#NAME?"},{"$error":"#NAME?"},{"$error":"#NAME?"},{"$error":"#NAME?"},{"$error":"#NAME?"},{"$error":"#NAME?"},{"$error":"#NAME?"},{"$error":"#NAME?"},{"$error":"#NAME?"},{"$error":"#NAME?"},{"$error":"#NAME?"},{"$error":"#NAME?"},{"$error":"#NAME?"},{"$error":"#NAME?"},{"$error":"#NAME?"},{"$error":"#NAME?"},{"$error":"#NAME?"},{"$error":"#NAME?"},{"$error":"#NAME?"},{"$error":"#NAME?"},{"$error":"#NAME?"},{"$error":"#NAME?"},{"$error":"#NAME?"},{"$error":"#NAME?"},{"$error":"#NAME?"},{"$error":"#NAME?"},{"$error":"#NAME?"},{"$error":"#NAME?"},{"$error":"#NAME?"},{"$error":"#NAME?"},{"$error":"#NAME?"},{"$error":"#NAME?"},{"$error":"#NAME?"},{"$error":"#NAME?"},{"$error":"#NAME?"},{"$error":"#NAME?"},{"$error":"#NAME?"},{"$error":"#NAME?"},{"$error":"#NAME?"},{"$error":"#NAME?"},{"$error":"#NAME?"},{"$error":"#NAME?"},{"$error":"#NAME?"},{"$error":"#NAME?"},{"$error":"#NAME?"},{"$error":"#NAME?"},{"$error":"#NAME?"},{"$error":"#NAME?"},{"$error":"#NAME?"},{"$error":"#NAME?"},{"$error":"#NAME?"},{"$error":"#NAME?"},{"$error":"#NAME?"},{"$error":"#NAME?"},{"$error":"#NAME?"},{"$error":"#NAME?"},{"$error":"#NAME?"},{"$error":"#NAME?"},{"$error":"#NAME?"},{"$error":"#NAME?"},{"$error":"#NAME?"},{"$error":"#NAME?"},{"$error":"#NAME?"},{"$error":"#NAME?"},{"$error":"#NAME?"},{"$error":"#NAME?"},{"$error":"#NAME?"},{"$error":"#NAME?"},{"$error":"#NAME?"},{"$error":"#NAME?"},{"$error":"#NAME?"},{"$error":"#NAME?"},{"$error":"#NAME?"},{"$error":"#NAME?"},{"$error":"#NAME?"},{"$error":"#NAME?"},{"$error":"#NAME?"},{"$error":"#NAME?"}]
[{"$error":"#NAME?"},{"$error":"#NAME?"},{"$error":"#NAME?"},{"$error":"#NAME?"},{"$error":"#NAME?"},{"$error":"#NAME?"},{"$error":"#NAME?"},{"$error":"#NAME?"},{"$error":"#NAME?"},{"$error":"#NAME?"},{"$error":"#NAME?"},{"$error":"#NAME?"},{"$error":"#NAME?"},{"$error":"#NAME?"},{"$error":"#NAME?"},{"$error":"#NAME?"},{"$error":"#NAME?"},{"$error":"#NAME?"},{"$error":"#NAME?"},{"$error":"#NAME?"},{"$error":"#NAME?"},{"$error":"#NAME?"},{"$error":"#NAME?"},{"$error":"#NAME?"},{"$error":"#NAME?"},{"$error":"#NAME?"},{"$error":"#NAME?"},{"$error":"#NAME?"},{"$error":"#NAME?"},{"$error":"#NAME?"},{"$error":"#NAME?"},{"$error":"#NAME?"},{"$error":"#NAME?"},{"$error":"#NAME?"},{"$error":"#NAME?"},{"$error":"#NAME?"},{"$error":"#NAME?"},{"$error":"#NAME?"},{"$error":"#NAME?"},{"$error":"#NAME?"},{"$error":"#NAME?"},{"$error":"#NAME?"},{"$error":"#NAME?"},{"$error":"#NAME?"},{"$error":"#NAME?"},{"$error":"#NAME?"},{"$error":"#NAME?"},{"$error":"#NAME?"},{"$error":"#NAME?"},{"$error":"#NAME?"},{"$error":"#NAME?"},{"$error":"#NAME?"},{"$error":"#NAME?"},{"$error":"#NAME?"},{"$error":"#NAME?"},{"$error":"#NAME?"},{"$error":"#NAME?"},{"$error":"#NAME?"},{"$error":"#NAME?"},{"$error":"#NAME?"},{"$error":"#NAME?"},{"$error":"#NAME?"},{"$error":"#NAME?"},{"$error":"#NAME?"},{"$error":"#NAME?"},{"$error":"#NAME?"},{"$error":"#NAME?"},{"$error":"#NAME?"},{"$error":"#NAME?"},{"$error":"#NAME?"},{"$error":"#NAME?"},{"$error":"#NAME?"},{"$error":"#NAME?"},{"$error":"#NAME?"},{"$error":"#NAME?"},{"$error":"#NAME?"},{"$error":"#NAME?"},{"$error":"#NAME?"},{"$error":"#NAME?"},{"$error":"#NAME?"},{"$error":"#NAME?"},{"$error":"#NAME?"},{"$error":"#NAME?"},{"$error":"#NAME?"},{"$error":"#NAME?"},{"$error":"#NAME?"},{"$error":"#NAME?"},{"$error":"#NAME?"},{"$error":"#NAME?"},{"$error":"#NAME?"},{"$error":"#NAME?"},{"$error":"#NAME?"},{"$error":"#NAME?"},{"$error":"#NAME?"},{"$error":"#NAME?"},{"$error":"#NAME?"},{"$error":"#NAME?"},{"$error":"#NAME?"},{"$error":"#NAME?"},{"$error":"#NAME?"},null,{"$error":"#NAME?"},{"$error":"#NAME?"},{"$error":"#NAME?"},{"$error":"#NAME?"},{"$error":"#NAME?"},{"$error":"#NAME?"},{"$error":"#NAME?"},{"$error":"#NAME?"},{"$error":"#NAME?"},{"$error":"#NAME?"},{"$error":"#NAME?"},{"$error":"#NAME?"},{"$error":"#NAME?"},{"$error":"#NAME?"},{"$error":"#NAME?"},{"$error":"#NAME?"},{"$error":"#NAME?"},{"$error":"#NAME?"},{"$error":"#NAME?"},{"$error":"#NAME?"},{"$error":"#NAME?"},{"$error":"#NAME?"},{"$error":"#NAME?"},{"$error":"#NAME?"},{"$error":"#NAME?"},{"$error":"#NAME?"},{"$error":"#NAME?"},{"$error":"#NAME?"},{"$error":"#NAME?"},{"$error":"#NAME?"},{"$error":"#NAME?"},{"$error":"#NAME?"},{"$error":"#NAME?"},{"$error":"#NAME?"},{"$error":"#NAME?"},{"$error":"#NAME?"},{"$error":"#NAME?"},{"$error":"#NAME?"},{"$error":"#NAME?"},{"$error":"#NAME?"},{"$error":"#NAME?"},{"$error":"#NAME?"},{"$error":"#NAME?"},{"$error":"#NAME?"},{"$error":"#NAME?"},{"$error":"#NAME?"},{"$error":"#NAME?"},{"$error":"#NAME?"},{"$error":"#NAME?"},{"$error":"#NAME?"},{"$error":"#NAME?"},{"$error":"#NAME?"},{"$error":"#NAME?"},{"$error":"#NAME?"},{"$error":"#NAME?"},{"$error":"#NAME?"},{"$error":"#NAME?"},{"$error":"#NAME?"},{"$error":"#NAME?"},{"$error":"#NAME?"},{"$error":"#NAME?"},{"$error":"#NAME?"},{"$error":"#NAME?"},{"$error":"#NAME?"},{"$error":"#NAME?"},{"$error":"#NAME?"},{"$error":"#NAME?"},{"$error":"#NAME?"},{"$error":"#NAME?"},{"$error":"#NAME?"},{"$error":"#NAME?"},{"$error":"#NAME?"},{"$error":"#NAME?"},{"$error":"#NAME?"},{"$error":"#NAME?"},{"$error":"#NAME?"},{"$error":"#NAME?"},{"$error":"#NAME?"},{"$error":"#NAME?"},{"$error":"#NAME?"},{"$error":"#NAME?"},{"$error":"#NAME?"},{"$error":"#NAME?"},{"$error":"#NAME?"},{"$error":"#NAME?"},{"$error":"#NAME?"},{"$error":"#NAME?"},{"$error":"#NAME?"},{"$error":"#NAME?"},{"$error":"#NAME?"},{"$error":"#NAME?"},{"$error":"#NAME?"},{"$error":"#NAME?"},{"$error":"#NAME?"},{"$error":"#NAME?"},{"$error":"#NAME?"},{"$error":"#NAME?"},{"$error":"#NAME?"},{"$error":"#NAME?"},{"$error":"#NAME?"}]
[{"$error":"#NAME?"},{"$error":"#NAME?"},{"$error":"#NAME?"},{"$error":"#NAME?"},{"$error":"#NAME?"},{"$error":"#NAME?"},{"$error":"#NAME?"},{"$error":"#NAME?"},{"$error":"#NAME?"},{"$error":"#NAME?"},{"$error":"#NAME?"},{"$error":"#NAME?"},{"$error":"#NAME?"},{"$error":"#NAME?"},{"$error":"#NAME?"},{"$error":"#NAME?"},{"$error":"#NAME?"},{"$error":"#NAME?"},{"$error":"#NAME?"},{"$error":"#NAME?"},{"$error":"#NAME?"},{"$error":"#NAME?"},{"$error":"#NAME?"},{"$error":"#NAME?"},{"$error":"#NAME?"},{"$error":"#NAME?"},{"$error":"#NAME?"},{"$error":"#NAME?"},{"$error":"#NAME?"},{"$error":"#NAME?"},{"$error":"#NAME?"},{"$error":"#NAME?"},{"$error":"#NAME?"},{"$error":"#NAME?"},{"$error":"#NAME?"},{"$error":"#NAME?"},{"$error":"#NAME?"},{"$error":"#NAME?"},{"$error":"#NAME?"},{"$error":"#NAME?"},{"$error":"#NAME?"},{"$error":"#NAME?"},{"$error":"#NAME?"},{"$error":"#NAME?"},{"$error":"#NAME?"},{"$error":"#NAME?"},{"$error":"#NAME?"},{"$error":"#NAME?"},{"$error":"#NAME?"},{"$error":"#NAME?"},{"$error":"#NAME?"},{"$error":"#NAME?"},{"$error":"#NAME?"},{"$error":"#NAME?"},{"$error":"#NAME?"},{"$error":"#NAME?"},{"$error":"#NAME?"},{"$error":"#NAME?"},{"$error":"#NAME?"},{"$error":"#NAME?"},{"$error":"#NAME?"},{"$error":"#NAME?"},{"$error":"#NAME?"},{"$error":"#NAME?"},{"$error":"#NAME?"},{"$error":"#NAME?"},{"$error":"#NAME?"},{"$error":"#NAME?"},{"$error":"#NAME?"},{"$error":"#NAME?"},{"$error":"#NAME?"},{"$error":"#NAME?"},{"$error":"#NAME?"},{"$error":"#NAME?"},{"$error":"#NAME?"},{"$error":"#NAME?"},{"$error":"#NAME?"},{"$error":"#NAME?"},{"$error":"#NAME?"},{"$error":"#NAME?"},{"$error":"#NAME?"},{"$error":"#NAME?"},{"$error":"#NAME?"},{"$error":"#NAME?"},{"$error":"#NAME?"},{"$error":"#NAME?"},{"$error":"#NAME?"},{"$error":"#NAME?"},{"$error":"#NAME?"},{"$error":"#NAME?"},{"$error":"#NAME?"},{"$error":"#NAME?"},{"$error":"#NAME?"},{"$error":"#NAME?"},{"$error":"#NAME?"},{"$error":"#NAME?"},{"$error":"#NAME?"},{"$error":"#NAME?"},{"$error":"#NAME?"},{"$error":"#NAME?"},null,{"$error":"#NAME?"},{"$error":"#NAME?"},{"$error":"#NAME?"},{"$error":"#NAME?"},{"$error":"#NAME?"},{"$error":"#NAME?"},{"$error":"#NAME?"},{"$error":"#NAME?"},{"$error":"#NAME?"},{"$error":"#NAME?"},{"$error":"#NAME?"},{"$error":"#NAME?"},{"$error":"#NAME?"},{"$error":"#NAME?"},{"$error":"#NAME?"},{"$error":"#NAME?"},{"$error":"#NAME?"},{"$error":"#NAME?"},{"$error":"#NAME?"},{"$error":"#NAME?"},{"$error":"#NAME?"},{"$error":"#NAME?"},{"$error":"#NAME?"},{"$error":"#NAME?"},{"$error":"#NAME?"},{"$error":"#NAME?"},{"$error":"#NAME?"},{"$error":"#NAME?"},{"$error":"#NAME?"},{"$error":"#NAME?"},{"$error":"#NAME?"},{"$error":"#NAME?"},{"$error":"#NAME?"},{"$error":"#NAME?"},{"$error":"#NAME?"},{"$error":"#NAME?"},{"$error":"#NAME?"},{"$error":"#NAME?"},{"$error":"#NAME?"},{"$error":"#NAME?"},{"$error":"#NAME?"},{"$error":"#NAME?"},{"$error":"#NAME?"},{"$error":"#NAME?"},{"$error":"#NAME?"},{"$error":"#NAME?"},{"$error":"#NAME?"},{"$error":"#NAME?"},{"$error":"#NAME?"},{"$error":"#NAME?"},{"$error":"#NAME?"},{"$error":"#NAME?"},{"$error":"#NAME?"},{"$error":"#NAME?"},{"$error":"#NAME?"},{"$error":"#NAME?"},{"$error":"#NAME?"},{"$error":"#NAME?"},{"$error":"#NAME?"},{"$error":"#NAME?"},{"$error":"#NAME?"},{"$error":"#NAME?"},{"$error":"#NAME?"},{"$error":"#NAME?"},{"$error":"#NAME?"},{"$error":"#NAME?"},{"$error":"#NAME?"},{"$error":"#NAME?"},{"$error":"#NAME?"},{"$error":"#NAME?"},{"$error":"#NAME?"},{"$error":"#NAME?"},{"$error":"#NAME?"},{"$error":"#NAME?"},{"$error":"#NAME?"},{"$error":"#NAME?"},{"$error":"#NAME?"},{"$error":"#NAME?"},{"$error":"#NAME?"},{"$error":"#NAME?"},{"$error":"#NAME?"},{"$error":"#NAME?"},{"$error":"#NAME?"},{"$error":"#NAME?"},{"$error":"#NAME?"},{"$error":"#NAME?"},{"$error":"#NAME?"},{"$error":"#NAME?"},{"$error":"#NAME?"},{"$error":"#NAME?"},{"$error":"#NAME?"},{"$error":"#NAME?"},{"$error":"#NAME?"},{"$error":"#NAME?"},{"$error":"#NAME?"},{"$error":"#NAME?"},{"$error":"#NAME?"},{"$error":"#NAME?"},{"$error":"#NAME?"},{"$error":"#NAME?"}]
[{"$error":"#NAME?"},{"$error":"#NAME?"},{"$error":"#NAME?"},{"$error":"#NAME?"},{"$error":"#NAME?"},{"$error":"#NAME?"},{"$error":"#NAME?"},{"$error":"#NAME?"},{"$error":"#NAME?"},{"$error":"#NAME?"},{"$error":"#NAME?"},{"$error":"#NAME?"},{"$error":"#NAME?"},{"$error":"#NAME?"},{"$error":"#NAME?"},{"$error":"#NAME?"},{"$error":"#NAME?"},{"$error":"#NAME?"},{"$error":"#NAME?"},{"$error":"#NAME?"},{"$error":"#NAME?"},{"$error":"#NAME?"},{"$error":"#NAME?"},{"$error":"#NAME?"},{"$error":"#NAME?"},{"$error":"#NAME?"},{"$error":"#NAME?"},{"$error":"#NAME?"},{"$error":"#NAME?"},{"$error":"#NAME?"},{"$error":"#NAME?"},{"$error":"#NAME?"},{"$error":"#NAME?"},{"$error":"#NAME?"},{"$error":"#NAME?"},{"$error":"#NAME?"},{"$error":"#NAME?"},{"$error":"#NAME?"},{"$error":"#NAME?"},{"$error":"#NAME?"},{"$error":"#NAME?"},{"$error":"#NAME?"},{"$error":"#NAME?"},{"$error":"#NAME?"},{"$error":"#NAME?"},{"$error":"#NAME?"},{"$error":"#NAME?"},{"$error":"#NAME?"},{"$error":"#NAME?"},{"$error":"#NAME?"},{"$error":"#NAME?"},{"$error":"#NAME?"},{"$error":"#NAME?"},{"$error":"#NAME?"},{"$error":"#NAME?"},{"$error":"#NAME?"},{"$error":"#NAME?"},{"$error":"#NAME?"},{"$error":"#NAME?"},{"$error":"#NAME?"},{"$error":"#NAME?"},{"$error":"#NAME?"},{"$error":"#NAME?"},{"$error":"#NAME?"},{"$error":"#NAME?"},{"$error":"#NAME?"},{"$error":"#NAME?"},{"$error":"#NAME?"},{"$error":"#NAME?"},{"$error":"#NAME?"},{"$error":"#NAME?"},{"$error":"#NAME?"},{"$error":"#NAME?"},{"$error":"#NAME?"},{"$error":"#NAME?"},{"$error":"#NAME?"},{"$error":"#NAME?"},{"$error":"#NAME?"},{"$error":"#NAME?"},{"$error":"#NAME?"},{"$error":"#NAME?"},{"$error":"#NAME?"},{"$error":"#NAME?"},{"$error":"#NAME?"},{"$error":"#NAME?"},{"$error":"#NAME?"},{"$error":"#NAME?"},{"$error":"#NAME?"},{"$error":"#NAME?"},{"$error":"#NAME?"},{"$error":"#NAME?"},{"$error":"#NAME?"},{"$error":"#NAME?"},{"$error":"#NAME?"},{"$error":"#NAME?"},{"$error":"#NAME?"},{"$error":"#NAME?"},{"$error":"#NAME?"},{"$error":"#NAME?"},{"$error":"#NAME?"},null,{"$error":"#NAME?"},{"$error":"#NAME?"},{"$error":"#NAME?"},{"$error":"#NAME?"},{"$error":"#NAME?"},{"$error":"#NAME?"},{"$error":"#NAME?"},{"$error":"#NAME?"},{"$error":"#NAME?"},{"$error":"#NAME?"},{"$error":"#NAME?"},{"$error":"#NAME?"},{"$error":"#NAME?"},{"$error":"#NAME?"},{"$error":"#NAME?"},{"$error":"#NAME?"},{"$error":"#NAME?"},{"$error":"#NAME?"},{"$error":"#NAME?"},{"$error":"#NAME?"},{"$error":"#NAME?"},{"$error":"#NAME?"},{"$error":"#NAME?"},{"$error":"#NAME?"},{"$error":"#NAME?"},{"$error":"#NAME?"},{"$error":"#NAME?"},{"$error":"#NAME?"},{"$error":"#NAME?"},{"$error":"#NAME?"},{"$error":"#NAME?"},{"$error":"#NAME?"},{"$error":"#NAME?"},{"$error":"#NAME?"},{"$error":"#NAME?"},{"$error":"#NAME?"},{"$error":"#NAME?"},{"$error":"#NAME?"},{"$error":"#NAME?"},{"$error":"#NAME?"},{"$error":"#NAME?"},{"$error":"#NAME?"},{"$error":"#NAME?"},{"$error":"#NAME?"},{"$error":"#NAME?"},{"$error":"#NAME?"},{"$error":"#NAME?"},{"$error":"#NAME?"},{"$error":"#NAME?"},{"$error":"#NAME?"},{"$error":"#NAME?"},{"$error":"#NAME?"},{"$error":"#NAME?"},{"$error":"#NAME?"},{"$error":"#NAME?"},{"$error":"#NAME?"},{"$error":"#NAME?"},{"$error":"#NAME?"},{"$error":"#NAME?"},{"$error":"#NAME?"},{"$error":"#NAME?"},{"$error":"#NAME?"},{"$error":"#NAME?"},{"$error":"#NAME?"},{"$error":"#NAME?"},{"$error":"#NAME?"},{"$error":"#NAME?"},{"$error":"#NAME?"},{"$error":"#NAME?"},{"$error":"#NAME?"},{"$error":"#NAME?"},{"$error":"#NAME?"},{"$error":"#NAME?"},{"$error":"#NAME?"},{"$error":"#NAME?"},{"$error":"#NAME?"},{"$error":"#NAME?"},{"$error":"#NAME?"},{"$error":"#NAME?"},{"$error":"#NAME?"},{"$error":"#NAME?"},{"$error":"#NAME?"},{"$error":"#NAME?"},{"$error":"#NAME?"},{"$error":"#NAME?"},{"$error":"#NAME?"},{"$error":"#NAME?"},{"$error":"#NAME?"},{"$error":"#NAME?"},{"$error":"#NAME?"},{"$error":"#NAME?"},{"$error":"#NAME?"},{"$error":"#NAME?"},{"$error":"#NAME?"},{"$error":"#NAME?"},{"$error":"#NAME?"},{"$error":"#NAME?"},{"$error":"#NAME?"},{"$error":"#NAME?"},{"$error":"#NAME?"}]
[{"$error":"#NAME?"},{"$error":"#NAME?"},{"$error":"#NAME?"},{"$error":"#NAME?"},{"$error":"#NAME?"},{"$error":"#NAME?"},{"$error":"#NAME?"},{"$error":"#NAME?"},{"$error":"#NAME?"},{"$error":"#NAME?"},{"$error":"#NAME?"},{"$error":"#NAME?"},{"$error":"#NAME?"},{"$error":"#NAME?"},{"$error":"#NAME?"},{"$error":"#NAME?"},{"$error":"#NAME?"},{"$error":"#NAME?"},{"$error":"#NAME?"},{"$error":"#NAME?"},{"$error":"#NAME?"},{"$error":"#NAME?"},{"$error":"#NAME?"},{"$error":"#NAME?"},{"$error":"#NAME?"},{"$error":"#NAME?"},{"$error":"#NAME?"},{"$error":"#NAME?"},{"$error":"#NAME?"},{"$error":"#NAME?"},{"$error":"#NAME?"},{"$error":"#NAME?"},{"$error":"#NAME?"},{"$error":"#NAME?"},{"$error":"#NAME?"},{"$error":"#NAME?"},{"$error":"#NAME?"},{"$error":"#NAME?"},{"$error":"#NAME?"},{"$error":"#NAME?"},{"$error":"#NAME?"},{"$error":"#NAME?"},{"$error":"#NAME?"},{"$error":"#NAME?"},{"$error":"#NAME?"},{"$error":"#NAME?"},{"$error":"#NAME?"},{"$error":"#NAME?"},{"$error":"#NAME?"},{"$error":"#NAME?"},{"$error":"#NAME?"},{"$error":"#NAME?"},{"$error":"#NAME?"},{"$error":"#NAME?"},{"$error":"#NAME?"},{"$error":"#NAME?"},{"$error":"#NAME?"},{"$error":"#NAME?"},{"$error":"#NAME?"},{"$error":"#NAME?"},{"$error":"#NAME?"},{"$error":"#NAME?"},{"$error":"#NAME?"},{"$error":"#NAME?"},{"$error":"#NAME?"},{"$error":"#NAME?"},{"$error":"#NAME?"},{"$error":"#NAME?"},{"$error":"#NAME?"},{"$error":"#NAME?"},{"$error":"#NAME?"},{"$error":"#NAME?"},{"$error":"#NAME?"},{"$error":"#NAME?"},{"$error":"#NAME?"},{"$error":"#NAME?"},{"$error":"#NAME?"},{"$error":"#NAME?"},{"$error":"#NAME?"},{"$error":"#NAME?"},{"$error":"#NAME?"},{"$error":"#NAME?"},{"$error":"#NAME?"},{"$error":"#NAME?"},{"$error":"#NAME?"},{"$error":"#NAME?"},{"$error":"#NAME?"},{"$error":"#NAME?"},{"$error":"#NAME?"},{"$error":"#NAME?"},{"$error":"#NAME?"},{"$error":"#NAME?"},{"$error":"#NAME?"},{"$error":"#NAME?"},{"$error":"#NAME?"},{"$error":"#NAME?"},{"$error":"#NAME?"},{"$error":"#NAME?"},{"$error":"#NAME?"},{"$error":"#NAME?"},null,{"$error":"#NAME?"},{"$error":"#NAME?"},{"$error":"#NAME?"},{"$error":"#NAME?"},{"$error":"#NAME?"},{"$error":"#NAME?"},{"$error":"#NAME?"},{"$error":"#NAME?"},{"$error":"#NAME?"},{"$error":"#NAME?"},{"$error":"#NAME?"},{"$error":"#NAME?"},{"$error":"#NAME?"},{"$error":"#NAME?"},{"$error":"#NAME?"},{"$error":"#NAME?"},{"$error":"#NAME?"},{"$error":"#NAME?"},{"$error":"#NAME?"},{"$error":"#NAME?"},{"$error":"#NAME?"},{"$error":"#NAME?"},{"$error":"#NAME?"},{"$error":"#NAME?"},{"$error":"#NAME?"},{"$error":"#NAME?"},{"$error":"#NAME?"},{"$error":"#NAME?"},{"$error":"#NAME?"},{"$error":"#NAME?"},{"$error":"#NAME?"},{"$error":"#NAME?"},{"$error":"#NAME?"},{"$error":"#NAME?"},{"$error":"#NAME?"},{"$error":"#NAME?"},{"$error":"#NAME?"},{"$error":"#NAME?"},{"$error":"#NAME?"},{"$error":"#NAME?"},{"$error":"#NAME?"},{"$error":"#NAME?"},{"$error":"#NAME?"},{"$error":"#NAME?"},{"$error":"#NAME?"},{"$error":"#NAME?"},{"$error":"#NAME?"},{"$error":"#NAME?"},{"$error":"#NAME?"},{"$error":"#NAME?"},{"$error":"#NAME?"},{"$error":"#NAME?"},{"$error":"#NAME?"},{"$error":"#NAME?"},{"$error":"#NAME?"},{"$error":"#NAME?"},{"$error":"#NAME?"},{"$error":"#NAME?"},{"$error":"#NAME?"},{"$error":"#NAME?"},{"$error":"#NAME?"},{"$error":"#NAME?"},{"$error":"#NAME?"},{"$error":"#NAME?"},{"$error":"#NAME?"},{"$error":"#NAME?"},{"$error":"#NAME?"},{"$error":"#NAME?"},{"$error":"#NAME?"},{"$error":"#NAME?"},{"$error":"#NAME?"},{"$error":"#NAME?"},{"$error":"#NAME?"},{"$error":"#NAME?"},{"$error":"#NAME?"},{"$error":"#NAME?"},{"$error":"#NAME?"},{"$error":"#NAME?"},{"$error":"#NAME?"},{"$error":"#NAME?"},{"$error":"#NAME?"},{"$error":"#NAME?"},{"$error":"#NAME?"},{"$error":"#NAME?"},{"$error":"#NAME?"},{"$error":"#NAME?"},{"$error":"#NAME?"},{"$error":"#NAME?"},{"$error":"#NAME?"},{"$error":"#NAME?"},{"$error":"#NAME?"},{"$error":"#NAME?"},{"$error":"#NAME?"},{"$error":"#NAME?"},{"$error":"#NAME?"},{"$error":"#NAME?"},{"$error":"#NAME?"},{"$error":"#NAME?"},{"$error":"#NAME?"},{"$error":"#NAME?"}]
[{"$error":"#NAME?"},{"$error":"#NAME?"},{"$error":"#NAME?"},{"$error":"#NAME?"},{"$error":"#NAME?"},{"$error":"#NAME?"},{"$error":"#NAME?"},{"$error":"#NAME?"},{"$error":"#NAME?"},{"$error":"#NAME?"},{"$error":"#NAME?"},{"$error":"#NAME?"},{"$error":"#NAME?"},{"$error":"#NAME?"},{"$error":"#NAME?"},{"$error":"#NAME?"},{"$error":"#NAME?"},{"$error":"#NAME?"},{"$error":"#NAME?"},{"$error":"#NAME?"},{"$error":"#NAME?"},{"$error":"#NAME?"},{"$error":"#NAME?"},{"$error":"#NAME?"},{"$error":"#NAME?"},{"$error":"#NAME?"},{"$error":"#NAME?"},{"$error":"#NAME?"},{"$error":"#NAME?"},{"$error":"#NAME?"},{"$error":"#NAME?"},{"$error":"#NAME?"},{"$error":"#NAME?"},{"$error":"#NAME?"},{"$error":"#NAME?"},{"$error":"#NAME?"},{"$error":"#NAME?"},{"$error":"#NAME?"},{"$error":"#NAME?"},{"$error":"#NAME?"},{"$error":"#NAME?"},{"$error":"#NAME?"},{"$error":"#NAME?"},{"$error":"#NAME?"},{"$error":"#NAME?"},{"$error":"#NAME?"},{"$error":"#NAME?"},{"$error":"#NAME?"},{"$error":"#NAME?"},{"$error":"#NAME?"},{"$error":"#NAME?"},{"$error":"#NAME?"},{"$error":"#NAME?"},{"$error":"#NAME?"},{"$error":"#NAME?"},{"$error":"#NAME?"},{"$error":"#NAME?"},{"$error":"#NAME?"},{"$error":"#NAME?"},{"$error":"#NAME?"},{"$error":"#NAME?"},{"$error":"#NAME?"},{"$error":"#NAME?"},{"$error":"#NAME?"},{"$error":"#NAME?"},{"$error":"#NAME?"},{"$error":"#NAME?"},{"$error":"#NAME?"},{"$error":"#NAME?"},{"$error":"#NAME?"},{"$error":"#NAME?"},{"$error":"#NAME?"},{"$error":"#NAME?"},{"$error":"#NAME?"},{"$error":"#NAME?"},{"$error":"#NAME?"},{"$error":"#NAME?"},{"$error":"#NAME?"},{"$error":"#NAME?"},{"$error":"#NAME?"},{"$error":"#NAME?"},{"$error":"#NAME?"},{"$error":"#NAME?"},{"$error":"#NAME?"},{"$error":"#NAME?"},{"$error":"#NAME?"},{"$error":"#NAME?"},{"$error":"#NAME?"},{"$error":"#NAME?"},{"$error":"#NAME?"},{"$error":"#NAME?"},{"$error":"#NAME?"},{"$error":"#NAME?"},{"$error":"#NAME?"},{"$error":"#NAME?"},{"$error":"#NAME?"},{"$error":"#NAME?"},{"$error":"#NAME?"},{"$error":"#NAME?"},{"$error":"#NAME?"},null,{"$error":"#NAME?"},{"$error":"#NAME?"},{"$error":"#NAME?"},{"$error":"#NAME?"},{"$error":"#NAME?"},{"$error":"#NAME?"},{"$error":"#NAME?"},{"$error":"#NAME?"},{"$error":"#NAME?"},{"$error":"#NAME?"},{"$error":"#NAME?"},{"$error":"#NAME?"},{"$error":"#NAME?"},{"$error":"#NAME?"},{"$error":"#NAME?"},{"$error":"#NAME?"},{"$error":"#NAME?"},{"$error":"#NAME?"},{"$error":"#NAME?"},{"$error":"#NAME?"},{"$error":"#NAME?"},{"$error":"#NAME?"},{"$error":"#NAME?"},{"$error":"#NAME?"},{"$error":"#NAME?"},{"$error":"#NAME?"},{"$error":"#NAME?"},{"$error":"#NAME?"},{"$error":"#NAME?"},{"$error":"#NAME?"},{"$error":"#NAME?"},{"$error":"#NAME?"},{"$error":"#NAME?"},{"$error":"#NAME?"},{"$error":"#NAME?"},{"$error":"#NAME?"},{"$error":"#NAME?"},{"$error":"#NAME?"},{"$error":"#NAME?"},{"$error":"#NAME?"},{"$error":"#NAME?"},{"$error":"#NAME?"},{"$error":"#NAME?"},{"$error":"#NAME?"},{"$error":"#NAME?"},{"$error":"#NAME?"},{"$error":"#NAME?"},{"$error":"#NAME?"},{"$error":"#NAME?"},{"$error":"#NAME?"},{"$error":"#NAME?"},{"$error":"#NAME?"},{"$error":"#NAME?"},{"$error":"#NAME?"},{"$error":"#NAME?"},{"$error":"#NAME?"},{"$error":"#NAME?"},{"$error":"#NAME?"},{"$error":"#NAME?"},{"$error":"#NAME?"},{"$error":"#NAME?"},{"$error":"#NAME?"},{"$error":"#NAME?"},{"$error":"#NAME?"},{"$error":"#NAME?"},{"$error":"#NAME?"},{"$error":"#NAME?"},{"$error":"#NAME?"},{"$error":"#NAME?"},{"$error":"#NAME?"},{"$error":"#NAME?"},{"$error":"#NAME?"},{"$error":"#NAME?"},{"$error":"#NAME?"},{"$error":"#NAME?"},{"$error":"#NAME?"},{"$error":"#NAME?"},{"$error":"#NAME?"},{"$error":"#NAME?"},{"$error":"#NAME?"},{"$error":"#NAME?"},{"$error":"#NAME?"},{"$error":"#NAME?"},{"$error":"#NAME?"},{"$error":"#NAME?"},{"$error":"#NAME?"},{"$error":"#NAME?"},{"$error":"#NAME?"},{"$error":"#NAME?"},{"$error":"#NAME?"},{"$error":"#NAME?"},{"$error":"#NAME?"},{"$error":"#NAME?"},{"$error":"#NAME?"},{"$error":"#NAME?"},{"$error":"#NAME?"},{"$error":"#NAME?"},{"$error":"#NAME?"},{"$error":"#NAME?"},{"$error":"#NAME?"}]
[{"$error":"#NAME?"},{"$error":"#NAME?"},{"$error":"#NAME?"},{"$error":"#NAME?"},{"$error":"#NAME?"},{"$error":"#NAME?"},{"$error":"#NAME?"},{"$error":"#NAME?"},{"$error":"#NAME?"},{"$error":"#NAME?"},{"$error":"#NAME?"},{"$error":"#NAME?"},{"$error":"#NAME?"},{"$error":"#NAME?"},{"$error":"#NAME?"},{"$error":"#NAME?"},{"$error":"#NAME?"},{"$error":"#NAME?"},{"$error":"#NAME?"},{"$error":"#NAME?"},{"$error":"#NAME?"},{"$error":"#NAME?"},{"$error":"#NAME?"},{"$error":"#NAME?"},{"$error":"#NAME?"},{"$error":"#NAME?"},{"$error":"#NAME?"},{"$error":"#NAME?"},{"$error":"#NAME?"},{"$error":"#NAME?"},{"$error":"#NAME?"},{"$error":"#NAME?"},{"$error":"#NAME?"},{"$error":"#NAME?"},{"$error":"#NAME?"},{"$error":"#NAME?"},{"$error":"#NAME?"},{"$error":"#NAME?"},{"$error":"#NAME?"},{"$error":"#NAME?"},{"$error":"#NAME?"},{"$error":"#NAME?"},{"$error":"#NAME?"},{"$error":"#NAME?"},{"$error":"#NAME?"},{"$error":"#NAME?"},{"$error":"#NAME?"},{"$error":"#NAME?"},{"$error":"#NAME?"},{"$error":"#NAME?"},{"$error":"#NAME?"},{"$error":"#NAME?"},{"$error":"#NAME?"},{"$error":"#NAME?"},{"$error":"#NAME?"},{"$error":"#NAME?"},{"$error":"#NAME?"},{"$error":"#NAME?"},{"$error":"#NAME?"},{"$error":"#NAME?"},{"$error":"#NAME?"},{"$error":"#NAME?"},{"$error":"#NAME?"},{"$error":"#NAME?"},{"$error":"#NAME?"},{"$error":"#NAME?"},{"$error":"#NAME?"},{"$error":"#NAME?"},{"$error":"#NAME?"},{"$error":"#NAME?"},{"$error":"#NAME?"},{"$error":"#NAME?"},{"$error":"#NAME?"},{"$error":"#NAME?"},{"$error":"#NAME?"},{"$error":"#NAME?"},{"$error":"#NAME?"},{"$error":"#NAME?"},{"$error":"#NAME?"},{"$error":"#NAME?"},{"$error":"#NAME?"},{"$error":"#NAME?"},{"$error":"#NAME?"},{"$error":"#NAME?"},{"$error":"#NAME?"},{"$error":"#NAME?"},{"$error":"#NAME?"},{"$error":"#NAME?"},{"$error":"#NAME?"},{"$error":"#NAME?"},{"$error":"#NAME?"},{"$error":"#NAME?"},{"$error":"#NAME?"},{"$error":"#NAME?"},{"$error":"#NAME?"},{"$error":"#NAME?"},{"$error":"#NAME?"},{"$error":"#NAME?"},{"$error":"#NAME?"},{"$error":"#NAME?"},null,{"$error":"#NAME?"},{"$error":"#NAME?"},{"$error":"#NAME?"},{"$error":"#NAME?"},{"$error":"#NAME?"},{"$error":"#NAME?"},{"$error":"#NAME?"},{"$error":"#NAME?"},{"$error":"#NAME?"},{"$error":"#NAME?"},{"$error":"#NAME?"},{"$error":"#NAME?"},{"$error":"#NAME?"},{"$error":"#NAME?"},{"$error":"#NAME?"},{"$error":"#NAME?"},{"$error":"#NAME?"},{"$error":"#NAME?"},{"$error":"#NAME?"},{"$error":"#NAME?"},{"$error":"#NAME?"},{"$error":"#NAME?"},{"$error":"#NAME?"},{"$error":"#NAME?"},{"$error":"#NAME?"},{"$error":"#NAME?"},{"$error":"#NAME?"},{"$error":"#NAME?"},{"$error":"#NAME?"},{"$error":"#NAME?"},{"$error":"#NAME?"},{"$error":"#NAME?"},{"$error":"#NAME?"},{"$error":"#NAME?"},{"$error":"#NAME?"},{"$error":"#NAME?"},{"$error":"#NAME?"},{"$error":"#NAME?"},{"$error":"#NAME?"},{"$error":"#NAME?"},{"$error":"#NAME?"},{"$error":"#NAME?"},{"$error":"#NAME?"},{"$error":"#NAME?"},{"$error":"#NAME?"},{"$error":"#NAME?"},{"$error":"#NAME?"},{"$error":"#NAME?"},{"$error":"#NAME?"},{"$error":"#NAME?"},{"$error":"#NAME?"},{"$error":"#NAME?"},{"$error":"#NAME?"},{"$error":"#NAME?"},{"$error":"#NAME?"},{"$error":"#NAME?"},{"$error":"#NAME?"},{"$error":"#NAME?"},{"$error":"#NAME?"},{"$error":"#NAME?"},{"$error":"#NAME?"},{"$error":"#NAME?"},{"$error":"#NAME?"},{"$error":"#NAME?"},{"$error":"#NAME?"},{"$error":"#NAME?"},{"$error":"#NAME?"},{"$error":"#NAME?"},{"$error":"#NAME?"},{"$error":"#NAME?"},{"$error":"#NAME?"},{"$error":"#NAME?"},{"$error":"#NAME?"},{"$error":"#NAME?"},{"$error":"#NAME?"},{"$error":"#NAME?"},{"$error":"#NAME?"},{"$error":"#NAME?"},{"$error":"#NAME?"},{"$error":"#NAME?"},{"$error":"#NAME?"},{"$error":"#NAME?"},{"$error":"#NAME?"},{"$error":"#NAME?"},{"$error":"#NAME?"},{"$error":"#NAME?"},{"$error":"#NAME?"},{"$error":"#NAME?"},{"$error":"#NAME?"},{"$error":"#NAME?"},{"$error":"#NAME?"},{"$error":"#NAME?"},{"$error":"#NAME?"},{"$error":"#NAME?"},{"$error":"#NAME?"},{"$error":"#NAME?"},{"$error":"#NAME?"},{"$error":"#NAME?"},{"$error":"#NAME?"},{"$error":"#NAME?"}]
[{"$error":"#NAME?"},{"$error":"#NAME?"},{"$error":"#NAME?"},{"$error":"#NAME?"},{"$error":"#NAME?"},{"$error":"#NAME?"},{"$error":"#NAME?"},{"$error":"#NAME?"},{"$error":"#NAME?"},{"$error":"#NAME?"},{"$error":"#NAME?"},{"$error":"#NAME?"},{"$error":"#NAME?"},{"$error":"#NAME?"},{"$error":"#NAME?"},{"$error":"#NAME?"},{"$error":"#NAME?"},{"$error":"#NAME?"},{"$error":"#NAME?"},{"$error":"#NAME?"},{"$error":"#NAME?"},{"$error":"#NAME?"},{"$error":"#NAME?"},{"$error":"#NAME?"},{"$error":"#NAME?"},{"$error":"#NAME?"},{"$error":"#NAME?"},{"$error":"#NAME?"},{"$error":"#NAME?"},{"$error":"#NAME?"},{"$error":"#NAME?"},{"$error":"#NAME?"},{"$error":"#NAME?"},{"$error":"#NAME?"},{"$error":"#NAME?"},{"$error":"#NAME?"},{"$error":"#NAME?"},{"$error":"#NAME?"},{"$error":"#NAME?"},{"$error":"#NAME?"},{"$error":"#NAME?"},{"$error":"#NAME?"},{"$error":"#NAME?"},{"$error":"#NAME?"},{"$error":"#NAME?"},{"$error":"#NAME?"},{"$error":"#NAME?"},{"$error":"#NAME?"},{"$error":"#NAME?"},{"$error":"#NAME?"},{"$error":"#NAME?"},{"$error":"#NAME?"},{"$error":"#NAME?"},{"$error":"#NAME?"},{"$error":"#NAME?"},{"$error":"#NAME?"},{"$error":"#NAME?"},{"$error":"#NAME?"},{"$error":"#NAME?"},{"$error":"#NAME?"},{"$error":"#NAME?"},{"$error":"#NAME?"},{"$error":"#NAME?"},{"$error":"#NAME?"},{"$error":"#NAME?"},{"$error":"#NAME?"},{"$error":"#NAME?"},{"$error":"#NAME?"},{"$error":"#NAME?"},{"$error":"#NAME?"},{"$error":"#NAME?"},{"$error":"#NAME?"},{"$error":"#NAME?"},{"$error":"#NAME?"},{"$error":"#NAME?"},{"$error":"#NAME?"},{"$error":"#NAME?"},{"$error":"#NAME?"},{"$error":"#NAME?"},{"$error":"#NAME?"},{"$error":"#NAME?"},{"$error":"#NAME?"},{"$error":"#NAME?"},{"$error":"#NAME?"},{"$error":"#NAME?"},{"$error":"#NAME?"},{"$error":"#NAME?"},{"$error":"#NAME?"},{"$error":"#NAME?"},{"$error":"#NAME?"},{"$error":"#NAME?"},{"$error":"#NAME?"},{"$error":"#NAME?"},{"$error":"#NAME?"},{"$error":"#NAME?"},{"$error":"#NAME?"},{"$error":"#NAME?"},{"$error":"#NAME?"},{"$error":"#NAME?"},{"$error":"#NAME?"},null,{"$error":"#NAME?"},{"$error":"#NAME?"},{"$error":"#NAME?"},{"$error":"#NAME?"},{"$error":"#NAME?"},{"$error":"#NAME?"},{"$error":"#NAME?"},{"$error":"#NAME?"},{"$error":"#NAME?"},{"$error":"#NAME?"},{"$error":"#NAME?"},{"$error":"#NAME?"},{"$error":"#NAME?"},{"$error":"#NAME?"},{"$error":"#NAME?"},{"$error":"#NAME?"},{"$error":"#NAME?"},{"$error":"#NAME?"},{"$error":"#NAME?"},{"$error":"#NAME?"},{"$error":"#NAME?"},{"$error":"#NAME?"},{"$error":"#NAME?"},{"$error":"#NAME?"},{"$error":"#NAME?"},{"$error":"#NAME?"},{"$error":"#NAME?"},{"$error":"#NAME?"},{"$error":"#NAME?"},{"$error":"#NAME?"},{"$error":"#NAME?"},{"$error":"#NAME?"},{"$error":"#NAME?"},{"$error":"#NAME?"},{"$error":"#NAME?"},{"$error":"#NAME?"},{"$error":"#NAME?"},{"$error":"#NAME?"},{"$error":"#NAME?"},{"$error":"#NAME?"},{"$error":"#NAME?"},{"$error":"#NAME?"},{"$error":"#NAME?"},{"$error":"#NAME?"},{"$error":"#NAME?"},{"$error":"#NAME?"},{"$error":"#NAME?"},{"$error":"#NAME?"},{"$error":"#NAME?"},{"$error":"#NAME?"},{"$error":"#NAME?"},{"$error":"#NAME?"},{"$error":"#NAME?"},{"$error":"#NAME?"},{"$error":"#NAME?"},{"$error":"#NAME?"},{"$error":"#NAME?"},{"$error":"#NAME?"},{"$error":"#NAME?"},{"$error":"#NAME?"},{"$error":"#NAME?"},{"$error":"#NAME?"},{"$error":"#NAME?"},{"$error":"#NAME?"},{"$error":"#NAME?"},{"$error":"#NAME?"},{"$error":"#NAME?"},{"$error":"#NAME?"},{"$error":"#NAME?"},{"$error":"#NAME?"},{"$error":"#NAME?"},{"$error":"#NAME?"},{"$error":"#NAME?"},{"$error":"#NAME?"},{"$error":"#NAME?"},{"$error":"#NAME?"},{"$error":"#NAME?"},{"$error":"#NAME?"},{"$error":"#NAME?"},{"$error":"#NAME?"},{"$error":"#NAME?"},{"$error":"#NAME?"},{"$error":"#NAME?"},{"$error":"#NAME?"},{"$error":"#NAME?"},{"$error":"#NAME?"},{"$error":"#NAME?"},{"$error":"#NAME?"},{"$error":"#NAME?"},{"$error":"#NAME?"},{"$error":"#NAME?"},{"$error":"#NAME?"},{"$error":"#NAME?"},{"$error":"#NAME?"},{"$error":"#NAME?"},{"$error":"#NAME?"},{"$error":"#NAME?"},{"$error":"#NAME?"},{"$error":"#NAME?"},{"$error":"#NAME?"}]
[{"$error":"#NAME?"},{"$error":"#NAME?"},{"$error":"#NAME?"},{"$error":"#NAME?"},{"$error":"#NAME?"},{"$error":"#NAME?"},{"$error":"#NAME?"},{"$error":"#NAME?"},{"$error":"#NAME?"},{"$error":"#NAME?"},{"$error":"#NAME?"},{"$error":"#NAME?"},{"$error":"#NAME?"},{"$error":"#NAME?"},{"$error":"#NAME?"},{"$error":"#NAME?"},{"$error":"#NAME?"},{"$error":"#NAME?"},{"$error":"#NAME?"},{"$error":"#NAME?"},{"$error":"#NAME?"},{"$error":"#NAME?"},{"$error":"#NAME?"},{"$error":"#NAME?"},{"$error":"#NAME?"},{"$error":"#NAME?"},{"$error":"#NAME?"},{"$error":"#NAME?"},{"$error":"#NAME?"},{"$error":"#NAME?"},{"$error":"#NAME?"},{"$error":"#NAME?"},{"$error":"#NAME?"},{"$error":"#NAME?"},{"$error":"#NAME?"},{"$error":"#NAME?"},{"$error":"#NAME?"},{"$error":"#NAME?"},{"$error":"#NAME?"},{"$error":"#NAME?"},{"$error":"#NAME?"},{"$error":"#NAME?"},{"$error":"#NAME?"},{"$error":"#NAME?"},{"$error":"#NAME?"},{"$error":"#NAME?"},{"$error":"#NAME?"},{"$error":"#NAME?"},{"$error":"#NAME?"},{"$error":"#NAME?"},{"$error":"#NAME?"},{"$error":"#NAME?"},{"$error":"#NAME?"},{"$error":"#NAME?"},{"$error":"#NAME?"},{"$error":"#NAME?"},{"$error":"#NAME?"},{"$error":"#NAME?"},{"$error":"#NAME?"},{"$error":"#NAME?"},{"$error":"#NAME?"},{"$error":"#NAME?"},{"$error":"#NAME?"},{"$error":"#NAME?"},{"$error":"#NAME?"},{"$error":"#NAME?"},{"$error":"#NAME?"},{"$error":"#NAME?"},{"$error":"#NAME?"},{"$error":"#NAME?"},{"$error":"#NAME?"},{"$error":"#NAME?"},{"$error":"#NAME?"},{"$error":"#NAME?"},{"$error":"#NAME?"},{"$error":"#NAME?"},{"$error":"#NAME?"},{"$error":"#NAME?"},{"$error":"#NAME?"},{"$error":"#NAME?"},{"$error":"#NAME?"},{"$error":"#NAME?"},{"$error":"#NAME?"},{"$error":"#NAME?"},{"$error":"#NAME?"},{"$error":"#NAME?"},{"$error":"#NAME?"},{"$error":"#NAME?"},{"$error":"#NAME?"},{"$error":"#NAME?"},{"$error":"#NAME?"},{"$error":"#NAME?"},{"$error":"#NAME?"},{"$error":"#NAME?"},{"$error":"#NAME?"},{"$error":"#NAME?"},{"$error":"#NAME?"},{"$error":"#NAME?"},{"$error":"#NAME?"},{"$error":"#NAME?"},null,{"$error":"#NAME?"},{"$error":"#NAME?"},{"$error":"#NAME?"},{"$error":"#NAME?"},{"$error":"#NAME?"},{"$error":"#NAME?"},{"$error":"#NAME?"},{"$error":"#NAME?"},{"$error":"#NAME?"},{"$error":"#NAME?"},{"$error":"#NAME?"},{"$error":"#NAME?"},{"$error":"#NAME?"},{"$error":"#NAME?"},{"$error":"#NAME?"},{"$error":"#NAME?"},{"$error":"#NAME?"},{"$error":"#NAME?"},{"$error":"#NAME?"},{"$error":"#NAME?"},{"$error":"#NAME?"},{"$error":"#NAME?"},{"$error":"#NAME?"},{"$error":"#NAME?"},{"$error":"#NAME?"},{"$error":"#NAME?"},{"$error":"#NAME?"},{"$error":"#NAME?"},{"$error":"#NAME?"},{"$error":"#NAME?"},{"$error":"#NAME?"},{"$error":"#NAME?"},{"$error":"#NAME?"},{"$error":"#NAME?"},{"$error":"#NAME?"},{"$error":"#NAME?"},{"$error":"#NAME?"},{"$error":"#NAME?"},{"$error":"#NAME?"},{"$error":"#NAME?"},{"$error":"#NAME?"},{"$error":"#NAME?"},{"$error":"#NAME?"},{"$error":"#NAME?"},{"$error":"#NAME?"},{"$error":"#NAME?"},{"$error":"#NAME?"},{"$error":"#NAME?"},{"$error":"#NAME?"},{"$error":"#NAME?"},{"$error":"#NAME?"},{"$error":"#NAME?"},{"$error":"#NAME?"},{"$error":"#NAME?"},{"$error":"#NAME?"},{"$error":"#NAME?"},{"$error":"#NAME?"},{"$error":"#NAME?"},{"$error":"#NAME?"},{"$error":"#NAME?"},{"$error":"#NAME?"},{"$error":"#NAME?"},{"$error":"#NAME?"},{"$error":"#NAME?"},{"$error":"#NAME?"},{"$error":"#NAME?"},{"$error":"#NAME?"},{"$error":"#NAME?"},{"$error":"#NAME?"},{"$error":"#NAME?"},{"$error":"#NAME?"},{"$error":"#NAME?"},{"$error":"#NAME?"},{"$error":"#NAME?"},{"$error":"#NAME?"},{"$error":"#NAME?"},{"$error":"#NAME?"},{"$error":"#NAME?"},{"$error":"#NAME?"},{"$error":"#NAME?"},{"$error":"#NAME?"},{"$error":"#NAME?"},{"$error":"#NAME?"},{"$error":"#NAME?"},{"$error":"#NAME?"},{"$error":"#NAME?"},{"$error":"#NAME?"},{"$error":"#NAME?"},{"$error":"#NAME?"},{"$error":"#NAME?"},{"$error":"#NAME?"},{"$error":"#NAME?"},{"$error":"#NAME?"},{"$error":"#NAME?"},{"$error":"#NAME?"},{"$error":"#NAME?"},{"$error":"#NAME?"},{"$error":"#NAME?"},{"$error":"#NAME?"},{"$error":"#NAME?"}]
[{"$error":"#NAME?"},{"$error":"#NAME?"},{"$error":"#NAME?"},{"$error":"#NAME?"},{"$error":"#NAME?"},{"$error":"#NAME?"},{"$error":"#NAME?"},{"$error":"#NAME?"},{"$error":"#NAME?"},{"$error":"#NAME?"},{"$error":"#NAME?"},{"$error":"#NAME?"},{"$error":"#NAME?"},{"$error":"#NAME?"},{"$error":"#NAME?"},{"$error":"#NAME?"},{"$error":"#NAME?"},{"$error":"#NAME?"},{"$error":"#NAME?"},{"$error":"#NAME?"},{"$error":"#NAME?"},{"$error":"#NAME?"},{"$error":"#NAME?"},{"$error":"#NAME?"},{"$error":"#NAME?"},{"$error":"#NAME?"},{"$error":"#NAME?"},{"$error":"#NAME?"},{"$error":"#NAME?"},{"$error":"#NAME?"},{"$error":"#NAME?"},{"$error":"#NAME?"},{"$error":"#NAME?"},{"$error":"#NAME?"},{"$error":"#NAME?"},{"$error":"#NAME?"},{"$error":"#NAME?"},{"$error":"#NAME?"},{"$error":"#NAME?"},{"$error":"#NAME?"},{"$error":"#NAME?"},{"$error":"#NAME?"},{"$error":"#NAME?"},{"$error":"#NAME?"},{"$error":"#NAME?"},{"$error":"#NAME?"},{"$error":"#NAME?"},{"$error":"#NAME?"},{"$error":"#NAME?"},{"$error":"#NAME?"},{"$error":"#NAME?"},{"$error":"#NAME?"},{"$error":"#NAME?"},{"$error":"#NAME?"},{"$error":"#NAME?"},{"$error":"#NAME?"},{"$error":"#NAME?"},{"$error":"#NAME?"},{"$error":"#NAME?"},{"$error":"#NAME?"},{"$error":"#NAME?"},{"$error":"#NAME?"},{"$error":"#NAME?"},{"$error":"#NAME?"},{"$error":"#NAME?"},{"$error":"#NAME?"},{"$error":"#NAME?"},{"$error":"#NAME?"},{"$error":"#NAME?"},{"$error":"#NAME?"},{"$error":"#NAME?"},{"$error":"#NAME?"},{"$error":"#NAME?"},{"$error":"#NAME?"},{"$error":"#NAME?"},{"$error":"#NAME?"},{"$error":"#NAME?"},{"$error":"#NAME?"},{"$error":"#NAME?"},{"$error":"#NAME?"},{"$error":"#NAME?"},{"$error":"#NAME?"},{"$error":"#NAME?"},{"$error":"#NAME?"},{"$error":"#NAME?"},{"$error":"#NAME?"},{"$error":"#NAME?"},{"$error":"#NAME?"},{"$error":"#NAME?"},{"$error":"#NAME?"},{"$error":"#NAME?"},{"$error":"#NAME?"},{"$error":"#NAME?"},{"$error":"#NAME?"},{"$error":"#NAME?"},{"$error":"#NAME?"},{"$error":"#NAME?"},{"$error":"#NAME?"},{"$error":"#NAME?"},{"$error":"#NAME?"},null,{"$error":"#NAME?"},{"$error":"#NAME?"},{"$error":"#NAME?"},{"$error":"#NAME?"},{"$error":"#NAME?"},{"$error":"#NAME?"},{"$error":"#NAME?"},{"$error":"#NAME?"},{"$error":"#NAME?"},{"$error":"#NAME?"},{"$error":"#NAME?"},{"$error":"#NAME?"},{"$error":"#NAME?"},{"$error":"#NAME?"},{"$error":"#NAME?"},{"$error":"#NAME?"},{"$error":"#NAME?"},{"$error":"#NAME?"},{"$error":"#NAME?"},{"$error":"#NAME?"},{"$error":"#NAME?"},{"$error":"#NAME?"},{"$error":"#NAME?"},{"$error":"#NAME?"},{"$error":"#NAME?"},{"$error":"#NAME?"},{"$error":"#NAME?"},{"$error":"#NAME?"},{"$error":"#NAME?"},{"$error":"#NAME?"},{"$error":"#NAME?"},{"$error":"#NAME?"},{"$error":"#NAME?"},{"$error":"#NAME?"},{"$error":"#NAME?"},{"$error":"#NAME?"},{"$error":"#NAME?"},{"$error":"#NAME?"},{"$error":"#NAME?"},{"$error":"#NAME?"},{"$error":"#NAME?"},{"$error":"#NAME?"},{"$error":"#NAME?"},{"$error":"#NAME?"},{"$error":"#NAME?"},{"$error":"#NAME?"},{"$error":"#NAME?"},{"$error":"#NAME?"},{"$error":"#NAME?"},{"$error":"#NAME?"},{"$error":"#NAME?"},{"$error":"#NAME?"},{"$error":"#NAME?"},{"$error":"#NAME?"},{"$error":"#NAME?"},{"$error":"#NAME?"},{"$error":"#NAME?"},{"$error":"#NAME?"},{"$error":"#NAME?"},{"$error":"#NAME?"},{"$error":"#NAME?"},{"$error":"#NAME?"},{"$error":"#NAME?"},{"$error":"#NAME?"},{"$error":"#NAME?"},{"$error":"#NAME?"},{"$error":"#NAME?"},{"$error":"#NAME?"},{"$error":"#NAME?"},{"$error":"#NAME?"},{"$error":"#NAME?"},{"$error":"#NAME?"},{"$error":"#NAME?"},{"$error":"#NAME?"},{"$error":"#NAME?"},{"$error":"#NAME?"},{"$error":"#NAME?"},{"$error":"#NAME?"},{"$error":"#NAME?"},{"$error":"#NAME?"},{"$error":"#NAME?"},{"$error":"#NAME?"},{"$error":"#NAME?"},{"$error":"#NAME?"},{"$error":"#NAME?"},{"$error":"#NAME?"},{"$error":"#NAME?"},{"$error":"#NAME?"},{"$error":"#NAME?"},{"$error":"#NAME?"},{"$error":"#NAME?"},{"$error":"#NAME?"},{"$error":"#NAME?"},{"$error":"#NAME?"},{"$error":"#NAME?"},{"$error":"#NAME?"},{"$error":"#NAME?"},{"$error":"#NAME?"},{"$error":"#NAME?"},{"$error":"#NAME?"}]
[{"$error":"#NAME?"},{"$error":"#NAME?"},{"$error":"#NAME?"},{"$error":"#NAME?"},{"$error":"#NAME?"},{"$error":"#NAME?"},{"$error":"#NAME?"},{"$error":"#NAME?"},{"$error":"#NAME?"},{"$error":"#NAME?"},{"$error":"#NAME?"},{"$error":"#NAME?"},{"$error":"#NAME?"},{"$error":"#NAME?"},{"$error":"#NAME?"},{"$error":"#NAME?"},{"$error":"#NAME?"},{"$error":"#NAME?"},{"$error":"#NAME?"},{"$error":"#NAME?"},{"$error":"#NAME?"},{"$error":"#NAME?"},{"$error":"#NAME?"},{"$error":"#NAME?"},{"$error":"#NAME?"},{"$error":"#NAME?"},{"$error":"#NAME?"},{"$error":"#NAME?"},{"$error":"#NAME?"},{"$error":"#NAME?"},{"$error":"#NAME?"},{"$error":"#NAME?"},{"$error":"#NAME?"},{"$error":"#NAME?"},{"$error":"#NAME?"},{"$error":"#NAME?"},{"$error":"#NAME?"},{"$error":"#NAME?"},{"$error":"#NAME?"},{"$error":"#NAME?"},{"$error":"#NAME?"},{"$error":"#NAME?"},{"$error":"#NAME?"},{"$error":"#NAME?"},{"$error":"#NAME?"},{"$error":"#NAME?"},{"$error":"#NAME?"},{"$error":"#NAME?"},{"$error":"#NAME?"},{"$error":"#NAME?"},{"$error":"#NAME?"},{"$error":"#NAME?"},{"$error":"#NAME?"},{"$error":"#NAME?"},{"$error":"#NAME?"},{"$error":"#NAME?"},{"$error":"#NAME?"},{"$error":"#NAME?"},{"$error":"#NAME?"},{"$error":"#NAME?"},{"$error":"#NAME?"},{"$error":"#NAME?"},{"$error":"#NAME?"},{"$error":"#NAME?"},{"$error":"#NAME?"},{"$error":"#NAME?"},{"$error":"#NAME?"},{"$error":"#NAME?"},{"$error":"#NAME?"},{"$error":"#NAME?"},{"$error":"#NAME?"},{"$error":"#NAME?"},{"$error":"#NAME?"},{"$error":"#NAME?"},{"$error":"#NAME?"},{"$error":"#NAME?"},{"$error":"#NAME?"},{"$error":"#NAME?"},{"$error":"#NAME?"},{"$error":"#NAME?"},{"$error":"#NAME?"},{"$error":"#NAME?"},{"$error":"#NAME?"},{"$error":"#NAME?"},{"$error":"#NAME?"},{"$error":"#NAME?"},{"$error":"#NAME?"},{"$error":"#NAME?"},{"$error":"#NAME?"},{"$error":"#NAME?"},{"$error":"#NAME?"},{"$error":"#NAME?"},{"$error":"#NAME?"},{"$error":"#NAME?"},{"$error":"#NAME?"},{"$error":"#NAME?"},{"$error":"#NAME?"},{"$error":"#NAME?"},{"$error":"#NAME?"},{"$error":"#NAME?"},null,{"$error":"#NAME?"},{"$error":"#NAME?"},{"$error":"#NAME?"},{"$error":"#NAME?"},{"$error":"#NAME?"},{"$error":"#NAME?"},{"$error":"#NAME?"},{"$error":"#NAME?"},{"$error":"#NAME?"},{"$error":"#NAME?"},{"$error":"#NAME?"},{"$error":"#NAME?"},{"$error":"#NAME?"},{"$error":"#NAME?"},{"$error":"#NAME?"},{"$error":"#NAME?"},{"$error":"#NAME?"},{"$error":"#NAME?"},{"$error":"#NAME?"},{"$error":"#NAME?"},{"$error":"#NAME?"},{"$error":"#NAME?"},{"$error":"#NAME?"},{"$error":"#NAME?"},{"$error":"#NAME?"},{"$error":"#NAME?"},{"$error":"#NAME?"},{"$error":"#NAME?"},{"$error":"#NAME?"},{"$error":"#NAME?"},{"$error":"#NAME?"},{"$error":"#NAME?"},{"$error":"#NAME?"},{"$error":"#NAME?"},{"$error":"#NAME?"},{"$error":"#NAME?"},{"$error":"#NAME?"},{"$error":"#NAME?"},{"$error":"#NAME?"},{"$error":"#NAME?"},{"$error":"#NAME?"},{"$error":"#NAME?"},{"$error":"#NAME?"},{"$error":"#NAME?"},{"$error":"#NAME?"},{"$error":"#NAME?"},{"$error":"#NAME?"},{"$error":"#NAME?"},{"$error":"#NAME?"},{"$error":"#NAME?"},{"$error":"#NAME?"},{"$error":"#NAME?"},{"$error":"#NAME?"},{"$error":"#NAME?"},{"$error":"#NAME?"},{"$error":"#NAME?"},{"$error":"#NAME?"},{"$error":"#NAME?"},{"$error":"#NAME?"},{"$error":"#NAME?"},{"$error":"#NAME?"},{"$error":"#NAME?"},{"$error":"#NAME?"},{"$error":"#NAME?"},{"$error":"#NAME?"},{"$error":"#NAME?"},{"$error":"#NAME?"},{"$error":"#NAME?"},{"$error":"#NAME?"},{"$error":"#NAME?"},{"$error":"#NAME?"},{"$error":"#NAME?"},{"$error":"#NAME?"},{"$error":"#NAME?"},{"$error":"#NAME?"},{"$error":"#NAME?"},{"$error":"#NAME?"},{"$error":"#NAME?"},{"$error":"#NAME?"},{"$error":"#NAME?"},{"$error":"#NAME?"},{"$error":"#NAME?"},{"$error":"#NAME?"},{"$error":"#NAME?"},{"$error":"#NAME?"},{"$error":"#NAME?"},{"$error":"#NAME?"},{"$error":"#NAME?"},{"$error":"#NAME?"},{"$error":"#NAME?"},{"$error":"#NAME?"},{"$error":"#NAME?"},{"$error":"#NAME?"},{"$error":"#NAME?"},{"$error":"#NAME?"},{"$error":"#NAME?"},{"$error":"#NAME?"},{"$error":"#NAME?"},{"$error":"#NAME?"},{"$error":"#NAME?"}]
[{"$error":"#NAME?"},{"$error":"#NAME?"},{"$error":"#NAME?"},{"$error":"#NAME?"},{"$error":"#NAME?"},{"$error":"#NAME?"},{"$error":"#NAME?"},{"$error":"#NAME?"},{"$error":"#NAME?"},{"$error":"#NAME?"},{"$error":"#NAME?"},{"$error":"#NAME?"},{"$error":"#NAME?"},{"$error":"#NAME?"},{"$error":"#NAME?"},{"$error":"#NAME?"},{"$error":"#NAME?"},{"$error":"#NAME?"},{"$error":"#NAME?"},{"$error":"#NAME?"},{"$error":"#NAME?"},{"$error":"#NAME?"},{"$error":"#NAME?"},{"$error":"#NAME?"},{"$error":"#NAME?"},{"$error":"#NAME?"},{"$error":"#NAME?"},{"$error":"#NAME?"},{"$error":"#NAME?"},{"$error":"#NAME?"},{"$error":"#NAME?"},{"$error":"#NAME?"},{"$error":"#NAME?"},{"$error":"#NAME?"},{"$error":"#NAME?"},{"$error":"#NAME?"},{"$error":"#NAME?"},{"$error":"#NAME?"},{"$error":"#NAME?"},{"$error":"#NAME?"},{"$error":"#NAME?"},{"$error":"#NAME?"},{"$error":"#NAME?"},{"$error":"#NAME?"},{"$error":"#NAME?"},{"$error":"#NAME?"},{"$error":"#NAME?"},{"$error":"#NAME?"},{"$error":"#NAME?"},{"$error":"#NAME?"},{"$error":"#NAME?"},{"$error":"#NAME?"},{"$error":"#NAME?"},{"$error":"#NAME?"},{"$error":"#NAME?"},{"$error":"#NAME?"},{"$error":"#NAME?"},{"$error":"#NAME?"},{"$error":"#NAME?"},{"$error":"#NAME?"},{"$error":"#NAME?"},{"$error":"#NAME?"},{"$error":"#NAME?"},{"$error":"#NAME?"},{"$error":"#NAME?"},{"$error":"#NAME?"},{"$error":"#NAME?"},{"$error":"#NAME?"},{"$error":"#NAME?"},{"$error":"#NAME?"},{"$error":"#NAME?"},{"$error":"#NAME?"},{"$error":"#NAME?"},{"$error":"#NAME?"},{"$error":"#NAME?"},{"$error":"#NAME?"},{"$error":"#NAME?"},{"$error":"#NAME?"},{"$error":"#NAME?"},{"$error":"#NAME?"},{"$error":"#NAME?"},{"$error":"#NAME?"},{"$error":"#NAME?"},{"$error":"#NAME?"},{"$error":"#NAME?"},{"$error":"#NAME?"},{"$error":"#NAME?"},{"$error":"#NAME?"},{"$error":"#NAME?"},{"$error":"#NAME?"},{"$error":"#NAME?"},{"$error":"#NAME?"},{"$error":"#NAME?"},{"$error":"#NAME?"},{"$error":"#NAME?"},{"$error":"#NAME?"},{"$error":"#NAME?"},{"$error":"#NAME?"},{"$error":"#NAME?"},{"$error":"#NAME?"},null,{"$error":"#NAME?"},{"$error":"#NAME?"},{"$error":"#NAME?"},{"$error":"#NAME?"},{"$error":"#NAME?"},{"$error":"#NAME?"},{"$error":"#NAME?"},{"$error":"#NAME?"},{"$error":"#NAME?"},{"$error":"#NAME?"},{"$error":"#NAME?"},{"$error":"#NAME?"},{"$error":"#NAME?"},{"$error":"#NAME?"},{"$error":"#NAME?"},{"$error":"#NAME?"},{"$error":"#NAME?"},{"$error":"#NAME?"},{"$error":"#NAME?"},{"$error":"#NAME?"},{"$error":"#NAME?"},{"$error":"#NAME?"},{"$error":"#NAME?"},{"$error":"#NAME?"},{"$error":"#NAME?"},{"$error":"#NAME?"},{"$error":"#NAME?"},{"$error":"#NAME?"},{"$error":"#NAME?"},{"$error":"#NAME?"},{"$error":"#NAME?"},{"$error":"#NAME?"},{"$error":"#NAME?"},{"$error":"#NAME?"},{"$error":"#NAME?"},{"$error":"#NAME?"},{"$error":"#NAME?"},{"$error":"#NAME?"},{"$error":"#NAME?"},{"$error":"#NAME?"},{"$error":"#NAME?"},{"$error":"#NAME?"},{"$error":"#NAME?"},{"$error":"#NAME?"},{"$error":"#NAME?"},{"$error":"#NAME?"},{"$error":"#NAME?"},{"$error":"#NAME?"},{"$error":"#NAME?"},{"$error":"#NAME?"},{"$error":"#NAME?"},{"$error":"#NAME?"},{"$error":"#NAME?"},{"$error":"#NAME?"},{"$error":"#NAME?"},{"$error":"#NAME?"},{"$error":"#NAME?"},{"$error":"#NAME?"},{"$error":"#NAME?"},{"$error":"#NAME?"},{"$error":"#NAME?"},{"$error":"#NAME?"},{"$error":"#NAME?"},{"$error":"#NAME?"},{"$error":"#NAME?"},{"$error":"#NAME?"},{"$error":"#NAME?"},{"$error":"#NAME?"},{"$error":"#NAME?"},{"$error":"#NAME?"},{"$error":"#NAME?"},{"$error":"#NAME?"},{"$error":"#NAME?"},{"$error":"#NAME?"},{"$error":"#NAME?"},{"$error":"#NAME?"},{"$error":"#NAME?"},{"$error":"#NAME?"},{"$error":"#NAME?"},{"$error":"#NAME?"},{"$error":"#NAME?"},{"$error":"#NAME?"},{"$error":"#NAME?"},{"$error":"#NAME?"},{"$error":"#NAME?"},{"$error":"#NAME?"},{"$error":"#NAME?"},{"$error":"#NAME?"},{"$error":"#NAME?"},{"$error":"#NAME?"},{"$error":"#NAME?"},{"$error":"#NAME?"},{"$error":"#NAME?"},{"$error":"#NAME?"},{"$error":"#NAME?"},{"$error":"#NAME?"},{"$error":"#NAME?"},{"$error":"#NAME?"},{"$error":"#NAME?"},{"$error":"#NAME?"}]
[{"$error":"#NAME?"},{"$error":"#NAME?"},{"$error":"#NAME?"},{"$error":"#NAME?"},{"$error":"#NAME?"},{"$error":"#NAME?"},{"$error":"#NAME?"},{"$error":"#NAME?"},{"$error":"#NAME?"},{"$error":"#NAME?"},{"$error":"#NAME?"},{"$error":"#NAME?"},{"$error":"#NAME?"},{"$error":"#NAME?"},{"$error":"#NAME?"},{"$error":"#NAME?"},{"$error":"#NAME?"},{"$error":"#NAME?"},{"$error":"#NAME?"},{"$error":"#NAME?"},{"$error":"#NAME?"},{"$error":"#NAME?"},{"$error":"#NAME?"},{"$error":"#NAME?"},{"$error":"#NAME?"},{"$error":"#NAME?"},{"$error":"#NAME?"},{"$error":"#NAME?"},{"$error":"#NAME?"},{"$error":"#NAME?"},{"$error":"#NAME?"},{"$error":"#NAME?"},{"$error":"#NAME?"},{"$error":"#NAME?"},{"$error":"#NAME?"},{"$error":"#NAME?"},{"$error":"#NAME?"},{"$error":"#NAME?"},{"$error":"#NAME?"},{"$error":"#NAME?"},{"$error":"#NAME?"},{"$error":"#NAME?"},{"$error":"#NAME?"},{"$error":"#NAME?"},{"$error":"#NAME?"},{"$error":"#NAME?"},{"$error":"#NAME?"},{"$error":"#NAME?"},{"$error":"#NAME?"},{"$error":"#NAME?"},{"$error":"#NAME?"},{"$error":"#NAME?"},{"$error":"#NAME?"},{"$error":"#NAME?"},{"$error":"#NAME?"},{"$error":"#NAME?"},{"$error":"#NAME?"},{"$error":"#NAME?"},{"$error":"#NAME?"},{"$error":"#NAME?"},{"$error":"#NAME?"},{"$error":"#NAME?"},{"$error":"#NAME?"},{"$error":"#NAME?"},{"$error":"#NAME?"},{"$error":"#NAME?"},{"$error":"#NAME?"},{"$error":"#NAME?"},{"$error":"#NAME?"},{"$error":"#NAME?"},{"$error":"#NAME?"},{"$error":"#NAME?"},{"$error":"#NAME?"},{"$error":"#NAME?"},{"$error":"#NAME?"},{"$error":"#NAME?"},{"$error":"#NAME?"},{"$error":"#NAME?"},{"$error":"#NAME?"},{"$error":"#NAME?"},{"$error":"#NAME?"},{"$error":"#NAME?"},{"$error":"#NAME?"},{"$error":"#NAME?"},{"$error":"#NAME?"},{"$error":"#NAME?"},{"$error":"#NAME?"},{"$error":"#NAME?"},{"$error":"#NAME?"},{"$error":"#NAME?"},{"$error":"#NAME?"},{"$error":"#NAME?"},{"$error":"#NAME?"},{"$error":"#NAME?"},{"$error":"#NAME?"},{"$error":"#NAME?"},{"$error":"#NAME?"},{"$error":"#NAME?"},{"$error":"#NAME?"},{"$error":"#NAME?"},null,{"$error":"#NAME?"},{"$error":"#NAME?"},{"$error":"#NAME?"},{"$error":"#NAME?"},{"$error":"#NAME?"},{"$error":"#NAME?"},{"$error":"#NAME?"},{"$error":"#NAME?"},{"$error":"#NAME?"},{"$error":"#NAME?"},{"$error":"#NAME?"},{"$error":"#NAME?"},{"$error":"#NAME?"},{"$error":"#NAME?"},{"$error":"#NAME?"},{"$error":"#NAME?"},{"$error":"#NAME?"},{"$error":"#NAME?"},{"$error":"#NAME?"},{"$error":"#NAME?"},{"$error":"#NAME?"},{"$error":"#NAME?"},{"$error":"#NAME?"},{"$error":"#NAME?"},{"$error":"#NAME?"},{"$error":"#NAME?"},{"$error":"#NAME?"},{"$error":"#NAME?"},{"$error":"#NAME?"},{"$error":"#NAME?"},{"$error":"#NAME?"},{"$error":"#NAME?"},{"$error":"#NAME?"},{"$error":"#NAME?"},{"$error":"#NAME?"},{"$error":"#NAME?"},{"$error":"#NAME?"},{"$error":"#NAME?"},{"$error":"#NAME?"},{"$error":"#NAME?"},{"$error":"#NAME?"},{"$error":"#NAME?"},{"$error":"#NAME?"},{"$error":"#NAME?"},{"$error":"#NAME?"},{"$error":"#NAME?"},{"$error":"#NAME?"},{"$error":"#NAME?"},{"$error":"#NAME?"},{"$error":"#NAME?"},{"$error":"#NAME?"},{"$error":"#NAME?"},{"$error":"#NAME?"},{"$error":"#NAME?"},{"$error":"#NAME?"},{"$error":"#NAME?"},{"$error":"#NAME?"},{"$error":"#NAME?"},{"$error":"#NAME?"},{"$error":"#NAME?"},{"$error":"#NAME?"},{"$error":"#NAME?"},{"$error":"#NAME?"},{"$error":"#NAME?"},{"$error":"#NAME?"},{"$error":"#NAME?"},{"$error":"#NAME?"},{"$error":"#NAME?"},{"$error":"#NAME?"},{"$error":"#NAME?"},{"$error":"#NAME?"},{"$error":"#NAME?"},{"$error":"#NAME?"},{"$error":"#NAME?"},{"$error":"#NAME?"},{"$error":"#NAME?"},{"$error":"#NAME?"},{"$error":"#NAME?"},{"$error":"#NAME?"},{"$error":"#NAME?"},{"$error":"#NAME?"},{"$error":"#NAME?"},{"$error":"#NAME?"},{"$error":"#NAME?"},{"$error":"#NAME?"},{"$error":"#NAME?"},{"$error":"#NAME?"},{"$error":"#NAME?"},{"$error":"#NAME?"},{"$error":"#NAME?"},{"$error":"#NAME?"},{"$error":"#NAME?"},{"$error":"#NAME?"},{"$error":"#NAME?"},{"$error":"#NAME?"},{"$error":"#NAME?"},{"$error":"#NAME?"},{"$error":"#NAME?"},{"$error":"#NAME?"},{"$error":"#NAME?"}]
[{"$error":"#NAME?"},{"$error":"#NAME?"},{"$error":"#NAME?"},{"$error":"#NAME?"},{"$error":"#NAME?"},{"$error":"#NAME?"},{"$error":"#NAME?"},{"$error":"#NAME?"},{"$error":"#NAME?"},{"$error":"#NAME?"},{"$error":"#NAME?"},{"$error":"#NAME?"},{"$error":"#NAME?"},{"$error":"#NAME?"},{"$error":"#NAME?"},{"$error":"#NAME?"},{"$error":"#NAME?"},{"$error":"#NAME?"},{"$error":"#NAME?"},{"$error":"#NAME?"},{"$error":"#NAME?"},{"$error":"#NAME?"},{"$error":"#NAME?"},{"$error":"#NAME?"},{"$error":"#NAME?"},{"$error":"#NAME?"},{"$error":"#NAME?"},{"$error":"#NAME?"},{"$error":"#NAME?"},{"$error":"#NAME?"},{"$error":"#NAME?"},{"$error":"#NAME?"},{"$error":"#NAME?"},{"$error":"#NAME?"},{"$error":"#NAME?"},{"$error":"#NAME?"},{"$error":"#NAME?"},{"$error":"#NAME?"},{"$error":"#NAME?"},{"$error":"#NAME?"},{"$error":"#NAME?"},{"$error":"#NAME?"},{"$error":"#NAME?"},{"$error":"#NAME?"},{"$error":"#NAME?"},{"$error":"#NAME?"},{"$error":"#NAME?"},{"$error":"#NAME?"},{"$error":"#NAME?"},{"$error":"#NAME?"},{"$error":"#NAME?"},{"$error":"#NAME?"},{"$error":"#NAME?"},{"$error":"#NAME?"},{"$error":"#NAME?"},{"$error":"#NAME?"},{"$error":"#NAME?"},{"$error":"#NAME?"},{"$error":"#NAME?"},{"$error":"#NAME?"},{"$error":"#NAME?"},{"$error":"#NAME?"},{"$error":"#NAME?"},{"$error":"#NAME?"},{"$error":"#NAME?"},{"$error":"#NAME?"},{"$error":"#NAME?"},{"$error":"#NAME?"},{"$error":"#NAME?"},{"$error":"#NAME?"},{"$error":"#NAME?"},{"$error":"#NAME?"},{"$error":"#NAME?"},{"$error":"#NAME?"},{"$error":"#NAME?"},{"$error":"#NAME?"},{"$error":"#NAME?"},{"$error":"#NAME?"},{"$error":"#NAME?"},{"$error":"#NAME?"},{"$error":"#NAME?"},{"$error":"#NAME?"},{"$error":"#NAME?"},{"$error":"#NAME?"},{"$error":"#NAME?"},{"$error":"#NAME?"},{"$error":"#NAME?"},{"$error":"#NAME?"},{"$error":"#NAME?"},{"$error":"#NAME?"},{"$error":"#NAME?"},{"$error":"#NAME?"},{"$error":"#NAME?"},{"$error":"#NAME?"},{"$error":"#NAME?"},{"$error":"#NAME?"},{"$error":"#NAME?"},{"$error":"#NAME?"},{"$error":"#NAME?"},{"$error":"#NAME?"},null,{"$error":"#NAME?"},{"$error":"#NAME?"},{"$error":"#NAME?"},{"$error":"#NAME?"},{"$error":"#NAME?"},{"$error":"#NAME?"},{"$error":"#NAME?"},{"$error":"#NAME?"},{"$error":"#NAME?"},{"$error":"#NAME?"},{"$error":"#NAME?"},{"$error":"#NAME?"},{"$error":"#NAME?"},{"$error":"#NAME?"},{"$error":"#NAME?"},{"$error":"#NAME?"},{"$error":"#NAME?"},{"$error":"#NAME?"},{"$error":"#NAME?"},{"$error":"#NAME?"},{"$error":"#NAME?"},{"$error":"#NAME?"},{"$error":"#NAME?"},{"$error":"#NAME?"},{"$error":"#NAME?"},{"$error":"#NAME?"},{"$error":"#NAME?"},{"$error":"#NAME?"},{"$error":"#NAME?"},{"$error":"#NAME?"},{"$error":"#NAME?"},{"$error":"#NAME?"},{"$error":"#NAME?"},{"$error":"#NAME?"},{"$error":"#NAME?"},{"$error":"#NAME?"},{"$error":"#NAME?"},{"$error":"#NAME?"},{"$error":"#NAME?"},{"$error":"#NAME?"},{"$error":"#NAME?"},{"$error":"#NAME?"},{"$error":"#NAME?"},{"$error":"#NAME?"},{"$error":"#NAME?"},{"$error":"#NAME?"},{"$error":"#NAME?"},{"$error":"#NAME?"},{"$error":"#NAME?"},{"$error":"#NAME?"},{"$error":"#NAME?"},{"$error":"#NAME?"},{"$error":"#NAME?"},{"$error":"#NAME?"},{"$error":"#NAME?"},{"$error":"#NAME?"},{"$error":"#NAME?"},{"$error":"#NAME?"},{"$error":"#NAME?"},{"$error":"#NAME?"},{"$error":"#NAME?"},{"$error":"#NAME?"},{"$error":"#NAME?"},{"$error":"#NAME?"},{"$error":"#NAME?"},{"$error":"#NAME?"},{"$error":"#NAME?"},{"$error":"#NAME?"},{"$error":"#NAME?"},{"$error":"#NAME?"},{"$error":"#NAME?"},{"$error":"#NAME?"},{"$error":"#NAME?"},{"$error":"#NAME?"},{"$error":"#NAME?"},{"$error":"#NAME?"},{"$error":"#NAME?"},{"$error":"#NAME?"},{"$error":"#NAME?"},{"$error":"#NAME?"},{"$error":"#NAME?"},{"$error":"#NAME?"},{"$error":"#NAME?"},{"$error":"#NAME?"},{"$error":"#NAME?"},{"$error":"#NAME?"},{"$error":"#NAME?"},{"$error":"#NAME?"},{"$error":"#NAME?"},{"$error":"#NAME?"},{"$error":"#NAME?"},{"$error":"#NAME?"},{"$error":"#NAME?"},{"$error":"#NAME?"},{"$error":"#NAME?"},{"$error":"#NAME?"},{"$error":"#NAME?"},{"$error":"#NAME?"},{"$error":"#NAME?"},{"$error":"#NAME?"}]
[{"$error":"#NAME?"},{"$error":"#NAME?"},{"$error":"#NAME?"},{"$error":"#NAME?"},{"$error":"#NAME?"},{"$error":"#NAME?"},{"$error":"#NAME?"},{"$error":"#NAME?"},{"$error":"#NAME?"},{"$error":"#NAME?"},{"$error":"#NAME?"},{"$error":"#NAME?"},{"$error":"#NAME?"},{"$error":"#NAME?"},{"$error":"#NAME?"},{"$error":"#NAME?"},{"$error":"#NAME?"},{"$error":"#NAME?"},{"$error":"#NAME?"},{"$error":"#NAME?"},{"$error":"#NAME?"},{"$error":"#NAME?"},{"$error":"#NAME?"},{"$error":"#NAME?"},{"$error":"#NAME?"},{"$error":"#NAME?"},{"$error":"#NAME?"},{"$error":"#NAME?"},{"$error":"#NAME?"},{"$error":"#NAME?"},{"$error":"#NAME?"},{"$error":"#NAME?"},{"$error":"#NAME?"},{"$error":"#NAME?"},{"$error":"#NAME?"},{"$error":"#NAME?"},{"$error":"#NAME?"},{"$error":"#NAME?"},{"$error":"#NAME?"},{"$error":"#NAME?"},{"$error":"#NAME?"},{"$error":"#NAME?"},{"$error":"#NAME?"},{"$error":"#NAME?"},{"$error":"#NAME?"},{"$error":"#NAME?"},{"$error":"#NAME?"},{"$error":"#NAME?"},{"$error":"#NAME?"},{"$error":"#NAME?"},{"$error":"#NAME?"},{"$error":"#NAME?"},{"$error":"#NAME?"},{"$error":"#NAME?"},{"$error":"#NAME?"},{"$error":"#NAME?"},{"$error":"#NAME?"},{"$error":"#NAME?"},{"$error":"#NAME?"},{"$error":"#NAME?"},{"$error":"#NAME?"},{"$error":"#NAME?"},{"$error":"#NAME?"},{"$error":"#NAME?"},{"$error":"#NAME?"},{"$error":"#NAME?"},{"$error":"#NAME?"},{"$error":"#NAME?"},{"$error":"#NAME?"},{"$error":"#NAME?"},{"$error":"#NAME?"},{"$error":"#NAME?"},{"$error":"#NAME?"},{"$error":"#NAME?"},{"$error":"#NAME?"},{"$error":"#NAME?"},{"$error":"#NAME?"},{"$error":"#NAME?"},{"$error":"#NAME?"},{"$error":"#NAME?"},{"$error":"#NAME?"},{"$error":"#NAME?"},{"$error":"#NAME?"},{"$error":"#NAME?"},{"$error":"#NAME?"},{"$error":"#NAME?"},{"$error":"#NAME?"},{"$error":"#NAME?"},{"$error":"#NAME?"},{"$error":"#NAME?"},{"$error":"#NAME?"},{"$error":"#NAME?"},{"$error":"#NAME?"},{"$error":"#NAME?"},{"$error":"#NAME?"},{"$error":"#NAME?"},{"$error":"#NAME?"},{"$error":"#NAME?"},{"$error":"#NAME?"},{"$error":"#NAME?"},null,{"$error":"#NAME?"},{"$error":"#NAME?"},{"$error":"#NAME?"},{"$error":"#NAME?"},{"$error":"#NAME?"},{"$error":"#NAME?"},{"$error":"#NAME?"},{"$error":"#NAME?"},{"$error":"#NAME?"},{"$error":"#NAME?"},{"$error":"#NAME?"},{"$error":"#NAME?"},{"$error":"#NAME?"},{"$error":"#NAME?"},{"$error":"#NAME?"},{"$error":"#NAME?"},{"$error":"#NAME?"},{"$error":"#NAME?"},{"$error":"#NAME?"},{"$error":"#NAME?"},{"$error":"#NAME?"},{"$error":"#NAME?"},{"$error":"#NAME?"},{"$error":"#NAME?"},{"$error":"#NAME?"},{"$error":"#NAME?"},{"$error":"#NAME?"},{"$error":"#NAME?"},{"$error":"#NAME?"},{"$error":"#NAME?"},{"$error":"#NAME?"},{"$error":"#NAME?"},{"$error":"#NAME?"},{"$error":"#NAME?"},{"$error":"#NAME?"},{"$error":"#NAME?"},{"$error":"#NAME?"},{"$error":"#NAME?"},{"$error":"#NAME?"},{"$error":"#NAME?"},{"$error":"#NAME?"},{"$error":"#NAME?"},{"$error":"#NAME?"},{"$error":"#NAME?"},{"$error":"#NAME?"},{"$error":"#NAME?"},{"$error":"#NAME?"},{"$error":"#NAME?"},{"$error":"#NAME?"},{"$error":"#NAME?"},{"$error":"#NAME?"},{"$error":"#NAME?"},{"$error":"#NAME?"},{"$error":"#NAME?"},{"$error":"#NAME?"},{"$error":"#NAME?"},{"$error":"#NAME?"},{"$error":"#NAME?"},{"$error":"#NAME?"},{"$error":"#NAME?"},{"$error":"#NAME?"},{"$error":"#NAME?"},{"$error":"#NAME?"},{"$error":"#NAME?"},{"$error":"#NAME?"},{"$error":"#NAME?"},{"$error":"#NAME?"},{"$error":"#NAME?"},{"$error":"#NAME?"},{"$error":"#NAME?"},{"$error":"#NAME?"},{"$error":"#NAME?"},{"$error":"#NAME?"},{"$error":"#NAME?"},{"$error":"#NAME?"},{"$error":"#NAME?"},{"$error":"#NAME?"},{"$error":"#NAME?"},{"$error":"#NAME?"},{"$error":"#NAME?"},{"$error":"#NAME?"},{"$error":"#NAME?"},{"$error":"#NAME?"},{"$error":"#NAME?"},{"$error":"#NAME?"},{"$error":"#NAME?"},{"$error":"#NAME?"},{"$error":"#NAME?"},{"$error":"#NAME?"},{"$error":"#NAME?"},{"$error":"#NAME?"},{"$error":"#NAME?"},{"$error":"#NAME?"},{"$error":"#NAME?"},{"$error":"#NAME?"},{"$error":"#NAME?"},{"$error":"#NAME?"},{"$error":"#NAME?"},{"$error":"#NAME?"},{"$error":"#NAME?"}]
[{"$error":"#NAME?"},{"$error":"#NAME?"},{"$error":"#NAME?"},{"$error":"#NAME?"},{"$error":"#NAME?"},{"$error":"#NAME?"},{"$error":"#NAME?"},{"$error":"#NAME?"},{"$error":"#NAME?"},{"$error":"#NAME?"},{"$error":"#NAME?"},{"$error":"#NAME?"},{"$error":"#NAME?"},{"$error":"#NAME?"},{"$error":"#NAME?"},{"$error":"#NAME?"},{"$error":"#NAME?"},{"$error":"#NAME?"},{"$error":"#NAME?"},{"$error":"#NAME?"},{"$error":"#NAME?"},{"$error":"#NAME?"},{"$error":"#NAME?"},{"$error":"#NAME?"},{"$error":"#NAME?"},{"$error":"#NAME?"},{"$error":"#NAME?"},{"$error":"#NAME?"},{"$error":"#NAME?"},{"$error":"#NAME?"},{"$error":"#NAME?"},{"$error":"#NAME?"},{"$error":"#NAME?"},{"$error":"#NAME?"},{"$error":"#NAME?"},{"$error":"#NAME?"},{"$error":"#NAME?"},{"$error":"#NAME?"},{"$error":"#NAME?"},{"$error":"#NAME?"},{"$error":"#NAME?"},{"$error":"#NAME?"},{"$error":"#NAME?"},{"$error":"#NAME?"},{"$error":"#NAME?"},{"$error":"#NAME?"},{"$error":"#NAME?"},{"$error":"#NAME?"},{"$error":"#NAME?"},{"$error":"#NAME?"},{"$error":"#NAME?"},{"$error":"#NAME?"},{"$error":"#NAME?"},{"$error":"#NAME?"},{"$error":"#NAME?"},{"$error":"#NAME?"},{"$error":"#NAME?"},{"$error":"#NAME?"},{"$error":"#NAME?"},{"$error":"#NAME?"},{"$error":"#NAME?"},{"$error":"#NAME?"},{"$error":"#NAME?"},{"$error":"#NAME?"},{"$error":"#NAME?"},{"$error":"#NAME?"},{"$error":"#NAME?"},{"$error":"#NAME?"},{"$error":"#NAME?"},{"$error":"#NAME?"},{"$error":"#NAME?"},{"$error":"#NAME?"},{"$error":"#NAME?"},{"$error":"#NAME?"},{"$error":"#NAME?"},{"$error":"#NAME?"},{"$error":"#NAME?"},{"$error":"#NAME?"},{"$error":"#NAME?"},{"$error":"#NAME?"},{"$error":"#NAME?"},{"$error":"#NAME?"},{"$error":"#NAME?"},{"$error":"#NAME?"},{"$error":"#NAME?"},{"$error":"#NAME?"},{"$error":"#NAME?"},{"$error":"#NAME?"},{"$error":"#NAME?"},{"$error":"#NAME?"},{"$error":"#NAME?"},{"$error":"#NAME?"},{"$error":"#NAME?"},{"$error":"#NAME?"},{"$error":"#NAME?"},{"$error":"#NAME?"},{"$error":"#NAME?"},{"$error":"#NAME?"},{"$error":"#NAME?"},{"$error":"#NAME?"},null,{"$error":"#NAME?"},{"$error":"#NAME?"},{"$error":"#NAME?"},{"$error":"#NAME?"},{"$error":"#NAME?"},{"$error":"#NAME?"},{"$error":"#NAME?"},{"$error":"#NAME?"},{"$error":"#NAME?"},{"$error":"#NAME?"},{"$error":"#NAME?"},{"$error":"#NAME?"},{"$error":"#NAME?"},{"$error":"#NAME?"},{"$error":"#NAME?"},{"$error":"#NAME?"},{"$error":"#NAME?"},{"$error":"#NAME?"},{"$error":"#NAME?"},{"$error":"#NAME?"},{"$error":"#NAME?"},{"$error":"#NAME?"},{"$error":"#NAME?"},{"$error":"#NAME?"},{"$error":"#NAME?"},{"$error":"#NAME?"},{"$error":"#NAME?"},{"$error":"#NAME?"},{"$error":"#NAME?"},{"$error":"#NAME?"},{"$error":"#NAME?"},{"$error":"#NAME?"},{"$error":"#NAME?"},{"$error":"#NAME?"},{"$error":"#NAME?"},{"$error":"#NAME?"},{"$error":"#NAME?"},{"$error":"#NAME?"},{"$error":"#NAME?"},{"$error":"#NAME?"},{"$error":"#NAME?"},{"$error":"#NAME?"},{"$error":"#NAME?"},{"$error":"#NAME?"},{"$error":"#NAME?"},{"$error":"#NAME?"},{"$error":"#NAME?"},{"$error":"#NAME?"},{"$error":"#NAME?"},{"$error":"#NAME?"},{"$error":"#NAME?"},{"$error":"#NAME?"},{"$error":"#NAME?"},{"$error":"#NAME?"},{"$error":"#NAME?"},{"$error":"#NAME?"},{"$error":"#NAME?"},{"$error":"#NAME?"},{"$error":"#NAME?"},{"$error":"#NAME?"},{"$error":"#NAME?"},{"$error":"#NAME?"},{"$error":"#NAME?"},{"$error":"#NAME?"},{"$error":"#NAME?"},{"$error":"#NAME?"},{"$error":"#NAME?"},{"$error":"#NAME?"},{"$error":"#NAME?"},{"$error":"#NAME?"},{"$error":"#NAME?"},{"$error":"#NAME?"},{"$error":"#NAME?"},{"$error":"#NAME?"},{"$error":"#NAME?"},{"$error":"#NAME?"},{"$error":"#NAME?"},{"$error":"#NAME?"},{"$error":"#NAME?"},{"$error":"#NAME?"},{"$error":"#NAME?"},{"$error":"#NAME?"},{"$error":"#NAME?"},{"$error":"#NAME?"},{"$error":"#NAME?"},{"$error":"#NAME?"},{"$error":"#NAME?"},{"$error":"#NAME?"},{"$error":"#NAME?"},{"$error":"#NAME?"},{"$error":"#NAME?"},{"$error":"#NAME?"},{"$error":"#NAME?"},{"$error":"#NAME?"},{"$error":"#NAME?"},{"$error":"#NAME?"},{"$error":"#NAME?"},{"$error":"#NAME?"},{"$error":"#NAME?"},{"$error":"#NAME?"}]
[{"$error":"#NAME?"},{"$error":"#NAME?"},{"$error":"#NAME?"},{"$error":"#NAME?"},{"$error":"#NAME?"},{"$error":"#NAME?"},{"$error":"#NAME?"},{"$error":"#NAME?"},{"$error":"#NAME?"},{"$error":"#NAME?"},{"$error":"#NAME?"},{"$error":"#NAME?"},{"$error":"#NAME?"},{"$error":"#NAME?"},{"$error":"#NAME?"},{"$error":"#NAME?"},{"$error":"#NAME?"},{"$error":"#NAME?"},{"$error":"#NAME?"},{"$error":"#NAME?"},{"$error":"#NAME?"},{"$error":"#NAME?"},{"$error":"#NAME?"},{"$error":"#NAME?"},{"$error":"#NAME?"},{"$error":"#NAME?"},{"$error":"#NAME?"},{"$error":"#NAME?"},{"$error":"#NAME?"},{"$error":"#NAME?"},{"$error":"#NAME?"},{"$error":"#NAME?"},{"$error":"#NAME?"},{"$error":"#NAME?"},{"$error":"#NAME?"},{"$error":"#NAME?"},{"$error":"#NAME?"},{"$error":"#NAME?"},{"$error":"#NAME?"},{"$error":"#NAME?"},{"$error":"#NAME?"},{"$error":"#NAME?"},{"$error":"#NAME?"},{"$error":"#NAME?"},{"$error":"#NAME?"},{"$error":"#NAME?"},{"$error":"#NAME?"},{"$error":"#NAME?"},{"$error":"#NAME?"},{"$error":"#NAME?"},{"$error":"#NAME?"},{"$error":"#NAME?"},{"$error":"#NAME?"},{"$error":"#NAME?"},{"$error":"#NAME?"},{"$error":"#NAME?"},{"$error":"#NAME?"},{"$error":"#NAME?"},{"$error":"#NAME?"},{"$error":"#NAME?"},{"$error":"#NAME?"},{"$error":"#NAME?"},{"$error":"#NAME?"},{"$error":"#NAME?"},{"$error":"#NAME?"},{"$error":"#NAME?"},{"$error":"#NAME?"},{"$error":"#NAME?"},{"$error":"#NAME?"},{"$error":"#NAME?"},{"$error":"#NAME?"},{"$error":"#NAME?"},{"$error":"#NAME?"},{"$error":"#NAME?"},{"$error":"#NAME?"},{"$error":"#NAME?"},{"$error":"#NAME?"},{"$error":"#NAME?"},{"$error":"#NAME?"},{"$error":"#NAME?"},{"$error":"#NAME?"},{"$error":"#NAME?"},{"$error":"#NAME?"},{"$error":"#NAME?"},{"$error":"#NAME?"},{"$error":"#NAME?"},{"$error":"#NAME?"},{"$error":"#NAME?"},{"$error":"#NAME?"},{"$error":"#NAME?"},{"$error":"#NAME?"},{"$error":"#NAME?"},{"$error":"#NAME?"},{"$error":"#NAME?"},{"$error":"#NAME?"},{"$error":"#NAME?"},{"$error":"#NAME?"},{"$error":"#NAME?"},{"$error":"#NAME?"},{"$error":"#NAME?"},null,{"$error":"#NAME?"},{"$error":"#NAME?"},{"$error":"#NAME?"},{"$error":"#NAME?"},{"$error":"#NAME?"},{"$error":"#NAME?"},{"$error":"#NAME?"},{"$error":"#NAME?"},{"$error":"#NAME?"},{"$error":"#NAME?"},{"$error":"#NAME?"},{"$error":"#NAME?"},{"$error":"#NAME?"},{"$error":"#NAME?"},{"$error":"#NAME?"},{"$error":"#NAME?"},{"$error":"#NAME?"},{"$error":"#NAME?"},{"$error":"#NAME?"},{"$error":"#NAME?"},{"$error":"#NAME?"},{"$error":"#NAME?"},{"$error":"#NAME?"},{"$error":"#NAME?"},{"$error":"#NAME?"},{"$error":"#NAME?"},{"$error":"#NAME?"},{"$error":"#NAME?"},{"$error":"#NAME?"},{"$error":"#NAME?"},{"$error":"#NAME?"},{"$error":"#NAME?"},{"$error":"#NAME?"},{"$error":"#NAME?"},{"$error":"#NAME?"},{"$error":"#NAME?"},{"$error":"#NAME?"},{"$error":"#NAME?"},{"$error":"#NAME?"},{"$error":"#NAME?"},{"$error":"#NAME?"},{"$error":"#NAME?"},{"$error":"#NAME?"},{"$error":"#NAME?"},{"$error":"#NAME?"},{"$error":"#NAME?"},{"$error":"#NAME?"},{"$error":"#NAME?"},{"$error":"#NAME?"},{"$error":"#NAME?"},{"$error":"#NAME?"},{"$error":"#NAME?"},{"$error":"#NAME?"},{"$error":"#NAME?"},{"$error":"#NAME?"},{"$error":"#NAME?"},{"$error":"#NAME?"},{"$error":"#NAME?"},{"$error":"#NAME?"},{"$error":"#NAME?"},{"$error":"#NAME?"},{"$error":"#NAME?"},{"$error":"#NAME?"},{"$error":"#NAME?"},{"$error":"#NAME?"},{"$error":"#NAME?"},{"$error":"#NAME?"},{"$error":"#NAME?"},{"$error":"#NAME?"},{"$error":"#NAME?"},{"$error":"#NAME?"},{"$error":"#NAME?"},{"$error":"#NAME?"},{"$error":"#NAME?"},{"$error":"#NAME?"},{"$error":"#NAME?"},{"$error":"#NAME?"},{"$error":"#NAME?"},{"$error":"#NAME?"},{"$error":"#NAME?"},{"$error":"#NAME?"},{"$error":"#NAME?"},{"$error":"#NAME?"},{"$error":"#NAME?"},{"$error":"#NAME?"},{"$error":"#NAME?"},{"$error":"#NAME?"},{"$error":"#NAME?"},{"$error":"#NAME?"},{"$error":"#NAME?"},{"$error":"#NAME?"},{"$error":"#NAME?"},{"$error":"#NAME?"},{"$error":"#NAME?"},{"$error":"#NAME?"},{"$error":"#NAME?"},{"$error":"#NAME?"},{"$error":"#NAME?"},{"$error":"#NAME?"},{"$error":"#NAME?"}]
[{"$error":"#NAME?"},{"$error":"#NAME?"},{"$error":"#NAME?"},{"$error":"#NAME?"},{"$error":"#NAME?"},{"$error":"#NAME?"},{"$error":"#NAME?"},{"$error":"#NAME?"},{"$error":"#NAME?"},{"$error":"#NAME?"},{"$error":"#NAME?"},{"$error":"#NAME?"},{"$error":"#NAME?"},{"$error":"#NAME?"},{"$error":"#NAME?"},{"$error":"#NAME?"},{"$error":"#NAME?"},{"$error":"#NAME?"},{"$error":"#NAME?"},{"$error":"#NAME?"},{"$error":"#NAME?"},{"$error":"#NAME?"},{"$error":"#NAME?"},{"$error":"#NAME?"},{"$error":"#NAME?"},{"$error":"#NAME?"},{"$error":"#NAME?"},{"$error":"#NAME?"},{"$error":"#NAME?"},{"$error":"#NAME?"},{"$error":"#NAME?"},{"$error":"#NAME?"},{"$error":"#NAME?"},{"$error":"#NAME?"},{"$error":"#NAME?"},{"$error":"#NAME?"},{"$error":"#NAME?"},{"$error":"#NAME?"},{"$error":"#NAME?"},{"$error":"#NAME?"},{"$error":"#NAME?"},{"$error":"#NAME?"},{"$error":"#NAME?"},{"$error":"#NAME?"},{"$error":"#NAME?"},{"$error":"#NAME?"},{"$error":"#NAME?"},{"$error":"#NAME?"},{"$error":"#NAME?"},{"$error":"#NAME?"},{"$error":"#NAME?"},{"$error":"#NAME?"},{"$error":"#NAME?"},{"$error":"#NAME?"},{"$error":"#NAME?"},{"$error":"#NAME?"},{"$error":"#NAME?"},{"$error":"#NAME?"},{"$error":"#NAME?"},{"$error":"#NAME?"},{"$error":"#NAME?"},{"$error":"#NAME?"},{"$error":"#NAME?"},{"$error":"#NAME?"},{"$error":"#NAME?"},{"$error":"#NAME?"},{"$error":"#NAME?"},{"$error":"#NAME?"},{"$error":"#NAME?"},{"$error":"#NAME?"},{"$error":"#NAME?"},{"$error":"#NAME?"},{"$error":"#NAME?"},{"$error":"#NAME?"},{"$error":"#NAME?"},{"$error":"#NAME?"},{"$error":"#NAME?"},{"$error":"#NAME?"},{"$error":"#NAME?"},{"$error":"#NAME?"},{"$error":"#NAME?"},{"$error":"#NAME?"},{"$error":"#NAME?"},{"$error":"#NAME?"},{"$error":"#NAME?"},{"$error":"#NAME?"},{"$error":"#NAME?"},{"$error":"#NAME?"},{"$error":"#NAME?"},{"$error":"#NAME?"},{"$error":"#NAME?"},{"$error":"#NAME?"},{"$error":"#NAME?"},{"$error":"#NAME?"},{"$error":"#NAME?"},{"$error":"#NAME?"},{"$error":"#NAME?"},{"$error":"#NAME?"},{"$error":"#NAME?"},{"$error":"#NAME?"},null,{"$error":"#NAME?"},{"$error":"#NAME?"},{"$error":"#NAME?"},{"$error":"#NAME?"},{"$error":"#NAME?"},{"$error":"#NAME?"},{"$error":"#NAME?"},{"$error":"#NAME?"},{"$error":"#NAME?"},{"$error":"#NAME?"},{"$error":"#NAME?"},{"$error":"#NAME?"},{"$error":"#NAME?"},{"$error":"#NAME?"},{"$error":"#NAME?"},{"$error":"#NAME?"},{"$error":"#NAME?"},{"$error":"#NAME?"},{"$error":"#NAME?"},{"$error":"#NAME?"},{"$error":"#NAME?"},{"$error":"#NAME?"},{"$error":"#NAME?"},{"$error":"#NAME?"},{"$error":"#NAME?"},{"$error":"#NAME?"},{"$error":"#NAME?"},{"$error":"#NAME?"},{"$error":"#NAME?"},{"$error":"#NAME?"},{"$error":"#NAME?"},{"$error":"#NAME?"},{"$error":"#NAME?"},{"$error":"#NAME?"},{"$error":"#NAME?"},{"$error":"#NAME?"},{"$error":"#NAME?"},{"$error":"#NAME?"},{"$error":"#NAME?"},{"$error":"#NAME?"},{"$error":"#NAME?"},{"$error":"#NAME?"},{"$error":"#NAME?"},{"$error":"#NAME?"},{"$error":"#NAME?"},{"$error":"#NAME?"},{"$error":"#NAME?"},{"$error":"#NAME?"},{"$error":"#NAME?"},{"$error":"#NAME?"},{"$error":"#NAME?"},{"$error":"#NAME?"},{"$error":"#NAME?"},{"$error":"#NAME?"},{"$error":"#NAME?"},{"$error":"#NAME?"},{"$error":"#NAME?"},{"$error":"#NAME?"},{"$error":"#NAME?"},{"$error":"#NAME?"},{"$error":"#NAME?"},{"$error":"#NAME?"},{"$error":"#NAME?"},{"$error":"#NAME?"},{"$error":"#NAME?"},{"$error":"#NAME?"},{"$error":"#NAME?"},{"$error":"#NAME?"},{"$error":"#NAME?"},{"$error":"#NAME?"},{"$error":"#NAME?"},{"$error":"#NAME?"},{"$error":"#NAME?"},{"$error":"#NAME?"},{"$error":"#NAME?"},{"$error":"#NAME?"},{"$error":"#NAME?"},{"$error":"#NAME?"},{"$error":"#NAME?"},{"$error":"#NAME?"},{"$error":"#NAME?"},{"$error":"#NAME?"},{"$error":"#NAME?"},{"$error":"#NAME?"},{"$error":"#NAME?"},{"$error":"#NAME?"},{"$error":"#NAME?"},{"$error":"#NAME?"},{"$error":"#NAME?"},{"$error":"#NAME?"},{"$error":"#NAME?"},{"$error":"#NAME?"},{"$error":"#NAME?"},{"$error":"#NAME?"},{"$error":"#NAME?"},{"$error":"#NAME?"},{"$error":"#NAME?"},{"$error":"#NAME?"},{"$error":"#NAME?"},{"$error":"#NAME?"}]
[{"$error":"#NAME?"},{"$error":"#NAME?"},{"$error":"#NAME?"},{"$error":"#NAME?"},{"$error":"#NAME?"},{"$error":"#NAME?"},{"$error":"#NAME?"},{"$error":"#NAME?"},{"$error":"#NAME?"},{"$error":"#NAME?"},{"$error":"#NAME?"},{"$error":"#NAME?"},{"$error":"#NAME?"},{"$error":"#NAME?"},{"$error":"#NAME?"},{"$error":"#NAME?"},{"$error":"#NAME?"},{"$error":"#NAME?"},{"$error":"#NAME?"},{"$error":"#NAME?"},{"$error":"#NAME?"},{"$error":"#NAME?"},{"$error":"#NAME?"},{"$error":"#NAME?"},{"$error":"#NAME?"},{"$error":"#NAME?"},{"$error":"#NAME?"},{"$error":"#NAME?"},{"$error":"#NAME?"},{"$error":"#NAME?"},{"$error":"#NAME?"},{"$error":"#NAME?"},{"$error":"#NAME?"},{"$error":"#NAME?"},{"$error":"#NAME?"},{"$error":"#NAME?"},{"$error":"#NAME?"},{"$error":"#NAME?"},{"$error":"#NAME?"},{"$error":"#NAME?"},{"$error":"#NAME?"},{"$error":"#NAME?"},{"$error":"#NAME?"},{"$error":"#NAME?"},{"$error":"#NAME?"},{"$error":"#NAME?"},{"$error":"#NAME?"},{"$error":"#NAME?"},{"$error":"#NAME?"},{"$error":"#NAME?"},{"$error":"#NAME?"},{"$error":"#NAME?"},{"$error":"#NAME?"},{"$error":"#NAME?"},{"$error":"#NAME?"},{"$error":"#NAME?"},{"$error":"#NAME?"},{"$error":"#NAME?"},{"$error":"#NAME?"},{"$error":"#NAME?"},{"$error":"#NAME?"},{"$error":"#NAME?"},{"$error":"#NAME?"},{"$error":"#NAME?"},{"$error":"#NAME?"},{"$error":"#NAME?"},{"$error":"#NAME?"},{"$error":"#NAME?"},{"$error":"#NAME?"},{"$error":"#NAME?"},{"$error":"#NAME?"},{"$error":"#NAME?"},{"$error":"#NAME?"},{"$error":"#NAME?"},{"$error":"#NAME?"},{"$error":"#NAME?"},{"$error":"#NAME?"},{"$error":"#NAME?"},{"$error":"#NAME?"},{"$error":"#NAME?"},{"$error":"#NAME?"},{"$error":"#NAME?"},{"$error":"#NAME?"},{"$error":"#NAME?"},{"$error":"#NAME?"},{"$error":"#NAME?"},{"$error":"#NAME?"},{"$error":"#NAME?"},{"$error":"#NAME?"},{"$error":"#NAME?"},{"$error":"#NAME?"},{"$error":"#NAME?"},{"$error":"#NAME?"},{"$error":"#NAME?"},{"$error":"#NAME?"},{"$error":"#NAME?"},{"$error":"#NAME?"},{"$error":"#NAME?"},{"$error":"#NAME?"},{"$error":"#NAME?"},null,{"$error":"#NAME?"},{"$error":"#NAME?"},{"$error":"#NAME?"},{"$error":"#NAME?"},{"$error":"#NAME?"},{"$error":"#NAME?"},{"$error":"#NAME?"},{"$error":"#NAME?"},{"$error":"#NAME?"},{"$error":"#NAME?"},{"$error":"#NAME?"},{"$error":"#NAME?"},{"$error":"#NAME?"},{"$error":"#NAME?"},{"$error":"#NAME?"},{"$error":"#NAME?"},{"$error":"#NAME?"},{"$error":"#NAME?"},{"$error":"#NAME?"},{"$error":"#NAME?"},{"$error":"#NAME?"},{"$error":"#NAME?"},{"$error":"#NAME?"},{"$error":"#NAME?"},{"$error":"#NAME?"},{"$error":"#NAME?"},{"$error":"#NAME?"},{"$error":"#NAME?"},{"$error":"#NAME?"},{"$error":"#NAME?"},{"$error":"#NAME?"},{"$error":"#NAME?"},{"$error":"#NAME?"},{"$error":"#NAME?"},{"$error":"#NAME?"},{"$error":"#NAME?"},{"$error":"#NAME?"},{"$error":"#NAME?"},{"$error":"#NAME?"},{"$error":"#NAME?"},{"$error":"#NAME?"},{"$error":"#NAME?"},{"$error":"#NAME?"},{"$error":"#NAME?"},{"$error":"#NAME?"},{"$error":"#NAME?"},{"$error":"#NAME?"},{"$error":"#NAME?"},{"$error":"#NAME?"},{"$error":"#NAME?"},{"$error":"#NAME?"},{"$error":"#NAME?"},{"$error":"#NAME?"},{"$error":"#NAME?"},{"$error":"#NAME?"},{"$error":"#NAME?"},{"$error":"#NAME?"},{"$error":"#NAME?"},{"$error":"#NAME?"},{"$error":"#NAME?"},{"$error":"#NAME?"},{"$error":"#NAME?"},{"$error":"#NAME?"},{"$error":"#NAME?"},{"$error":"#NAME?"},{"$error":"#NAME?"},{"$error":"#NAME?"},{"$error":"#NAME?"},{"$error":"#NAME?"},{"$error":"#NAME?"},{"$error":"#NAME?"},{"$error":"#NAME?"},{"$error":"#NAME?"},{"$error":"#NAME?"},{"$error":"#NAME?"},{"$error":"#NAME?"},{"$error":"#NAME?"},{"$error":"#NAME?"},{"$error":"#NAME?"},{"$error":"#NAME?"},{"$error":"#NAME?"},{"$error":"#NAME?"},{"$error":"#NAME?"},{"$error":"#NAME?"},{"$error":"#NAME?"},{"$error":"#NAME?"},{"$error":"#NAME?"},{"$error":"#NAME?"},{"$error":"#NAME?"},{"$error":"#NAME?"},{"$error":"#NAME?"},{"$error":"#NAME?"},{"$error":"#NAME?"},{"$error":"#NAME?"},{"$error":"#NAME?"},{"$error":"#NAME?"},{"$error":"#NAME?"},{"$error":"#NAME?"},{"$error":"#NAME?"},{"$error":"#NAME?"}]
[{"$error":"#NAME?"},{"$error":"#NAME?"},{"$error":"#NAME?"},{"$error":"#NAME?"},{"$error":"#NAME?"},{"$error":"#NAME?"},{"$error":"#NAME?"},{"$error":"#NAME?"},{"$error":"#NAME?"},{"$error":"#NAME?"},{"$error":"#NAME?"},{"$error":"#NAME?"},{"$error":"#NAME?"},{"$error":"#NAME?"},{"$error":"#NAME?"},{"$error":"#NAME?"},{"$error":"#NAME?"},{"$error":"#NAME?"},{"$error":"#NAME?"},{"$error":"#NAME?"},{"$error":"#NAME?"},{"$error":"#NAME?"},{"$error":"#NAME?"},{"$error":"#NAME?"},{"$error":"#NAME?"},{"$error":"#NAME?"},{"$error":"#NAME?"},{"$error":"#NAME?"},{"$error":"#NAME?"},{"$error":"#NAME?"},{"$error":"#NAME?"},{"$error":"#NAME?"},{"$error":"#NAME?"},{"$error":"#NAME?"},{"$error":"#NAME?"},{"$error":"#NAME?"},{"$error":"#NAME?"},{"$error":"#NAME?"},{"$error":"#NAME?"},{"$error":"#NAME?"},{"$error":"#NAME?"},{"$error":"#NAME?"},{"$error":"#NAME?"},{"$error":"#NAME?"},{"$error":"#NAME?"},{"$error":"#NAME?"},{"$error":"#NAME?"},{"$error":"#NAME?"},{"$error":"#NAME?"},{"$error":"#NAME?"},{"$error":"#NAME?"},{"$error":"#NAME?"},{"$error":"#NAME?"},{"$error":"#NAME?"},{"$error":"#NAME?"},{"$error":"#NAME?"},{"$error":"#NAME?"},{"$error":"#NAME?"},{"$error":"#NAME?"},{"$error":"#NAME?"},{"$error":"#NAME?"},{"$error":"#NAME?"},{"$error":"#NAME?"},{"$error":"#NAME?"},{"$error":"#NAME?"},{"$error":"#NAME?"},{"$error":"#NAME?"},{"$error":"#NAME?"},{"$error":"#NAME?"},{"$error":"#NAME?"},{"$error":"#NAME?"},{"$error":"#NAME?"},{"$error":"#NAME?"},{"$error":"#NAME?"},{"$error":"#NAME?"},{"$error":"#NAME?"},{"$error":"#NAME?"},{"$error":"#NAME?"},{"$error":"#NAME?"},{"$error":"#NAME?"},{"$error":"#NAME?"},{"$error":"#NAME?"},{"$error":"#NAME?"},{"$error":"#NAME?"},{"$error":"#NAME?"},{"$error":"#NAME?"},{"$error":"#NAME?"},{"$error":"#NAME?"},{"$error":"#NAME?"},{"$error":"#NAME?"},{"$error":"#NAME?"},{"$error":"#NAME?"},{"$error":"#NAME?"},{"$error":"#NAME?"},{"$error":"#NAME?"},{"$error":"#NAME?"},{"$error":"#NAME?"},{"$error":"#NAME?"},{"$error":"#NAME?"},{"$error":"#NAME?"},null,{"$error":"#NAME?"},{"$error":"#NAME?"},{"$error":"#NAME?"},{"$error":"#NAME?"},{"$error":"#NAME?"},{"$error":"#NAME?"},{"$error":"#NAME?"},{"$error":"#NAME?"},{"$error":"#NAME?"},{"$error":"#NAME?"},{"$error":"#NAME?"},{"$error":"#NAME?"},{"$error":"#NAME?"},{"$error":"#NAME?"},{"$error":"#NAME?"},{"$error":"#NAME?"},{"$error":"#NAME?"},{"$error":"#NAME?"},{"$error":"#NAME?"},{"$error":"#NAME?"},{"$error":"#NAME?"},{"$error":"#NAME?"},{"$error":"#NAME?"},{"$error":"#NAME?"},{"$error":"#NAME?"},{"$error":"#NAME?"},{"$error":"#NAME?"},{"$error":"#NAME?"},{"$error":"#NAME?"},{"$error":"#NAME?"},{"$error":"#NAME?"},{"$error":"#NAME?"},{"$error":"#NAME?"},{"$error":"#NAME?"},{"$error":"#NAME?"},{"$error":"#NAME?"},{"$error":"#NAME?"},{"$error":"#NAME?"},{"$error":"#NAME?"},{"$error":"#NAME?"},{"$error":"#NAME?"},{"$error":"#NAME?"},{"$error":"#NAME?"},{"$error":"#NAME?"},{"$error":"#NAME?"},{"$error":"#NAME?"},{"$error":"#NAME?"},{"$error":"#NAME?"},{"$error":"#NAME?"},{"$error":"#NAME?"},{"$error":"#NAME?"},{"$error":"#NAME?"},{"$error":"#NAME?"},{"$error":"#NAME?"},{"$error":"#NAME?"},{"$error":"#NAME?"},{"$error":"#NAME?"},{"$error":"#NAME?"},{"$error":"#NAME?"},{"$error":"#NAME?"},{"$error":"#NAME?"},{"$error":"#NAME?"},{"$error":"#NAME?"},{"$error":"#NAME?"},{"$error":"#NAME?"},{"$error":"#NAME?"},{"$error":"#NAME?"},{"$error":"#NAME?"},{"$error":"#NAME?"},{"$error":"#NAME?"},{"$error":"#NAME?"},{"$error":"#NAME?"},{"$error":"#NAME?"},{"$error":"#NAME?"},{"$error":"#NAME?"},{"$error":"#NAME?"},{"$error":"#NAME?"},{"$error":"#NAME?"},{"$error":"#NAME?"},{"$error":"#NAME?"},{"$error":"#NAME?"},{"$error":"#NAME?"},{"$error":"#NAME?"},{"$error":"#NAME?"},{"$error":"#NAME?"},{"$error":"#NAME?"},{"$error":"#NAME?"},{"$error":"#NAME?"},{"$error":"#NAME?"},{"$error":"#NAME?"},{"$error":"#NAME?"},{"$error":"#NAME?"},{"$error":"#NAME?"},{"$error":"#NAME?"},{"$error":"#NAME?"},{"$error":"#NAME?"},{"$error":"#NAME?"},{"$error":"#NAME?"},{"$error":"#NAME?"},{"$error":"#NAME?"}]
[{"$error":"#NAME?"},{"$error":"#NAME?"},{"$error":"#NAME?"},{"$error":"#NAME?"},{"$error":"#NAME?"},{"$error":"#NAME?"},{"$error":"#NAME?"},{"$error":"#NAME?"},{"$error":"#NAME?"},{"$error":"#NAME?"},{"$error":"#NAME?"},{"$error":"#NAME?"},{"$error":"#NAME?"},{"$error":"#NAME?"},{"$error":"#NAME?"},{"$error":"#NAME?"},{"$error":"#NAME?"},{"$error":"#NAME?"},{"$error":"#NAME?"},{"$error":"#NAME?"},{"$error":"#NAME?"},{"$error":"#NAME?"},{"$error":"#NAME?"},{"$error":"#NAME?"},{"$error":"#NAME?"},{"$error":"#NAME?"},{"$error":"#NAME?"},{"$error":"#NAME?"},{"$error":"#NAME?"},{"$error":"#NAME?"},{"$error":"#NAME?"},{"$error":"#NAME?"},{"$error":"#NAME?"},{"$error":"#NAME?"},{"$error":"#NAME?"},{"$error":"#NAME?"},{"$error":"#NAME?"},{"$error":"#NAME?"},{"$error":"#NAME?"},{"$error":"#NAME?"},{"$error":"#NAME?"},{"$error":"#NAME?"},{"$error":"#NAME?"},{"$error":"#NAME?"},{"$error":"#NAME?"},{"$error":"#NAME?"},{"$error":"#NAME?"},{"$error":"#NAME?"},{"$error":"#NAME?"},{"$error":"#NAME?"},{"$error":"#NAME?"},{"$error":"#NAME?"},{"$error":"#NAME?"},{"$error":"#NAME?"},{"$error":"#NAME?"},{"$error":"#NAME?"},{"$error":"#NAME?"},{"$error":"#NAME?"},{"$error":"#NAME?"},{"$error":"#NAME?"},{"$error":"#NAME?"},{"$error":"#NAME?"},{"$error":"#NAME?"},{"$error":"#NAME?"},{"$error":"#NAME?"},{"$error":"#NAME?"},{"$error":"#NAME?"},{"$error":"#NAME?"},{"$error":"#NAME?"},{"$error":"#NAME?"},{"$error":"#NAME?"},{"$error":"#NAME?"},{"$error":"#NAME?"},{"$error":"#NAME?"},{"$error":"#NAME?"},{"$error":"#NAME?"},{"$error":"#NAME?"},{"$error":"#NAME?"},{"$error":"#NAME?"},{"$error":"#NAME?"},{"$error":"#NAME?"},{"$error":"#NAME?"},{"$error":"#NAME?"},{"$error":"#NAME?"},{"$error":"#NAME?"},{"$error":"#NAME?"},{"$error":"#NAME?"},{"$error":"#NAME?"},{"$error":"#NAME?"},{"$error":"#NAME?"},{"$error":"#NAME?"},{"$error":"#NAME?"},{"$error":"#NAME?"},{"$error":"#NAME?"},{"$error":"#NAME?"},{"$error":"#NAME?"},{"$error":"#NAME?"},{"$error":"#NAME?"},{"$error":"#NAME?"},{"$error":"#NAME?"},null,{"$error":"#NAME?"},{"$error":"#NAME?"},{"$error":"#NAME?"},{"$error":"#NAME?"},{"$error":"#NAME?"},{"$error":"#NAME?"},{"$error":"#NAME?"},{"$error":"#NAME?"},{"$error":"#NAME?"},{"$error":"#NAME?"},{"$error":"#NAME?"},{"$error":"#NAME?"},{"$error":"#NAME?"},{"$error":"#NAME?"},{"$error":"#NAME?"},{"$error":"#NAME?"},{"$error":"#NAME?"},{"$error":"#NAME?"},{"$error":"#NAME?"},{"$error":"#NAME?"},{"$error":"#NAME?"},{"$error":"#NAME?"},{"$error":"#NAME?"},{"$error":"#NAME?"},{"$error":"#NAME?"},{"$error":"#NAME?"},{"$error":"#NAME?"},{"$error":"#NAME?"},{"$error":"#NAME?"},{"$error":"#NAME?"},{"$error":"#NAME?"},{"$error":"#NAME?"},{"$error":"#NAME?"},{"$error":"#NAME?"},{"$error":"#NAME?"},{"$error":"#NAME?"},{"$error":"#NAME?"},{"$error":"#NAME?"},{"$error":"#NAME?"},{"$error":"#NAME?"},{"$error":"#NAME?"},{"$error":"#NAME?"},{"$error":"#NAME?"},{"$error":"#NAME?"},{"$error":"#NAME?"},{"$error":"#NAME?"},{"$error":"#NAME?"},{"$error":"#NAME?"},{"$error":"#NAME?"},{"$error":"#NAME?"},{"$error":"#NAME?"},{"$error":"#NAME?"},{"$error":"#NAME?"},{"$error":"#NAME?"},{"$error":"#NAME?"},{"$error":"#NAME?"},{"$error":"#NAME?"},{"$error":"#NAME?"},{"$error":"#NAME?"},{"$error":"#NAME?"},{"$error":"#NAME?"},{"$error":"#NAME?"},{"$error":"#NAME?"},{"$error":"#NAME?"},{"$error":"#NAME?"},{"$error":"#NAME?"},{"$error":"#NAME?"},{"$error":"#NAME?"},{"$error":"#NAME?"},{"$error":"#NAME?"},{"$error":"#NAME?"},{"$error":"#NAME?"},{"$error":"#NAME?"},{"$error":"#NAME?"},{"$error":"#NAME?"},{"$error":"#NAME?"},{"$error":"#NAME?"},{"$error":"#NAME?"},{"$error":"#NAME?"},{"$error":"#NAME?"},{"$error":"#NAME?"},{"$error":"#NAME?"},{"$error":"#NAME?"},{"$error":"#NAME?"},{"$error":"#NAME?"},{"$error":"#NAME?"},{"$error":"#NAME?"},{"$error":"#NAME?"},{"$error":"#NAME?"},{"$error":"#NAME?"},{"$error":"#NAME?"},{"$error":"#NAME?"},{"$error":"#NAME?"},{"$error":"#NAME?"},{"$error":"#NAME?"},{"$error":"#NAME?"},{"$error":"#NAME?"},{"$error":"#NAME?"},{"$error":"#NAME?"},{"$error":"#NAME?"}]
[{"$error":"#NAME?"},{"$error":"#NAME?"},{"$error":"#NAME?"},{"$error":"#NAME?"},{"$error":"#NAME?"},{"$error":"#NAME?"},{"$error":"#NAME?"},{"$error":"#NAME?"},{"$error":"#NAME?"},{"$error":"#NAME?"},{"$error":"#NAME?"},{"$error":"#NAME?"},{"$error":"#NAME?"},{"$error":"#NAME?"},{"$error":"#NAME?"},{"$error":"#NAME?"},{"$error":"#NAME?"},{"$error":"#NAME?"},{"$error":"#NAME?"},{"$error":"#NAME?"},{"$error":"#NAME?"},{"$error":"#NAME?"},{"$error":"#NAME?"},{"$error":"#NAME?"},{"$error":"#NAME?"},{"$error":"#NAME?"},{"$error":"#NAME?"},{"$error":"#NAME?"},{"$error":"#NAME?"},{"$error":"#NAME?"},{"$error":"#NAME?"},{"$error":"#NAME?"},{"$error":"#NAME?"},{"$error":"#NAME?"},{"$error":"#NAME?"},{"$error":"#NAME?"},{"$error":"#NAME?"},{"$error":"#NAME?"},{"$error":"#NAME?"},{"$error":"#NAME?"},{"$error":"#NAME?"},{"$error":"#NAME?"},{"$error":"#NAME?"},{"$error":"#NAME?"},{"$error":"#NAME?"},{"$error":"#NAME?"},{"$error":"#NAME?"},{"$error":"#NAME?"},{"$error":"#NAME?"},{"$error":"#NAME?"},{"$error":"#NAME?"},{"$error":"#NAME?"},{"$error":"#NAME?"},{"$error":"#NAME?"},{"$error":"#NAME?"},{"$error":"#NAME?"},{"$error":"#NAME?"},{"$error":"#NAME?"},{"$error":"#NAME?"},{"$error":"#NAME?"},{"$error":"#NAME?"},{"$error":"#NAME?"},{"$error":"#NAME?"},{"$error":"#NAME?"},{"$error":"#NAME?"},{"$error":"#NAME?"},{"$error":"#NAME?"},{"$error":"#NAME?"},{"$error":"#NAME?"},{"$error":"#NAME?"},{"$error":"#NAME?"},{"$error":"#NAME?"},{"$error":"#NAME?"},{"$error":"#NAME?"},{"$error":"#NAME?"},{"$error":"#NAME?"},{"$error":"#NAME?"},{"$error":"#NAME?"},{"$error":"#NAME?"},{"$error":"#NAME?"},{"$error":"#NAME?"},{"$error":"#NAME?"},{"$error":"#NAME?"},{"$error":"#NAME?"},{"$error":"#NAME?"},{"$error":"#NAME?"},{"$error":"#NAME?"},{"$error":"#NAME?"},{"$error":"#NAME?"},{"$error":"#NAME?"},{"$error":"#NAME?"},{"$error":"#NAME?"},{"$error":"#NAME?"},{"$error":"#NAME?"},{"$error":"#NAME?"},{"$error":"#NAME?"},{"$error":"#NAME?"},{"$error":"#NAME?"},{"$error":"#NAME?"},{"$error":"#NAME?"},null,{"$error":"#NAME?"},{"$error":"#NAME?"},{"$error":"#NAME?"},{"$error":"#NAME?"},{"$error":"#NAME?"},{"$error":"#NAME?"},{"$error":"#NAME?"},{"$error":"#NAME?"},{"$error":"#NAME?"},{"$error":"#NAME?"},{"$error":"#NAME?"},{"$error":"#NAME?"},{"$error":"#NAME?"},{"$error":"#NAME?"},{"$error":"#NAME?"},{"$error":"#NAME?"},{"$error":"#NAME?"},{"$error":"#NAME?"},{"$error":"#NAME?"},{"$error":"#NAME?"},{"$error":"#NAME?"},{"$error":"#NAME?"},{"$error":"#NAME?"},{"$error":"#NAME?"},{"$error":"#NAME?"},{"$error":"#NAME?"},{"$error":"#NAME?"},{"$error":"#NAME?"},{"$error":"#NAME?"},{"$error":"#NAME?"},{"$error":"#NAME?"},{"$error":"#NAME?"},{"$error":"#NAME?"},{"$error":"#NAME?"},{"$error":"#NAME?"},{"$error":"#NAME?"},{"$error":"#NAME?"},{"$error":"#NAME?"},{"$error":"#NAME?"},{"$error":"#NAME?"},{"$error":"#NAME?"},{"$error":"#NAME?"},{"$error":"#NAME?"},{"$error":"#NAME?"},{"$error":"#NAME?"},{"$error":"#NAME?"},{"$error":"#NAME?"},{"$error":"#NAME?"},{"$error":"#NAME?"},{"$error":"#NAME?"},{"$error":"#NAME?"},{"$error":"#NAME?"},{"$error":"#NAME?"},{"$error":"#NAME?"},{"$error":"#NAME?"},{"$error":"#NAME?"},{"$error":"#NAME?"},{"$error":"#NAME?"},{"$error":"#NAME?"},{"$error":"#NAME?"},{"$error":"#NAME?"},{"$error":"#NAME?"},{"$error":"#NAME?"},{"$error":"#NAME?"},{"$error":"#NAME?"},{"$error":"#NAME?"},{"$error":"#NAME?"},{"$error":"#NAME?"},{"$error":"#NAME?"},{"$error":"#NAME?"},{"$error":"#NAME?"},{"$error":"#NAME?"},{"$error":"#NAME?"},{"$error":"#NAME?"},{"$error":"#NAME?"},{"$error":"#NAME?"},{"$error":"#NAME?"},{"$error":"#NAME?"},{"$error":"#NAME?"},{"$error":"#NAME?"},{"$error":"#NAME?"},{"$error":"#NAME?"},{"$error":"#NAME?"},{"$error":"#NAME?"},{"$error":"#NAME?"},{"$error":"#NAME?"},{"$error":"#NAME?"},{"$error":"#NAME?"},{"$error":"#NAME?"},{"$error":"#NAME?"},{"$error":"#NAME?"},{"$error":"#NAME?"},{"$error":"#NAME?"},{"$error":"#NAME?"},{"$error":"#NAME?"},{"$error":"#NAME?"},{"$error":"#NAME?"},{"$error":"#NAME?"},{"$error":"#NAME?"},{"$error":"#NAME?"}]